Workbook

Sheet Cover
L2: HMS Project No. 26013
A13: STATE OF ALASKA
A14: DRAFT ESCALATION COST STUDY
A17: MODEL SCHOOL BUILDING
A18: ANCHORAGE, ALASKA (BASE)
A21: APRIL 2026
A41: 4103 Minnesota Drive • Anchorage, Alaska 99503 p: 907.561.1653 • f: 907.562.0420 • e: mail@hmsalaska.com

Sheet Notes-GFA
A1: MODIFICATIONS BASED ON THE FOLLOWING
A3: LABOR RATES
B5: A.S. Title 36 Minimum Rates of Pay for Laborers and Mechanics, Pamphlet No. 600, Issue 52, effective April 1, 2026.
A7: SBS RATES
B9: Price List February 2026.
A11: PLUMBING PIPING
B13: Ferguson, February 2026; RSMeans 2026; Google product searches.
A15: CONCRETE
B17: Anchorage Sand & Gravel, Spring 2026 based on standard 4,000 lb., 5 1/2 sack mix, 4,000 psi design strength, no air entrainment.
A19: ELECTRICAL WIRE/CONDUIT
B21: Crescent Electric and North Coast Electric, February 2026.
B23: Light fixture pricing is based on review of recent lighting quotes, RSMeans 2026, and Google product searches.
A25: STRUCTURAL STEEL
B27: Steel Fab of Anchorage, Alaska, March 2026.
B29: Bar Joists and Metal Deck, Andy Milner Company, March 2026.

Sheet Escalation Index
A1: ALASKAN CONSTRUCTION ESCALATION INDEX
B2: Base Year 1980 | F2: Estimated Basis for Calculations | H2: 100.00
B4: 1980 | F4: 1038604 | H4: 100
B5: 1981 | F5: 1084425 | H5: 104.4
B6: 1982 | F6: 1125068 | H6: 107.7
B7: 1983 | F7: 1200180 | H7: 115.6
B8: 1984 | F8: 1231503 | H8: 118.6
B9: 1985 | F9: 1222949 | H9: 117.7
B10: 1986 | F10: 1261102 | H10: 121.4
B11: 1987 | F11: 1277361 | H11: 123
B12: 1988 | F12: 1296492 | H12: 124.8
B13: 1989 | F13: 1312471 | H13: 126.4
B14: 1990 | F14: 1368466 | H14: 131.8
B15: 1991 | F15: 1394828 | H15: 134.3
... B20: 1996 | F20: 1518343 | H20: 146.2
B21: 1997* | F21: 5895775 | H21: 146.7
B22: 1998* | F22: 6038745 | H22: 149.12
B23: 1999* | F23: 6146839 | H23: 150.96
B24: 2000* | F24: 6243856 | H24: 152.6
B25: 2001* | F25: 6357677 | H25: 154.53
B26: 2002* | F26: 6829911 | H26: 162.54
B27: 2003* | F27: 7053768 | H27: 166.34
B28: 2004* | F28: 7999739 | H28: 176.57
B29: 2005* | F29: 8719586 | H29: 188.55
B30: 2006* | F30: 9629545 | H30: 198.41
B31: 2007* | F31: 10306665 | H31: 205.73
B32: 2008** | F32: 12742474 | H32: 208.59
... B45: 2021*** | F45: 18537450 | H45: 246.92
B46: 2022 | F46: 21343029 | H46: 262.23
B47: 2023 | F47: 22276520 | H47: 266.6
B48: 2024 | F48: 24147110 | H48: 275
B49: 2025 | F49: 25448744 | H49: 280.39
B50: 2026 | F50: =Summary!I24 -> 27692652 | H50: 289.21
A55: * | B55: These are a representative project which was updated in 1997 through 2007 to reflect, at that time, changes for a representative
B56: project including technological developments.
A58: ** | B58: Improved school including current IT electrical installation, steel structure and other improvements.
A60: *** | B60: Improved school including incorporation of ASHRAE 90.1 envelope requirements.

Sheet Summary
A1: MODEL SCHOOL ESCALATION COST SUMMARY
G2: Material | H2: Labor | I2: Total
B4: =Check!A4 -> 01 - SITE | G4: =SUM(Check!E5:E11) -> 1627157 | H4: =SUM(Check!F5:F11) -> 697519 | I4: =SUM(G4:H4) -> 2324676
B5: =Check!A12 -> 02 - SUBSTRUCTURE | G5: =SUM(Check!E14:E17) -> 538084 | H5: =SUM(Check!F14:F17) -> 598574 | I5: =SUM(G5:H5) -> 1136658
B6: =Check!A18 -> 03 - SUPERSTRUCTURE | G6: =SUM(Check!E19:E21) -> 3252827 | H6: =SUM(Check!F19:F21) -> 712032 | I6: =SUM(G6:H6) -> 3964859
B7: =Check!A22 -> 04 - EXTERIOR CLOSURE | G7: =SUM(Check!E23:E26) -> 1204126 | H7: =SUM(Check!F23:F26) -> 666325 | I7: =SUM(G7:H7) -> 1870451
B8: =Check!A27 -> 05 - ROOF SYSTEMS | G8: =SUM(Check!E28:E30) -> 1311851 | H8: =SUM(Check!F28:F30) -> 809950 | I8: =SUM(G8:H8) -> 2121801
B9: =Check!A36 -> 06 - INTERIORS | G9: =SUM(Check!E37:E42) -> 1830768 | H9: =SUM(Check!F37:F42) -> 1099908 | I9: =SUM(G9:H9) -> 2930676
B10: =Check!A43 -> 07 - CONVEYORS | G10: =Check!E45 -> 0 | H10: =Check!F45 -> 0 | I10: =SUM(G10:H10) -> 0
B11: =Check!A46 -> 08 - MECHANICAL | G11: =SUM(Check!E47:E51) -> 2635116 | H11: =SUM(Check!F47:F51) -> 1322523 | I11: =SUM(G11:H11) -> 3957639
B12: =Check!A52 -> 09 - ELECTRICAL | G12: =SUM(Check!E53:E57) -> 1145370 | H12: =SUM(Check!F53:F57) -> 1009299 | I12: =SUM(G12:H12) -> 2154669
B13: =Check!A58 -> 10 - EQUIPMENT AND FURNISHINGS | G13: =SUM(Check!E59:E60) -> 199260 | H13: =SUM(Check!F59:F60) -> 26188 | I13: =SUM(G13:H13) -> 225448
B14: =Check!A61 -> 11 - SPECIAL CONDITIONS | G14: =SUM(Check!E62:E64) -> 0 | H14: =SUM(Check!F62:F64) -> 0 | I14: =SUM(G14:H14) -> 0
B16: SUBTOTAL: | G16: =SUM(G3:G15) -> 13744559 | H16: =SUM(H3:H15) -> 6942318 | I16: =SUM(I3:I15) -> 20686877
B18: =Check!A67 -> 12 - GENERAL CONDITIONS | I18: =Check!H67 -> 4488261
B20: SUBTOTAL: | I20: =SUM(I15:I18) -> 25175138
B22: =Check!A76 -> 13 - CONTINGENCIES | I22: =Check!H76 -> 2517514
B24: TOTAL ESTIMATED CONSTRUCTION COST: | I24: =SUM(I20:I22) -> 27692652
B25: COST PER SQUARE FOOT: | I25: =I24/I26 -> 668.9 | J25: /SF
B26: GROSS FLOOR AREA: | I26: 41400 | J26: SF

Sheet Check
A1: ELEMENTAL SUMMARY
G2: Total | I2: Cost | J2: Cost
B3: Code and Building System | C3: Quantity | D3: Unit | E3: Material | F3: Labor | G3: Material/Labor | H3: Total Cost | I3: per Unit | J3: per GSF | K3: %
A4: 01 - SITE | C4: 3.44 | D4: ACRE | H4: =SUM(G5:G11) -> 2324676 | I4: 0 | J4: =H4/$C$79 -> 56.15 | K4: =(H4/$H$79) -> 0.0839
B5: ='011'!A4 -> 011 - Reserved | C5: ='011'!B36 -> 0 | D5: ='011'!C36 -> 0 | E5: ='011'!E36 -> 0 | F5: ='011'!G36 -> 0 | G5: =SUM(E5:F5) -> 0 | I5: 0 | J5: =G5/$C$79 -> 0 | K5: =G5/$H$79 -> 0
B6: ='012'!A4 -> 012 - Site Preparation | C6: ='012'!B36 -> 3.44 | D6: ='012'!C36 -> AC | E6: ='012'!E36 -> 852581 | F6: ='012'!G36 -> 452890 | G6: =SUM(E6:F6) -> 1305471 | I6: =G6/C6 -> 379497.38 | J6: =G6/$C$79 -> 31.53 | K6: =G6/$H$79 -> 0.0471
B7: ='013'!A4 -> 013 - Site Improvements | C7: ='013'!B98 -> 77200 | D7: ='013'!C98 -> SISF | E7: ='013'!E98 -> 530389 | F7: ='013'!G98 -> 167888 | G7: =SUM(E7:F7) -> 698277 | I7: =G7/C7 -> 9.05 | J7: =G7/$C$79 -> 16.87 | K7: =G7/$H$79 -> 0.0252
B8: ='014'!A4 -> 014 - Site Structures | C8: ='014'!B36 -> 0 | D8: ='014'!C36 -> STSF | E8: ='014'!E36 -> 0 | F8: ='014'!G36 -> 0 | G8: =SUM(E8:F8) -> 0 | I8: 0 | J8: =G8/$C$79 -> 0 | K8: =G8/$H$79 -> 0
B9: ='015'!A4 -> 015 - Civil/Mechanical Utilities | C9: ='015'!B67 -> 490 | D9: ='015'!C67 -> CMLF | E9: ='015'!E67 -> 184480 | F9: ='015'!G67 -> 33541 | G9: =SUM(E9:F9) -> 218021 | I9: =G9/C9 -> 444.94 | J9: =G9/$C$79 -> 5.27 | K9: =G9/$H$79 -> 0.0079
B10: ='016'!A4 -> 016 - Site Electrical | C10: ='016'!B98 -> 1002 | D10: ='016'!C98 -> SELF | E10: ='016'!E98 -> 59707 | F10: ='016'!G98 -> 43200 | G10: =SUM(E10:F10) -> 102907 | I10: =G10/C10 -> 102.7 | J10: =G10/$C$79 -> 2.49 | K10: =G10/$H$79 -> 0.0037
B11: ='017'!A4 -> 017 - Off-Site Work | C11: ='017'!B36 -> 0 | D11: ='017'!C36 -> OWLS | E11: ='017'!E36 -> 0 | F11: ='017'!G36 -> 0 | G11: =SUM(E11:F11) -> 0 | I11: 0 | J11: =G11/$C$79 -> 0 | K11: =G11/$H$79 -> 0
A12: 02 - SUBSTRUCTURE | C12: 40400 | D12: TFSF | H12: =SUM(G14:G17) -> 1136658 | I12: =H12/C12 -> 28.14 | J12: =H12/$C$79 -> 27.46 | K12: =(H12/$H$79) -> 0.041
B13: 021 - Standard Foundations and
B14: Basements | C14: ='021'!B36 -> 40400 | D14: ='021'!C36 -> FASF | E14: ='021'!E36 -> 287197 | F14: ='021'!G36 -> 407920 | G14: =SUM(E14:F14) -> 695117 | I14: =G14/C14 -> 17.21 | J14: =G14/$C$79 -> 16.79 | K14: =G14/$H$79 -> 0.0251
B15: ='022'!A4 -> 022 - Slab on Grade | C15: ='022'!B36 -> 40400 | D15: ='022'!C36 -> SLSF | E15: ='022'!E36 -> 250887 | F15: ='022'!G36 -> 190654 | G15: =SUM(E15:F15) -> 441541 | I15: =G15/C15 -> 10.93 | J15: =G15/$C$79 -> 10.67 | K15: =G15/$H$79 -> 0.0159
B16: ='023'!A4 -> 023 - Reserved | C16: ='023'!B36 -> 0 | D16: ='023'!C36 -> 0 | E16: ='023'!E36 -> 0 | F16: ='023'!G36 -> 0 | G16: =SUM(E16:F16) -> 0 | I16: 0 | J16: =G16/$C$79 -> 0 | K16: =G16/$H$79 -> 0
B17: ='024'!A4 -> 024 - Special Foundations | C17: ='024'!B36 -> 0 | D17: ='024'!C36 -> SFSF | E17: ='024'!E36 -> 0 | F17: ='024'!G36 -> 0 | G17: =SUM(E17:F17) -> 0 | I17: 0 | J17: =G17/$C$79 -> 0 | K17: =G17/$H$79 -> 0
A18: 03 - SUPERSTRUCTURE | C18: 45170 | D18: SSF | H18: =SUM(G19:G21) -> 3964859 | I18: =H18/C18 -> 87.78 | J18: =H18/$C$79 -> 95.77 | K18: =(H18/$H$79) -> 0.1432
B19: ='031'!A4 -> 031 - Floor Structure | C19: ='031'!B67 -> 1000 | D19: ='031'!C67 -> FSSF | E19: ='031'!E67 -> 101914 | F19: ='031'!G67 -> 26638 | G19: =SUM(E19:F19) -> 128552 | I19: =G19/C19 -> 128.55 | J19: =G19/$C$79 -> 3.11 | K19: =G19/$H$79 -> 0.0046
B20: ='032'!A4 -> 032 - Roof Structure | C20: ='032'!B36 -> 44170 | D20: ='032'!C36 -> RSSF | E20: ='032'!E36 -> 3150913 | F20: ='032'!G36 -> 685394 | G20: =SUM(E20:F20) -> 3836307 | I20: =G20/C20 -> 86.85 | J20: =G20/$C$79 -> 92.66 | K20: =G20/$H$79 -> 0.1385
B21: ='033'!A4 -> 033 - Stairs | C21: ='033'!B36 -> 0 | D21: ='033'!C36 -> FLT | E21: ='033'!E36 -> 0 | F21: ='033'!G36 -> 0 | G21: =SUM(E21:F21) -> 0 | I21: 0 | J21: =G21/$C$79 -> 0 | K21: =G21/$H$79 -> 0
A22: 04 - EXTERIOR CLOSURE | C22: 27165 | D22: ECSF | H22: =SUM(G23:G26) -> 1870451 | I22: =H22/C22 -> 68.86 | J22: =H22/$C$79 -> 45.18 | K22: =(H22/$H$79) -> 0.0675
B23: ='041'!A4 -> 041 - Exterior Walls and Soffits | C23: ='041'!B67 -> 23665 | D23: ='041'!C67 -> EWSF | E23: ='041'!E67 -> 757182 | F23: ='041'!G67 -> 581635 | G23: =SUM(E23:F23) -> 1338817 | I23: =G23/C23 -> 56.57 | J23: =G23/$C$79 -> 32.34 | K23: =G23/$H$79 -> 0.0483
B24: ='042'!A4 -> 042 - Exterior Glazing | C24: ='042'!B36 -> 3500 | D24: ='042'!C36 -> EGSF | E24: ='042'!E36 -> 352902 | F24: ='042'!G36 -> 75072 | G24: =SUM(E24:F24) -> 427974 | I24: =G24/C24 -> 122.28 | J24: =G24/$C$79 -> 10.34 | K24: =G24/$H$79 -> 0.0155
B25: ='043'!A4 -> 043 - Exterior Doors | C25: ='043'!B36 -> 14 | D25: ='043'!C36 -> EDLF | E25: ='043'!E36 -> 94042 | F25: ='043'!G36 -> 9618 | G25: =SUM(E25:F25) -> 103660 | I25: =G25/C25 -> 7404.29 | J25: =G25/$C$79 -> 2.5 | K25: =G25/$H$79 -> 0.0037
B26: ='044'!A4 -> 044 - Exterior Accessories | C26: ='044'!B36 -> 0 | D26: ='044'!C36 -> EASF | E26: ='044'!E36 -> 0 | F26: ='044'!G36 -> 0 | G26: =SUM(E26:F26) -> 0 | I26: 0 | J26: =G26/$C$79 -> 0 | K26: =G26/$H$79 -> 0
A27: 05 - ROOF SYSTEMS | C27: 44170 | D27: RSF | H27: =SUM(G28:G30) -> 2121801 | I27: =H27/C27 -> 48.04 | J27: =H27/$C$79 -> 51.25 | K27: =(H27/$H$79) -> 0.0766
B28: ='051'!A4 -> 051 - Pitched Roof | C28: ='051'!B67 -> 44170 | D28: ='051'!C67 -> PRSF | E28: ='051'!E67 -> 1311851 | F28: ='051'!G67 -> 809950 | G28: =SUM(E28:F28) -> 2121801 | I28: =G28/C28 -> 48.04 | J28: =G28/$C$79 -> 51.25 | K28: =G28/$H$79 -> 0.0766
B29: ='052'!A4 -> 052 - Flat Roof | C29: ='052'!B36 -> 0 | D29: ='052'!C36 -> FRSF | E29: ='052'!E36 -> 0 | F29: ='052'!G36 -> 0 | G29: =SUM(E29:F29) -> 0 | I29: 0 | J29: =G29/$C$79 -> 0 | K29: =G29/$H$79 -> 0
B30: ='053'!A4 -> 053 - Roof Accessories | C30: ='053'!B36 -> 0 | D30: ='053'!C36 -> RASF | E30: ='053'!E36 -> 0 | F30: ='053'!G36 -> 0 | G30: =SUM(E30:F30) -> 0 | I30: 0 | J30: =G30/$C$79 -> 0 | K30: =G30/$H$79 -> 0
A36: 06 - INTERIORS | C36: 49500 | D36: PSF | H36: =SUM(G37:G42) -> 2930676 | I36: =H36/C36 -> 59.21 | J36: =H36/$C$79 -> 70.79 | K36: =(H36/$H$79) -> 0.1058
B37: ='061'!A4 -> 061 - Partitions and Soffits | C37: ='061'!B36 -> 49500 | D37: ='061'!C36 -> PSSF | E37: ='061'!E36 -> 276418 | F37: ='061'!G36 -> 364112 | G37: =SUM(E37:F37) -> 640530 | I37: =G37/C37 -> 12.94 | J37: =G37/$C$79 -> 15.47 | K37: =G37/$H$79 -> 0.0231
B38: ='062'!A4 -> 062 - Special Partitions | C38: ='062'!B36 -> 0 | D38: ='062'!C36 -> SPSF | E38: ='062'!E36 -> 0 | F38: ='062'!G36 -> 0 | G38: =SUM(E38:F38) -> 0 | I38: 0 | J38: =G38/$C$79 -> 0 | K38: =G38/$H$79 -> 0
B39: ='063'!A4 -> 063 - Interior Openings | C39: ='063'!B67 -> 79 | D39: ='063'!C67 -> IOEA | E39: ='063'!E67 -> 318746 | F39: ='063'!G67 -> 68406 | G39: =SUM(E39:F39) -> 387152 | I39: =G39/C39 -> 4900.66 | J39: =G39/$C$79 -> 9.35 | K39: =G39/$H$79 -> 0.014
B40: ='064'!A4 -> 064 - Special Floors | C40: ='064'!B36 -> 0 | D40: ='064'!C36 -> RFSF | E40: ='064'!E36 -> 0 | F40: ='064'!G36 -> 0 | G40: =SUM(E40:F40) -> 0 | I40: 0 | J40: =G40/$C$79 -> 0 | K40: =G40/$H$79 -> 0
B41: ='065'!A4 -> 065 - Interior Finishes | C41: ='065'!B98 -> 190540 | D41: ='065'!C98 -> IFSF | E41: ='065'!E98 -> 783317 | F41: ='065'!G98 -> 536988 | G41: =SUM(E41:F41) -> 1320305 | I41: =G41/C41 -> 6.93 | J41: =G41/$C$79 -> 31.89 | K41: =G41/$H$79 -> 0.0477
B42: ='066'!A4 -> 066 - Specialties | C42: ='066'!B98 -> 2255 | D42: ='066'!C98 -> SGSF | E42: ='066'!E98 -> 452287 | F42: ='066'!G98 -> 130402 | G42: =SUM(E42:F42) -> 582689 | I42: =G42/C42 -> 258.4 | J42: =G42/$C$79 -> 14.07 | K42: =G42/$H$79 -> 0.021
A43: 07 - CONVEYORS | C43: 0 | D43: CEA | H43: =SUM(G44:G45) -> 0 | I43: 0 | J43: =H43/$C$79 -> 0 | K43: =(H43/$H$79) -> 0
B44: ='071'!A4 -> 071 - Passenger Conveyors | C44: ='071'!B36 -> 0 | D44: ='071'!C36 -> STOP | E44: ='071'!E36 -> 0 | F44: ='071'!G36 -> 0 | G44: =SUM(E44:F44) -> 0 | I44: 0 | J44: =G44/$C$79 -> 0 | K44: =G44/$H$79 -> 0
B45: ='072'!A4 -> 072 - Material Handling Systems | C45: ='072'!B36 -> 0 | D45: ='072'!C36 -> MHEA | E45: ='072'!E36 -> 0 | F45: ='072'!G36 -> 0 | G45: =SUM(E45:F45) -> 0 | I45: 0 | J45: =G45/$C$79 -> 0 | K45: =G45/$H$79 -> 0
...

Sheet 011
A2: 01 - SITE | D2: MATERIAL/EQUIPMENT | F2: LABOR | H2: TOTAL | I2: TOTAL
B3: QUANTITY | C3: UNIT | D3: RATE | E3: TOTAL | F3: HOURS | G3: TOTAL | H3: UNIT RATE | I3: MATERIAL/LABOR
A4: 011 - Reserved | D4: $ | E4: $ | G4: $ | H4: $ | I4: $
E6: =B6*D6 -> 0 | G6: =B6*F6 -> 0 | H6: =D6+F6 -> 0 | I6: =SUM(E6,G6) -> 0
E7: =B7*D7 -> 0 | G7: =B7*F7 -> 0 | H7: =D7+F7 -> 0 | I7: =SUM(E7,G7) -> 0
E8: =B8*D8 -> 0 | G8: =B8*F8 -> 0 | H8: =D8+F8 -> 0 | I8: =SUM(E8,G8) -> 0
E9: =B9*D9 -> 0 | G9: =B9*F9 -> 0 | H9: =D9+F9 -> 0 | I9: =SUM(E9,G9) -> 0
E10: =B10*D10 -> 0 | G10: =B10*F10 -> 0 | H10: =D10+F10 -> 0 | I10: =SUM(E10,G10) -> 0
E11: =B11*D11 -> 0 | G11: =B11*F11 -> 0 | H11: =D11+F11 -> 0 | I11: =SUM(E11,G11) -> 0
E12: =B12*D12 -> 0 | G12: =B12*F12 -> 0 | H12: =D12+F12 -> 0 | I12: =SUM(E12,G12) -> 0
E13: =B13*D13 -> 0 | G13: =B13*F13 -> 0 | H13: =D13+F13 -> 0 | I13: =SUM(E13,G13) -> 0
E14: =B14*D14 -> 0 | G14: =B14*F14 -> 0 | H14: =D14+F14 -> 0 | I14: =SUM(E14,G14) -> 0
E15: =B15*D15 -> 0 | G15: =B15*F15 -> 0 | H15: =D15+F15 -> 0 | I15: =SUM(E15,G15) -> 0
E16: =B16*D16 -> 0 | G16: =B16*F16 -> 0 | H16: =D16+F16 -> 0 | I16: =SUM(E16,G16) -> 0
E17: =B17*D17 -> 0 | G17: =B17*F17 -> 0 | H17: =D17+F17 -> 0 | I17: =SUM(E17,G17) -> 0
... E26: =B26*D26 -> 0 | G26: =B26*F26 -> 0 | H26: =D26+F26 -> 0 | I26: =SUM(E26,G26) -> 0
A27: SUBTOTAL: | E27: =SUM(E1:E26) -> 0 | G27: =SUM(G1:G26) -> 0 | I27: =SUM(I1:I26) -> 0
A29: Labor Premium Time | B29: ='Notes-GFA'!$C$14 -> 0 | G29: =G27*B29 -> 0 | I29: =G29 -> 0
E30: =B30*D30 -> 0 | G30: =B30*F30 -> 0 | H30: =D30+F30 -> 0 | I30: =SUM(E30,G30) -> 0
E31: =B31*D31 -> 0 | G31: =B31*F31 -> 0 | H31: =D31+F31 -> 0 | I31: =SUM(E31,G31) -> 0
E32: =B32*D32 -> 0 | G32: =B32*F32 -> 0 | H32: =D32+F32 -> 0 | I32: =SUM(E32,G32) -> 0
E33: =B33*D33 -> 0 | G33: =B33*F33 -> 0 | H33: =D33+F33 -> 0 | I33: =SUM(E33,G33) -> 0
E34: =B34*D34 -> 0 | G34: =B34*F34 -> 0 | H34: =D34+F34 -> 0 | I34: =SUM(E34,G34) -> 0
E35: =B35*D35 -> 0 | G35: =B35*F35 -> 0 | H35: =D35+F35 -> 0 | I35: =SUM(E35,G35) -> 0
A36: TOTAL ESTIMATED COST: | E36: =SUM(E27:E35) -> 0 | G36: =SUM(G27:G35) -> 0 | I36: =SUM(I27:I35) -> 0

Sheet 012
A2: 01 - SITE | D2: MATERIAL/EQUIPMENT | F2: LABOR | H2: TOTAL | I2: TOTAL
B3: QUANTITY | C3: UNIT | D3: RATE | E3: TOTAL | F3: HOURS | G3: TOTAL | H3: UNIT RATE | I3: MATERIAL/LABOR
A4: 012 - Site Preparation | D4: $ | E4: $ | G4: $ | H4: $ | I4: $
E6: =B6*D6 -> 0 | G6: =B6*F6 -> 0 | H6: =D6+F6 -> 0 | I6: =SUM(E6,G6) -> 0
A7: Clear site, grub up roots and remove from site | E7: =B7*D7 -> 0 | G7: =B7*F7 -> 0
A8: (excludes trees) | B8: 3.44 | C8: AC | D8: 2805 | E8: =B8*D8 -> 9649 | F8: 48 | G8: =B8*F8 -> 165.12
E9: =B9*D9 -> 0 | G9: =B9*F9 -> 0 | H9: =D9+F9 -> 0 | I9: =SUM(E9,G9) -> 0
A10: Staking and survey | B10: 3.44 | C10: AC | D10: 1000 | E10: =B10*D10 -> 3440 | F10: 76.35 | G10: =B10*F10 -> 262.64
E11: =B11*D11 -> 0 | G11: =B11*F11 -> 0
A12: SWPPP including inspection and | E12: =B12*D12 -> 0 | G12: =B12*F12 -> 0
A13: maintenance | B13: 1 | C13: LOT | D13: 20000 | E13: =B13*D13 -> 20000 | F13: 240 | G13: =B13*F13 -> 240
E14: =B14*D14 -> 0 | G14: =B14*F14 -> 0
A15: Dewatering pump | B15: 12 | C15: WKS | D15: 1295 | E15: =B15*D15 -> 15540 | F15: 10 | G15: =B15*F15 -> 120
E16: =B16*D16 -> 0 | G16: =B16*F16 -> 0
A17: Excavate and remove material from site | B17: 16660 | C17: CY | D17: 15 | E17: =B17*D17 -> 249900 | F17: 0.105 | G17: =B17*F17 -> 1749.3
E18: =B18*D18 -> 0 | G18: =B18*F18 -> 0
A19: Geotextile fabric | B19: 2300 | C19: SY | D19: 1.95 | E19: =B19*D19 -> 4485 | F19: 0.016 | G19: =B19*F19 -> 36.8
E20: =B20*D20 -> 0 | G20: =B20*F20 -> 0
A21: Type 2 fill and compaction, 4" minus | B21: 22200 | C21: CY | D21: 24.46 | E21: =B21*D21 -> 543012 | F21: 0.105 | G21: =B21*F21 -> 2331
E22: =B22*D22 -> 0 | G22: =B22*F22 -> 0
A23: Dust control | B23: 1 | C23: LOT | D23: 2055 | E23: =B23*D23 -> 2055 | F23: 100 | G23: =B23*F23 -> 100
E24: =B24*D24 -> 0 | G24: =B24*F24 -> 0
A25: Compaction tests | B25: 20 | C25: EA | D25: 225 | E25: =B25*D25 -> 4500 | F25: 0 | G25: =B25*F25 -> 0
E26: =B26*D26 -> 0 | G26: =B26*F26 -> 0 | H26: =D26+F26 -> 0 | I26: =SUM(E26,G26) -> 0
A27: TOTAL LABOR HOURS: | E27: =B27*D27 -> 0 | G27: =SUM(G1:G26) -> 5004.86 | H27: Hours
A29: Labor Rate | G29: ='Labor Rates'!M23 -> 90.49 | H29: /Hour
E32: =B32*D32 -> 0 | G32: =B32*F32 -> 0 | H32: =D32+F32 -> 0 | I32: =SUM(E32,G32) -> 0
E33: =B33*D33 -> 0 | G33: =B33*F33 -> 0 | H33: =D33+F33 -> 0 | I33: =SUM(E33,G33) -> 0
E34: =B34*D34 -> 0 | G34: =B34*F34 -> 0 | H34: =D34+F34 -> 0 | I34: =SUM(E34,G34) -> 0
E35: =B35*D35 -> 0 | G35: =B35*F35 -> 0 | H35: =D35+F35 -> 0 | I35: =SUM(E35,G35) -> 0
A36: TOTAL ESTIMATED COST: | B36: 3.44 | C36: AC | E36: =SUM(E1:E35) -> 852581 | G36: =G27*G29 -> 452890 | I36: =E36+G36 -> 1305471

Sheet 013
A2: 01 - SITE | D2: MATERIAL/EQUIPMENT | F2: LABOR | H2: TOTAL | I2: TOTAL
B3: QUANTITY | C3: UNIT | D3: RATE | E3: TOTAL | F3: HOURS | G3: TOTAL | H3: UNIT RATE | I3: MATERIAL/LABOR
A4: 013 - Site Improvements | D4: $ | E4: $ | G4: $ | H4: $ | I4: $
E6: =B6*D6 -> 0 | G6: =B6*F6 -> 0 | H6: =D6+F6 -> 0 | I6: =SUM(E6,G6) -> 0
A7: VEHICULAR SURFACES | E7: =B7*D7 -> 0 | G7: =B7*F7 -> 0 | H7: =D7+F7 -> 0 | I7: =SUM(E7,G7) -> 0
E8: =B8*D8 -> 0 | G8: =B8*F8 -> 0 | H8: =D8+F8 -> 0 | I8: =SUM(E8,G8) -> 0
A9: Type 2 fill and compaction, 4" minus | B9: 756 | C9: CY | D9: 24.46 | E9: =B9*D9 -> 18492 | F9: 0.105 | G9: =B9*F9 -> 79.38
E10: =B10*D10 -> 0 | G10: =B10*F10 -> 0
A11: 4" D1 base course | B11: 117 | C11: CY | D11: 39.63 | E11: =B11*D11 -> 4637 | F11: 0.125 | G11: =B11*F11 -> 14.63
E12: =B12*D12 -> 0 | G12: =B12*F12 -> 0
A13: 2" asphalt paving | B13: 8400 | C13: SF | D13: 1.9 | E13: =B13*D13 -> 15960 | F13: 0.016 | G13: =B13*F13 -> 134.4
E14: =B14*D14 -> 0 | G14: =B14*F14 -> 0
A15: Joint to existing | B15: 100 | C15: LF | D15: 2.5 | E15: =B15*D15 -> 250 | F15: 0.046 | G15: =B15*F15 -> 4.6
E16: =B16*D16 -> 0 | G16: =B16*F16 -> 0 | H16: =D16+F16 -> 0 | I16: =SUM(E16,G16) -> 0
A17: Marking | B17: 300 | C17: LF | D17: 0.95 | E17: =B17*D17 -> 285 | F17: 0.018 | G17: =B17*F17 -> 5.4
E18: =B18*D18 -> 0 | G18: =B18*F18 -> 0
A19: 24" diameter, 14 gauge CMP culvert | B19: 40 | C19: LF | D19: 57.6 | E19: =B19*D19 -> 2304 | F19: 0.29 | G19: =B19*F19 -> 11.6
E20: =B20*D20 -> 0 | G20: =B20*F20 -> 0
A21: Traffic sign, post and footing | B21: 2 | C21: EA | D21: 312 | E21: =B21*D21 -> 624 | F21: 4.37 | G21: =B21*F21 -> 8.74
E22: =B22*D22 -> 0 | G22: =B22*F22 -> 0
A23: Concrete curbs | B23: 1000 | C23: LF | D23: 23 | E23: =B23*D23 -> 23000 | F23: 0.18 | G23: =B23*F23 -> 180
E24: =B24*D24 -> 0 | G24: =B24*F24 -> 0 | H24: =D24+F24 -> 0 | I24: =SUM(E24,G24) -> 0
A25: 4" concrete walks | B25: 1800 | C25: SF | D25: 6.51 | E25: =B25*D25 -> 11718 | F25: 0.055 | G25: =B25*F25 -> 99
E26: =B26*D26 -> 0 | G26: =B26*F26 -> 0
A27: LANDSCAPING AND IRRIGATION | E27: =B27*D27 -> 0 | G27: =B27*F27 -> 0
E28: =B28*D28 -> 0 | G28: =B28*F28 -> 0
A29: Topsoil | B29: 800 | C29: CY | D29: 42 | E29: =B29*D29 -> 33600 | F29: 0.125 | G29: =B29*F29 -> 100
E30: =B30*D30 -> 0 | G30: =B30*F30 -> 0
A31: Seeding | B31: 9 | C31: MSF | D31: 295 | E31: =B31*D31 -> 2655 | F31: 3.68 | G31: =B31*F31 -> 33.12
E32: =B32*D32 -> 0 | G32: =B32*F32 -> 0
A33: 6'0" to 8'0" birch | B33: 20 | C33: EA | D33: 500 | E33: =B33*D33 -> 10000 | F33: 1.6 | G33: =B33*F33 -> 32
E34: =B34*D34 -> 0 | G34: =B34*F34 -> 0
A35: 8'0" to 10'0" mountain ash | B35: 25 | C35: EA | D35: 595 | E35: =B35*D35 -> 14875 | F35: 2 | G35: =B35*F35 -> 50
E36: =B36*D36 -> 0 | G36: =B36*F36 -> 0
E37: =B37*D37 -> 0 | G37: =B37*F37 -> 0
A38: LANDSCAPING AND IRRIGATION (Continued) | E38: =B38*D38 -> 0 | G38: =B38*F38 -> 0
E39: =B39*D39 -> 0 | G39: =B39*F39 -> 0
A40: 6'0" to 8'0" crab apple | B40: 35 | C40: EA | D40: 595 | E40: =B40*D40 -> 20825 | F40: 1.6 | G40: =B40*F40 -> 56
E41: =B41*D41 -> 0 | G41: =B41*F41 -> 0
A42: 15" to 18" cotoneaster | B42: 75 | C42: EA | D42: 52.5 | E42: =B42*D42 -> 3938 | F42: 0.35 | G42: =B42*F42 -> 26.25
...

Sheet 014
A2: 01 - SITE | D2: MATERIAL/EQUIPMENT | F2: LABOR | H2: TOTAL | I2: TOTAL
B3: QUANTITY | C3: UNIT | D3: RATE | E3: TOTAL | F3: HOURS | G3: TOTAL | H3: UNIT RATE | I3: MATERIAL/LABOR
A4: 014 - Site Structures | D4: $ | E4: $ | G4: $ | H4: $ | I4: $
E6: =B6*D6 -> 0 | G6: =B6*F6 -> 0 | H6: =D6+F6 -> 0 | I6: =SUM(E6,G6) -> 0
E7: =B7*D7 -> 0 | G7: =B7*F7 -> 0 | H7: =D7+F7 -> 0 | I7: =SUM(E7,G7) -> 0
E8: =B8*D8 -> 0 | G8: =B8*F8 -> 0 | H8: =D8+F8 -> 0 | I8: =SUM(E8,G8) -> 0
E9: =B9*D9 -> 0 | G9: =B9*F9 -> 0 | H9: =D9+F9 -> 0 | I9: =SUM(E9,G9) -> 0
E10: =B10*D10 -> 0 | G10: =B10*F10 -> 0 | H10: =D10+F10 -> 0 | I10: =SUM(E10,G10) -> 0
E11: =B11*D11 -> 0 | G11: =B11*F11 -> 0 | H11: =D11+F11 -> 0 | I11: =SUM(E11,G11) -> 0
E12: =B12*D12 -> 0 | G12: =B12*F12 -> 0 | H12: =D12+F12 -> 0 | I12: =SUM(E12,G12) -> 0
E13: =B13*D13 -> 0 | G13: =B13*F13 -> 0 | H13: =D13+F13 -> 0 | I13: =SUM(E13,G13) -> 0
E14: =B14*D14 -> 0 | G14: =B14*F14 -> 0 | H14: =D14+F14 -> 0 | I14: =SUM(E14,G14) -> 0
E15: =B15*D15 -> 0 | G15: =B15*F15 -> 0 | H15: =D15+F15 -> 0 | I15: =SUM(E15,G15) -> 0
E16: =B16*D16 -> 0 | G16: =B16*F16 -> 0 | H16: =D16+F16 -> 0 | I16: =SUM(E16,G16) -> 0
E17: =B17*D17 -> 0 | G17: =B17*F17 -> 0 | H17: =D17+F17 -> 0 | I17: =SUM(E17,G17) -> 0
... E35: =B35*D35 -> 0 | G35: =B35*F35 -> 0 | H35: =D35+F35 -> 0 | I35: =SUM(E35,G35) -> 0
A36: TOTAL ESTIMATED COST: | C36: STSF | E36: =SUM(E1:E35) -> 0 | G36: =SUM(G30:G35) -> 0 | I36: =G36+E36 -> 0

Sheet 015
A2: 01 - SITE | D2: MATERIAL/EQUIPMENT | F2: LABOR | H2: TOTAL | I2: TOTAL
B3: QUANTITY | C3: UNIT | D3: RATE | E3: TOTAL | F3: HOURS | G3: TOTAL | H3: UNIT RATE | I3: MATERIAL/LABOR
A4: 015 - Civil/Mechanical Utilities | D4: $ | E4: $ | G4: $ | H4: $ | I4: $
E6: =B6*D6 -> 0 | G6: =B6*F6 -> 0 | H6: =D6+F6 -> 0 | I6: =SUM(E6,G6) -> 0
A7: Trench for gas pipe with bedding and tape | B7: 100 | C7: LF | D7: 7.08 | E7: =B7*D7 -> 708 | F7: 0.1 | G7: =B7*F7 -> 10
E8: =B8*D8 -> 0 | G8: =B8*F8 -> 0 | H8: =D8+F8 -> 0 | I8: =SUM(E8,G8) -> 0
A9: SANITARY SEWER | E9: =B9*D9 -> 0 | G9: =B9*F9 -> 0 | H9: =D9+F9 -> 0 | I9: =SUM(E9,G9) -> 0
E10: =B10*D10 -> 0 | G10: =B10*F10 -> 0 | H10: =D10+F10 -> 0 | I10: =SUM(E10,G10) -> 0
A11: 4" diameter DI sewer line | B11: 150 | C11: LF | D11: 163.93 | E11: =B11*D11 -> 24590 | F11: 0.3 | G11: =B11*F11 -> 45
E12: =B12*D12 -> 0 | G12: =B12*F12 -> 0
A13: Manhole | B13: 1 | C13: EA | D13: 10229 | E13: =B13*D13 -> 10229 | F13: 30 | G13: =B13*F13 -> 30
E14: =B14*D14 -> 0 | G14: =B14*F14 -> 0
A15: Connect to existing | B15: 1 | C15: EA | D15: 413 | E15: =B15*D15 -> 413 | F15: 3 | G15: =B15*F15 -> 3
E16: =B16*D16 -> 0 | G16: =B16*F16 -> 0
A17: WATER SYSTEM | E17: =B17*D17 -> 0 | G17: =B17*F17 -> 0
E18: =B18*D18 -> 0 | G18: =B18*F18 -> 0
A19: 4" diameter DI water main and fittings | B19: 200 | C19: LF | D19: 163.93 | E19: =B19*D19 -> 32786 | F19: 0.3 | G19: =B19*F19 -> 60
E20: =B20*D20 -> 0 | G20: =B20*F20 -> 0
A21: 4" hydrant | B21: 1 | C21: EA | D21: 5626.83 | E21: =B21*D21 -> 5627 | F21: 27.25 | G21: =B21*F21 -> 27.25
E22: =B22*D22 -> 0 | G22: =B22*F22 -> 0
A23: 4" valve, valve box and marker, 10'0" deep | B23: 1 | C23: EA | D23: 1425 | E23: =B23*D23 -> 1425 | F23: 3.85 | G23: =B23*F23 -> 3.85
E24: =B24*D24 -> 0 | G24: =B24*F24 -> 0
A25: Connect to existing | B25: 1 | C25: EA | D25: 413 | E25: =B25*D25 -> 413 | F25: 7.24 | G25: =B25*F25 -> 7.24
E26: =B26*D26 -> 0 | G26: =B26*F26 -> 0
A27: Excavate trench, backfill, and warning tape | B27: 350 | C27: LF | D27: 13.12 | E27: =B27*D27 -> 4592 | F27: 0.21 | G27: =B27*F27 -> 73.5
E28: =B28*D28 -> 0 | G28: =B28*F28 -> 0
A29: Testing and cleaning | B29: 1 | C29: LOT | D29: 156 | E29: =B29*D29 -> 156 | F29: 16 | G29: =B29*F29 -> 16
E30: =B30*D30 -> 0 | G30: =B30*F30 -> 0
A31: FUEL SYSTEMS | E31: =B31*D31 -> 0 | G31: =B31*F31 -> 0
E32: =B32*D32 -> 0 | G32: =B32*F32 -> 0
A33: 5,000 gallon FireGuard double wall, above | E33: =B33*D33 -> 0 | G33: =B33*F33 -> 0
A34: grade fuel oil tank | B34: 1 | C34: EA | D34: 84800 | E34: =B34*D34 -> 84800 | F34: 11 | G34: =B34*F34 -> 11
E35: =B35*D35 -> 0 | G35: =B35*F35 -> 0
A36: Leak detection system | B36: 1 | C36: LOT | D36: 9306 | E36: =B36*D36 -> 9306 | F36: 6.5 | G36: =B36*F36 -> 6.5
E37: =B37*D37 -> 0 | G37: =B37*F37 -> 0
A38: FUEL SYSTEMS (Continued) | E38: =B38*D38 -> 0 | G38: =B38*F38 -> 0
E39: =B39*D39 -> 0 | G39: =B39*F39 -> 0
A40: Fuel for testing | B40: 500 | C40: GAL | D40: 5.8 | E40: =B40*D40 -> 2900 | F40: 0.004 | G40: =B40*F40 -> 2
E41: =B41*D41 -> 0 | G41: =B41*F41 -> 0
A42: 1" diameter black steel pipe and fittings | B42: 140 | C42: LF | D42: 5.04 | E42: =B42*D42 -> 706 | F42: 0.228 | G42: =B42*F42 -> 31.92
...

Sheet 016
A2: 01 - SITE | D2: MATERIAL/EQUIPMENT | F2: LABOR | H2: TOTAL | I2: TOTAL
B3: QUANTITY | C3: UNIT | D3: RATE | E3: TOTAL | F3: HOURS | G3: TOTAL | H3: UNIT RATE | I3: MATERIAL/LABOR
A4: 016 - Site Electrical | D4: $ | E4: $ | G4: $ | H4: $ | I4: $
E6: =B6*D6 -> 0 | G6: =B6*F6 -> 0 | H6: =D6+F6 -> 0 | I6: =SUM(E6,G6) -> 0
A7: ELECTRICAL SERVICE AND DISTRIBUTION | E7: =B7*D7 -> 0 | G7: =B7*F7 -> 0 | H7: =D7+F7 -> 0 | I7: =SUM(E7,G7) -> 0
E8: =B8*D8 -> 0 | G8: =B8*F8 -> 0 | H8: =D8+F8 -> 0 | I8: =SUM(E8,G8) -> 0
A9: 4'0"x5'0" concrete transformer pad | B9: 1 | C9: EA | D9: 845 | E9: =B9*D9 -> 845 | F9: 4.55 | G9: =B9*F9 -> 4.55
E10: =B10*D10 -> 0 | G10: =B10*F10 -> 0
A11: 6'0" chainlink fence (small quantity) | B11: 22 | C11: LF | D11: 55.64 | E11: =B11*D11 -> 1224 | F11: 0.2 | G11: =B11*F11 -> 4.4
E12: =B12*D12 -> 0 | G12: =B12*F12 -> 0
A13: 6'0"x3'0" gate | B13: 1 | C13: EA | D13: 786 | E13: =B13*D13 -> 786 | F13: 3.1 | G13: =B13*F13 -> 3.1
E14: =B14*D14 -> 0 | G14: =B14*F14 -> 0
A15: Utility transformer | E15: =B15*D15 -> 0 | G15: =B15*F15 -> 0 | I15: By Utility Company
E16: =B16*D16 -> 0 | G16: =B16*F16 -> 0
A17: Primary service | E17: =B17*D17 -> 0 | G17: =B17*F17 -> 0 | I17: By Utility Company
E18: =B18*D18 -> 0 | G18: =B18*F18 -> 0
A19: Trench, tape, and backfilling | B19: 75 | C19: LF | D19: 7.08 | E19: =B19*D19 -> 531 | F19: 0.1 | G19: =B19*F19 -> 7.5
E20: =B20*D20 -> 0 | G20: =B20*F20 -> 0
A21: 3/4"x10'0" ground rods, clamps and | E21: =B21*D21 -> 0 | G21: =B21*F21 -> 0
A22: 10'0" #4 bare copper | B22: 2 | C22: EA | D22: 125 | E22: =B22*D22 -> 250 | F22: 1.94 | G22: =B22*F22 -> 3.88
E23: =B23*D23 -> 0 | G23: =B23*F23 -> 0
A24: #3/0 copper ground wire | B24: 75 | C24: LF | D24: 8.2 | E24: =B24*D24 -> 615 | F24: 0.04 | G24: =B24*F24 -> 3
E25: =B25*D25 -> 0 | G25: =B25*F25 -> 0
A26: 4" diameter RGS conduit | B26: 75 | C26: LF | D26: 44.34 | E26: =B26*D26 -> 3326 | F26: 0.472 | G26: =B26*F26 -> 35.4
E27: =B27*D27 -> 0 | G27: =B27*F27 -> 0
A28: 4" diameter elbow | B28: 1 | C28: EA | D28: 331 | E28: =B28*D28 -> 331 | F28: 3.26 | G28: =B28*F28 -> 3.26
E29: =B29*D29 -> 0 | G29: =B29*F29 -> 0
A30: 350 KCMIL XHHW secondary conductors | B30: 330 | C30: LF | D30: 12.85 | E30: =B30*D30 -> 4241 | F30: 0.056 | G30: =B30*F30 -> 18.48
E31: =B31*D31 -> 0 | G31: =B31*F31 -> 0
A32: Transformer connection and bushing | B32: 1 | C32: LOT | D32: 350 | E32: =B32*D32 -> 350 | F32: 6 | G32: =B32*F32 -> 6
E33: =B33*D33 -> 0 | G33: =B33*F33 -> 0
A34: Testing and certification | B34: 1 | C34: LOT | D34: 450 | E34: =B34*D34 -> 450 | F34: 7 | G34: =B34*F34 -> 7
E35: =B35*D35 -> 0 | G35: =B35*F35 -> 0
E36: =B36*D36 -> 0 | G36: =B36*F36 -> 0
E37: =B37*D37 -> 0 | G37: =B37*F37 -> 0
A38: LIGHTING AND EQUIPMENT | E38: =B38*D38 -> 0 | G38: =B38*F38 -> 0
E39: =B39*D39 -> 0 | G39: =B39*F39 -> 0
A40: 8" diameter x 15'0" extra strong driven steel | E40: =B40*D40 -> 0 | G40: =B40*F40 -> 0
A41: pipe pile foundation with welded top | B41: 4 | C41: EA | D41: 2156 | E41: =B41*D41 -> 8624 | F41: 12 | G41: =B41*F41 -> 48
E42: =B42*D42 -> 0 | G42: =B42*F42 -> 0
...

Sheet 017
A2: 01 - SITE | D2: MATERIAL/EQUIPMENT | F2: LABOR | H2: TOTAL | I2: TOTAL
B3: QUANTITY | C3: UNIT | D3: RATE | E3: TOTAL | F3: HOURS | G3: TOTAL | H3: UNIT RATE | I3: MATERIAL/LABOR
A4: 017 - Off-Site Work | D4: $ | E4: $ | G4: $ | H4: $ | I4: $
E6: =B6*D6 -> 0 | G6: =B6*F6 -> 0 | H6: =D6+F6 -> 0 | I6: =SUM(E6,G6) -> 0
E7: =B7*D7 -> 0 | G7: =B7*F7 -> 0 | H7: =D7+F7 -> 0 | I7: =SUM(E7,G7) -> 0
E8: =B8*D8 -> 0 | G8: =B8*F8 -> 0 | H8: =D8+F8 -> 0 | I8: =SUM(E8,G8) -> 0
E9: =B9*D9 -> 0 | G9: =B9*F9 -> 0 | H9: =D9+F9 -> 0 | I9: =SUM(E9,G9) -> 0
E10: =B10*D10 -> 0 | G10: =B10*F10 -> 0 | H10: =D10+F10 -> 0 | I10: =SUM(E10,G10) -> 0
E11: =B11*D11 -> 0 | G11: =B11*F11 -> 0 | H11: =D11+F11 -> 0 | I11: =SUM(E11,G11) -> 0
E12: =B12*D12 -> 0 | G12: =B12*F12 -> 0 | H12: =D12+F12 -> 0 | I12: =SUM(E12,G12) -> 0
E13: =B13*D13 -> 0 | G13: =B13*F13 -> 0 | H13: =D13+F13 -> 0 | I13: =SUM(E13,G13) -> 0
E14: =B14*D14 -> 0 | G14: =B14*F14 -> 0 | H14: =D14+F14 -> 0 | I14: =SUM(E14,G14) -> 0
E15: =B15*D15 -> 0 | G15: =B15*F15 -> 0 | H15: =D15+F15 -> 0 | I15: =SUM(E15,G15) -> 0
E16: =B16*D16 -> 0 | G16: =B16*F16 -> 0 | H16: =D16+F16 -> 0 | I16: =SUM(E16,G16) -> 0
E17: =B17*D17 -> 0 | G17: =B17*F17 -> 0 | H17: =D17+F17 -> 0 | I17: =SUM(E17,G17) -> 0
... E26: =B26*D26 -> 0 | G26: =B26*F26 -> 0 | H26: =D26+F26 -> 0 | I26: =SUM(E26,G26) -> 0
A27: SUBTOTAL: | E27: =SUM(E1:E26) -> 0 | G27: =SUM(G1:G26) -> 0 | I27: =SUM(I1:I26) -> 0
A29: Labor Premium Time | B29: ='Notes-GFA'!$C$14 -> 0 | G29: =G27*B29 -> 0 | I29: =G29 -> 0
E30: =B30*D30 -> 0 | G30: =B30*F30 -> 0 | H30: =D30+F30 -> 0 | I30: =SUM(E30,G30) -> 0
E31: =B31*D31 -> 0 | G31: =B31*F31 -> 0 | H31: =D31+F31 -> 0 | I31: =SUM(E31,G31) -> 0
E32: =B32*D32 -> 0 | G32: =B32*F32 -> 0 | H32: =D32+F32 -> 0 | I32: =SUM(E32,G32) -> 0
E33: =B33*D33 -> 0 | G33: =B33*F33 -> 0 | H33: =D33+F33 -> 0 | I33: =SUM(E33,G33) -> 0
E34: =B34*D34 -> 0 | G34: =B34*F34 -> 0 | H34: =D34+F34 -> 0 | I34: =SUM(E34,G34) -> 0
E35: =B35*D35 -> 0 | G35: =B35*F35 -> 0 | H35: =D35+F35 -> 0 | I35: =SUM(E35,G35) -> 0
A36: TOTAL ESTIMATED COST: | C36: OWLS | E36: =SUM(E27:E35) -> 0 | G36: =SUM(G27:G35) -> 0 | I36: =SUM(I27:I35) -> 0

Sheet 021
A2: 02 - SUBSTRUCTURE | D2: MATERIAL/EQUIPMENT | F2: LABOR | H2: TOTAL | I2: TOTAL
A3: 021 - Standard Foundations and | B3: QUANTITY | C3: UNIT | D3: RATE | E3: TOTAL | F3: HOURS | G3: TOTAL | H3: UNIT RATE | I3: MATERIAL/LABOR
A4: Basements | D4: $ | E4: $ | G4: $ | H4: $ | I4: $
E6: =B6*D6 -> 0 | G6: =B6*F6 -> 0 | H6: =D6+F6 -> 0 | I6: =SUM(E6,G6) -> 0
A7: Excavate for footings and backfilling | B7: 650 | C7: CY | D7: 13 | E7: =B7*D7 -> 8450 | F7: 0.2 | G7: =B7*F7 -> 130
E8: =B8*D8 -> 0 | G8: =B8*F8 -> 0
A9: 4,000 psi concrete foundations, including | E9: =B9*D9 -> 0 | G9: =B9*F9 -> 0
A10: waste | B10: 107 | C10: CY | D10: 225 | E10: =B10*D10 -> 24075 | F10: 1.125 | G10: =B10*F10 -> 120.38
E11: =B11*D11 -> 0 | G11: =B11*F11 -> 0
A12: 4,000 psi concrete bases, including waste | B12: 18 | C12: CY | D12: 225 | E12: =B12*D12 -> 4050 | F12: 1.125 | G12: =B12*F12 -> 20.25
E13: =B13*D13 -> 0 | G13: =B13*F13 -> 0
A14: 4,000 psi concrete wall, including waste | B14: 250 | C14: CY | D14: 225 | E14: =B14*D14 -> 56250 | F14: 1.35 | G14: =B14*F14 -> 337.5
E15: =B15*D15 -> 0 | G15: =B15*F15 -> 0
A16: Bar reinforcement | B16: 35000 | C16: LBS | D16: 1.45 | E16: =B16*D16 -> 50750 | F16: 0.01 | G16: =B16*F16 -> 350
E17: =B17*D17 -> 0 | G17: =B17*F17 -> 0
A18: Formwork to footing | B18: 3380 | C18: LF | D18: 3.25 | E18: =B18*D18 -> 10985 | F18: 0.1 | G18: =B18*F18 -> 338
E19: =B19*D19 -> 0 | G19: =B19*F19 -> 0
A20: Formwork to wall | B20: 20300 | C20: SF | D20: 4.15 | E20: =B20*D20 -> 84245 | F20: 0.145 | G20: =B20*F20 -> 2943.5
E21: =B21*D21 -> 0 | G21: =B21*F21 -> 0
A22: 2" insulation to wall | B22: 10150 | C22: SF | D22: 2.33 | E22: =B22*D22 -> 23650 | F22: 0.01 | G22: =B22*F22 -> 101.5
E23: =B23*D23 -> 0 | G23: =B23*F23 -> 0
A24: Dampproof | B24: 12688 | C24: SF | D24: 1.95 | E24: =B24*D24 -> 24742 | F24: 0.026 | G24: =B24*F24 -> 329.89
E25: =B25*D25 -> 0 | G25: =B25*F25 -> 0 | H25: =D25+F25 -> 0 | I25: =SUM(E25,G25) -> 0
A26: TOTAL LABOR HOURS: | E26: =B26*D26 -> 0 | G26: =SUM(G1:G25) -> 4671.02 | H26: Hours
A28: Labor Rate | G28: ='Labor Rates'!I26 -> 87.33 | H28: /Hour
E31: =B31*D31 -> 0 | G31: =B31*F31 -> 0 | H31: =D31+F31 -> 0 | I31: =SUM(E31,G31) -> 0
E32: =B32*D32 -> 0 | G32: =B32*F32 -> 0 | H32: =D32+F32 -> 0 | I32: =SUM(E32,G32) -> 0
E33: =B33*D33 -> 0 | G33: =B33*F33 -> 0 | H33: =D33+F33 -> 0 | I33: =SUM(E33,G33) -> 0
E34: =B34*D34 -> 0 | G34: =B34*F34 -> 0 | H34: =D34+F34 -> 0 | I34: =SUM(E34,G34) -> 0
E35: =B35*D35 -> 0 | G35: =B35*F35 -> 0 | H35: =D35+F35 -> 0 | I35: =SUM(E35,G35) -> 0
A36: TOTAL ESTIMATED COST: | B36: 40400 | C36: FASF | E36: =SUM(E1:E35) -> 287197 | G36: =G26*G28 -> 407920 | I36: =G36+E36 -> 695117

Sheet 022
A2: 02 - SUBSTRUCTURE | D2: MATERIAL/EQUIPMENT | F2: LABOR | H2: TOTAL | I2: TOTAL
B3: QUANTITY | C3: UNIT | D3: RATE | E3: TOTAL | F3: HOURS | G3: TOTAL | H3: UNIT RATE | I3: MATERIAL/LABOR
A4: 022 - Slab on Grade | D4: $ | E4: $ | G4: $ | H4: $ | I4: $
E6: =B6*D6 -> 0 | G6: =B6*F6 -> 0 | H6: =D6+F6 -> 0 | I6: =SUM(E6,G6) -> 0
A7: 6" fill, Type II, 2" minus | B7: 740 | C7: CY | D7: 27 | E7: =B7*D7 -> 19980 | F7: 0.13 | G7: =B7*F7 -> 96.2
E8: =B8*D8 -> 0 | G8: =B8*F8 -> 0
A9: 4,000 psi concrete slab on grade | B9: 495 | C9: CY | D9: 225 | E9: =B9*D9 -> 111375 | F9: 1.25 | G9: =B9*F9 -> 618.75
E10: =B10*D10 -> 0 | G10: =B10*F10 -> 0
A11: 10 mil vapor retarder | B11: 40400 | C11: SF | D11: 0.38 | E11: =B11*D11 -> 15352 | F11: 0.004 | G11: =B11*F11 -> 161.6
E12: =B12*D12 -> 0 | G12: =B12*F12 -> 0
A13: 6"x6" W1.4xW1.4 welded wire mesh | B13: 40400 | C13: SF | D13: 0.59 | E13: =B13*D13 -> 23836 | F13: 0.004 | G13: =B13*F13 -> 161.6
E14: =B14*D14 -> 0 | G14: =B14*F14 -> 0
A15: Cure and finish concrete | B15: 40400 | C15: SF | D15: 0.36 | E15: =B15*D15 -> 14544 | F15: 0.025 | G15: =B15*F15 -> 1010
E16: =B16*D16 -> 0 | G16: =B16*F16 -> 0
A17: Saw cut joint and filler | B17: 3000 | C17: LF | D17: 1.1 | E17: =B17*D17 -> 3300 | F17: 0.035 | G17: =B17*F17 -> 105
E18: =B18*D18 -> 0 | G18: =B18*F18 -> 0 | H18: =D18+F18 -> 0 | I18: =SUM(E18,G18) -> 0
A19: Pump concrete | B19: 870 | C19: CY | D19: 70 | E19: =B19*D19 -> 60900 | G19: =B19*F19 -> 0
E20: =B20*D20 -> 0 | G20: =B20*F20 -> 0
A21: Expansion joint and sealant | B21: 1000 | C21: LF | D21: 1.6 | E21: =B21*D21 -> 1600 | F21: 0.03 | G21: =B21*F21 -> 30
E22: =B22*D22 -> 0 | G22: =B22*F22 -> 0 | H22: =D22+F22 -> 0 | I22: =SUM(E22,G22) -> 0
A23: TOTAL LABOR HOURS: | E23: =B23*D23 -> 0 | G23: =SUM(G1:G22) -> 2183.15 | H23: Hours
A25: Labor Rate | G25: ='Labor Rates'!I26 -> 87.33 | H25: /Hour
E30: =B30*D30 -> 0 | G30: =B30*F30 -> 0 | H30: =D30+F30 -> 0 | I30: =SUM(E30,G30) -> 0
E31: =B31*D31 -> 0 | G31: =B31*F31 -> 0 | H31: =D31+F31 -> 0 | I31: =SUM(E31,G31) -> 0
E32: =B32*D32 -> 0 | G32: =B32*F32 -> 0 | H32: =D32+F32 -> 0 | I32: =SUM(E32,G32) -> 0
E33: =B33*D33 -> 0 | G33: =B33*F33 -> 0 | H33: =D33+F33 -> 0 | I33: =SUM(E33,G33) -> 0
E34: =B34*D34 -> 0 | G34: =B34*F34 -> 0 | H34: =D34+F34 -> 0 | I34: =SUM(E34,G34) -> 0
E35: =B35*D35 -> 0 | G35: =B35*F35 -> 0 | H35: =D35+F35 -> 0 | I35: =SUM(E35,G35) -> 0
A36: TOTAL ESTIMATED COST: | B36: 40400 | C36: SLSF | E36: =SUM(E1:E35) -> 250887 | G36: =G23*G25 -> 190654 | I36: =G36+E36 -> 441541

Sheet 023
A2: 02 - SUBSTRUCTURE | D2: MATERIAL/EQUIPMENT | F2: LABOR | H2: TOTAL | I2: TOTAL
B3: QUANTITY | C3: UNIT | D3: RATE | E3: TOTAL | F3: HOURS | G3: TOTAL | H3: UNIT RATE | I3: MATERIAL/LABOR
A4: 023 - Reserved | D4: $ | E4: $ | G4: $ | H4: $ | I4: $
E6: =B6*D6 -> 0 | G6: =B6*F6 -> 0 | H6: =D6+F6 -> 0 | I6: =SUM(E6,G6) -> 0
E7: =B7*D7 -> 0 | G7: =B7*F7 -> 0 | H7: =D7+F7 -> 0 | I7: =SUM(E7,G7) -> 0
E8: =B8*D8 -> 0 | G8: =B8*F8 -> 0 | H8: =D8+F8 -> 0 | I8: =SUM(E8,G8) -> 0
E9: =B9*D9 -> 0 | G9: =B9*F9 -> 0 | H9: =D9+F9 -> 0 | I9: =SUM(E9,G9) -> 0
E10: =B10*D10 -> 0 | G10: =B10*F10 -> 0 | H10: =D10+F10 -> 0 | I10: =SUM(E10,G10) -> 0
E11: =B11*D11 -> 0 | G11: =B11*F11 -> 0 | H11: =D11+F11 -> 0 | I11: =SUM(E11,G11) -> 0
E12: =B12*D12 -> 0 | G12: =B12*F12 -> 0 | H12: =D12+F12 -> 0 | I12: =SUM(E12,G12) -> 0
E13: =B13*D13 -> 0 | G13: =B13*F13 -> 0 | H13: =D13+F13 -> 0 | I13: =SUM(E13,G13) -> 0
E14: =B14*D14 -> 0 | G14: =B14*F14 -> 0 | H14: =D14+F14 -> 0 | I14: =SUM(E14,G14) -> 0
E15: =B15*D15 -> 0 | G15: =B15*F15 -> 0 | H15: =D15+F15 -> 0 | I15: =SUM(E15,G15) -> 0
E16: =B16*D16 -> 0 | G16: =B16*F16 -> 0 | H16: =D16+F16 -> 0 | I16: =SUM(E16,G16) -> 0
E17: =B17*D17 -> 0 | G17: =B17*F17 -> 0 | H17: =D17+F17 -> 0 | I17: =SUM(E17,G17) -> 0
... E26: =B26*D26 -> 0 | G26: =B26*F26 -> 0 | H26: =D26+F26 -> 0 | I26: =SUM(E26,G26) -> 0
A27: SUBTOTAL: | E27: =SUM(E1:E26) -> 0 | G27: =SUM(G1:G26) -> 0 | I27: =SUM(I1:I26) -> 0
A29: Labor Premium Time | B29: ='Notes-GFA'!$C$14 -> 0 | G29: =G27*B29 -> 0 | I29: =G29 -> 0
E30: =B30*D30 -> 0 | G30: =B30*F30 -> 0 | H30: =D30+F30 -> 0 | I30: =SUM(E30,G30) -> 0
E31: =B31*D31 -> 0 | G31: =B31*F31 -> 0 | H31: =D31+F31 -> 0 | I31: =SUM(E31,G31) -> 0
E32: =B32*D32 -> 0 | G32: =B32*F32 -> 0 | H32: =D32+F32 -> 0 | I32: =SUM(E32,G32) -> 0
E33: =B33*D33 -> 0 | G33: =B33*F33 -> 0 | H33: =D33+F33 -> 0 | I33: =SUM(E33,G33) -> 0
E34: =B34*D34 -> 0 | G34: =B34*F34 -> 0 | H34: =D34+F34 -> 0 | I34: =SUM(E34,G34) -> 0
E35: =B35*D35 -> 0 | G35: =B35*F35 -> 0 | H35: =D35+F35 -> 0 | I35: =SUM(E35,G35) -> 0
A36: TOTAL ESTIMATED COST: | E36: =SUM(E27:E35) -> 0 | G36: =SUM(G27:G35) -> 0 | I36: =SUM(I27:I35) -> 0

Sheet 024
A2: 02 - SUBSTRUCTURE | D2: MATERIAL/EQUIPMENT | F2: LABOR | H2: TOTAL | I2: TOTAL
B3: QUANTITY | C3: UNIT | D3: RATE | E3: TOTAL | F3: HOURS | G3: TOTAL | H3: UNIT RATE | I3: MATERIAL/LABOR
A4: 024 - Special Foundations | D4: $ | E4: $ | G4: $ | H4: $ | I4: $
E6: =B6*D6 -> 0 | G6: =B6*F6 -> 0 | H6: =D6+F6 -> 0 | I6: =SUM(E6,G6) -> 0
E7: =B7*D7 -> 0 | G7: =B7*F7 -> 0 | H7: =D7+F7 -> 0 | I7: =SUM(E7,G7) -> 0
E8: =B8*D8 -> 0 | G8: =B8*F8 -> 0 | H8: =D8+F8 -> 0 | I8: =SUM(E8,G8) -> 0
E9: =B9*D9 -> 0 | G9: =B9*F9 -> 0 | H9: =D9+F9 -> 0 | I9: =SUM(E9,G9) -> 0
E10: =B10*D10 -> 0 | G10: =B10*F10 -> 0 | H10: =D10+F10 -> 0 | I10: =SUM(E10,G10) -> 0
E11: =B11*D11 -> 0 | G11: =B11*F11 -> 0 | H11: =D11+F11 -> 0 | I11: =SUM(E11,G11) -> 0
E12: =B12*D12 -> 0 | G12: =B12*F12 -> 0 | H12: =D12+F12 -> 0 | I12: =SUM(E12,G12) -> 0
E13: =B13*D13 -> 0 | G13: =B13*F13 -> 0 | H13: =D13+F13 -> 0 | I13: =SUM(E13,G13) -> 0
E14: =B14*D14 -> 0 | G14: =B14*F14 -> 0 | H14: =D14+F14 -> 0 | I14: =SUM(E14,G14) -> 0
E15: =B15*D15 -> 0 | G15: =B15*F15 -> 0 | H15: =D15+F15 -> 0 | I15: =SUM(E15,G15) -> 0
E16: =B16*D16 -> 0 | G16: =B16*F16 -> 0 | H16: =D16+F16 -> 0 | I16: =SUM(E16,G16) -> 0
E17: =B17*D17 -> 0 | G17: =B17*F17 -> 0 | H17: =D17+F17 -> 0 | I17: =SUM(E17,G17) -> 0
... E26: =B26*D26 -> 0 | G26: =B26*F26 -> 0 | H26: =D26+F26 -> 0 | I26: =SUM(E26,G26) -> 0
A27: SUBTOTAL: | E27: =SUM(E1:E26) -> 0 | G27: =SUM(G1:G26) -> 0 | I27: =SUM(I1:I26) -> 0
A29: Labor Premium Time | B29: ='Notes-GFA'!$C$14 -> 0 | G29: =G27*B29 -> 0 | I29: =G29 -> 0
E30: =B30*D30 -> 0 | G30: =B30*F30 -> 0 | H30: =D30+F30 -> 0 | I30: =SUM(E30,G30) -> 0
E31: =B31*D31 -> 0 | G31: =B31*F31 -> 0 | H31: =D31+F31 -> 0 | I31: =SUM(E31,G31) -> 0
E32: =B32*D32 -> 0 | G32: =B32*F32 -> 0 | H32: =D32+F32 -> 0 | I32: =SUM(E32,G32) -> 0
E33: =B33*D33 -> 0 | G33: =B33*F33 -> 0 | H33: =D33+F33 -> 0 | I33: =SUM(E33,G33) -> 0
E34: =B34*D34 -> 0 | G34: =B34*F34 -> 0 | H34: =D34+F34 -> 0 | I34: =SUM(E34,G34) -> 0
E35: =B35*D35 -> 0 | G35: =B35*F35 -> 0 | H35: =D35+F35 -> 0 | I35: =SUM(E35,G35) -> 0
A36: TOTAL ESTIMATED COST: | C36: SFSF | E36: =SUM(E27:E35) -> 0 | G36: =SUM(G27:G35) -> 0 | I36: =SUM(I27:I35) -> 0

Sheet 031
A2: 03 - SUPERSTRUCTURE | D2: MATERIAL/EQUIPMENT | F2: LABOR | H2: TOTAL | I2: TOTAL
B3: QUANTITY | C3: UNIT | D3: RATE | E3: TOTAL | F3: HOURS | G3: TOTAL | H3: UNIT RATE | I3: MATERIAL/LABOR
A4: 031 - Floor Structure | D4: $ | E4: $ | G4: $ | H4: $ | I4: $
E6: =B6*D6 -> 0 | G6: =B6*F6 -> 0 | H6: =D6+F6 -> 0 | I6: =SUM(E6,G6) -> 0
A7: MEZZANINE FLOOR (FAN ROOM) | E7: =B7*D7 -> 0 | G7: =B7*F7 -> 0
E8: =B8*D8 -> 0 | G8: =B8*F8 -> 0
A9: W-beams | B9: 2850 | C9: LBS | D9: 3.69 | E9: =B9*D9 -> 10517 | F9: 0.012 | G9: =B9*F9 -> 34.2
E10: =B10*D10 -> 0 | G10: =B10*F10 -> 0
A11: Tube steel columns | B11: 2500 | C11: LBS | D11: 3.65 | E11: =B11*D11 -> 9125 | F11: 0.013 | G11: =B11*F11 -> 32.5
E12: =B12*D12 -> 0 | G12: =B12*F12 -> 0
A13: Plates, anchors and grout | B13: 4 | C13: EA | D13: 300 | E13: =B13*D13 -> 1200 | F13: 1.2 | G13: =B13*F13 -> 4.8
E14: =B14*D14 -> 0 | G14: =B14*F14 -> 0
A15: Steel joists | B15: 6000 | C15: LBS | D15: 7.44 | E15: =B15*D15 -> 44640 | F15: 0.012 | G15: =B15*F15 -> 72
E16: =B16*D16 -> 0 | G16: =B16*F16 -> 0
A17: Angles | B17: 1010 | C17: LBS | D17: 4.01 | E17: =B17*D17 -> 4050 | F17: 0.018 | G17: =B17*F17 -> 18.18
E18: =B18*D18 -> 0 | G18: =B18*F18 -> 0
A19: 1 1/2"x20 gauge metal deck | B19: 1000 | C19: SF | D19: 8.56 | E19: =B19*D19 -> 8560 | F19: 0.015 | G19: =B19*F19 -> 15
E20: =B20*D20 -> 0 | G20: =B20*F20 -> 0
A21: Concrete topping | B21: 9 | C21: CY | D21: 228 | E21: =B21*D21 -> 2052 | F21: 1.4 | G21: =B21*F21 -> 12.6
E22: =B22*D22 -> 0 | G22: =B22*F22 -> 0
A23: 6"x6" W1.4xW1.4 mesh | B23: 1000 | C23: SF | D23: 0.59 | E23: =B23*D23 -> 590 | F23: 0.004 | G23: =B23*F23 -> 4
E24: =B24*D24 -> 0 | G24: =B24*F24 -> 0
A25: Cure and finish concrete | B25: 1000 | C25: SF | D25: 0.36 | E25: =B25*D25 -> 360 | F25: 0.025 | G25: =B25*F25 -> 25
E26: =B26*D26 -> 0 | G26: =B26*F26 -> 0
A27: Formwork to edge | B27: 78 | C27: LF | D27: 3.38 | E27: =B27*D27 -> 264 | F27: 0.1 | G27: =B27*F27 -> 7.8
E28: =B28*D28 -> 0 | G28: =B28*F28 -> 0
A29: Pump concrete | B29: 9 | C29: CY | D29: 70 | E29: =B29*D29 -> 630 | G29: =B29*F29 -> 0
E30: =B30*D30 -> 0 | G30: =B30*F30 -> 0
A31: 12'0" access ladder with cage | B31: 1 | C31: EA | D31: 2940 | E31: =B31*D31 -> 2940 | F31: 2.265 | G31: =B31*F31 -> 2.27
E32: =B32*D32 -> 0 | G32: =B32*F32 -> 0 | H32: =D32+F32 -> 0 | I32: =SUM(E32,G32) -> 0
A33: TOTAL LABOR HOURS: | E33: =B33*D33 -> 0 | G33: =SUM(G1:G32) -> 228.35 | H33: Hours
A35: Labor Rate | G35: ='Labor Rates'!M56 -> 97.21 | H35: /Hour
A37: SUBTOTAL: | E37: =SUM(E1:E36) -> 84928 | G37: =G33*G35 -> 22198 | I37: =SUM(E37:G37) -> 107126
A38: Subcontractor's Overhead and Profit on
A39: Material and Labor | B39: 0.2 | E39: =E37*B39 -> 16986 | G39: =G37*B39 -> 4440 | I39: =SUM(E39:G39) -> 21426
E40: =B40*D40 -> 0 | G40: =B40*F40 -> 0 | H40: =D40+F40 -> 0 | I40: =SUM(E40,G40) -> 0
E64: =B64*D64 -> 0 | G64: =B64*F64 -> 0 | H64: =D64+F64 -> 0 | I64: =SUM(E64,G64) -> 0
E65: =B65*D65 -> 0 | G65: =B65*F65 -> 0 | H65: =D65+F65 -> 0 | I65: =SUM(E65,G65) -> 0
E66: =B66*D66 -> 0 | G66: =B66*F66 -> 0 | H66: =D66+F66 -> 0 | I66: =SUM(E66,G66) -> 0
A67: TOTAL ESTIMATED COST: | B67: 1000 | C67: FSSF | E67: =SUM(E37:E66) -> 101914 | G67: =SUM(G37:G66) -> 26638 | I67: =SUM(I37:I66) -> 128552

Sheet 032
A2: 03 - SUPERSTRUCTURE | D2: MATERIAL/EQUIPMENT | F2: LABOR | H2: TOTAL | I2: TOTAL
B3: QUANTITY | C3: UNIT | D3: RATE | E3: TOTAL | F3: HOURS | G3: TOTAL | H3: UNIT RATE | I3: MATERIAL/LABOR
A4: 032 - Roof Structure | D4: $ | E4: $ | G4: $ | H4: $ | I4: $
E6: =B6*D6 -> 0 | G6: =B6*F6 -> 0 | H6: =D6+F6 -> 0 | I6: =SUM(E6,G6) -> 0
A7: Plates, anchors and grout | B7: 120 | C7: EA | D7: 300 | E7: =B7*D7 -> 36000 | F7: 1.2 | G7: =B7*F7 -> 144
E8: =B8*D8 -> 0 | G8: =B8*F8 -> 0 | H8: =D8+F8 -> 0 | I8: =SUM(E8,G8) -> 0
A9: Tube steel columns | B9: 110000 | C9: LBS | D9: 3.69 | E9: =B9*D9 -> 405900 | F9: 0.013 | G9: =B9*F9 -> 1430
E10: =B10*D10 -> 0 | G10: =B10*F10 -> 0
A11: Steel joists | B11: 199000 | C11: LBS | D11: 7.44 | E11: =B11*D11 -> 1480560 | F11: 0.014 | G11: =B11*F11 -> 2786
E12: =B12*D12 -> 0 | G12: =B12*F12 -> 0
A13: W-beams | B13: 18500 | C13: LBS | D13: 3.45 | E13: =B13*D13 -> 63825 | F13: 0.012 | G13: =B13*F13 -> 222
E14: =B14*D14 -> 0 | G14: =B14*F14 -> 0
A15: Tube steel bracing | B15: 17000 | C15: LBS | D15: 4.11 | E15: =B15*D15 -> 69870 | F15: 0.017 | G15: =B15*F15 -> 289
E16: =B16*D16 -> 0 | G16: =B16*F16 -> 0
A17: Angles, connectors, etc. | B17: 19000 | C17: LBS | D17: 4.01 | E17: =B17*D17 -> 76190 | F17: 0.018 | G17: =B17*F17 -> 342
E18: =B18*D18 -> 0 | G18: =B18*F18 -> 0
A19: 3"x20 gauge metal deck | B19: 44170 | C19: SF | D19: 9 | E19: =B19*D19 -> 397530 | F19: 0.015 | G19: =B19*F19 -> 662.55
E20: =B20*D20 -> 0 | G20: =B20*F20 -> 0 | H20: =D20+F20 -> 0 | I20: =SUM(E20,G20) -> 0
A21: Testing/inspection | B21: 1 | C21: LOT | D21: 3000 | E21: =B21*D21 -> 3000 | G21: =B21*F21 -> 0
E22: =B22*D22 -> 0 | G22: =B22*F22 -> 0
A23: Crane rental | B23: 3 | C23: MOS | D23: 30962 | E23: =B23*D23 -> 92886 | G23: =B23*F23 -> 0
E24: =B24*D24 -> 0 | G24: =B24*F24 -> 0 | H24: =D24+F24 -> 0 | I24: =SUM(E24,G24) -> 0
A25: TOTAL LABOR HOURS: | E25: =B25*D25 -> 0 | G25: =SUM(G1:G24) -> 5875.55 | H25: Hours
A27: Labor Rate | G27: ='Labor Rates'!M56 -> 97.21 | H27: /Hour
A29: SUBTOTAL: | E29: =SUM(E1:E28) -> 2625761 | G29: =G25*G27 -> 571162 | I29: =SUM(E29:G29) -> 3196923
A31: Subcontractor's Overhead and Profit on
A32: Material and Labor | B32: 0.2 | E32: =E29*B32 -> 525152 | G32: =G29*B32 -> 114232 | I32: =SUM(E32:G32) -> 639384
E33: =B33*D33 -> 0 | G33: =B33*F33 -> 0 | H33: =D33+F33 -> 0 | I33: =SUM(E33,G33) -> 0
E34: =B34*D34 -> 0 | G34: =B34*F34 -> 0 | H34: =D34+F34 -> 0 | I34: =SUM(E34,G34) -> 0
E35: =B35*D35 -> 0 | G35: =B35*F35 -> 0 | H35: =D35+F35 -> 0 | I35: =SUM(E35,G35) -> 0
A36: TOTAL ESTIMATED COST: | B36: 44170 | C36: RSSF | E36: =SUM(E29:E35) -> 3150913 | G36: =SUM(G29:G35) -> 685394 | I36: =SUM(I29:I35) -> 3836307

Sheet 033
A2: 03 - SUPERSTRUCTURE | D2: MATERIAL/EQUIPMENT | F2: LABOR | H2: TOTAL | I2: TOTAL
B3: QUANTITY | C3: UNIT | D3: RATE | E3: TOTAL | F3: HOURS | G3: TOTAL | H3: UNIT RATE | I3: MATERIAL/LABOR
A4: 033 - Stairs | D4: $ | E4: $ | G4: $ | H4: $ | I4: $
E6: =B6*D6 -> 0 | G6: =B6*F6 -> 0 | H6: =D6+F6 -> 0 | I6: =SUM(E6,G6) -> 0
E7: =B7*D7 -> 0 | G7: =B7*F7 -> 0 | H7: =D7+F7 -> 0 | I7: =SUM(E7,G7) -> 0
E8: =B8*D8 -> 0 | G8: =B8*F8 -> 0 | H8: =D8+F8 -> 0 | I8: =SUM(E8,G8) -> 0
E9: =B9*D9 -> 0 | G9: =B9*F9 -> 0 | H9: =D9+F9 -> 0 | I9: =SUM(E9,G9) -> 0
E10: =B10*D10 -> 0 | G10: =B10*F10 -> 0 | H10: =D10+F10 -> 0 | I10: =SUM(E10,G10) -> 0
E11: =B11*D11 -> 0 | G11: =B11*F11 -> 0 | H11: =D11+F11 -> 0 | I11: =SUM(E11,G11) -> 0
E12: =B12*D12 -> 0 | G12: =B12*F12 -> 0 | H12: =D12+F12 -> 0 | I12: =SUM(E12,G12) -> 0
E13: =B13*D13 -> 0 | G13: =B13*F13 -> 0 | H13: =D13+F13 -> 0 | I13: =SUM(E13,G13) -> 0
E14: =B14*D14 -> 0 | G14: =B14*F14 -> 0 | H14: =D14+F14 -> 0 | I14: =SUM(E14,G14) -> 0
E15: =B15*D15 -> 0 | G15: =B15*F15 -> 0 | H15: =D15+F15 -> 0 | I15: =SUM(E15,G15) -> 0
E16: =B16*D16 -> 0 | G16: =B16*F16 -> 0 | H16: =D16+F16 -> 0 | I16: =SUM(E16,G16) -> 0
E17: =B17*D17 -> 0 | G17: =B17*F17 -> 0 | H17: =D17+F17 -> 0 | I17: =SUM(E17,G17) -> 0
... E26: =B26*D26 -> 0 | G26: =B26*F26 -> 0 | H26: =D26+F26 -> 0 | I26: =SUM(E26,G26) -> 0
A27: SUBTOTAL: | E27: =SUM(E1:E26) -> 0 | G27: =SUM(G1:G26) -> 0 | I27: =SUM(I1:I26) -> 0
A29: Labor Premium Time | B29: ='Notes-GFA'!$C$14 -> 0 | G29: =G27*B29 -> 0 | I29: =G29 -> 0
E30: =B30*D30 -> 0 | G30: =B30*F30 -> 0 | H30: =D30+F30 -> 0 | I30: =SUM(E30,G30) -> 0
E31: =B31*D31 -> 0 | G31: =B31*F31 -> 0 | H31: =D31+F31 -> 0 | I31: =SUM(E31,G31) -> 0
E32: =B32*D32 -> 0 | G32: =B32*F32 -> 0 | H32: =D32+F32 -> 0 | I32: =SUM(E32,G32) -> 0
E33: =B33*D33 -> 0 | G33: =B33*F33 -> 0 | H33: =D33+F33 -> 0 | I33: =SUM(E33,G33) -> 0
E34: =B34*D34 -> 0 | G34: =B34*F34 -> 0 | H34: =D34+F34 -> 0 | I34: =SUM(E34,G34) -> 0
E35: =B35*D35 -> 0 | G35: =B35*F35 -> 0 | H35: =D35+F35 -> 0 | I35: =SUM(E35,G35) -> 0
A36: TOTAL ESTIMATED COST: | C36: FLT | E36: =SUM(E27:E35) -> 0 | G36: =SUM(G27:G35) -> 0 | I36: =SUM(I27:I35) -> 0

Sheet 041
A2: 04 - EXTERIOR CLOSURE | D2: MATERIAL/EQUIPMENT | F2: LABOR | H2: TOTAL | I2: TOTAL
B3: QUANTITY | C3: UNIT | D3: RATE | E3: TOTAL | F3: HOURS | G3: TOTAL | H3: UNIT RATE | I3: MATERIAL/LABOR
A4: 041 - Exterior Walls and Soffits | D4: $ | E4: $ | G4: $ | H4: $ | I4: $
E6: =B6*D6 -> 0 | G6: =B6*F6 -> 0 | H6: =D6+F6 -> 0 | I6: =SUM(E6,G6) -> 0
A7: 6" metal stud framing | B7: 23665 | C7: SF | D7: 2.72 | E7: =B7*D7 -> 64369 | F7: 0.043 | G7: =B7*F7 -> 1017.6
E8: =B8*D8 -> 0 | G8: =B8*F8 -> 0
A9: 7/8" hat channel furring | B9: 18932 | C9: SF | D9: 0.87 | E9: =B9*D9 -> 16471 | F9: 0.008 | G9: =B9*F9 -> 151.46
A11: 1/2" plywood CDX AWW sheathing | B11: 23665 | C11: SF | D11: 1.71 | E11: =B11*D11 -> 40467 | F11: 0.014 | G11: =B11*F11 -> 331.31
E12: =B12*D12 -> 0 | G12: =B12*F12 -> 0
A13: 2" rigid insulation | B13: 23665 | C13: SF | D13: 2.33 | E13: =B13*D13 -> 55139 | F13: 0.01 | G13: =B13*F13 -> 236.65
A15: Metal siding panel, including flashing and | E15: =B15*D15 -> 0 | G15: =B15*F15 -> 0
A16: trims | B16: 18932 | C16: SF | D16: 12.5 | E16: =B16*D16 -> 236650 | F16: 0.119 | G16: =B16*F16 -> 2252.91
A18: Phenolic resin panel | B18: 4733 | C18: SF | D18: 28 | E18: =B18*D18 -> 132524 | F18: 0.147 | G18: =B18*F18 -> 695.75
A20: VaproShield weather barrier | B20: 4733 | C20: SF | D20: 1.89 | E20: =B20*D20 -> 8945 | F20: 0.01 | G20: =B20*F20 -> 47.33
A22: High performance air barrier | B22: 18932 | C22: SF | D22: 0.68 | E22: =B22*D22 -> 12874 | F22: 0.005 | G22: =B22*F22 -> 94.66
E23: =B23*D23 -> 0 | G23: =B23*F23 -> 0
A24: 6" R-19 batt insulation in stud wall cavity | B24: 23665 | C24: SF | D24: 1.6 | E24: =B24*D24 -> 37864 | F24: 0.007 | G24: =B24*F24 -> 165.66
E25: =B25*D25 -> 0 | G25: =B25*F25 -> 0
A26: 10 mil vapor retarder | B26: 23665 | C26: SF | D26: 0.38 | E26: =B26*D26 -> 8993 | F26: 0.002 | G26: =B26*F26 -> 47.33
E27: =B27*D27 -> 0 | G27: =B27*F27 -> 0
A28: 5/8" Type X gypboard | B28: 23665 | C28: SF | D28: 1.36 | E28: =B28*D28 -> 32184 | F28: 0.02 | G28: =B28*F28 -> 473.3
E29: =B29*D29 -> 0 | G29: =B29*F29 -> 0
A30: Tape and finish | B30: 23665 | C30: SF | D30: 0.2 | E30: =B30*D30 -> 4733 | F30: 0.007 | G30: =B30*F30 -> 165.66
A32: Metal soffit panel | B32: 2060 | C32: SF | D32: 10.91 | E32: =B32*D32 -> 22475 | F32: 0.129 | G32: =B32*F32 -> 265.74
A34: 2"x6" framing and nailers to soffit | B34: 515 | C34: LF | D34: 1.5 | E34: =B34*D34 -> 773 | F34: 0.026 | G34: =B34*F34 -> 13.39
E35: =B35*D35 -> 0 | G35: =B35*F35 -> 0 | H35: =D35+F35 -> 0 | I35: =SUM(E35,G35) -> 0
A36: Rigid eave vent screen | B36: 1130 | C36: LF | D36: 1.1 | E36: =B36*D36 -> 1243 | F36: 0.01 | G36: =B36*F36 -> 11.3
E37: =B37*D37 -> 0 | G37: =B37*F37 -> 0
A38: Fascia 1/2" CDX plywood (both sides) | B38: 5000 | C38: SF | D38: 1 | E38: =B38*D38 -> 5000 | F38: 0.017 | G38: =B38*F38 -> 85
E39: =B39*D39 -> 0 | G39: =B39*F39 -> 0
A40: Metal accent panel at fascia | B40: 2500 | C40: SF | D40: 20.5 | E40: =B40*D40 -> 51250 | F40: 0.09 | G40: =B40*F40 -> 225
E41: =B41*D41 -> 0 | G41: =B41*F41 -> 0
A42: 2"x4" framing for fascia | B42: 2900 | C42: LF | D42: 1.25 | E42: =B42*D42 -> 3625 | F42: 0.017 | G42: =B42*F42 -> 49.3
A44: Flashing | B44: 1690 | C44: LF | D44: 4.4 | E44: =B44*D44 -> 7436 | F44: 0.042 | G44: =B44*F44 -> 70.98
A46: 1"x6" interior trim | B46: 3498 | C46: LF | D46: 4.05 | E46: =B46*D46 -> 14167 | F46: 0.035 | G46: =B46*F46 -> 122.43
E47: =B47*D47 -> 0 | G47: =B47*F47 -> 0 | H47: =D47+F47 -> 0 | I47: =SUM(E47,G47) -> 0
A48: TOTAL LABOR HOURS: | E48: =B48*D48 -> 0 | G48: =SUM(G1:G47) -> 6522.76 | H48: Hours
A50: Labor Rate | G50: ='Labor Rates'!F22 -> 89.17 | H50: /Hour
E51: =B51*D51 -> 0 | G51: =B51*F51 -> 0 | H51: =D51+F51 -> 0 | I51: =SUM(E51,G51) -> 0
E52: =B52*D52 -> 0 | G52: =B52*F52 -> 0 | H52: =D52+F52 -> 0 | I52: =SUM(E52,G52) -> 0
...

Sheet 042
A2: 04 - EXTERIOR CLOSURE | D2: MATERIAL/EQUIPMENT | F2: LABOR | H2: TOTAL | I2: TOTAL
B3: QUANTITY | C3: UNIT | D3: RATE | E3: TOTAL | F3: HOURS | G3: TOTAL | H3: UNIT RATE | I3: MATERIAL/LABOR
A4: 042 - Exterior Glazing | D4: $ | E4: $ | G4: $ | H4: $ | I4: $
E6: =B6*D6 -> 0 | G6: =B6*F6 -> 0 | H6: =D6+F6 -> 0 | I6: =SUM(E6,G6) -> 0
A7: Metal clad insulated windows with screens | B7: 3500 | C7: SF | D7: 95 | E7: =B7*D7 -> 332500 | F7: 0.188 | G7: =B7*F7 -> 658
A9: Solid surface sills | B9: 700 | C9: LF | D9: 20 | E9: =B9*D9 -> 14000 | F9: 0.06 | G9: =B9*F9 -> 42
E10: =B10*D10 -> 0 | G10: =B10*F10 -> 0 | H10: =D10+F10 -> 0 | I10: =SUM(E10,G10) -> 0
A11: Sealant and backer rod | B11: 3300 | C11: LF | D11: 1.94 | E11: =B11*D11 -> 6402 | F11: 0.043 | G11: =B11*F11 -> 141.9
E12: =B12*D12 -> 0 | G12: =B12*F12 -> 0 | H12: =D12+F12 -> 0 | I12: =SUM(E12,G12) -> 0
A13: TOTAL LABOR HOURS: | E13: =B13*D13 -> 0 | G13: =SUM(G1:G12) -> 841.9 | H13: Hours
A15: Labor Rate | G15: ='Labor Rates'!F22 -> 89.17 | H15: /Hour
E16: =B16*D16 -> 0 | G16: =B16*F16 -> 0 | H16: =D16+F16 -> 0 | I16: =SUM(E16,G16) -> 0
E17: =B17*D17 -> 0 | G17: =B17*F17 -> 0 | H17: =D17+F17 -> 0 | I17: =SUM(E17,G17) -> 0
E18: =B18*D18 -> 0 | G18: =B18*F18 -> 0 | H18: =D18+F18 -> 0 | I18: =SUM(E18,G18) -> 0
E19: =B19*D19 -> 0 | G19: =B19*F19 -> 0 | H19: =D19+F19 -> 0 | I19: =SUM(E19,G19) -> 0
E20: =B20*D20 -> 0 | G20: =B20*F20 -> 0 | H20: =D20+F20 -> 0 | I20: =SUM(E20,G20) -> 0
E21: =B21*D21 -> 0 | G21: =B21*F21 -> 0 | H21: =D21+F21 -> 0 | I21: =SUM(E21,G21) -> 0
E22: =B22*D22 -> 0 | G22: =B22*F22 -> 0 | H22: =D22+F22 -> 0 | I22: =SUM(E22,G22) -> 0
E23: =B23*D23 -> 0 | G23: =B23*F23 -> 0 | H23: =D23+F23 -> 0 | I23: =SUM(E23,G23) -> 0
E24: =B24*D24 -> 0 | G24: =B24*F24 -> 0 | H24: =D24+F24 -> 0 | I24: =SUM(E24,G24) -> 0
E25: =B25*D25 -> 0 | G25: =B25*F25 -> 0 | H25: =D25+F25 -> 0 | I25: =SUM(E25,G25) -> 0
E30: =B30*D30 -> 0 | G30: =B30*F30 -> 0 | H30: =D30+F30 -> 0 | I30: =SUM(E30,G30) -> 0
E31: =B31*D31 -> 0 | G31: =B31*F31 -> 0 | H31: =D31+F31 -> 0 | I31: =SUM(E31,G31) -> 0
... E35: =B35*D35 -> 0 | G35: =B35*F35 -> 0 | H35: =D35+F35 -> 0 | I35: =SUM(E35,G35) -> 0
A36: TOTAL ESTIMATED COST: | B36: 3500 | C36: EGSF | E36: =SUM(E1:E35) -> 352902 | G36: =G13*G15 -> 75072 | I36: =G36+E36 -> 427974

Sheet 043
A2: 04 - EXTERIOR CLOSURE | D2: MATERIAL/EQUIPMENT | F2: LABOR | H2: TOTAL | I2: TOTAL
B3: QUANTITY | C3: UNIT | D3: RATE | E3: TOTAL | F3: HOURS | G3: TOTAL | H3: UNIT RATE | I3: MATERIAL/LABOR
A4: 043 - Exterior Doors | D4: $ | E4: $ | G4: $ | H4: $ | I4: $
E6: =B6*D6 -> 0 | G6: =B6*F6 -> 0 | H6: =D6+F6 -> 0 | I6: =SUM(E6,G6) -> 0
A7: 3'0"x7'0" hollow metal insulated door frame | B7: 8 | C7: EA | D7: 492 | E7: =B7*D7 -> 3936 | F7: 1.1 | G7: =B7*F7 -> 8.8
E8: =B8*D8 -> 0 | G8: =B8*F8 -> 0
A9: 6'0"x7'0" hollow metal insulated double door | E9: =B9*D9 -> 0 | G9: =B9*F9 -> 0
A10: frame | B10: 3 | C10: EA | D10: 829 | E10: =B10*D10 -> 2487 | F10: 1.75 | G10: =B10*F10 -> 5.25
E11: =B11*D11 -> 0 | G11: =B11*F11 -> 0
A12: 3'0"x7'0" hollow metal insulated single door | B12: 8 | C12: EA | D12: 1326 | E12: =B12*D12 -> 10608 | F12: 0.75 | G12: =B12*F12 -> 6
E13: =B13*D13 -> 0 | G13: =B13*F13 -> 0
A14: 3'0"x7'0" hollow metal insulated door with | E14: =B14*D14 -> 0 | G14: =B14*F14 -> 0
A15: vision panel (for double doors, each leaf
A16: counted separately) | B16: 6 | C16: EA | D16: 1872.5 | E16: =B16*D16 -> 11235 | F16: 1.25 | G16: =B16*F16 -> 7.5
E17: =B17*D17 -> 0 | G17: =B17*F17 -> 0
A18: Hardware for single exterior door | B18: 6 | C18: SETS | D18: 2675 | E18: =B18*D18 -> 16050 | F18: 3.66 | G18: =B18*F18 -> 21.96
A20: Hardware for single exterior door, including
A21: emergency lockdown provisions | B21: 2 | C21: SETS | D21: 5640 | E21: =B21*D21 -> 11280 | F21: 7.45 | G21: =B21*F21 -> 14.9
E22: =B22*D22 -> 0 | G22: =B22*F22 -> 0 | H22: =D22+F22 -> 0 | I22: =SUM(E22,G22) -> 0
A23: Hardware for double exterior doors | B23: 1 | C23: SETS | D23: 3188 | E23: =B23*D23 -> 3188 | F23: 6.15 | G23: =B23*F23 -> 6.15
E24: =B24*D24 -> 0 | G24: =B24*F24 -> 0
A25: Hardware for double exterior doors with panic | E25: =B25*D25 -> 0 | G25: =B25*F25 -> 0
A26: hardware, including emergency lockdown
A27: provisions | B27: 2 | C27: SETS | D27: 13144 | E27: =B27*D27 -> 26288 | F27: 14.9 | G27: =B27*F27 -> 29.8
A29: Motorized operable accessible door and push
A30: button actuator | B30: 1 | C30: LOT | D30: 8970 | E30: =B30*D30 -> 8970 | F30: 7.5 | G30: =B30*F30 -> 7.5
E31: =B31*D31 -> 0 | G31: =B31*F31 -> 0 | H31: =D31+F31 -> 0 | I31: =SUM(E31,G31) -> 0
A32: TOTAL LABOR HOURS: | E32: =B32*D32 -> 0 | G32: =SUM(G1:G31) -> 107.86 | H32: Hours
A34: Labor Rate | G34: ='Labor Rates'!F22 -> 89.17 | H34: /Hour
E35: =B35*D35 -> 0 | G35: =B35*F35 -> 0 | H35: =D35+F35 -> 0 | I35: =SUM(E35,G35) -> 0
A36: TOTAL ESTIMATED COST: | B36: 14 | C36: EDLF | E36: =SUM(E1:E35) -> 94042 | G36: =G32*G34 -> 9618 | I36: =G36+E36 -> 103660

Sheet 044
A2: 04 - EXTERIOR CLOSURE | D2: MATERIAL/EQUIPMENT | F2: LABOR | H2: TOTAL | I2: TOTAL
B3: QUANTITY | C3: UNIT | D3: RATE | E3: TOTAL | F3: HOURS | G3: TOTAL | H3: UNIT RATE | I3: MATERIAL/LABOR
A4: 044 - Exterior Accessories | D4: $ | E4: $ | G4: $ | H4: $ | I4: $
E6: =B6*D6 -> 0 | G6: =B6*F6 -> 0 | H6: =D6+F6 -> 0 | I6: =SUM(E6,G6) -> 0
E7: =B7*D7 -> 0 | G7: =B7*F7 -> 0 | H7: =D7+F7 -> 0 | I7: =SUM(E7,G7) -> 0
E8: =B8*D8 -> 0 | G8: =B8*F8 -> 0 | H8: =D8+F8 -> 0 | I8: =SUM(E8,G8) -> 0
E9: =B9*D9 -> 0 | G9: =B9*F9 -> 0 | H9: =D9+F9 -> 0 | I9: =SUM(E9,G9) -> 0
E10: =B10*D10 -> 0 | G10: =B10*F10 -> 0 | H10: =D10+F10 -> 0 | I10: =SUM(E10,G10) -> 0
E11: =B11*D11 -> 0 | G11: =B11*F11 -> 0 | H11: =D11+F11 -> 0 | I11: =SUM(E11,G11) -> 0
E12: =B12*D12 -> 0 | G12: =B12*F12 -> 0 | H12: =D12+F12 -> 0 | I12: =SUM(E12,G12) -> 0
E13: =B13*D13 -> 0 | G13: =B13*F13 -> 0 | H13: =D13+F13 -> 0 | I13: =SUM(E13,G13) -> 0
E14: =B14*D14 -> 0 | G14: =B14*F14 -> 0 | H14: =D14+F14 -> 0 | I14: =SUM(E14,G14) -> 0
E15: =B15*D15 -> 0 | G15: =B15*F15 -> 0 | H15: =D15+F15 -> 0 | I15: =SUM(E15,G15) -> 0
E16: =B16*D16 -> 0 | G16: =B16*F16 -> 0 | H16: =D16+F16 -> 0 | I16: =SUM(E16,G16) -> 0
E17: =B17*D17 -> 0 | G17: =B17*F17 -> 0 | H17: =D17+F17 -> 0 | I17: =SUM(E17,G17) -> 0
... E26: =B26*D26 -> 0 | G26: =B26*F26 -> 0 | H26: =D26+F26 -> 0 | I26: =SUM(E26,G26) -> 0
A27: SUBTOTAL: | E27: =SUM(E1:E26) -> 0 | G27: =SUM(G1:G26) -> 0 | I27: =SUM(I1:I26) -> 0
A29: Labor Premium Time | B29: ='Notes-GFA'!$C$14 -> 0 | G29: =G27*B29 -> 0 | I29: =G29 -> 0
E30: =B30*D30 -> 0 | G30: =B30*F30 -> 0 | H30: =D30+F30 -> 0 | I30: =SUM(E30,G30) -> 0
E31: =B31*D31 -> 0 | G31: =B31*F31 -> 0 | H31: =D31+F31 -> 0 | I31: =SUM(E31,G31) -> 0
E32: =B32*D32 -> 0 | G32: =B32*F32 -> 0 | H32: =D32+F32 -> 0 | I32: =SUM(E32,G32) -> 0
E33: =B33*D33 -> 0 | G33: =B33*F33 -> 0 | H33: =D33+F33 -> 0 | I33: =SUM(E33,G33) -> 0
E34: =B34*D34 -> 0 | G34: =B34*F34 -> 0 | H34: =D34+F34 -> 0 | I34: =SUM(E34,G34) -> 0
E35: =B35*D35 -> 0 | G35: =B35*F35 -> 0 | H35: =D35+F35 -> 0 | I35: =SUM(E35,G35) -> 0
A36: TOTAL ESTIMATED COST: | C36: EASF | E36: =SUM(E27:E35) -> 0 | G36: =SUM(G27:G35) -> 0 | I36: =SUM(I27:I35) -> 0

Sheet 051
A2: 05 - ROOF SYSTEMS | D2: MATERIAL/EQUIPMENT | F2: LABOR | H2: TOTAL | I2: TOTAL
B3: QUANTITY | C3: UNIT | D3: RATE | E3: TOTAL | F3: HOURS | G3: TOTAL | H3: UNIT RATE | I3: MATERIAL/LABOR
A4: 051 - Pitched Roof | D4: $ | E4: $ | G4: $ | H4: $ | I4: $
E6: =B6*D6 -> 0 | G6: =B6*F6 -> 0 | H6: =D6+F6 -> 0 | I6: =SUM(E6,G6) -> 0
A7: GENERAL CONTRACTOR
