Workbook

Sheet Instructions
A5: 1 | B5: On the Unit Price sheet enter full loaded daily rates for each labor category, vessel, or equipment. If a retainer fee is required, list the amount as an annual rate. No substitutions or modifications to the Unit Price sheet will be allowed. Any such substition or modification shall cause the offeror to be found non-responsive and the proposal will be rejected . Do not make any changes to the Evaluated Price sheet, the prices should populate automatically from the Unit Price sheet.
A7: 2 | B7: Print the completed Unit Price and Evaluated price sheets and include in your cost proposal.
A9: 3 | B9: A Funding Agreement may be submitted along with your cost proposal if it contains all of the information required in the Unit Price sheet.The Unit Price sheet must still be filled out and both Unit Price and Evaluated price sheets must be printed and included in your cost proposal.

Sheet Unit Price
A1: RFP 2526H312 AMHS Salvage and Marine Firefighting - Attachment 2 - Cost
A2: All costs listed in US Dollars. Contractor should fill in fully-loaded daily rates in the blue cells except as noted in section headers. | F2: Contractor to fill in cells highlighted in light blue.
A5: Personnel | F5: Tugs, Vessels, and Other Craft
A6: List the fully-loaded per person per day rate for the following personnel. | F6: List the fully-loaded per vessel per day rate for the following craft.
A9: LABOR CATEGORY | B9: DAILY RATE | F9: VESSEL POWER | G9: DAILY RATE
A10: Salvage Master | F10: 1 - 499 BHP
A11: Naval Architect | F11: 500 - 3,000 BHP
A12: Salvage Foreman | F12: 3,001 - 5,000 BHP
A13: Salvage Officer | F13: 5,001 - 7,200 BHP
A14: Engineer/Assistant Salvage Officer | F14: 7,201 - 12,000 BHP
A15: Specialist Advisor(s) - (Chemist, Pollution Control, Fire Technician) | F15: 12,001 - 20,000 BHP
F16: Over 20,000 BHP
A17: Dive Supervisor
A18: Diver; DMT | F18: CAPABILITY | G18: DAILY RATE
A19: Diver | F19: Firefighting
A20: Welder/Burner | F20: Ice Class
A21: Rigger, Fitter, Equipment Operator, Fast Boat Operator, Etc. | F21: Additional charge for vessels with firefighting equipment while the vessel is engaged in firefighting necessitating the use of the equipment. Or for vessels certified as "Ice Class" when forcing or breaking Ice during the course of services including proceeding to and returning from the casualty.
A23: Office Team and Logistical Support (price per team)
A25: Project Manager
A26: On-Site Coordinator
A28: Retainer Fee | F28: Markup Rate
A29: List the annual retainer fee for each vessel. If no annual fee is required list $0.00 | F29: Markup rate for any deliverable materials or other direct costs not covered on this sheet.
A32: VESSEL | B32: ANNUAL FEE | F32: Markup Rate:
A33: Aurora
A34: Chenega
A35: Columbia
A36: Fairweather
A37: Hubbard
A38: Kennicott
A39: LeConte
A40: Malaspina
A41: Matanuska
A42: Tazlina
A43: Tustumena
A45: Vessel Equipment
A46: List the fully-loaded per day rate for the following equipment. If a piece of equipment is included in the vessel or personnel cost list Not Separately Priced "NSP"
A49: EQUIPMENT | B49: DAILY RATE | F49: EQUIPMENT | G49: DAILY RATE
A50: Generators | F50: Welding & Cutting Equipment
A51: Up to 50kW | F51: Bolt Gun
A52: 51 to 120kW | F52: Gas Detector
...

Sheet Unit Prices
A1: RFP 2526H312 AMHS Salvage and Marine Firefighting - Attachment 2 - Cost
A2: All costs listed in US Dollars. Contractor should fill in fully-loaded daily rates in the blue cells except as noted in section headers. | F2: Contractor to fill in cells highlighted in light blue.
A5: Personnel | F5: Tugs, Vessels, and Other Craft
A6: List the fully-loaded per person per day rate for the following personnel. | F6: List the fully-loaded per vessel per day rate for the following craft.
A9: LABOR CATEGORY | B9: DAILY RATE | F9: VESSEL POWER | G9: DAILY RATE
A10: Salvage Master | F10: 1 - 499 BHP
A11: Naval Architect | F11: 500 - 3,000 BHP
A12: Salvage Foreman | F12: 3,001 - 5,000 BHP
A13: Salvage Officer | F13: 5,001 - 7,200 BHP
A14: Engineer/Assistant Salvage Officer | F14: 7,201 - 12,000 BHP
A15: Specialist Advisor(s) - (Chemist, Pollution Control, Fire Technician) | F15: 12,001 - 20,000 BHP
F16: Over 20,000 BHP
A17: Dive Supervisor
A18: Diver; DMT | F18: CAPABILITY | G18: DAILY RATE
A19: Diver | F19: Firefighting
A20: Welder/Burner | F20: Ice Class
A21: Rigger, Fitter, Equipment Operator, Fast Boat Operator, Etc. | F21: Additional charge for vessels with firefighting equipment while the vessel is engaged in firefighting necessitating the use of the equipment. Or for vessels certified as "Ice Class" when forcing or breaking Ice during the course of services including proceeding to and returning from the casualty.
A23: Office Team and Logistical Support (price per team)
A25: Project Manager
A26: On-Site Coordinator
A28: Retainer Fee | F28: Markup Rate
A29: List the annual retainer fee for each vessel. If no annual fee is required list $0.00 | F29: Markup rate for any deliverable materials or other direct costs not covered on this sheet.
A32: VESSEL | B32: ANNUAL FEE | F32: Markup Rate:
A33: Aurora
A34: Chenega
A35: Columbia
A36: Fairweather
A37: Hubbard
A38: Kennicott
A39: LeConte
A40: Malaspina
A41: Matanuska
A42: Tazlina
A43: Tustumena
A45: Vessel Equipment
A46: List the fully-loaded per day rate for the following equipment. If a piece of equipment is included in the vessel or personnel cost list Not Separately Priced "NSP"
A49: EQUIPMENT | B49: DAILY RATE | F49: EQUIPMENT | G49: DAILY RATE
A50: Generators | F50: Welding & Cutting Equipment
A51: Up to 50kW | F51: Bolt Gun
A52: 51 to 120kW | F52: Gas Detector
...

Sheet Evaluated Price
B1: RFP 2526H312 AMHS Salvage and Marine Firefighting - Evaluated Price Sheet
B2: All costs listed in US Dollars. Cells highlighted red are linked to the contractor input on the Unit Price Tab. "Eval Qty" is a representative quantity for evaluation purposes only and does not represent an actual order. | G2: Contractor should not edit any information on this sheet
B5: Personnel | G5: Tugs, Vessels, and Other Craft
B9: LABOR CATEGORY | C9: DAILY RATE | D9: Eval Qty | E9: Extended Price | G9: VESSEL POWER | H9: DAILY RATE | I9: Eval Qty | J9: Extended Price
B10: Salvage Master | C10: ='Unit Price'!B10 -> 0 | D10: 14 | E10: =C10*D10 -> 0 | G10: 1 - 499 BHP | H10: ='Unit Price'!G10 -> 0 | I10: 18 | J10: =H10*I10 -> 0
B11: Naval Architect | C11: ='Unit Price'!B11 -> 0 | D11: 14 | E11: =C11*D11 -> 0 | G11: 500 - 3,000 BHP | H11: ='Unit Price'!G11 -> 0 | I11: 18 | J11: =H11*I11 -> 0
B12: Salvage Foreman | C12: ='Unit Price'!B12 -> 0 | D12: 14 | E12: =C12*D12 -> 0 | G12: 3,001 - 5,000 BHP | H12: ='Unit Price'!G12 -> 0 | I12: 18 | J12: =H12*I12 -> 0
B13: Salvage Officer | C13: ='Unit Price'!B13 -> 0 | D13: 14 | E13: =C13*D13 -> 0 | G13: 5,001 - 7,200 BHP | H13: ='Unit Price'!G13 -> 0 | I13: 18 | J13: =H13*I13 -> 0
B14: Engineer/Assistant Salvage Officer | C14: ='Unit Price'!B14 -> 0 | D14: 14 | E14: =C14*D14 -> 0 | G14: 7,201 - 12,000 BHP | H14: ='Unit Price'!G14 -> 0 | I14: 18 | J14: =H14*I14 -> 0
B15: Specialist Advisor(s) - (Chemist, Pollution Control, Fire Technician) | C15: ='Unit Price'!B15 -> 0 | D15: 14 | E15: =C15*D15 -> 0 | G15: 12,001 - 20,000 BHP | H15: ='Unit Price'!G15 -> 0 | I15: 18 | J15: =H15*I15 -> 0
G16: Over 20,000 BHP | H16: ='Unit Price'!G16 -> 0 | I16: 18 | J16: =H16*I16 -> 0
B17: Dive Supervisor | C17: ='Unit Price'!B17 -> 0 | D17: 14 | E17: =C17*D17 -> 0
B18: Diver; DMT | C18: ='Unit Price'!B18 -> 0 | D18: 14 | E18: =C18*D18 -> 0 | G18: CAPABILITY | H18: DAILY RATE | I18: Eval Qty | J18: Extended Price
B19: Diver | C19: ='Unit Price'!B19 -> 0 | D19: 14 | E19: =C19*D19 -> 0 | G19: Firefighting | H19: ='Unit Price'!G19 -> 0 | I19: 7 | J19: =H19*I19 -> 0
B20: Welder/Burner | C20: ='Unit Price'!B20 -> 0 | D20: 14 | E20: =C20*D20 -> 0 | G20: Ice Class | H20: ='Unit Price'!G20 -> 0 | I20: 2 | J20: =H20*I20 -> 0
B21: Rigger, Fitter, Equipment Operator, Fast Boat Operator, Etc. | C21: ='Unit Price'!B21 -> 0 | D21: 14 | E21: =C21*D21 -> 0
B23: Office Team and Logistical Support (price per team) | C23: ='Unit Price'!B23 -> 0 | D23: 14 | E23: =C23*D23 -> 0
B25: Project Manager | C25: ='Unit Price'!B25 -> 0 | D25: 14 | E25: =C25*D25 -> 0
B26: On-Site Coordinator | C26: ='Unit Price'!B26 -> 0 | D26: 14 | E26: =C26*D26 -> 0
B28: Retainer Fee | G28: Markup Rate
I31: Eval Qty | J31: Extended Price
B32: VESSEL | C32: ANNUAL FEE | D32: Eval Qty | E32: Extended Price | G32: Markup Rate: | H32: ='Unit Price'!G32 -> 0 | I32: 1000000 | J32: =H32*I32 -> 0
B33: Aurora | C33: ='Unit Price'!B33 -> 0 | D33: 7 | E33: =C33*D33 -> 0
B34: Columbia | C34: ='Unit Price'!B34 -> 0 | D34: 7 | E34: =C34*D34 -> 0 | G34: Evaluated Price
B35: Hubbard | C35: ='Unit Price'!B35 -> 0 | D35: 7 | E35: =C35*D35 -> 0 | G35: Evaluated price is based on the rates entered by the contractor and the evaluation quantities detailed on the Evaluation Quantities tab.
B36: Kennicott | C36: ='Unit Price'!B37 -> 0 | D36: 7 | E36: =C36*D36 -> 0
B37: LeConte | C37: ='Unit Price'!B38 -> 0 | D37: 7 | E37: =C37*D37 -> 0 | G37: Personnel | H37: =SUM(E10:E26) -> 0
B38: Lituya | C38: ='Unit Price'!B39 -> 0 | D38: 7 | E38: =C38*D38 -> 0 | G38: Vessels and Craft | H38: =SUM(J10:J16,J19:J20) -> 0
B39: Tazlina | C39: ='Unit Price'!B41 -> 0 | D39: 7 | E39: =C39*D39 -> 0 | G39: Equipment | H39: =SUM(E50:E80,J50:J77,E91:E135,J90:J136) -> 0
B40: Tustumena | C40: ='Unit Price'!B42 -> 0 | D40: 7 | E40: =C40*D40 -> 0 | G40: Markup Rate | H40: =J32 -> 0
B41: Matanuska | C41: ='Unit Price'!B43 -> 0 | D41: 7 | E41: =C41*D41 -> 0 | G41: Retainer Fee | H41: =SUM(E33:E40) -> 0
G42: Total Evaluated Price: | H42: =SUM(H37:H41) -> 0
B44: Vessel Equipment
B48: EQUIPMENT | C48: DAILY RATE | D48: Eval Qty | E48: Extended Price | G48: EQUIPMENT | H48: DAILY RATE | I48: Eval Qty | J48: Extended Price
B49: Generators | G49: Welding & Cutting Equipment
B50: Up to 50kW | C50: ='Unit Price'!B51 -> 0 | D50: 10 | E50: =IFERROR(C50*D50,0) -> 0 | G50: Bolt Gun | H50: ='Unit Price'!G51 -> 0 | I50: 10 | J50: =IFERROR(H50*I50,0) -> 0
B51: 51 to 120kW | C51: ='Unit Price'!B52 -> 0 | D51: 10 | E51: =IFERROR(C51*D51,0) -> 0 | G51: Gas Detector | H51: ='Unit Price'!G52 -> 0 | I51: 10 | J51: =IFERROR(H51*I51,0) -> 0
B52: 121 to 30kW | C52: ='Unit Price'!B53 -> 0 | D52: 10 | E52: =IFERROR(C52*D52,0) -> 0 | G52: Hot Tap Machine, including supporting equipment | H52: ='Unit Price'!G53 -> 0 | I52: 10 | J52: =IFERROR(H52*I52,0) -> 0
B53: Over 301 kW | C53: ='Unit Price'!B54 -> 0 | D53: 10 | E53: =IFERROR(C53*D53,0) -> 0 | G53: Oxy-acetylene Surface Cutting Gear | H53: ='Unit Price'!G54 -> 0 | I53: 10 | J53: =IFERROR(H53*I53,0) -> 0
B54: Portable Inert Gas Systems | G54: Underwater Cutting Gear | H54: ='Unit Price'!G55 -> 0 | I54: 10 | J54: =IFERROR(H54*I54,0) -> 0
...

Sheet Simple Unit Price
B1: RPF 2514S0XX AMHS Vessel Salvage - Appendix C - Cost
B2: All costs listed in US Dollars. Contractor should fill in fully-loaded daily rates in the blue cells except as noted in section headers. | G2: Contractor to fill in cells highlighted in light blue.
B5: Personnel | G5: Tugs, Vessels, and Other Craft
B6: List the fully-loaded per person per day rate for the following personnel. | G6: List the fully-loaded per vessel per day rate for the following craft.
B9: LABOR CATEGORY | C9: DAILY RATE | G9: VESSEL POWER | H9: DAILY RATE
B10: Salvage Master | G10: 1 - 499 BHP
B11: Naval Architect | G11: 500 - 3,000 BHP
B12: Salvage Foreman | G12: 3,001 - 5,000 BHP
B13: Salvage Officer | G13: 5,001 - 7,200 BHP
B14: Engineer/Assistant Salvage Officer | G14: 7,201 - 12,000 BHP
B15: Specialist Advisor(s) - (Chemist, Pollution Control, Fire Technician) | G15: 12,001 - 20,000 BHP
G16: Over 20,000 BHP
B17: Dive Supervisor
B18: Diver; DMT | G18: CAPABILITY | H18: DAILY RATE
B19: Diver | G19: Firefighting
B20: Welder/Burner | G20: Ice Class
B21: Rigger, Fitter, Equipment Operator, Fast Boat Operator, Etc. | G21: Additional charge for vessels with firefighting equipment while the vessel is engaged in firefighting necessitating the use of the equipment. Or for vessels certified as "Ice Class" when forcing or breaking Ice during the course of services including proceeding to and returning from the casualty.
B23: Office Team and Logistical Support (price per team)
B25: Project Manager
B26: On-Site Coordinator
B28: Retainer Fee | G28: Markup Rate
B29: List the annual retainer fee for each vessel. If no annual fee is required list $0.00 | G29: Markup rate for any deliverable materials or other direct costs not covered on this sheet.
B32: VESSEL | C32: ANNUAL FEE | G32: Markup Rate: | H32: 0
B33: Columbia
B34: Kennicott
B35: Malaspina
B36: Matanuska
B37: Aurora
B38: Chenega
B39: Fairweather
B40: LeConte
B41: Taku
B42: Tustumena

Sheet Simple Evaluated Price
B1: RPF 2514S0XX AMHS Vessel Salvage - Evaluated Price Sheet
B2: All costs listed in US Dollars. Cells highlighted red are linked to the contractor input on the Unit Price Tab. "Eval Qty" is a representative quantity for evaluation purposes only and does not represent an actual order. | G2: Contractor should not edit any information on this sheet
B5: Personnel | G5: Tugs, Vessels, and Other Craft
B9: LABOR CATEGORY | C9: DAILY RATE | D9: Eval Qty | E9: Extended Price | G9: VESSEL POWER | H9: DAILY RATE | I9: Eval Qty | J9: Extended Price
B10: Salvage Master | C10: ='Simple Unit Price'!C10 -> 0 | D10: 14 | E10: =C10*D10 -> 0 | G10: 1 - 499 BHP | H10: ='Simple Unit Price'!H10 -> 0 | I10: 10 | J10: =H10*I10 -> 0
B11: Naval Architect | C11: ='Simple Unit Price'!C11 -> 0 | D11: 14 | E11: =C11*D11 -> 0 | G11: 500 - 3,000 BHP | H11: ='Simple Unit Price'!H11 -> 0 | I11: 5 | J11: =H11*I11 -> 0
B12: Salvage Foreman | C12: ='Simple Unit Price'!C12 -> 0 | D12: 14 | E12: =C12*D12 -> 0 | G12: 3,001 - 5,000 BHP | H12: ='Simple Unit Price'!H12 -> 0 | I12: 14 | J12: =H12*I12 -> 0
B13: Salvage Officer | C13: ='Simple Unit Price'!C13 -> 0 | D13: 14 | E13: =C13*D13 -> 0 | G13: 5,001 - 7,200 BHP | H13: ='Simple Unit Price'!H13 -> 0 | I13: 7 | J13: =H13*I13 -> 0
B14: Engineer/Assistant Salvage Officer | C14: ='Simple Unit Price'!C14 -> 0 | D14: 28 | E14: =C14*D14 -> 0 | G14: 7,201 - 12,000 BHP | H14: ='Simple Unit Price'!H14 -> 0 | I14: 7 | J14: =H14*I14 -> 0
B15: Specialist Advisor(s) - (Chemist, Pollution Control, Fire Technician) | C15: ='Simple Unit Price'!C15 -> 0 | D15: 21 | E15: =C15*D15 -> 0 | G15: 12,001 - 20,000 BHP | H15: ='Simple Unit Price'!H15 -> 0 | I15: 6 | J15: =H15*I15 -> 0
G16: Over 20,000 BHP | H16: ='Simple Unit Price'!H16 -> 0 | I16: 4 | J16: =H16*I16 -> 0
B17: Dive Supervisor | C17: ='Simple Unit Price'!C17 -> 0 | D17: 7 | E17: =C17*D17 -> 0
B18: Diver; DMT | C18: ='Simple Unit Price'!C18 -> 0 | D18: 7 | E18: =C18*D18 -> 0 | G18: CAPABILITY | H18: DAILY RATE | I18: Eval Qty | J18: Extended Price
B19: Diver | C19: ='Simple Unit Price'!C19 -> 0 | D19: 21 | E19: =C19*D19 -> 0 | G19: Firefighting | H19: ='Simple Unit Price'!H19 -> 0 | I19: 7 | J19: =H19*I19 -> 0
B20: Welder/Burner | C20: ='Simple Unit Price'!C20 -> 0 | D20: 10 | E20: =C20*D20 -> 0 | G20: Ice Class | H20: ='Simple Unit Price'!H20 -> 0 | I20: 2 | J20: =H20*I20 -> 0
B21: Rigger, Fitter, Equipment Operator, Fast Boat Operator, Etc. | C21: ='Simple Unit Price'!C21 -> 0 | D21: 42 | E21: =C21*D21 -> 0
B23: Office Team and Logistical Support (price per team) | C23: ='Simple Unit Price'!C23 -> 0 | D23: 14 | E23: =C23*D23 -> 0
B25: Project Manager | C25: ='Simple Unit Price'!C25 -> 0 | D25: 14 | E25: =C25*D25 -> 0
B26: On-Site Coordinator | C26: ='Simple Unit Price'!C26 -> 0 | D26: 14 | E26: =C26*D26 -> 0
B28: Retainer Fee | G28: Markup Rate
I31: Eval Qty | J31: Extended Price
B32: VESSEL | C32: ANNUAL FEE | D32: Eval Qty | E32: Extended Price | G32: Markup Rate: | H32: ='Simple Unit Price'!H32 -> 0 | I32: 2000000 | J32: =H32*I32 -> 0
B33: Columbia | C33: ='Simple Unit Price'!C33 -> 0 | D33: 5 | E33: =C33*D33 -> 0
B34: Kennicott | C34: ='Simple Unit Price'!C34 -> 0 | D34: 5 | E34: =C34*D34 -> 0 | G34: Evaluated Price
B35: Malaspina | C35: ='Simple Unit Price'!C35 -> 0 | D35: 5 | E35: =C35*D35 -> 0 | G35: Evaluated price is based on the rates entered by the contractor and the evaluation quantities detailed on the Evaluation Quantities tab.
B36: Matanuska | C36: ='Simple Unit Price'!C36 -> 0 | D36: 5 | E36: =C36*D36 -> 0
B37: Aurora | C37: ='Simple Unit Price'!C37 -> 0 | D37: 5 | E37: =C37*D37 -> 0
B38: Chenega | C38: ='Simple Unit Price'!C38 -> 0 | D38: 5 | E38: =C38*D38 -> 0 | G38: Personnel | H38: =SUM(E10:E26) -> 0
B39: Fairweather | C39: ='Simple Unit Price'!C39 -> 0 | D39: 5 | E39: =C39*D39 -> 0 | G39: Vessels and Craft | H39: =SUM(J10:J16,J19:J20) -> 0
B40: LeConte | C40: ='Simple Unit Price'!C40 -> 0 | D40: 5 | E40: =C40*D40 -> 0 | G40: Markup Rate | H40: =J32 -> 0
B41: Taku | C41: ='Simple Unit Price'!C41 -> 0 | D41: 5 | E41: =C41*D41 -> 0 | G41: Retainer Fee | H41: =SUM(E33:E42) -> 0
B42: Tustumena | C42: ='Simple Unit Price'!C42 -> 0 | D42: 5 | E42: =C42*D42 -> 0 | G42: Total Evaluated Price: | H42: =SUM(H38:H41) -> 0
