Workbook

Sheet Instructions
A5: 1 | B5: On the Unit Price sheet enter full loaded daily rates for each labor category, vessel, or equipment. If a retainer fee is required, list the amount as an annual rate. No substitutions or modifications to the Unit Price sheet will be allowed. Any such substition or modification shall cause the offeror to be found non-responsive and the proposal will be rejected . Do not make any changes to the Evaluated Price sheet, the prices should populate automatically from the Unit Price sheet.
A7: 2 | B7: Print the completed Unit Price and Evaluated price sheets and include in your cost proposal.
A9: 3 | B9: A Funding Agreement may be submitted along with your cost proposal if it contains all of the information required in the Unit Price sheet.The Unit Price sheet must still be filled out and both Unit Price and Evaluated price sheets must be printed and included in your cost proposal.

Sheet Unit Price
A1: RFP 2526H312 AMHS Salvage and Marine Firefighting - Attachment 2 - Cost
A2: All costs listed in US Dollars. Contractor should fill in fully-loaded daily rates in the blue cells except as noted in section headers. | F2: Contractor to fill in cells highlighted in light blue.
A5: Personnel | F5: Tugs, Vessels, and Other Craft
A6: List the fully-loaded per person per day rate for the following personnel. | F6: List the fully-loaded per vessel per day rate for the following craft.
A9: LABOR CATEGORY | B9: DAILY RATE | F9: VESSEL POWER | G9: DAILY RATE
A10: Salvage Master | F10: 1 - 499 BHP
A11: Naval Architect | F11: 500 - 3,000 BHP
A12: Salvage Foreman | F12: 3,001 - 5,000 BHP
A13: Salvage Officer | F13: 5,001 - 7,200 BHP
A14: Engineer/Assistant Salvage Officer | F14: 7,201 - 12,000 BHP
A15: Specialist Advisor(s) - (Chemist, Pollution Control, Fire Technician) | F15: 12,001 - 20,000 BHP
F16: Over 20,000 BHP
A17: Dive Supervisor
A18: Diver; DMT | F18: CAPABILITY | G18: DAILY RATE
A19: Diver | F19: Firefighting
A20: Welder/Burner | F20: Ice Class
A21: Rigger, Fitter, Equipment Operator, Fast Boat Operator, Etc. | F21: Additional charge for vessels with firefighting equipment while the vessel is engaged in firefighting necessitating the use of the equipment. Or for vessels certified as "Ice Class" when forcing or breaking Ice during the course of services including proceeding to and returning from the casualty.
A23: Office Team and Logistical Support (price per team)
A25: Project Manager
A26: On-Site Coordinator
A28: Retainer Fee | F28: Markup Rate
A29: List the annual retainer fee for each vessel. If no annual fee is required list $0.00 | F29: Markup rate for any deliverable materials or other direct costs not covered on this sheet.
A32: VESSEL | B32: ANNUAL FEE | F32: Markup Rate:
A33: Aurora
A34: Chenega
A35: Columbia
A36: Fairweather
A37: Hubbard
A38: Kennicott
A39: LeConte
A40: Malaspina
A41: Matanuska
A42: Tazlina
A43: Tustumena
A45: Vessel Equipment
A46: List the fully-loaded per day rate for the following equipment. If a piece of equipment is included in the vessel or personnel cost list Not Separately Priced "NSP"
A49: EQUIPMENT | B49: DAILY RATE | F49: EQUIPMENT | G49: DAILY RATE
A50: Generators | F50: Welding & Cutting Equipment
A51: Up to 50kW | F51: Bolt Gun
A52: 51 to 120kW | F52: Gas Detector
A53: 121 to 30kW | F53: Hot Tap Machine, including supporting equipment
A54: Over 301 kW | F54: Oxy-acetylene Surface Cutting Gear
A55: Portable Inert Gas Systems | F55: Underwater Cutting Gear
A56: 1,000m 3/hour | F56: Underwater Welding Kit
A57: 1,500m 3/hour | F57: 250 Amp Welder
A58: Compressors | F58: 400 Amp Welder
A59: High Pressure | F59: Pollution Control Equipment
A60: 185 CFM | F60: Hot Tap Machine, Including support equipment
A61: 600 CFM | F61: Oil Boom 24" per 10 meters
... A78: Hydraulic | F78: 20' Container
A79: 3"
A80: 6"
A81: 8"
A85: Salvage Equipment
A86: List the fully-loaded per day rate for the following equipment. If a piece of equipment is included in the vessel or personnel cost list Not Separately Priced "NSP"
A89: EQUIPMENT | B89: DAILY RATE | F89: EQUIPMENT | G89: DAILY RATE
A90: Hoses | F90: Miscellaneous Equipment
A91: Air Hose | F91: Air Lift - 4"
A92: 3/4" | F92: Air Lift - 6"
A93: 2" per 30 meters or 120 feet | F93: Air Lift - 8"
A94: Layflat | F94: Air Tugger, up to 3 tons
A95: 2" per 6 meters or 20 feet | F95: Ballast/Fuel Oil Storage Bins- 50,000 Liters
A96: 4" per 6 meters or 20 feet | F96: Chain Saw
A97: 6" per 6 meters on 20 feet | F97: Container Handling Package
A98: Rigid | F98: Communications Package
A99: 2" per 6 meters or 20 feet | F99: Damage Stability Computer and Software
A100: 4" per 6 meters or 20 feet | F100: Echo Sounder, portable
A101: 6" per 6 meters on 20 feet | F101: Extension Ladder
... A103: Fenders | F103: Hydraulic Jack, up to 120 tons
F104: Hydraulic Powerpack up to 40kW
A105: 1.00m x 2.00m | F105: Hydraulic Powerpack 75kW
A106: 2.50m x 5.50m | F106: Pressure Washer - Water
A107: 3.50m x 6.50m | F107: Pressure Washer - Steam
A108: Low Pressure Inflatable | F108: Rigging Package Heavy
A109: 3 meters | F109: Rigging Package Light
A110: 6 meters | F110: Rock Drill
A111: 9 meters | F111: Rock Splitter
A112: 12 meters | F112: Steel Saw
A113: 16 meters | F113: Tirfors, up to 5 tons
A114: Shackles | F114: Thermal Imaging Camera
A115: Up to 50 tons | F115: Tool Package, per set
A116: 51 to 120 tons | F116: Ventilation Package
... A133: Shallow Water Dive Spread | F133: PPE: Confined Space Entry 2 man Pkg with Communications
A134: Miscellaneous Equipment
A135: Air Bags less than 5 tons lift | F135: PPE: Survival Suit, Immersion
A136: 5 to 15 tons lift | F136: Ventilation Pkg. Vane Axial: 1,500 Cfm
F137: Ventilation Pkg. Venturi Type: 4,000 Cfm

Sheet Unit Prices
A1: RFP 2526H312 AMHS Salvage and Marine Firefighting - Attachment 2 - Cost
A2: All costs listed in US Dollars. Contractor should fill in fully-loaded daily rates in the blue cells except as noted in section headers. | F2: Contractor to fill in cells highlighted in light blue.
A5: Personnel | F5: Tugs, Vessels, and Other Craft
A6: List the fully-loaded per person per day rate for the following personnel. | F6: List the fully-loaded per vessel per day rate for the following craft.
A9: LABOR CATEGORY | B9: DAILY RATE | F9: VESSEL POWER | G9: DAILY RATE
A10: Salvage Master | F10: 1 - 499 BHP
A11: Naval Architect | F11: 500 - 3,000 BHP
A12: Salvage Foreman | F12: 3,001 - 5,000 BHP
A13: Salvage Officer | F13: 5,001 - 7,200 BHP
A14: Engineer/Assistant Salvage Officer | F14: 7,201 - 12,000 BHP
A15: Specialist Advisor(s) - (Chemist, Pollution Control, Fire Technician) | F15: 12,001 - 20,000 BHP
F16: Over 20,000 BHP
A17: Dive Supervisor
A18: Diver; DMT | F18: CAPABILITY | G18: DAILY RATE
A19: Diver | F19: Firefighting
A20: Welder/Burner | F20: Ice Class
A21: Rigger, Fitter, Equipment Operator, Fast Boat Operator, Etc. | F21: Additional charge for vessels with firefighting equipment while the vessel is engaged in firefighting necessitating the use of the equipment. Or for vessels certified as "Ice Class" when forcing or breaking Ice during the course of services including proceeding to and returning from the casualty.
A23: Office Team and Logistical Support (price per team)
A25: Project Manager
A26: On-Site Coordinator
A28: Retainer Fee | F28: Markup Rate
A29: List the annual retainer fee for each vessel. If no annual fee is required list $0.00 | F29: Markup rate for any deliverable materials or other direct costs not covered on this sheet.
A32: VESSEL | B32: ANNUAL FEE | F32: Markup Rate:
A33: Aurora
A34: Chenega
A35: Columbia
A36: Fairweather
A37: Hubbard
A38: Kennicott
A39: LeConte
A40: Malaspina
A41: Matanuska
A42: Tazlina
A43: Tustumena
A45: Vessel Equipment
A46: List the fully-loaded per day rate for the following equipment. If a piece of equipment is included in the vessel or personnel cost list Not Separately Priced "NSP"
A49: EQUIPMENT | B49: DAILY RATE | F49: EQUIPMENT | G49: DAILY RATE
A50: Generators | F50: Welding & Cutting Equipment
A51: Up to 50kW | F51: Bolt Gun
A52: 51 to 120kW | F52: Gas Detector
A53: 121 to 30kW | F53: Hot Tap Machine, including supporting equipment
A54: Over 301 kW | F54: Oxy-acetylene Surface Cutting Gear
A55: Portable Inert Gas Systems | F55: Underwater Cutting Gear
A56: 1,000m 3/hour | F56: Underwater Welding Kit
A57: 1,500m 3/hour | F57: 250 Amp Welder
A58: Compressors | F58: 400 Amp Welder
A59: High Pressure | F59: Pollution Control Equipment
A60: 185 CFM | F60: Hot Tap Machine, Including support equipment
A61: 600 CFM | F61: Oil Boom 24" per 10 meters
... A78: Hydraulic | F78: 20' Container
A79: 3"
A80: 6"
A81: 8"
A85: Salvage Equipment
A86: List the fully-loaded per day rate for the following equipment. If a piece of equipment is included in the vessel or personnel cost list Not Separately Priced "NSP"
A89: EQUIPMENT | B89: DAILY RATE | F89: EQUIPMENT | G89: DAILY RATE
A90: Hoses | F90: Miscellaneous Equipment
A91: Air Hose | F91: Air Lift - 4"
A92: 3/4" | F92: Air Lift - 6"
A93: 2" per 30 meters or 120 feet | F93: Air Lift - 8"
A94: Layflat | F94: Air Tugger, up to 3 tons
A95: 2" per 6 meters or 20 feet | F95: Ballast/Fuel Oil Storage Bins- 50,000 Liters
A96: 4" per 6 meters or 20 feet | F96: Chain Saw
A97: 6" per 6 meters on 20 feet | F97: Container Handling Package
A98: Rigid | F98: Communications Package
A99: 2" per 6 meters or 20 feet | F99: Damage Stability Computer and Software
A100: 4" per 6 meters or 20 feet | F100: Echo Sounder, portable
A101: 6" per 6 meters on 20 feet | F101: Extension Ladder
... A103: Fenders | F103: Hydraulic Jack, up to 120 tons
F104: Hydraulic Powerpack up to 40kW
A105: 1.00m x 2.00m | F105: Hydraulic Powerpack 75kW
A106: 2.50m x 5.50m | F106: Pressure Washer - Water
A107: 3.50m x 6.50m | F107: Pressure Washer - Steam
A108: Low Pressure Inflatable | F108: Rigging Package Heavy
A109: 3 meters | F109: Rigging Package Light
A110: 6 meters | F110: Rock Drill
A111: 9 meters | F111: Rock Splitter
A112: 12 meters | F112: Steel Saw
A113: 16 meters | F113: Tirfors, up to 5 tons
A114: Shackles | F114: Thermal Imaging Camera
A115: Up to 50 tons | F115: Tool Package, per set
A116: 51 to 120 tons | F116: Ventilation Package
... A133: Shallow Water Dive Spread | F133: PPE: Confined Space Entry 2 man Pkg with Communications
A134: Miscellaneous Equipment
A135: Air Bags less than 5 tons lift | F135: PPE: Survival Suit, Immersion
A136: 5 to 15 tons lift | F136: Ventilation Pkg. Vane Axial: 1,500 Cfm
F137: Ventilation Pkg. Venturi Type: 4,000 Cfm

Sheet Evaluated Price
B1: RFP 2526H312 AMHS Salvage and Marine Firefighting - Evaluated Price Sheet
B2: All costs listed in US Dollars. Cells highlighted red are linked to the contractor input on the Unit Price Tab. "Eval Qty" is a representative quantity for evaluation purposes only and does not represent an actual order. | G2: Contractor should not edit any information on this sheet
B5: Personnel | G5: Tugs, Vessels, and Other Craft
B9: LABOR CATEGORY | C9: DAILY RATE | D9: Eval Qty | E9: Extended Price | G9: VESSEL POWER | H9: DAILY RATE | I9: Eval Qty | J9: Extended Price
B10: Salvage Master | C10: ='Unit Price'!B10 -> 0 | D10: 14 | E10: =C10*D10 -> 0 | G10: 1 - 499 BHP | H10: ='Unit Price'!G10 -> 0 | I10: 18 | J10: =H10*I10 -> 0
B11: Naval Architect | C11: ='Unit Price'!B11 -> 0 | D11: 14 | E11: =C11*D11 -> 0 | G11: 500 - 3,000 BHP | H11: ='Unit Price'!G11 -> 0 | I11: 18 | J11: =H11*I11 -> 0
B12: Salvage Foreman | C12: ='Unit Price'!B12 -> 0 | D12: 14 | E12: =C12*D12 -> 0 | G12: 3,001 - 5,000 BHP | H12: ='Unit Price'!G12 -> 0 | I12: 18 | J12: =H12*I12 -> 0
B13: Salvage Officer | C13: ='Unit Price'!B13 -> 0 | D13: 14 | E13: =C13*D13 -> 0 | G13: 5,001 - 7,200 BHP | H13: ='Unit Price'!G13 -> 0 | I13: 18 | J13: =H13*I13 -> 0
B14: Engineer/Assistant Salvage Officer | C14: ='Unit Price'!B14 -> 0 | D14: 14 | E14: =C14*D14 -> 0 | G14: 7,201 - 12,000 BHP | H14: ='Unit Price'!G14 -> 0 | I14: 18 | J14: =H14*I14 -> 0
B15: Specialist Advisor(s) - (Chemist, Pollution Control, Fire Technician) | C15: ='Unit Price'!B15 -> 0 | D15: 14 | E15: =C15*D15 -> 0 | G15: 12,001 - 20,000 BHP | H15: ='Unit Price'!G15 -> 0 | I15: 18 | J15: =H15*I15 -> 0
G16: Over 20,000 BHP | H16: ='Unit Price'!G16 -> 0 | I16: 18 | J16: =H16*I16 -> 0
B17: Dive Supervisor | C17: ='Unit Price'!B17 -> 0 | D17: 14 | E17: =C17*D17 -> 0
B18: Diver; DMT | C18: ='Unit Price'!B18 -> 0 | D18: 14 | E18: =C18*D18 -> 0 | G18: CAPABILITY | H18: DAILY RATE | I18: Eval Qty | J18: Extended Price
B19: Diver | C19: ='Unit Price'!B19 -> 0 | D19: 14 | E19: =C19*D19 -> 0 | G19: Firefighting | H19: ='Unit Price'!G19 -> 0 | I19: 7 | J19: =H19*I19 -> 0
B20: Welder/Burner | C20: ='Unit Price'!B20 -> 0 | D20: 14 | E20: =C20*D20 -> 0 | G20: Ice Class | H20: ='Unit Price'!G20 -> 0 | I20: 2 | J20: =H20*I20 -> 0
B21: Rigger, Fitter, Equipment Operator, Fast Boat Operator, Etc. | C21: ='Unit Price'!B21 -> 0 | D21: 14 | E21: =C21*D21 -> 0
B23: Office Team and Logistical Support (price per team) | C23: ='Unit Price'!B23 -> 0 | D23: 14 | E23: =C23*D23 -> 0
B25: Project Manager | C25: ='Unit Price'!B25 -> 0 | D25: 14 | E25: =C25*D25 -> 0
B26: On-Site Coordinator | C26: ='Unit Price'!B26 -> 0 | D26: 14 | E26: =C26*D26 -> 0
B28: Retainer Fee | G28: Markup Rate
I31: Eval Qty | J31: Extended Price
B32: VESSEL | C32: ANNUAL FEE | D32: Eval Qty | E32: Extended Price | G32: Markup Rate: | H32: ='Unit Price'!G32 -> 0 | I32: 1000000 | J32: =H32*I32 -> 0
B33: Aurora | C33: ='Unit Price'!B33 -> 0 | D33: 7 | E33: =C33*D33 -> 0
B34: Columbia | C34: ='Unit Price'!B34 -> 0 | D34: 7 | E34: =C34*D34 -> 0 | G34: Evaluated Price
B35: Hubbard | C35: ='Unit Price'!B35 -> 0 | D35: 7 | E35: =C35*D35 -> 0 | G35: Evaluated price is based on the rates entered by the contractor and the evaluation quantities detailed on the Evaluation Quantities tab.
B36: Kennicott | C36: ='Unit Price'!B37 -> 0 | D36: 7 | E36: =C36*D36 -> 0
B37: LeConte | C37: ='Unit Price'!B38 -> 0 | D37: 7 | E37: =C37*D37 -> 0 | G37: Personnel | H37: =SUM(E10:E26) -> 0
B38: Lituya | C38: ='Unit Price'!B39 -> 0 | D38: 7 | E38: =C38*D38 -> 0 | G38: Vessels and Craft | H38: =SUM(J10:J16,J19:J20) -> 0
B39: Tazlina | C39: ='Unit Price'!B41 -> 0 | D39: 7 | E39: =C39*D39 -> 0 | G39: Equipment | H39: =SUM(E50:E80,J50:J77,E91:E135,J90:J136) -> 0
B40: Tustumena | C40: ='Unit Price'!B42 -> 0 | D40: 7 | E40: =C40*D40 -> 0 | G40: Markup Rate | H40: =J32 -> 0
B41: Matanuska | C41: ='Unit Price'!B43 -> 0 | D41: 7 | E41: =C41*D41 -> 0 | G41: Retainer Fee | H41: =SUM(E33:E40) -> 0
G42: Total Evaluated Price: | H42: =SUM(H37:H41) -> 0
B44: Vessel Equipment
B48: EQUIPMENT | C48: DAILY RATE | D48: Eval Qty | E48: Extended Price | G48: EQUIPMENT | H48: DAILY RATE | I48: Eval Qty | J48: Extended Price
B49: Generators | G49: Welding & Cutting Equipment
B50: Up to 50kW | C50: ='Unit Price'!B51 -> 0 | D50: 10 | E50: =IFERROR(C50*D50,0) -> 0 | G50: Bolt Gun | H50: ='Unit Price'!G51 -> 0 | I50: 10 | J50: =IFERROR(H50*I50,0) -> 0
B51: 51 to 120kW | C51: ='Unit Price'!B52 -> 0 | D51: 10 | E51: =IFERROR(C51*D51,0) -> 0 | G51: Gas Detector | H51: ='Unit Price'!G52 -> 0 | I51: 10 | J51: =IFERROR(H51*I51,0) -> 0
B52: 121 to 30kW | C52: ='Unit Price'!B53 -> 0 | D52: 10 | E52: =IFERROR(C52*D52,0) -> 0 | G52: Hot Tap Machine, including supporting equipment | H52: ='Unit Price'!G53 -> 0 | I52: 10 | J52: =IFERROR(H52*I52,0) -> 0
B53: Over 301 kW | C53: ='Unit Price'!B54 -> 0 | D53: 10 | E53: =IFERROR(C53*D53,0) -> 0 | G53: Oxy-acetylene Surface Cutting Gear | H53: ='Unit Price'!G54 -> 0 | I53: 10 | J53: =IFERROR(H53*I53,0) -> 0
B54: Portable Inert Gas Systems | G54: Underwater Cutting Gear | H54: ='Unit Price'!G55 -> 0 | I54: 10 | J54: =IFERROR(H54*I54,0) -> 0
B55: 1,000m 3/hour | C55: ='Unit Price'!B56 -> 0 | D55: 10 | E55: =IFERROR(C55*D55,0) -> 0 | G55: Underwater Welding Kit | H55: ='Unit Price'!G56 -> 0 | I55: 10 | J55: =IFERROR(H55*I55,0) -> 0
B56: 1,500m 3/hour | C56: ='Unit Price'!B57 -> 0 | D56: 10 | E56: =IFERROR(C56*D56,0) -> 0 | G56: 250 Amp Welder | H56: ='Unit Price'!G57 -> 0 | I56: 10 | J56: =IFERROR(H56*I56,0) -> 0
B57: Compressors | G57: 400 Amp Welder | H57: ='Unit Price'!G58 -> 0 | I57: 10 | J57: =IFERROR(H57*I57,0) -> 0
B58: High Pressure | C58: ='Unit Price'!B59 -> 0 | D58: 10 | E58: =IFERROR(C58*D58,0) -> 0 | G58: Pollution Control Equipment
B59: 185 CFM | C59: ='Unit Price'!B60 -> 0 | D59: 10 | E59: =IFERROR(C59*D59,0) -> 0 | G59: Hot Tap Machine, Including support equipment | H59: ='Unit Price'!G60 -> 0 | I59: 10 | J59: =IFERROR(H59*I59,0) -> 0
B60: 600 CFM | C60: ='Unit Price'!B61 -> 0 | D60: 10 | E60: =IFERROR(C60*D60,0) -> 0 | G60: Oil Boom 24" per 10 meters | H60: ='Unit Price'!G61 -> 0 | I60: 10 | J60: =IFERROR(H60*I60,0) -> 0
B61: 1200 CFM | C61: ='Unit Price'!B62 -> 0 | D61: 10 | E61: =IFERROR(C61*D61,0) -> 0 | G61: Oil Boom 36" per 10 meters | H61: ='Unit Price'!G62 -> 0 | I61: 10 | J61: =IFERROR(H61*I61,0) -> 0
B62: Air Manifold | C62: ='Unit Price'!B63 -> 0 | D62: 10 | E62: =IFERROR(C62*D62,0) -> 0 | G62: Oil Boom 48" per 10 meters | H62: ='Unit Price'!G63 -> 0 | I62: 10 | J62: =IFERROR(H62*I62,0) -> 0
B63: Blower 1,500 m3/min | C63: ='Unit Price'!B64 -> 0 | D63: 10 | E63: =IFERROR(C63*D63,0) -> 0 | G63: Ballast/Fuel Storage Bins up to 10,000 liters | H63: ='Unit Price'!G64 -> 0 | I63: 10 | J63: =IFERROR(H63*I63,0) -> 0
B64: Pumping Equipment | G64: Ballast/Fuel Storage Bins 10,000 to 25,000 liters | H64: ='Unit Price'!G65 -> 0 | I64: 10 | J64: =IFERROR(H64*I64,0) -> 0
B65: Air Manifold | G65: Ballast/Fuel Storage Bins 25,000 to 50,000 liters | H65: ='Unit Price'!G66 -> 0 | I65: 10 | J65: =IFERROR(H65*I65,0) -> 0
B66: 1" | C66: ='Unit Price'!B67 -> 0 | D66: 10 | E66: =IFERROR(C66*D66,0) -> 0 | G66: Lighting Systems
B67: 2" | C67: ='Unit Price'!B68 -> 0 | D67: 10 | E67: =IFERROR(C67*D67,0) -> 0 | G67: Halogen System | H67: ='Unit Price'!G68 -> 0 | I67: 10 | J67: =IFERROR(H67*I67,0) -> 0
B68: 3" | C68: ='Unit Price'!B69 -> 0 | D68: 10 | E68: =IFERROR(C68*D68,0) -> 0 | G68: Lighting String, per 50 feet | H68: ='Unit Price'!G69 -> 0 | I68: 10 | J68: =IFERROR(H68*I68,0) -> 0
B69: Diesel | G69: Light Tower | H69: ='Unit Price'!G70 -> 0 | I69: 10 | J69: =IFERROR(H69*I69,0) -> 0
B70: 2" | C70: ='Unit Price'!B71 -> 0 | D70: 10 | E70: =IFERROR(C70*D70,0) -> 0 | G70: Underwater Lighting System, 1,000 watts | H70: ='Unit Price'!G71 -> 0 | I70: 10 | J70: =IFERROR(H70*I70,0) -> 0
B71: 4" | C71: ='Unit Price'!B72 -> 0 | D71: 10 | E71: =IFERROR(C71*D71,0) -> 0 | G71: Winches
B72: 6" | C72: ='Unit Price'!B73 -> 0 | D72: 10 | E72: =IFERROR(C72*D72,0) -> 0 | G72: Up to 5 tons, including 50 meters of wire | H72: ='Unit Price'!G73 -> 0 | I72: 10 | J72: =IFERROR(H72*I72,0) -> 0
B73: Electrical Submersible | G73: Up to 10 tons, including 50 meters of wire | H73: ='Unit Price'!G74 -> 0 | I73: 10 | J73: =IFERROR(H73*I73,0) -> 0
B74: 2" | C74: ='Unit Price'!B75 -> 0 | D74: 10 | E74: =IFERROR(C74*D74,0) -> 0 | G74: Up to 20 tons, including 50 meters of wire | H74: ='Unit Price'!G75 -> 0 | I74: 10 | J74: =IFERROR(H74*I74,0) -> 0
B75: 4" | C75: ='Unit Price'!B76 -> 0 | D75: 10 | E75: =IFERROR(C75*D75,0) -> 0 | G75: Storage Equipment
B76: 6" | C76: ='Unit Price'!B77 -> 0 | D76: 10 | E76: =IFERROR(C76*D76,0) -> 0 | G76: 12' Container | H76: ='Unit Price'!G77 -> 0 | I76: 10 | J76: =IFERROR(H76*I76,0) -> 0
B77: Hydraulic | G77: 20' Container | H77: ='Unit Price'!G78 -> 0 | I77: 10 | J77: =IFERROR(H77*I77,0) -> 0
B78: 3" | C78: ='Unit Price'!B79 -> 0 | D78: 10 | E78: =IFERROR(C78*D78,0) -> 0
B79: 6" | C79: ='Unit Price'!B80 -> 0 | D79: 10 | E79: =IFERROR(C79*D79,0) -> 0
B80: 8" | C80: ='Unit Price'!B81 -> 0 | D80: 10 | E80: =IFERROR(C80*D80,0) -> 0
B84: Salvage Equipment
B88: EQUIPMENT | C88: DAILY RATE | D88: Eval Qty | E88: Extended Price | G88: EQUIPMENT | H88: DAILY RATE | I88: Eval Qty | J88: Extended Price
B89: Hoses | G89: Miscellaneous Equipment
B90: Air Hose | G90: Air Lift - 4" | H90: ='Unit Price'!G91 -> 0 | I90: 10 | J90: =IFERROR(H90*I90,0) -> 0
B91: 3/4" | C91: ='Unit Price'!B92 -> 0 | D91: 10 | E91: =IFERROR(C91*D91,0) -> 0 | G91: Air Lift - 6" | H91: ='Unit Price'!G92 -> 0 | I91: 10 | J91: =IFERROR(H91*I91,0) -> 0
B92: 2" per 30 meters or 120 feet | C92: ='Unit Price'!B93 -> 0 | D92: 10 | E92: =IFERROR(C92*D92,0) -> 0 | G92: Air Lift - 8" | H92: ='Unit Price'!G93 -> 0 | I92: 10 | J92: =IFERROR(H92*I92,0) -> 0
B93: Layflat | G93: Air Tugger, up to 3 tons | H93: ='Unit Price'!G94 -> 0 | I93: 10 | J93: =IFERROR(H93*I93,0) -> 0
B94: 2" per 6 meters or 20 feet | C94: ='Unit Price'!B95 -> 0 | D94: 10 | E94: =IFERROR(C94*D94,0) -> 0 | G94: Ballast/Fuel Oil Storage Bins- 50,000 Liters | H94: ='Unit Price'!G95 -> 0 | I94: 10 | J94: =IFERROR(H94*I94,0) -> 0
B95: 4" per 6 meters or 20 feet | C95: ='Unit Price'!B96 -> 0 | D95: 10 | E95: =IFERROR(C95*D95,0) -> 0 | G95: Chain Saw | H95: ='Unit Price'!G96 -> 0 | I95: 10 | J95: =IFERROR(H95*I95,0) -> 0
B96: 6" per 6 meters on 20 feet | C96: ='Unit Price'!B97 -> 0 | D96: 10 | E96: =IFERROR(C96*D96,0) -> 0 | G96: Container Handling Package | H96: ='Unit Price'!G97 -> 0 | I96: 10 | J96: =IFERROR(H96*I96,0) -> 0
B97: Rigid | G97: Communications Package | H97: ='Unit Price'!G98 -> 0 | I97: 10 | J97: =IFERROR(H97*I97,0) -> 0
B98: 2" per 6 meters or 20 feet | C98: ='Unit Price'!B99 -> 0 | D98: 10 | E98: =IFERROR(C98*D98,0) -> 0 | G98: Damage Stability Computer and Software | H98: ='Unit Price'!G99 -> 0 | I98: 10 | J98: =IFERROR(H98*I98,0) -> 0
B99: 4" per 6 meters or 20 feet | C99: ='Unit Price'!B100 -> 0 | D99: 10 | E99: =IFERROR(C99*D99,0) -> 0 | G99: Echo Sounder, portable | H99: ='Unit Price'!G100 -> 0 | I99: 10 | J99: =IFERROR(H99*I99,0) -> 0
B100: 6" per 6 meters on 20 feet | C100: ='Unit Price'!B101 -> 0 | D100: 10 | E100: =IFERROR(C100*D100,0) -> 0 | G100: Extension Ladder | H100: ='Unit Price'!G101 -> 0 | I100: 10 | J100: =IFERROR(H100*I100,0) -> 0
B101: 8" per 6 meters on 20 feet | C101: ='Unit Price'!B102 -> 0 | D101: 10 | E101: =IFERROR(C101*D101,0) -> 0 | G101: Hydraulic Jack, up to 50 tons | H101: ='Unit Price'!G102 -> 0 | I101: 10 | J101: =IFERROR(H101*I101,0) -> 0
B102: Fenders | G102: Hydraulic Jack, up to 120 tons | H102: ='Unit Price'!G103 -> 0 | I102: 10 | J102: =IFERROR(H102*I102,0) -> 0
G103: Hydraulic Powerpack up to 40kW | H103: ='Unit Price'!G104 -> 0 | I103: 10 | J103: =IFERROR(H103*I103,0) -> 0
B104: 1.00m x 2.00m | C104: ='Unit Price'!B105 -> 0 | D104: 10 | E104: =IFERROR(C104*D104,0) -> 0 | G104: Hydraulic Powerpack 75kW | H104: ='Unit Price'!G105 -> 0 | I104: 10 | J104: =IFERROR(H104*I104,0) -> 0
B105: 2.50m x 5.50m | C105: ='Unit Price'!B106 -> 0 | D105: 10 | E105: =IFERROR(C105*D105,0) -> 0 | G105: Pressure Washer - Water | H105: ='Unit Price'!G106 -> 0 | I105: 10 | J105: =IFERROR(H105*I105,0) -> 0
B106: 3.50m x 6.50m | C106: ='Unit Price'!B107 -> 0 | D106: 10 | E106: =IFERROR(C106*D106,0) -> 0 | G106: Pressure Washer - Steam | H106: ='Unit Price'!G107 -> 0 | I106: 10 | J106: =IFERROR(H106*I106,0) -> 0
B107: Low Pressure Inflatable | G107: Rigging Package Heavy | H107: ='Unit Price'!G108 -> 0 | I107: 10 | J107: =IFERROR(H107*I107,0) -> 0
B108: 3 meters | C108: ='Unit Price'!B109 -> 0 | D108: 10 | E108: =IFERROR(C108*D108,0) -> 0 | G108: Rigging Package Light | H108: ='Unit Price'!G109 -> 0 | I108: 10 | J108: =IFERROR(H108*I108,0) -> 0
B109: 6 meters | C109: ='Unit Price'!B110 -> 0 | D109: 10 | E109: =IFERROR(C109*D109,0) -> 0 | G109: Rock Drill | H109: ='Unit Price'!G110 -> 0 | I109: 10 | J109: =IFERROR(H109*I109,0) -> 0
B110: 9 meters | C110: ='Unit Price'!B111 -> 0 | D110: 10 | E110: =IFERROR(C110*D110,0) -> 0 | G110: Rock Splitter | H110: ='Unit Price'!G111 -> 0 | I110: 10 | J110: =IFERROR(H110*I110,0) -> 0
B111: 12 meters | C111: ='Unit Price'!B112 -> 0 | D111: 10 | E111: =IFERROR(C111*D111,0) -> 0 | G111: Steel Saw | H111: ='Unit Price'!G112 -> 0 | I111: 10 | J111: =IFERROR(H111*I111,0) -> 0
B112: 16 meters | C112: ='Unit Price'!B113 -> 0 | D112: 10 | E112: =IFERROR(C112*D112,0) -> 0 | G112: Tirfors, up to 5 tons | H112: ='Unit Price'!G113 -> 0 | I112: 10 | J112: =IFERROR(H112*I112,0) -> 0
B113: Shackles | G113: Thermal Imaging Camera | H113: ='Unit Price'!G114 -> 0 | I113: 10 | J113: =IFERROR(H113*I113,0) -> 0
B114: Up to 50 tons | C114: ='Unit Price'!B115 -> 0 | D114: 10 | E114: =IFERROR(C114*D114,0) -> 0 | G114: Tool Package, per set | H114: ='Unit Price'!G115 -> 0 | I114: 10 | J114: =IFERROR(H114*I114,0) -> 0
B115: 51 to 120 tons | C115: ='Unit Price'!B116 -> 0 | D115: 10 | E115: =IFERROR(C115*D115,0) -> 0 | G115: Ventilation Package | H115: ='Unit Price'!G116 -> 0 | I115: 10 | J115: =IFERROR(H115*I115,0) -> 0
B116: 121 to 200 tons | C116: ='Unit Price'!B117 -> 0 | D116: 10 | E116: =IFERROR(C116*D116,0) -> 0 | G116: VHF Radio | H116: ='Unit Price'!G117 -> 0 | I116: 10 | J116: =IFERROR(H116*I116,0) -> 0
B117: Over 200 tons | C117: ='Unit Price'!B118 -> 0 | D117: 10 | E117: =IFERROR(C117*D117,0) -> 0 | G117: Z Boat, Including outboard | H117: ='Unit Price'!G118 -> 0 | I117: 10 | J117: =IFERROR(H117*I117,0) -> 0
B118: Distribution Boards | G118: up to 14 feet | H118: ='Unit Price'!G119 -> 0 | I118: 10 | J118: =IFERROR(H118*I118,0) -> 0
B119: Up to 50kW | C119: ='Unit Price'!B120 -> 0 | D119: 10 | E119: =IFERROR(C119*D119,0) -> 0 | G119: over 14 feet | H119: ='Unit Price'!G120 -> 0 | I119: 10 | J119: =IFERROR(H119*I119,0) -> 0
B120: 51 to 120kW | C120: ='Unit Price'!B121 -> 0 | D120: 10 | E120: =IFERROR(C120*D120,0) -> 0 | G120: Protective Clothing
...

Sheet Simple Unit Price
B1: RPF 2514S0XX AMHS Vessel Salvage - Appendix C - Cost
B2: All costs listed in US Dollars. Contractor should fill in fully-loaded daily rates in the blue cells except as noted in section headers. | G2: Contractor to fill in cells highlighted in light blue.
B5: Personnel | G5: Tugs, Vessels, and Other Craft
B6: List the fully-loaded per person per day rate for the following personnel. | G6: List the fully-loaded per vessel per day rate for the following craft.
B9: LABOR CATEGORY | C9: DAILY RATE | G9: VESSEL POWER | H9: DAILY RATE
B10: Salvage Master | G10: 1 - 499 BHP
B11: Naval Architect | G11: 500 - 3,000 BHP
B12: Salvage Foreman | G12: 3,001 - 5,000 BHP
B13: Salvage Officer | G13: 5,001 - 7,200 BHP
B14: Engineer/Assistant Salvage Officer | G14: 7,201 - 12,000 BHP
B15: Specialist Advisor(s) - (Chemist, Pollution Control, Fire Technician) | G15: 12,001 - 20,000 BHP
G16: Over 20,000 BHP
B17: Dive Supervisor
B18: Diver; DMT | G18: CAPABILITY | H18: DAILY RATE
B19: Diver | G19: Firefighting
B20: Welder/Burner | G20: Ice Class
B21: Rigger, Fitter, Equipment Operator, Fast Boat Operator, Etc. | G21: Additional charge for vessels with firefighting equipment while the vessel is engaged in firefighting necessitating the use of the equipment. Or for vessels certified as "Ice Class" when forcing or breaking Ice during the course of services including proceeding to and returning from the casualty.
B23: Office Team and Logistical Support (price per team)
B25: Project Manager
B26: On-Site Coordinator
B28: Retainer Fee | G28: Markup Rate
B29: List the annual retainer fee for each vessel. If no annual fee is required list $0.00 | G29: Markup rate for any deliverable materials or other direct costs not covered on this sheet.
B32: VESSEL | C32: ANNUAL FEE | G32: Markup Rate: | H32: 0
B33: Columbia
B34: Kennicott
B35: Malaspina
B36: Matanuska
B37: Aurora
B38: Chenega
B39: Fairweather
B40: LeConte
B41: Taku
B42: Tustumena

Sheet Simple Evaluated Price
B1: RPF 2514S0XX AMHS Vessel Salvage - Evaluated Price Sheet
B2: All costs listed in US Dollars. Cells highlighted red are linked to the contractor input on the Unit Price Tab. "Eval Qty" is a representative quantity for evaluation purposes only and does not represent an actual order. | G2: Contractor should not edit any information on this sheet
B5: Personnel | G5: Tugs, Vessels, and Other Craft
B9: LABOR CATEGORY | C9: DAILY RATE | D9: Eval Qty | E9: Extended Price | G9: VESSEL POWER | H9: DAILY RATE | I9: Eval Qty | J9: Extended Price
B10: Salvage Master | C10: ='Simple Unit Price'!C10 -> 0 | D10: 14 | E10: =C10*D10 -> 0 | G10: 1 - 499 BHP | H10: ='Simple Unit Price'!H10 -> 0 | I10: 10 | J10: =H10*I10 -> 0
B11: Naval Architect | C11: ='Simple Unit Price'!C11 -> 0 | D11: 14 | E11: =C11*D11 -> 0 | G11: 500 - 3,000 BHP | H11: ='Simple Unit Price'!H11 -> 0 | I11: 5 | J11: =H11*I11 -> 0
B12: Salvage Foreman | C12: ='Simple Unit Price'!C12 -> 0 | D12: 14 | E12: =C12*D12 -> 0 | G12: 3,001 - 5,000 BHP | H12: ='Simple Unit Price'!H12 -> 0 | I12: 14 | J12: =H12*I12 -> 0
B13: Salvage Officer | C13: ='Simple Unit Price'!C13 -> 0 | D13: 14 | E13: =C13*D13 -> 0 | G13: 5,001 - 7,200 BHP | H13: ='Simple Unit Price'!H13 -> 0 | I13: 7 | J13: =H13*I13 -> 0
B14: Engineer/Assistant Salvage Officer | C14: ='Simple Unit Price'!C14 -> 0 | D14: 28 | E14: =C14*D14 -> 0 | G14: 7,201 - 12,000 BHP | H14: ='Simple Unit Price'!H14 -> 0 | I14: 7 | J14: =H14*I14 -> 0
B15: Specialist Advisor(s) - (Chemist, Pollution Control, Fire Technician) | C15: ='Simple Unit Price'!C15 -> 0 | D15: 21 | E15: =C15*D15 -> 0 | G15: 12,001 - 20,000 BHP | H15: ='Simple Unit Price'!H15 -> 0 | I15: 6 | J15: =H15*I15 -> 0
G16: Over 20,000 BHP | H16: ='Simple Unit Price'!H16 -> 0 | I16: 4 | J16: =H16*I16 -> 0
B17: Dive Supervisor | C17: ='Simple Unit Price'!C17 -> 0 | D17: 7 | E17: =C17*D17 -> 0
B18: Diver; DMT | C18: ='Simple Unit Price'!C18 -> 0 | D18: 7 | E18: =C18*D18 -> 0 | G18: CAPABILITY | H18: DAILY RATE | I18: Eval Qty | J18: Extended Price
B19: Diver | C19: ='Simple Unit Price'!C19 -> 0 | D19: 21 | E19: =C19*D19 -> 0 | G19: Firefighting | H19: ='Simple Unit Price'!H19 -> 0 | I19: 7 | J19: =H19*I19 -> 0
B20: Welder/Burner | C20: ='Simple Unit Price'!C20 -> 0 | D20: 10 | E20: =C20*D20 -> 0 | G20: Ice Class | H20: ='Simple Unit Price'!H20 -> 0 | I20: 2 | J20: =H20*I20 -> 0
B21: Rigger, Fitter, Equipment Operator, Fast Boat Operator, Etc. | C21: ='Simple Unit Price'!C21 -> 0 | D21: 42 | E21: =C21*D21 -> 0
B23: Office Team and Logistical Support (price per team) | C23: ='Simple Unit Price'!C23 -> 0 | D23: 14 | E23: =C23*D23 -> 0
B25: Project Manager | C25: ='Simple Unit Price'!C25 -> 0 | D25: 14 | E25: =C25*D25 -> 0
B26: On-Site Coordinator | C26: ='Simple Unit Price'!C26 -> 0 | D26: 14 | E26: =C26*D26 -> 0
B28: Retainer Fee | G28: Markup Rate
I31: Eval Qty | J31: Extended Price
B32: VESSEL | C32: ANNUAL FEE | D32: Eval Qty | E32: Extended Price | G32: Markup Rate: | H32: ='Simple Unit Price'!H32 -> 0 | I32: 2000000 | J32: =H32*I32 -> 0
B33: Columbia | C33: ='Simple Unit Price'!C33 -> 0 | D33: 5 | E33: =C33*D33 -> 0
B34: Kennicott | C34: ='Simple Unit Price'!C34 -> 0 | D34: 5 | E34: =C34*D34 -> 0 | G34: Evaluated Price
B35: Malaspina | C35: ='Simple Unit Price'!C35 -> 0 | D35: 5 | E35: =C35*D35 -> 0 | G35: Evaluated price is based on the rates entered by the contractor and the evaluation quantities detailed on the Evaluation Quantities tab.
B36: Matanuska | C36: ='Simple Unit Price'!C36 -> 0 | D36: 5 | E36: =C36*D36 -> 0
B37: Aurora | C37: ='Simple Unit Price'!C37 -> 0 | D37: 5 | E37: =C37*D37 -> 0
B38: Chenega | C38: ='Simple Unit Price'!C38 -> 0 | D38: 5 | E38: =C38*D38 -> 0 | G38: Personnel | H38: =SUM(E10:E26) -> 0
B39: Fairweather | C39: ='Simple Unit Price'!C39 -> 0 | D39: 5 | E39: =C39*D39 -> 0 | G39: Vessels and Craft | H39: =SUM(J10:J16,J19:J20) -> 0
B40: LeConte | C40: ='Simple Unit Price'!C40 -> 0 | D40: 5 | E40: =C40*D40 -> 0 | G40: Markup Rate | H40: =J32 -> 0
B41: Taku | C41: ='Simple Unit Price'!C41 -> 0 | D41: 5 | E41: =C41*D41 -> 0 | G41: Retainer Fee | H41: =SUM(E33:E42) -> 0
B42: Tustumena | C42: ='Simple Unit Price'!C42 -> 0 | D42: 5 | E42: =C42*D42 -> 0 | G42: Total Evaluated Price: | H42: =SUM(H38:H41) -> 0
