Workbook

Sheet TOTALS
A1: 24REAA ORDERS
A2: BALLOT ORDER | E2: TEST DECK ORDER | H2: SUMMARY & ICP CARD ORDER
A3: Ballot Card # | B3: REAA/SECTIONS | C3: Ballots | D3: Samples | E3: Straight Order deliver to Directors Office | F3: Deliver to Region? | G3: Reverse Order | H3: Summary Sheet | I3: ICP Cards or ICC Tabulator
B4: REAA 2, SECTION I | C4: =REAA2!F16 -> 0 | D4: =REAA2!J16 -> 0 | E4: 0 | F4: R4 | G4: =REAA2!G3 -> 0 | H4: =REAA2!K16 -> 0 | I4: =REAA2!L16 -> 0
A5: 933 | B5: REAA 2, SECTION II | C5: =REAA2!F33 -> 500 | D5: =REAA2!J33 -> 0 | E5: 0 | F5: R4 | G5: =REAA2!G20 -> 2 | H5: =REAA2!K33 -> 15 | I5: =REAA2!L33 -> HC
B6: REAA 2, SECTION III | C6: =REAA2!F50 -> 0 | D6: =REAA2!J50 -> 0 | E6: 0 | F6: R4 | G6: =REAA2!G37 -> 0 | H6: =REAA2!K50 -> 0 | I6: =REAA2!L50 -> 0
A7: 935 | B7: REAA 2, SECTION IV | C7: =REAA2!F65 -> 325 | D7: =REAA2!J65 -> 15 | E7: 0 | F7: R4 | G7: =REAA2!G54 -> 2 | H7: =REAA2!K65 -> 9 | I7: =REAA2!L65 -> HC
A8: 934 | B8: REAA 2, SECTION V | C8: =REAA2!F81 -> 380 | D8: =REAA2!J81 -> 15 | E8: 0 | F8: R4 | G8: =REAA2!G70 -> 2 | H8: =REAA2!K81 -> 9 | I8: =REAA2!L81 -> 2
A9: 928 | B9: REAA 3 | C9: =REAA3!F23 -> 1355 | D9: =REAA3!J23 -> 60 | E9: 0 | F9: R4 | G9: =REAA3!G3 -> 2 | H9: =REAA3!K23 -> 33 | I9: =REAA3!L23 -> 2
A10: 927 | B10: REAA 4, SECTION I | C10: =REAA4!F18 -> 650 | D10: =REAA4!J18 -> 30 | E10: 0 | F10: R4 | G10: =REAA4!G3 -> 2 | H10: =REAA4!K18 -> 15 | I10: =REAA4!L18 -> HC
A11: 918 | B11: REAA 4, SECTION II | C11: =REAA4!F39 -> 950 | D11: =REAA4!J39 -> 40 | E11: 0 | F11: R4 | G11: =REAA4!G23 -> 2 | H11: =REAA4!K39 -> 24 | I11: =REAA4!L39 -> HC
B12: REAA 4, SECTION III | C12: =REAA4!F59 -> 0 | D12: =REAA4!J59 -> 0 | E12: 0 | F12: R4 | G12: =REAA4!G43 -> 0 | H12: =REAA4!K59 -> 0 | I12: =REAA4!L59 -> HC
A13: 923 | B13: REAA 4, SECTION IV | C13: =REAA4!F75 -> 775 | D13: =REAA4!J75 -> 20 | E13: 0 | F13: R4 | G13: =REAA4!G63 -> 2 | H13: =REAA4!K75 -> 9 | I13: =REAA4!L75 -> 4
B14: REAA 5, SECTION I | C14: ='REAA5 '!F16 -> 0 | D14: ='REAA5 '!J16 -> 0 | E14: 0 | F14: R4 | G14: ='REAA5 '!G3 -> 0 | H14: ='REAA5 '!K16 -> 0 | I14: ='REAA5 '!L16 -> HC
A15: 917 | B15: REAA 5, SECTION II | C15: ='REAA5 '!F32 -> 275 | D15: ='REAA5 '!J32 -> 20 | E15: 0 | F15: R4 | G15: ='REAA5 '!G20 -> 2 | H15: ='REAA5 '!K32 -> 9 | I15: ='REAA5 '!L32 -> HC
A16: 937 | B16: REAA 5, SECTION III (By-Mail) | C16: ='REAA5 '!F47 -> 200 | D16: ='REAA5 '!J47 -> 15 | E16: 0 | F16: R4 | G16: ='REAA5 '!G36 -> 2 | H16: ='REAA5 '!K47 -> 9 | I16: ='REAA5 '!L47 -> 1
A17: 913 | B17: REAA 6 | C17: =REAA6!F19 -> 750 | D17: =REAA6!J19 -> 40 | E17: 0 | F17: R4 | G17: =REAA6!G3 -> 2 | H17: =REAA6!K19 -> 24 | I17: =REAA6!L19 -> 2
A18: 915 | B18: REAA 8 | C18: =REAA8!F14 -> 400 | D18: =REAA8!J14 -> 15 | E18: 0 | F18: R4 | G18: =REAA8!G3 -> 2 | H18: =REAA8!K14 -> 6 | I18: =REAA8!L14 -> HC
A19: 919 | B19: REAA 9 | C19: =REAA9!F14 -> 300 | D19: =REAA9!J14 -> 15 | E19: 0 | F19: R4 | G19: =REAA9!G3 -> 2 | H19: =REAA9!K14 -> 6 | I19: =REAA9!L14 -> HC
A20: 906 | B20: REAA 11, SECTION I | C20: =REAA11!F19 -> 435 | D20: 10 | E20: 0 | F20: R3 | G20: =REAA11!G3 -> 2 | H20: =REAA11!K19 -> 6 | I20: =REAA11!L19 -> HC
A21: 911 | B21: REAA 11, SECTION II | C21: =REAA11!F38 -> 320 | D21: 10 | E21: 0 | F21: R3 | G21: =REAA11!G23 -> 2 | H21: =REAA11!K38 -> 4 | I21: =REAA11!L38 -> HC
A22: 910 | B22: REAA 11, SECTION III | C22: =REAA11!F53 -> 370 | D22: 10 | E22: 0 | F22: R3 | G22: =REAA11!G42 -> 2 | H22: =REAA11!K53 -> 2 | I22: =REAA11!L53 -> HC
A23: 905 | B23: REAA 12, SECTION I | C23: =REAA12!F18 -> 470 | D23: 10 | E23: 0 | F23: R3 | G23: =REAA12!G2 -> 2 | H23: =REAA12!K18 -> 6 | I23: =REAA12!L18 -> HC
A24: 909 | B24: REAA 12, SECTION II | C24: =REAA12!F39 -> 545 | D24: 10 | E24: 0 | F24: R3 | G24: =REAA12!G23 -> 2 | H24: =REAA12!K39 -> 8 | I24: =REAA12!L39 -> HC
A25: 912 | B25: REAA 12, SECTION III (By-Mail) | C25: =REAA12!F58 -> 615 | D25: =REAA12!J58 -> 10 | E25: 0 | F25: R3 | G25: =REAA12!G43 -> 2 | H25: =REAA12!K58 -> 2 | I25: =REAA12!L58 -> 0
A26: 938 | B26: REAA 13, SECTION I (By-Mail) | C26: =REAA13!F14 -> 320 | D26: 10 | E26: 0 | F26: R3 | G26: =REAA13!G3 -> 2 | H26: =REAA13!K14 -> 4 | I26: =REAA13!L14 -> 1
A27: 908 | B27: REAA 13, SECTION II | C27: =REAA13!F30 -> 420 | D27: 10 | E27: 0 | F27: R3 | G27: =REAA13!G18 -> 2 | H27: =REAA13!K30 -> 2 | I27: =REAA13!L30 -> HC
A28: 939 | B28: REAA 13, SECTION III (By-Mail) | C28: =REAA13!F49 -> 420 | D28: =REAA13!J49 -> 5 | E28: 0 | F28: R3 | G28: =REAA13!G35 -> 2 | H28: =REAA13!K49 -> 0 | I28: =REAA13!L49 -> 1
A29: 907 | B29: REAA 15 | C29: =REAA15!F16 -> 495 | D29: 20 | E29: 0 | F29: R3 | G29: =REAA15!G3 -> 2 | H29: =REAA15!K16 -> 4 | I29: =REAA15!L16 -> 4
A30: 940 | B30: REAA 16, SECTION I (By-Mail) | C30: =REAA16!F17 -> 695 | D30: 10 | E30: 0 | F30: R3 | G30: =REAA16!G3 -> 2 | H30: =REAA16!K17 -> 0 | I30: =REAA16!L7 -> 1
A31: 941 | B31: REAA 16, SECTION II (By-Mail) | C31: =REAA16!F32 -> 1470 | D31: 10 | E31: 0 | F31: R3 | G31: 2 | H31: =REAA16!K32 -> 0 | I31: =REAA16!L32 -> 1
B32: REAA 16, SECTION III (By-Mail) | C32: =REAA16!F48 -> 0 | D32: =REAA16!J48 -> 0 | E32: 0 | F32: R3 | G32: =REAA16!G36 -> 0 | H32: =REAA16!K48 -> 0 | I32: =REAA16!L48 -> 0
A33: 942 | B33: REAA 17 (By-Mail) | C33: =REAA17!F18 -> 2770 | D33: 10 | E33: 0 | F33: R3 | G33: =REAA17!G3 -> 2 | H33: =REAA17!K18 -> 0 | I33: =REAA17!L6 -> 1
A34: 902 | B34: REAA 18, SECTION I | C34: =REAA18!F15 -> 425 | D34: =REAA18!J15 -> 25 | E34: 0 | F34: R1 | G34: =REAA18!G3 -> 2 | H34: =REAA18!K15 -> 4 | I34: =REAA18!L15 -> 2
A35: 903 | B35: REAA 18, SECTION II | C35: =REAA18!F32 -> 500 | D35: =REAA18!J32 -> 30 | E35: 0 | F35: R1 | G35: =REAA18!G19 -> 2 | H35: =REAA18!K32 -> 4 | I35: =REAA18!L32 -> 2
A36: 900 | B36: REAA 19 | C36: =REAA19!F24 -> 1050 | D36: =REAA19!J24 -> 70 | E36: 0 | F36: R1 | G36: =REAA19!G3 -> 2 | H36: =REAA19!K24 -> 8 | I36: =REAA19!L24 -> 2
A37: 901 | B37: REAA 20 | C37: =REAA20!F14 -> 550 | D37: =REAA20!J14 -> 20 | E37: 0 | F37: R1 | G37: =REAA20!G3 -> 2 | H37: =REAA20!K14 -> 2 | I37: =REAA20!L14 -> 2
A38: 904 | B38: REAA 21 | C38: =REAA21!F16 -> 390 | D38: =REAA21!J16 -> 30 | E38: 0 | F38: R2 | G38: =REAA21!G3 -> 2 | H38: =REAA21!K16 -> 4 | I38: =REAA21!L16 -> 2
A39: 925 | B39: REAA 22 | C39: =REAA22!F13 -> 225 | D39: =REAA22!J13 -> 10 | E39: 0 | F39: R4 | G39: =REAA22!G3 -> 2 | H39: =REAA22!K13 -> 3 | I39: =REAA22!L13 -> 2
A40: 921 | B40: REAA 23 | C40: =REAA23!F15 -> 425 | D40: =REAA23!J15 -> 20 | E40: 0 | F40: R4 | G40: =REAA23!G3 -> 2 | H40: =REAA23!K15 -> 9 | I40: =REAA23!L15 -> HC
...

Sheet REAA2
B3: REAA 2, SECTION I - NOME REGIONAL OFFICE | F3: TEST BALLOTS | G3: 0
B5: Card # | C5: Delivery | E5: # VOTERS | F5: # BALLOTS | G5: BALLOT SEQ. #'S | J5: SAMPLE | K5: SUMMARY | L5: ICP CARDS
B6: =TOTALS!A4 -> 0 | C6: R4 | D6: 39-902 Brevig Mission | G6: =SUM(I5,1) -> 1 | H6: - | I6: =G6+F6-1 -> 0 | L6: HC
C7: R4 | D7: 39-906 Diomede | G7: =SUM(I6,1) -> 1 | H7: - | I7: =G7+F7-1 -> 0 | L7: HC
C8: R4 | D8: 39-938 Shishmaref | G8: =SUM(I7,1) -> 1 | H8: - | I8: =G8+F8-1 -> 0 | L8: 0
C9: R4 | D9: 39-950 Wales | G9: =SUM(I8,1) -> 1 | H9: - | I9: =G9+F9-1 -> 0 | L9: HC
C10: AP | D10: 90-901 Absentee By Mail | G10: =SUM(I9,1) -> 1 | H10: - | I10: =G10+F10-1 -> 0
C11: R1 | D11: 91-900 Reg. I Absentee | G11: =SUM(I10,1) -> 1 | H11: - | I11: =G11+F11-1 -> 0
C12: R2 | D12: 92-900 Reg. II Absentee | G12: =SUM(I11,1) -> 1 | I12: =G12+F12-1 -> 0
C13: R3 | D13: 93-900 Reg. III Absentee | G13: =SUM(I12,1) -> 1 | H13: - | I13: =G13+F13-1 -> 0
C14: R4 | D14: 94-900 Reg. IV Absentee | G14: =SUM(I13,1) -> 1 | H14: - | I14: =G14+F14-1 -> 0
C15: R5 | D15: 95-900 Region V Absentee | G15: =SUM(I14,1) -> 1 | H15: - | I15: =G15+F15-1 -> 0
D16: TOTAL | E16: =SUM(E6:E15) -> 0 | F16: =SUM(F6:F15) -> 0 | J16: =SUM(J6:J15) -> 0 | K16: =SUM(K6:K15) -> 0 | L16: =SUM(L7:L15) -> 0
B20: REAA 2, SECTION II - NOME REGIONAL OFFICE | F20: TEST BALLOTS | G20: 2
B22: Card # | C22: Delivery | E22: # VOTERS | F22: # BALLOTS | G22: BALLOT SEQ. #'S | J22: SAMPLE | K22: SUMMARY | L22: ICP CARDS
B23: =TOTALS!A5 -> 933 | C23: R4 | D23: 39-908 Elim | E23: 203 | F23: 125 | G23: =1 -> 1 | H23: - | I23: =G23+F23-1 -> 125 | J23: 5 | K23: 3 | L23: HC
C24: R4 | D24: 39-914 Golovin | E24: 104 | F24: 75 | G24: =I23+1 -> 126 | H24: - | I24: =G24+F24-1 -> 200 | J24: 5 | K24: 3 | L24: HC
C25: R4 | D25: 39-946 Teller | E25: 154 | F25: 100 | G25: =I24+1 -> 201 | I25: =G25+F25-1 -> 300 | J25: 5 | K25: 3
C26: R4 | D26: 39-952 White Mountain | E26: 143 | F26: 100 | G26: =I25+1 -> 301 | I26: =G26+F26-1 -> 400 | J26: 5 | K26: 3
C27: AP | D27: 90-901 Absentee By Mail | F27: 50 | G27: =I26+1 -> 401 | H27: - | I27: =G27+F27-1 -> 450
C28: R1 | D28: 91-900 Reg. I Absentee | F28: 25 | G28: =I27+1 -> 451 | H28: - | I28: =G28+F28-1 -> 475 | L28: HC
C29: R2 | D29: 92-900 Reg. II Absentee | F29: 10 | G29: =I28+1 -> 476 | H29: - | I29: =G29+F29-1 -> 485
C30: R3 | D30: 93-900 Reg. III Absentee | F30: 5 | G30: =I29+1 -> 486 | H30: - | I30: =G30+F30-1 -> 490
C31: R4 | D31: 94-900 Reg. IV Absentee | F31: 5 | G31: =I30+1 -> 491 | H31: - | I31: =G31+F31-1 -> 495 | J31: 5 | K31: 3
C32: R5 | D32: 95-900 Region V Absentee | F32: 5 | G32: =I31+1 -> 496 | H32: - | I32: =G32+F32-1 -> 500
D33: TOTAL | E33: =SUM(E23:E32) -> 604 | F33: =SUM(F23:F32) -> 500 | K33: =SUM(K23:K32) -> 15 | L33: HC
B37: REAA 2, SECTION III - NOME REGIONAL OFFICE | F37: TEST BALLOTS | G37: 0
B39: Card # | C39: Delivery | E39: # VOTERS | F39: # BALLOTS | G39: BALLOT SEQ. #'S | J39: SAMPLE | K39: SUMMARY | L39: ICP CARDS
B40: =TOTALS!A6 -> 0 | C40: R4 | D40: 39-920 Koyuk | G40: 1 | H40: - | I40: =G40+F40-1 -> 0 | L40: HC
C41: R4 | D41: 39-936 Shaktoolik | G41: =I40+1 -> 1 | H41: - | I41: =G41+F41-1 -> 0 | L41: HC
C42: R4 | D42: 39-948 Unalakleet | G42: =I41+1 -> 1 | H42: - | I42: =G42+F42-1 -> 0 | L42: 0
C43: R4 | D43: 39-982 Unalakleet AVO | G43: =I42+1 -> 1 | H43: - | I43: =G43+F43-1 -> 0 | L43: HC
C44: AP | D44: 90-901 Absentee By Mail | G44: =I43+1 -> 1 | H44: - | I44: =G44+F44-1 -> 0
C45: R1 | D45: 91-900 Reg. I Absentee | G45: =I44+1 -> 1 | H45: - | I45: =G45+F45-1 -> 0 | L45: HC
C46: R2 | D46: 92-900 Reg. II Absentee | G46: =I45+1 -> 1 | H46: - | I46: =G46+F46-1 -> 0
C47: R3 | D47: 93-900 Reg. III Absentee | G47: =I46+1 -> 1 | H47: - | I47: =G47+F47-1 -> 0
C48: R4 | D48: 94-900 Reg. IV Absentee | G48: =I47+1 -> 1 | H48: - | I48: =G48+F48-1 -> 0
C49: R5 | D49: 95-900 Region V Absentee | G49: =I48+1 -> 1 | H49: - | I49: =G49+F49-1 -> 0
D50: TOTAL | E50: =SUM(E40:E49) -> 0 | F50: =SUM(F40:F49) -> 0 | J50: =SUM(J40:J49) -> 0 | K50: =SUM(K40:K49) -> 0 | L50: =SUM(L40:L49) -> 0
B54: REAA 2, SECTION IV - NOME REGIONAL OFFICE | F54: TEST BALLOTS | G54: 2
...

Sheet REAA3
B3: REAA 3 - NOME REGIONAL OFFICE | F3: TEST BALLOTS | G3: 2
B5: Card # | C5: Delivery | D5: PRECINCTS and AVOs | E5: # VOTERS | F5: # BALLOTS | G5: BALLOT SEQ. #'S | J5: SAMPLE | K5: SUMMARY | L5: ICP CARDS
B6: =TOTALS!A9 -> 928 | C6: R4 | D6: 39-921 Marshall | E6: 278 | F6: 150 | G6: 1 | H6: - | I6: =G6+F6-1 -> 150 | J6: 5 | K6: 3 | L6: HC
C7: R4 | D7: 39-931 Russian Mission | E7: 225 | F7: 100 | G7: =I6+1 -> 151 | H7: - | I7: =G7+F7-1 -> 250 | J7: 5 | K7: 3 | L7: HC
C8: R4 | D8: 39-900 Alakanuk | E8: 393 | F8: 75 | G8: =I7+1 -> 251 | H8: - | I8: =G8+F8-1 -> 325 | J8: 5 | K8: 3 | L8: HC
C9: R4 | D9: 39-910 Emmonak | E9: 510 | F9: 150 | G9: =I8+1 -> 326 | H9: - | I9: =G9+F9-1 -> 475 | J9: 5 | K9: 3 | L9: HC
C10: R4 | D10: 39-916 Hooper Bay | E10: 673 | F10: 150 | G10: =I9+1 -> 476 | H10: - | I10: =G10+F10-1 -> 625 | J10: 5 | K10: 3 | L10: 2
C11: R4 | D11: 39-918 Kotlik | E11: 343 | F11: 150 | G11: =I10+1 -> 626 | H11: - | I11: =G11+F11-1 -> 775 | J11: 5 | K11: 3 | L11: HC
C12: R4 | D12: 39-922 Mountain Village | E12: 430 | F12: 150 | G12: =I11+1 -> 776 | H12: - | I12: =G12+F12-1 -> 925 | J12: 5 | K12: 3 | L12: HC
C13: R4 | D13: 39-928 Nunam Iqua | E13: 125 | F13: 75 | G13: =I12+1 -> 926 | H13: - | I13: =G13+F13-1 -> 1000 | J13: 5 | K13: 3 | L13: HC
C14: R4 | D14: 39-930 Pilot Station | E14: 358 | F14: 150 | G14: =I13+1 -> 1001 | H14: - | I14: =G14+F14-1 -> 1150 | J14: 5 | K14: 3 | L14: HC
C15: R4 | D15: 39-934 Scammon Bay | E15: 371 | F15: 100 | G15: =I14+1 -> 1151 | H15: - | I15: =G15+F15-1 -> 1250 | J15: 5 | K15: 3 | L15: HC
C16: R4 | D16: 39-980 Pitka's Point AVO | F16: 25 | G16: =I15+1 -> 1251 | H16: - | I16: =G16+F16-1 -> 1275 | J16: 5
C17: AP | D17: 90-901 Absentee By Mail | F17: 25 | G17: =I16+1 -> 1276 | H17: - | I17: =G17+F17-1 -> 1300
C18: R1 | D18: 91-900 Reg. I Absentee | F18: 25 | G18: =I17+1 -> 1301 | I18: =G18+F18-1 -> 1325
C19: R2 | D19: 92-900 Reg. II Absentee | F19: 10 | G19: =I18+1 -> 1326 | H19: - | I19: =G19+F19-1 -> 1335
C20: R3 | D20: 93-900 Reg. III Absentee | F20: 5 | G20: =I19+1 -> 1336 | H20: - | I20: =G20+F20-1 -> 1340
C21: R4 | D21: 94-900 Reg. IV Absentee | F21: 10 | G21: =I20+1 -> 1341 | H21: - | I21: =G21+F21-1 -> 1350 | J21: 5 | K21: 3
C22: R5 | D22: 95-900 Region V Absentee | F22: 5 | G22: =I21+1 -> 1351 | H22: - | I22: =G22+F22-1 -> 1355
D23: TOTAL | E23: =SUM(E6:E22) -> 3706 | F23: =SUM(F6:F22) -> 1355 | J23: =SUM(J6:J22) -> 60 | K23: =SUM(K6:K22) -> 33 | L23: 2

Sheet REAA4
B3: REAA 4, SECTION I - NOME REGIONAL OFFICE | F3: TEST BALLOTS | G3: 2
B5: Card # | C5: Delivery | E5: # VOTERS | F5: # BALLOTS | G5: BALLOT SEQ. #'S | J5: SAMPLE | K5: SUMMARY | L5: ICP CARDS
B6: =TOTALS!A10 -> 927 | C6: R4 | D6: 38-836 Mekoryuk | E6: 133 | F6: 75 | G6: 1 | H6: - | I6: =SUM(G6+F6)-1 -> 75 | J6: 5 | K6: 3 | L6: HC
C7: R4 | D7: 38-842 Newtok | E7: 200 | F7: 100 | G7: =I6+1 -> 76 | H7: - | I7: =SUM(G7+F7)-1 -> 175 | J7: 5 | K7: 3 | L7: HC
C8: R4 | D8: 38-844 Nightmute | E8: 148 | F8: 75 | G8: =I7+1 -> 176 | H8: - | I8: =SUM(G8+F8)-1 -> 250 | J8: 5 | K8: 3 | L8: HC
C9: R4 | D9: 38-852 Toksook Bay | E9: 428 | F9: 125 | G9: =I8+1 -> 251 | H9: - | I9: =SUM(G9+F9)-1 -> 375 | J9: 5 | K9: 3 | L9: HC
C10: R4 | D10: 38-858 Tununak | E10: 243 | F10: 125 | G10: =I9+1 -> 376 | H10: - | I10: =SUM(G10+F10)-1 -> 500 | J10: 5 | K10: 3 | L10: HC
C11: R4 | D11: 38-999 Mertarvik AVO | F11: 150 | G11: =I10+1 -> 501 | I11: =SUM(G11+F11)-1 -> 650 | J11: 5 | K11: 3
C12: R1 | D12: 91-900 Reg. I Absentee | F12: 25 | G12: =I11+1 -> 651 | I12: =SUM(G12+F12)-1 -> 675
C13: AP | D13: 90-901 Absentee By Mail | F13: 25 | G13: =I12+1 -> 676 | H13: - | I13: =SUM(G13+F13)-1 -> 700
C14: R2 | D14: 92-900 Reg. II Absentee | F14: 10 | G14: =I13+1 -> 701 | H14: - | I14: =SUM(G14+F14)-1 -> 710
C15: R3 | D15: 93-900 Reg. III Absentee | F15: 5 | G15: =I14+1 -> 711 | H15: - | I15: =SUM(G15+F15)-1 -> 715
C16: R4 | D16: 94-900 Reg. IV Absentee | F16: 5 | G16: =I15+1 -> 716 | H16: - | I16: =SUM(G16+F16)-1 -> 720 | J16: 5 | K16: 3
C17: R5 | D17: 95-900 Region V Absentee | F17: 5 | G17: =I16+1 -> 721 | H17: - | I17: =SUM(G17+F17)-1 -> 725
D18: TOTAL | E18: =SUM(E7:E17) -> 1019 | F18: =SUM(F7:F17) -> 650 | J18: =SUM(J7:J17) -> 30 | K18: =SUM(K7:K12) -> 15 | L18: HC
B22: REAA 4, SECTION II - NOME REGIONAL OFFICE
F23: TEST BALLOTS | G23: 2
B25: Card # | C25: Delivery | E25: # VOTERS | F25: # BALLOTS | G25: BALLOT SEQ. #'S | J25: SAMPLE | K25: SUMMARY | L25: ICP CARDS
B26: =TOTALS!A11 -> 918 | C26: R4 | D26: 37-719 Goodnews Bay | E26: 201 | F26: 125 | G26: 1 | H26: - | I26: =SUM(G26+F26)-1 -> 125 | J26: 5 | K26: 3 | L26: HC
C27: R4 | D27: 38-812 Chefornak | E27: 322 | F27: 125 | G27: =I26+1 -> 126 | H27: - | I27: =G27+F27-1 -> 250 | J27: 5 | K27: 3 | L27: HC
C28: R4 | D28: 38-818 Eek | E28: 227 | F28: 125 | G28: =I27+1 -> 251 | H28: - | I28: =G28+F28-1 -> 375 | J28: 5 | K28: 3 | L28: HC
C29: R4 | D29: 38-824 Kipnuk | E29: 457 | F29: 125 | G29: =I28+1 -> 376 | H29: - | I29: =G29+F29-1 -> 500 | J29: 5 | K29: 3 | L29: HC
C30: R4 | D30: 38-826 Kongiganak | E30: 326 | F30: 125 | G30: =I29+1 -> 501 | H30: - | I30: =G30+F30-1 -> 625 | J30: 5 | K30: 3 | L30: HC
C31: R4 | D31: 38-830 Kwigillingok | E31: 238 | F31: 100 | G31: =I30+1 -> 626 | H31: - | I31: =G31+F31-1 -> 725 | J31: 5 | K31: 3 | L31: HC
C32: R4 | D32: 38-848 Quinhagak | E32: 471 | F32: 150 | G32: =I31+1 -> 726 | H32: - | I32: =G32+F32-1 -> 875 | J32: 5 | K32: 3 | L32: HC
C33: AP | D33: 90-901 Absentee By Mail | F33: 25 | G33: =I32+1 -> 876 | H33: - | I33: =SUM(G33+F33)-1 -> 900
C34: R1 | D34: 91-900 Reg. I Absentee | F34: 25 | G34: =I33+1 -> 901 | I34: =SUM(G34+F34)-1 -> 925 | L34: HC
C35: R2 | D35: 92-900 Reg. II Absentee | F35: 10 | G35: =I34+1 -> 926 | H35: - | I35: =SUM(G35+F35)-1 -> 935
C36: R3 | D36: 93-900 Reg. III Absentee | F36: 5 | G36: =I35+1 -> 936 | H36: - | I36: =SUM(G36+F36)-1 -> 940
C37: R4 | D37: 94-900 Reg. IV Absentee | F37: 5 | G37: =I36+1 -> 941 | H37: - | I37: =SUM(G37+F37)-1 -> 945 | J37: 5 | K37: 3
C38: R5 | D38: 95-900 Region V Absentee | F38: 5 | G38: =I37+1 -> 946 | H38: - | I38: =SUM(G38+F38)-1 -> 950
D39: TOTAL | E39: =SUM(E26:E38) -> 2242 | F39: =SUM(F26:F38) -> 950 | J39: =SUM(J26:J38) -> 40 | K39: =SUM(K26:K38) -> 24 | L39: HC
B43: REAA 4, SECTION III - NOME REGIONAL OFFICE | F43: TEST BALLOTS | G43: 0
B45: Card # | C45: Delivery | E45: # VOTERS | F45: # BALLOTS | G45: BALLOT SEQ. #'S | J45: SAMPLE | K45: SUMMARY | L45: ICP CARDS
B46: =TOTALS!A12 -> 0 | C46: R4 | D46: 38-806 Atmautluak | G46: 1 | H46: - | I46: =G46+F46-1 -> 0 | L46: HC
C47: R4 | D47: 38-822 Kasigluk | G47: =I46+1 -> 1 | H47: - | I47: =G47+F47-1 -> 0 | L47: HC
C48: R4 | D48: 38-828 Kwethluk | G48: =I47+1 -> 1 | H48: - | I48: =G48+F48-1 -> 0 | L48: HC
C49: R4 | D49: 38-838 Napakiak | G49: =I48+1 -> 1 | H49: - | I49: =G49+F49-1 -> 0 | L49: HC
C50: R4 | D50: 38-840 Napaskiak | G50: =I49+1 -> 1 | H50: - | I50: =G50+F50-1 -> 0 | L50: HC
C51: R4 | D51: 38-846 Nunapitchuk | G51: =I50+1 -> 1 | H51: - | I51: =G51+F51-1 -> 0 | L51: HC
...

Sheet REAA5 
B3: REAA 5, SECTION I - NOME REGIONAL OFFICE | F3: TEST BALLOTS | G3: 0
B5: Card # | C5: Delivery | E5: # VOTERS | F5: # BALLOTS | G5: BALLOT SEQ. #'S | J5: SAMPLE | K5: SUMMARY | L5: ICP CARDS
B6: =TOTALS!A14 -> 0 | C6: R4 | D6: 37-713 Crooked Creek | E6: 63 | G6: 1 | H6: - | I6: =G6+F6-1 -> 0 | L6: HC
C7: R4 | D7: 37-731 Lower Kalskag | E7: 154 | G7: =I6+1 -> 1 | H7: - | I7: =G7+F7-1 -> 0 | L7: HC
C8: R4 | D8: 37-758 Upper Kalskag | E8: 130 | G8: =I7+1 -> 1 | H8: - | I8: =G8+F8-1 -> 0 | L8: HC
C9: R4 | D9: 38-980 Aniak AVO | G9: =I8+1 -> 1 | H9: - | I9: =G9+F9-1 -> 0
C10: AP | D10: 90-901 Absentee By Mail | G10: =I9+1 -> 1 | H10: - | I10: =G10+F10-1 -> 0
C11: R1 | D11: 91-900 Reg. I Absentee | G11: =I10+1 -> 1 | I11: =G11+F11-1 -> 0 | L11: HC
C12: R2 | D12: 92-900 Reg. II Absentee | G12: =I11+1 -> 1 | H12: - | I12: =G12+F12-1 -> 0
C13: R3 | D13: 93-900 Reg. III Absentee | G13: =I12+1 -> 1 | H13: - | I13: =G13+F13-1 -> 0
C14: R4 | D14: 94-900 Reg. IV Absentee | G14: =I13+1 -> 1 | H14: - | I14: =G14+F14-1 -> 0
C15: R5 | D15: 95-900 Region V Absentee | G15: =I14+1 -> 1 | H15: - | I15: =G15+F15-1 -> 0
D16: TOTAL | E16: =SUM(E6:E15) -> 347 | F16: =SUM(F6:F15) -> 0 | J16: =SUM(J6:J15) -> 0 | K16: =SUM(K6:K15) -> 0 | L16: HC
B20: REAA 5, SECTION II - NOME REGIONAL OFFICE | F20: TEST BALLOTS | G20: 2
B22: Card # | C22: Delivery | E22: # VOTERS | F22: # BALLOTS | G22: BALLOT SEQ. #'S | J22: SAMPLE | K22: SUMMARY | L22: ICP CARDS
B23: =TOTALS!A15 -> 917 | C23: R4 | D23: 37-707 Aniak | E23: 316 | F23: 150 | G23: 1 | H23: - | I23: =F23 -> 150 | J23: 5 | K23: 3 | L23: HC
C24: R4 | D24: 37-709 Chauthbaluk | E24: 55 | F24: 25 | G24: =I23+1 -> 151 | H24: - | I24: =G24+F24-1 -> 175 | J24: 5 | K24: 3 | L24: HC
C25: R4 | D25: 38-980 Aniak AVO | F25: 25 | G25: =I24+1 -> 176 | H25: - | I25: =G25+F25-1 -> 200 | J25: 5 | K25: 3
C26: AP | D26: 90-901 Absentee By Mail | F26: 25 | G26: =I25+1 -> 201 | H26: - | I26: =G26+F26-1 -> 225
C27: R1 | D27: 91-900 Reg. I Absentee | F27: 25 | G27: =I26+1 -> 226 | I27: =G27+F27-1 -> 250
C28: R2 | D28: 92-900 Reg. II Absentee | F28: 10 | G28: =I27+1 -> 251 | H28: - | I28: =G28+F28-1 -> 260
C29: R3 | D29: 93-900 Reg. III Absentee | F29: 5 | G29: =I28+1 -> 261 | H29: - | I29: =G29+F29-1 -> 265
C30: R4 | D30: 94-900 Reg. IV Absentee | F30: 5 | G30: =I29+1 -> 266 | H30: - | I30: =G30+F30-1 -> 270 | J30: 5 | K30: 3
C31: R5 | D31: 95-900 Region V Absentee | F31: 5 | G31: =I30+1 -> 271 | H31: - | I31: =G31+F31-1 -> 275
D32: TOTAL | E32: =SUM(E23:E31) -> 371 | F32: =SUM(F23:F31) -> 275 | J32: =SUM(J23:J31) -> 20 | K32: =SUM(K23:K27) -> 9 | L32: HC
B36: REAA 5, SECTION III - NOME REGIONAL OFFICE | F36: TEST BALLOTS | G36: 2
B38: Card # | C38: Delivery | E38: # VOTERS | G38: BALLOT SEQ. #'S | L38: ICC TAB.
B39: =TOTALS!A16 -> 937 | C39: R4 | D39: 37-746 Sleetmute | E39: 97 | F39: by-mail | H39: N/A | J39: 5 | K39: 3 | L39: 1
C40: R4 | D40: 38-980 Aniak AVO | F40: 25 | G40: =I39+1 -> 1 | H40: - | I40: =G40+F40-1 -> 25 | J40: 5 | K40: 3
C41: AP | D41: 90-901 Absentee By Mail | F41: 125 | G41: =I40+1 -> 26 | H41: - | I41: =G41+F41-1 -> 150
C42: R1 | D42: 91-900 Reg. I Absentee | F42: 25 | G42: =I41+1 -> 151 | I42: =G42+F42-1 -> 175
C43: R2 | D43: 92-900 Reg. II Absentee | F43: 10 | G43: =I42+1 -> 176 | H43: - | I43: =G43+F43-1 -> 185
C44: R3 | D44: 93-900 Reg. III Absentee | F44: 5 | G44: =I43+1 -> 186 | H44: - | I44: =G44+F44-1 -> 190 | J44: 0
C45: R4 | D45: 94-900 Reg. IV Absentee | F45: 5 | G45: =I44+1 -> 191 | H45: - | I45: =G45+F45-1 -> 195 | J45: 5 | K45: 3
C46: R5 | D46: 95-900 Region V Absentee | F46: 5 | G46: =I45+1 -> 196 | H46: - | I46: =G46+F46-1 -> 200
D47: TOTAL | E47: =SUM(E39:E46) -> 97 | F47: =SUM(F39:F46) -> 200 | J47: =SUM(J39:J46) -> 15 | K47: =SUM(K39:K46) -> 9 | L47: =SUM(L39) -> 1

Sheet REAA6
B3: REAA 6 - NOME REGIONAL OFFICE | F3: TEST BALLOTS | G3: 2
B5: Card # | C5: Delivery | E5: # VOTERS | F5: # BALLOTS | G5: BALLOT SEQ. #'S | J5: SAMPLE | K5: SUMMARY | L5: ICP CARDS
B6: =TOTALS!A17 -> 913 | C6: R4 | D6: 37-702 Aleknagik | E6: 166 | F6: 75 | G6: 1 | H6: - | I6: =G6+F6-1 -> 75 | J6: 5 | K6: 3 | L6: HC
C7: R4 | D7: 37-710 Clark's Point | E7: 46 | F7: 50 | G7: =I6+1 -> 76 | H7: - | I7: =G7+F7-1 -> 125 | J7: 5 | K7: 3 | L7: HC
C8: R4 | D8: 37-718 Ekwok | E8: 72 | F8: 100 | G8: =I7+1 -> 126 | H8: - | I8: =G8+F8-1 -> 225 | J8: 5 | K8: 3 | L8: HC
C9: R4 | D9: 37-724 Koliganek | E9: 112 | F9: 75 | G9: =I8+1 -> 226 | H9: - | I9: =G9+F9-1 -> 300 | J9: 5 | K9: 3 | L9: HC
C10: R4 | D10: 37-732 Manokatak | E10: 334 | F10: 125 | G10: =I9+1 -> 301 | H10: - | I10: =G10+F10-1 -> 425 | J10: 5 | K10: 3 | L10: HC
C11: R4 | D11: 37-736 New Stuyahok | E11: 296 | F11: 100 | G11: =I10+1 -> 426 | H11: - | I11: =G11+F11-1 -> 525 | J11: 5 | K11: 3 | L11: HC
C12: R4 | D12: 37-754 Togiak | E12: 580 | F12: 150 | G12: =I11+1 -> 526 | H12: - | I12: =G12+F12-1 -> 675 | J12: 5 | K12: 3 | L12: 2
C13: AP | D13: 90-901 Absentee By Mail | F13: 25 | G13: =I12+1 -> 676 | H13: - | I13: =G13+F13-1 -> 700
C14: R1 | D14: 91-900 Reg. I Absentee | F14: 25 | G14: =I13+1 -> 701 | H14: - | I14: =G14+F14-1 -> 725
C15: R2 | D15: 92-900 Reg. II Absentee | F15: 10 | G15: =I14+1 -> 726 | I15: =G15+F15-1 -> 735
C16: R3 | D16: 93-900 Reg. III Absentee | F16: 5 | G16: =I15+1 -> 736 | H16: - | I16: =G16+F16-1 -> 740
C17: R4 | D17: 94-900 Reg. IV Absentee | F17: 5 | G17: =I16+1 -> 741 | H17: - | I17: =G17+F17-1 -> 745 | J17: 5 | K17: 3
C18: R5 | D18: 95-900 Region V Absentee | F18: 5 | G18: =I17+1 -> 746 | H18: - | I18: =G18+F18-1 -> 750
D19: TOTAL | E19: =SUM(E6:E18) -> 1606 | F19: =SUM(F6:F18) -> 750 | J19: =SUM(J6:J18) -> 40 | K19: =SUM(K6:K18) -> 24 | L19: =SUM(L6:L18) -> 2

Sheet REAA8
B3: REAA 8 - NOME REGIONAL OFFICE | F3: TEST BALLOTS | G3: 2
B5: Card # | C5: Delivery | E5: # VOTERS | F5: # BALLOTS | G5: BALLOT SEQ. #'S | J5: SAMPLE | K5: SUMMARY | L5: ICP CARDS
B6: =TOTALS!A18 -> 915 | C6: R4 | D6: 37-704 Aleutians #1 (Adak) | E6: 151 | F6: 125 | G6: 1 | H6: - | I6: =G6+F6-1 -> 125 | J6: 5 | K6: 3 | L6: HC
C7: R4 | D7: 37-980 Atka AVO | F7: 175 | G7: =I6+1 -> 126 | H7: - | I7: =G7+F7-1 -> 300 | J7: 5
C8: AP | D8: 90-901 Absentee By Mail | F8: 50 | G8: =I7+1 -> 301 | H8: - | I8: =G8+F8-1 -> 350
C9: R1 | D9: 91-900 Reg. I Absentee | F9: 25 | G9: =I8+1 -> 351 | H9: - | I9: =G9+F9-1 -> 375
C10: R2 | D10: 92-900 Reg. II Absentee | F10: 10 | G10: =I9+1 -> 376 | I10: =G10+F10-1 -> 385
C11: R3 | D11: 93-900 Reg. III Absentee | F11: 5 | G11: =I10+1 -> 386 | H11: - | I11: =G11+F11-1 -> 390
C12: R4 | D12: 94-900 Reg. IV Absentee | F12: 5 | G12: =I11+1 -> 391 | H12: - | I12: =G12+F12-1 -> 395 | J12: 5 | K12: 3
C13: R5 | D13: 95-900 Region V Absentee | F13: 5 | G13: =I12+1 -> 396 | H13: - | I13: =G13+F13-1 -> 400
D14: TOTAL | E14: =SUM(E6:E13) -> 151 | F14: =SUM(F6:F13) -> 400 | J14: =SUM(J6:J13) -> 15 | K14: =SUM(K6:K13) -> 6 | L14: HC
D16: Note: 37-702 Nikolski and Atka are PAV so need to have
D17: enough ballots ordered for these voters as well.
D19: A&P Office order enough ballots for this area.

Sheet REAA9
B3: REAA 9 - NOME REGIONAL OFFICE | F3: TEST BALLOTS | G3: 2
B5: Card # | C5: Delivery | E5: # VOTERS | F5: # BALLOTS | G5: BALLOT SEQ. #'S | J5: SAMPLE | K5: SUMMARY | L5: ICP CARDS
B6: =TOTALS!A19 -> 919 | C6: R4 | D6: 37-750 St. George Island | E6: 33 | F6: 50 | G6: 1 | H6: - | I6: =F6 -> 50 | J6: 5 | K6: 3 | L6: HC
C7: R4 | D7: 37-752 St. Paul Island | E7: 266 | F7: 150 | G7: =I6+1 -> 51 | H7: - | I7: =G7+F7-1 -> 200 | J7: 5 | K7: 3 | L7: HC
C8: AP | D8: 90-901 Absentee By Mail | F8: 50 | G8: =I7+1 -> 201 | H8: - | I8: =G8+F8-1 -> 250
C9: R1 | D9: 91-900 Reg. I Absentee | F9: 25 | G9: =I8+1 -> 251 | I9: =G9+F9-1 -> 275
C10: R2 | D10: 92-900 Reg. II Absentee | F10: 10 | G10: =I9+1 -> 276 | H10: - | I10: =G10+F10-1 -> 285
C11: R3 | D11: 93-900 Reg. III Absentee | F11: 5 | G11: =I10+1 -> 286 | H11: - | I11: =G11+F11-1 -> 290
C12: R4 | D12: 94-900 Reg. IV Absentee | F12: 5 | G12: =I11+1 -> 291 | H12: - | I12: =G12+F12-1 -> 295 | J12: 5 | K12: 3
C13: R5 | D13: 95-900 Region V Absentee | F13: 5 | G13: =I12+1 -> 296 | H13: - | I13: =G13+F13-1 -> 300
D14: TOTAL | E14: =SUM(E6:E13) -> 299 | F14: =SUM(F6:F13) -> 300 | J14: =SUM(J6:J13) -> 15 | K14: =SUM(K6:K9) -> 6 | L14: HC

Sheet REAA11
B3: REAA 11, SECTION I - NOME & FAIRBANKS REGIONAL OFFICE | F3: TEST BALLOTS | G3: 2
B5: Card # | C5: Delivery | E5: # VOTERS | F5: # BALLOTS | G5: BALLOT SEQ. #'S | J5: SAMPLE | K5: SUMMARY | L5: ICP CARDS
B6: =TOTALS!A20 -> 906 | C6: R3 | D6: 36-014 Anvik | E6: 46 | F6: 40 | G6: 1 | H6: - | I6: =G6+F6-1 -> 40 | J6: 5 | K6: 2 | L6: HC
C7: R3 | D7: 36-082 Grayling | E7: 117 | F7: 75 | G7: =I6+1 -> 41 | H7: - | I7: =G7+F7-1 -> 115 | J7: 5 | K7: 2 | L7: HC
C8: R3 | D8: 36-086 Holy Cross | E8: 113 | F8: 100 | G8: =I7+1 -> 116 | H8: - | I8: =G8+F8-1 -> 215 | J8: 5 | K8: 2 | L8: HC
C9: R3 | D9: 63-114 McGrath AVO | F9: 50 | G9: =I8+1 -> 216 | H9: - | I9: =G9+F9-1 -> 265 | J9: 5
C10: R3 | D10: 63-014 Anvik AVO | F10: 25 | G10: =I9+1 -> 266 | H10: - | I10: =G10+F10-1 -> 290 | J10: 5
C11: R3 | D11: 63-086 Holy Cross AVO | F11: 25 | G11: =I10+1 -> 291 | H11: - | I11: =G11+F11-1 -> 315 | J11: 5
C12: R3 | D12: 63-082 Grayling AVO | F12: 25 | G12: =I11+1 -> 316 | H12: - | I12: =G12+F12-1 -> 340 | J12: 5
C13: AP | D13: 90-901 Absentee By Mail | F13: 25 | G13: =I12+1 -> 341 | H13: - | I13: =G13+F13-1 -> 365
C14: R3 | D14: 93-900 Reg. III Absentee | F14: 25 | G14: =I13+1 -> 366 | H14: - | I14: =G14+F14-1 -> 390
C15: R1 | D15: 91-900 Reg. I Absentee | F15: 25 | G15: =I14+1 -> 391 | H15: - | I15: =G15+F15-1 -> 415
C16: R2 | D16: 92-900 Reg. II Absentee | F16: 10 | G16: =I15+1 -> 416 | H16: - | I16: =G16+F16-1 -> 425
C17: R4 | D17: 94-900 Reg. IV Absentee | F17: 5 | G17: =I16+1 -> 426 | H17: - | I17: =G17+F17-1 -> 430 | J17: 5
C18: R5 | D18: 95-900 Region V Absentee | F18: 5 | G18: =I17+1 -> 431 | H18: - | I18: =G18+F18-1 -> 435
D19: TOTAL | E19: =SUM(E6:E18) -> 276 | F19: =SUM(F6:F18) -> 435 | J19: =SUM(J6:J18) -> 40 | K19: =SUM(K6:K18) -> 6 | L19: HC
B23: REAA 11, SECTION II - FAIRBANKS REGIONAL OFFICE | F23: TEST BALLOTS | G23: 2
B25: Card # | C25: Delivery | E25: # VOTERS | G25: BALLOT SEQ. #'S | J25: SAMPLE | K25: SUMMARY | L25: ICP CARDS
B26: =TOTALS!A21 -> 911 | C26: R3 | D26: 36-130 Nikolai | E26: 66 | F26: 50 | G26: 1 | H26: - | I26: =G26+F26-1 -> 50 | J26: 5 | K26: 2 | L26: HC
C27: R3 | D27: 36-146 Shageluk | E27: 55 | F27: 50 | G27: =I26+1 -> 51 | H27: - | I27: =G27+F27-1 -> 100 | J27: 5 | K27: 2 | L27: HC
C28: R3 | D28: 63-130 Nikolai AVO | F28: 25 | G28: =I27+1 -> 101 | I28: =G28+F28-1 -> 125 | J28: 5
C29: R3 | D29: 63-146 Shageluk AVO | F29: 25 | G29: =I28+1 -> 126 | I29: =G29+F29-1 -> 150 | J29: 5
C30: R3 | D30: 63-149 Takotna AVO | F30: 25 | G30: =I29+1 -> 151 | I30: =G30+F30-1 -> 175 | J30: 5
C31: R3 | D31: 63-114 McGrath AVO | F31: 50 | G31: =I30+1 -> 176 | H31: - | I31: =G31+F31-1 -> 225 | J31: 5
C32: AP | D32: 90-901 Absentee By Mail | F32: 25 | G32: =I31+1 -> 226 | H32: - | I32: =G32+F32-1 -> 250
C33: R1 | D33: 91-900 Reg. I Absentee | F33: 25 | G33: =I32+1 -> 251 | H33: - | I33: =G33+F33-1 -> 275
C34: R3 | D34: 93-900 Reg. III Absentee | F34: 25 | G34: =I33+1 -> 276 | H34: - | I34: =G34+F34-1 -> 300
C35: R2 | D35: 92-900 Reg. II Absentee | F35: 10 | G35: =I34+1 -> 301 | H35: - | I35: =G35+F35-1 -> 310
C36: R4 | D36: 94-900 Reg. IV Absentee | F36: 5 | G36: =I35+1 -> 311 | H36: - | I36: =G36+F36-1 -> 315 | J36: 5
C37: R5 | D37: 95-900 Region V Absentee | F37: 5 | G37: =I36+1 -> 316 | H37: - | I37: =G37+F37-1 -> 320
D38: TOTAL | E38: =SUM(E26:E37) -> 121 | F38: =SUM(F26:F37) -> 320 | J38: =SUM(J26:J37) -> 35 | K38: =SUM(K26:K37) -> 4 | L38: HC
B42: REAA 11, SECTION III - FAIRBANKS REGIONAL OFFICE | F42: TEST BALLOTS | G42: 2
B44: Card # | C44: Delivery | E44: # VOTERS | G44: BALLOT SEQ. #'S | J44: SAMPLE | K44: SUMMARY | L44: ICP CARDS
B45: =TOTALS!A22 -> 910 | C45: R3 | D45: 36-114 McGrath | E45: 267 | F45: 200 | G45: 1 | H45: - | I45: =G45+F45-1 -> 200 | J45: 5 | K45: 2 | L45: HC
C46: R3 | D46: 63-114 McGrath AVO | F46: 50 | G46: =I45+1 -> 201 | H46: - | I46: =G46+F46-1 -> 250 | J46: 5
C47: AP | D47: 90-901 Absentee By Mail | F47: 50 | G47: =I46+1 -> 251 | H47: - | I47: =G47+F47-1 -> 300
C48: R3 | D48: 93-900 Reg. III Absentee | F48: 25 | G48: =I47+1 -> 301 | H48: - | I48: =G48+F48-1 -> 325
C49: R1 | D49: 91-900 Reg. I Absentee | F49: 25 | G49: =I48+1 -> 326 | H49: - | I49: =G49+F49-1 -> 350
C50: R2 | D50: 92-900 Reg. II Absentee | F50: 10 | G50: =I49+1 -> 351 | H50: - | I50: =G50+F50-1 -> 360
C51: R4 | D51: 94-900 Reg. IV Absentee | F51: 5 | G51: =I50+1 -> 361 | H51: - | I51: =G51+F51-1 -> 365 | J51: 5
...

Sheet REAA12
B2: REAA 12, SECTION I - FAIRBANKS REGIONAL OFFICE | F2: TEST BALLOTS | G2: 2
B4: Card # | C4: Delivery | E4: # VOTERS | F4: # BALLOTS | G4: BALLOT SEQ. #'S | J4: SAMPLE | K4: SUMMARY | L4: ICP CARDS
B5: =TOTALS!A23 -> 905 | C5: R3 | D5: 36-010 Allakaket | E5: 116 | F5: 100 | G5: 1 | H5: - | I5: =G5+F5-1 -> 100 | J5: 5 | K5: 2 | L5: HC
C6: R3 | D6: 36-026 Bettles | E6: 69 | F6: 50 | G6: =I5+1 -> 101 | H6: - | I6: =G6+F6-1 -> 150 | J6: 5 | K6: 2 | L6: HC
C7: R3 | D7: 36-094 Huslia | E7: 182 | F7: 150 | G7: =I6+1 -> 151 | H7: - | I7: =G7+F7-1 -> 300 | J7: 5 | K7: 2 | L7: HC
C8: R3 | D8: 63-010 Allakaket AVO | F8: 25 | G8: =I7+1 -> 301 | H8: - | I8: =G8+F8-1 -> 325 | J8: 5
C9: R3 | D9: 63-090 Hughes AVO | F9: 25 | G9: =I8+1 -> 326 | H9: - | I9: =G9+F9-1 -> 350 | J9: 5
C10: R3 | D10: 63-026 Bettles AVO | F10: 25 | G10: =I9+1 -> 351 | H10: - | I10: =G10+F10-1 -> 375 | J10: 5
C11: R3 | D11: 63-094 Huslia AVO | F11: 25 | G11: =I10+1 -> 376 | H11: - | I11: =G11+F11-1 -> 400 | J11: 5
C12: AP | D12: 90-901 Absentee By Mail | G12: =I11+1 -> 401 | H12: - | I12: =G12+F12-1 -> 400
C13: R3 | D13: 93-900 Reg. III Absentee | F13: 25 | G13: =I12+1 -> 401 | H13: - | I13: =G13+F13-1 -> 425
C14: R1 | D14: 91-900 Reg. I Absentee | F14: 25 | G14: =I13+1 -> 426 | H14: - | I14: =G14+F14-1 -> 450
C15: R2 | D15: 92-900 Reg. II Absentee | F15: 10 | G15: =I14+1 -> 451 | H15: - | I15: =G15+F15-1 -> 460
C16: R4 | D16: 94-900 Reg. IV Absentee | F16: 5 | G16: =I15+1 -> 461 | H16: - | I16: =G16+F16-1 -> 465 | J16: 5
C17: R5 | D17: 95-900 Region V Absentee | F17: 5 | G17: =I16+1 -> 466 | H17: - | I17: =G17+F17-1 -> 470
D18: TOTAL | E18: =SUM(E5:E17) -> 367 | F18: =SUM(F5:F17) -> 470 | J18: =SUM(J5:J17) -> 40 | K18: =SUM(K5:K17) -> 6 | L18: HC
B23: REAA 12, SECTION II - FAIRBANKS REGIONAL OFFICE | F23: TEST BALLOTS | G23: 2
B25: Card # | C25: Delivery | E25: # VOTERS | G25: BALLOT SEQ. #'S | J25: SAMPLE | K25: SUMMARY | L25: ICC Tabulator
B26: =TOTALS!A24 -> 909 | C26: R3 | D26: 36-090 Hughes | E26: 58 | F26: 50 | G26: 1 | H26: - | I26: =G26+F26-1 -> 50 | J26: 5 | K26: 2 | L26: HC
C27: R3 | D27: 36-098 Kaltag | E27: 110 | F27: 100 | G27: =I26+1 -> 51 | H27: - | I27: =G27+F27-1 -> 150 | J27: 5 | K27: 2 | L27: HC
C28: R3 | D28: 36-138 Nulato | E28: 171 | F28: 100 | G28: =I27+1 -> 151 | H28: - | I28: =G28+F28-1 -> 250 | J28: 5 | K28: 2 | L28: HC
C29: R3 | D29: 36-106 Koyukuk | E29: 62 | F29: 50 | G29: =I28+1 -> 251 | H29: - | I29: =G29+F29-1 -> 300 | J29: 5 | K29: 2 | L29: HC
C30: R3 | D30: 36-142 Ruby ** By-mail** | E30: 102 | F30: 0 | G30: =I29+1 -> 301 | I30: =G30+F30-1 -> 300 | L30: 1
C31: R3 | D31: 63-098 Kaltag AVO | F31: 25 | G31: =I30+1 -> 301 | H31: - | I31: =G31+F31-1 -> 325 | J31: 5
C32: R3 | D32: 63-142 Ruby AVO | F32: 25 | G32: =I31+1 -> 326 | H32: - | I32: =G32+F32-1 -> 350 | J32: 5
C33: AP | D33: 90-901 Absentee By Mail | F33: 125 | G33: =I32+1 -> 351 | H33: - | I33: =G33+F33-1 -> 475
C34: R3 | D34: 93-900 Reg. III Absentee | F34: 25 | G34: =I33+1 -> 476 | H34: - | I34: =G34+F34-1 -> 500
C35: R1 | D35: 91-900 Reg. I Absentee | F35: 25 | G35: =I34+1 -> 501 | H35: - | I35: =G35+F35-1 -> 525
C36: R2 | D36: 92-900 Reg. II Absentee | F36: 10 | G36: =I35+1 -> 526 | H36: - | I36: =G36+F36-1 -> 535
C37: R4 | D37: 94-900 Reg. IV Absentee | F37: 5 | G37: =I36+1 -> 536 | H37: - | I37: =G37+F37-1 -> 540 | J37: 5
C38: R5 | D38: 95-900 Region V Absentee | F38: 5 | G38: =I37+1 -> 541 | H38: - | I38: =G38+F38-1 -> 545 | K38: =SUM(J38) -> 0
D39: TOTAL | E39: =SUM(E26:E38) -> 503 | F39: =SUM(F26:F38) -> 545 | J39: =SUM(J26:J38) -> 35 | K39: =SUM(K26:K38) -> 8 | L39: HC
B43: REAA 12, SECTION III - FAIRBANKS REGIONAL OFFICE | F43: TEST BALLOTS | G43: 2
B45: Card # | C45: Delivery | E45: # VOTERS | G45: BALLOT SEQ. #'S | J45: SAMPLE | K45: SUMMARY | L45: ICC TAB.
B46: =TOTALS!A25 -> 912 | C46: R3 | D46: 36-110 Manley Hot Springs | F46: **By Mail | L46: 0
C47: R3 | D47: 36-122 Minto | F47: **By Mail
C48: R3 | D48: 36-126 Nenana Area | F48: **By Mail
C49: R3 | D49: 36-162 Tanana | E49: 152 | F49: 125 | J49: 5 | K49: 2 | L49: ICP2
C50: R3 | D50: 63-135 Rampart AVO | F50: 25 | G50: 1 | H50: - | I50: =G50+F50-1 -> 25
C51: R3 | D51: 63-126 Nenana AVO | F51: 25 | G51: =(I50+1) -> 26 | H51: - | I51: =G51+F51-1 -> 50
...

Sheet REAA13
B3: REAA 13, SECTION I - FAIRBANKS REGIONAL OFFICE | F3: TEST BALLOTS | G3: 2
B5: Card # | C5: Delivery | E5: # VOTERS | F5: # BALLOTS | G5: BALLOT SEQ. #'S | J5: SAMPLE | K5: SUMMARY | L5: ICC TAB.
B6: =TOTALS!A26 -> 938 | C6: R3 | D6: 36-174 Venetie | E6: 146 | F6: By Mail | H6: NA | K6: 2 | L6: 1
C7: R3 | D7: 36-018 Arctic Village | E7: 102 | F7: By Mail | H7: NA | K7: 2
C8: AP | D8: 90-901 Absentee By Mail | F8: 250 | G8: 1 | H8: - | I8: =G8+F8-1 -> 250
C9: R3 | D9: 93-900 Reg. III Absentee | F9: 25 | G9: =I8+1 -> 251 | H9: - | I9: =G9+F9-1 -> 275
C10: R1 | D10: 91-900 Reg. I Absentee | F10: 25 | G10: =I9+1 -> 276 | H10: - | I10: =G10+F10-1 -> 300
C11: R2 | D11: 92-900 Reg. II Absentee | F11: 10 | G11: =I10+1 -> 301 | H11: - | I11: =G11+F11-1 -> 310
C12: R4 | D12: 94-900 Reg. IV Absentee | F12: 5 | G12: =I11+1 -> 311 | H12: - | I12: =G12+F12-1 -> 315 | J12: 5
C13: R5 | D13: 95-900 Region V Absentee | F13: 5 | G13: =I12+1 -> 316 | H13: - | I13: =G13+F13-1 -> 320
D14: TOTAL | E14: =SUM(E6:E13) -> 248 | F14: =SUM(F8:F13) -> 320 | J14: =SUM(J6:J13) -> 5 | K14: =SUM(K6:K7) -> 4 | L14: =SUM(L6:L10) -> 1
B18: REAA 13, SECTION II - FAIRBANKS REGIONAL OFFICE | F18: TEST BALLOTS | G18: 2
B20: Card # | C20: Delivery | E20: # VOTERS | F20: # BALLOTS | G20: BALLOT SEQ. #'S | J20: SAMPLE | K20: SUMMARY | L20: ICC TAB.
B21: =TOTALS!A27 -> 908 | C21: R3 | D21: 36-066 Fort Yukon | E21: 399 | F21: 250 | G21: 1 | H21: - | I21: =G21+F21-1 -> 250 | J21: 10 | K21: 2 | L21: HC
C22: R3 | D22: 63-066 Fort Yukon AVO | F22: 50 | G22: =I21+1 -> 251 | H22: - | I22: =G22+F22-1 -> 300 | J22: 5
C23: R3 | D23: 63-066 Fort Yukon Area (Chalkyitsik) | F23: 25 | G23: =I22+1 -> 301 | I23: =G23+F23-1 -> 325 | J23: 5
C24: AP | D24: 90-901 Absentee By Mail | F24: 25 | G24: =I23+1 -> 326 | H24: - | I24: =G24+F24-1 -> 350
C25: R3 | D25: 93-900 Reg. III Absentee | F25: 25 | G25: =I24+1 -> 351 | H25: - | I25: =G25+F25-1 -> 375
C26: R1 | D26: 91-900 Reg. I Absentee | F26: 25 | G26: =I25+1 -> 376 | H26: - | I26: =G26+F26-1 -> 400
C27: R2 | D27: 92-900 Reg. II Absentee | F27: 10 | G27: =I26+1 -> 401 | H27: - | I27: =G27+F27-1 -> 410
C28: R4 | D28: 94-900 Reg. IV Absentee | F28: 5 | G28: =I27+1 -> 411 | H28: - | I28: =G28+F28-1 -> 415 | J28: 5
C29: R5 | D29: 95-900 Region V Absentee | F29: 5 | G29: =I28+1 -> 416 | H29: - | I29: =G29+F29-1 -> 420
D30: TOTAL | E30: =SUM(E21:E29) -> 399 | F30: =SUM(F21:F29) -> 420 | J30: =SUM(J21:J29) -> 25 | K30: =SUM(K21) -> 2 | L30: HC
B35: REAA 13, SECTION III - FAIRBANKS REGIONAL OFFICE | F35: TEST BALLOTS | G35: 2
B37: Card # | C37: Delivery | E37: # VOTERS | F37: # BALLOTS | G37: BALLOT SEQ. #'S | J37: SAMPLE | K37: SUMMARY | L37: ICC TAB.
B38: =TOTALS!A28 -> 939 | C38: R3 | D38: 36-034 Central | E38: 116 | F38: By Mail | H38: N/A | L38: 1
C39: R3 | D39: 36-042 Circle | E39: 188 | F39: By Mail | H39: N/A
C40: R3 | D40: 36-022 Beaver | E40: 49 | F40: By Mail | G40: 1 | H40: - | I40: =G40+F40-1 -> #VALUE!
C41: AP | D41: 90-901 Absentee By Mail | E41: 64 | F41: 300 | G41: 1 | H41: - | I41: =G41+F41-1 -> 300
C42: R3 | D42: 63-027 Birch Creek AVO | F42: 25 | G42: =I41+1 -> 301 | H42: - | I42: =G42+F42-1 -> 325
C43: R3 | D43: 63-147 Stevens Village AVO | F43: 25 | G43: =I42+1 -> 326 | H43: - | I43: =G43+F43-1 -> 350
C44: R3 | D44: 93-900 Reg. III Absentee | F44: 25 | G44: =I43+1 -> 351 | H44: - | I44: =G44+F44-1 -> 375
C45: R1 | D45: 91-900 Reg. I Absentee | F45: 25 | G45: =I44+1 -> 376 | H45: - | I45: =G45+F45-1 -> 400
C46: R2 | D46: 92-900 Reg. II Absentee | F46: 10 | G46: =I45+1 -> 401 | H46: - | I46: =G46+F46-1 -> 410
C47: R4 | D47: 94-900 Reg. IV Absentee | F47: 5 | G47: =I46+1 -> 411 | H47: - | I47: =G47+F47-1 -> 415 | J47: 5
C48: R5 | D48: 95-900 Region V Absentee | F48: 5 | G48: =I47+1 -> 416 | H48: - | I48: =G48+F48-1 -> 420
D49: TOTAL | E49: =SUM(E38:E48) -> 417 | F49: =SUM(F38:F48) -> 420 | J49: =SUM(J38:J48) -> 5 | K49: =SUM(K38:K48) -> 0 | L49: =L38 -> 1
C52: *The 'Fort Yukon' precinct reflects voters who reside in the Chalkyitsik community that are assigned to the Fort Yukon precinct. When determining the # VOTERS, order the voter list for REAA 13-3 and sort by precinct. Exclude the voters from the Central, Circle and Stevens Village precincts and the remaining voters will be the voters who reside in Chalkyitsik community that are part of REAA 13-3.

Sheet REAA15
C3: REAA 15 - FAIRBANKS REGIONAL OFFICE | F3: TEST BALLOTS | G3: 2
B6: Card # | C6: Delivery | E6: # VOTERS | F6: # BALLOTS | G6: BALLOT SEQ. #'S | J6: SAMPLE | K6: SUMMARY | L6: ICP CARDS
B7: =TOTALS!A29 -> 907 | C7: R3 | D7: 36-050 Delta Junction | E7: 968 | F7: 150 | G7: 1 | H7: - | I7: =F7 -> 150 | J7: 10 | K7: 2 | L7: 2
C8: R3 | D8: 36-054 Deltana | E8: 3298 | F8: 150 | G8: =I7+1 -> 151 | H8: - | I8: =G8+F8-1 -> 300 | J8: 10 | K8: 2 | L8: 2
C9: R3 | D9: 63-050 Delta Junction AVO | F9: 50 | G9: =I8+1 -> 301 | H9: - | I9: =G9+F9-1 -> 350 | J9: 10
C10: AP | D10: 90-901 Absentee By Mail | F10: 75 | G10: =I9+1 -> 351 | H10: - | I10: =G10+F10-1 -> 425
C11: R3 | D11: 93-900 Reg. III Absentee | F11: 25 | G11: =I10+1 -> 426 | H11: - | I11: =G11+F11-1 -> 450
C12: R1 | D12: 91-900 Reg. I Absentee | F12: 25 | G12: =I11+1 -> 451 | H12: - | I12: =G12+F12-1 -> 475
C13: R2 | D13: 92-900 Reg. II Absentee | F13: 10 | G13: =I12+1 -> 476 | H13: - | I13: =G13+F13-1 -> 485
C14: R4 | D14: 94-900 Reg. IV Absentee | F14: 5 | G14: =I13+1 -> 486 | H14: - | I14: =G14+F14-1 -> 490 | J14: 5
C15: R5 | D15: 95-900 Region V Absentee | F15: 5 | G15: =I14+1 -> 491 | H15: - | I15: =G15+F15-1 -> 495
D16: TOTAL | E16: =SUM(E7:E15) -> 4266 | F16: =SUM(F7:F15) -> 495 | J16: =SUM(J7:J15) -> 35 | K16: =SUM(K7:K8) -> 4 | L16: =SUM(L7:L8) -> 4

Sheet REAA16
B3: REAA 16, SECTION I - FAIRBANKS REGIONAL OFFICE | F3: TEST BALLOTS | G3: 2
B5: Card # | C5: Delivery | E5: # VOTERS | F5: # BALLOTS | G5: BALLOT SEQ. #'S | J5: SAMPLE | K5: SUMMARY | L5: ICC TAB.
B6: =TOTALS!A30 -> 940 | C6: R3 | D6: 36-062 Eagle | E6: 213 | F6: By-Mail | H6: N/A | L6: HC
C7: R3 | D7: 63-062 Eagle AVO | F7: 25 | G7: 1 | H7: - | I7: =G7+F7-1 -> 25 | J7: 5 | L7: 1
C8: R3 | D8: 36-134 Northway | E8: 224 | F8: By-Mail | H8: N/A
C9: R3 | D9: 36-166 Tetlin | E9: 68 | F9: By-Mail | H9: N/A
C10: R3 | D10: 63-170 Tok AVO | F10: 25 | G10: =SUM(I7+1) -> 26 | H10: - | I10: =G10+F10-1 -> 50 | J10: 5
C11: AP | D11: 90-901 Absentee By Mail | F11: 575 | G11: =SUM(I10+1) -> 51 | H11: - | I11: =G11+F11-1 -> 625
C12: R3 | D12: 93-900 Reg. III Absentee | F12: 25 | G12: =SUM(I11+1) -> 626 | H12: - | I12: =G12+F12-1 -> 650
C13: R1 | D13: 91-900 Reg. I Absentee | F13: 25 | G13: =SUM(I12+1) -> 651 | H13: - | I13: =G13+F13-1 -> 675
C14: R2 | D14: 92-900 Reg. II Absentee | F14: 10 | G14: =SUM(I13+1) -> 676 | H14: - | I14: =G14+F14-1 -> 685
C15: R4 | D15: 94-900 Reg. IV Absentee | F15: 5 | G15: =SUM(I14+1) -> 686 | H15: - | I15: =G15+F15-1 -> 690 | J15: 5
C16: R5 | D16: 95-900 Region V Absentee | F16: 5 | G16: =SUM(I15+1) -> 691 | H16: - | I16: =G16+F16-1 -> 695
D17: TOTAL | E17: =SUM(E7:E16) -> 292 | F17: =SUM(F7:F16) -> 695 | J17: =SUM(J7:J16) -> 15 | K17: =SUM(K7:K8) -> 0 | L17: =L7 -> 1
B18: *Not all voters in the 'Northway' precinct fall within REAA 16-1. When determining the # VOTERS, order the voter list for REAA 16-1 and sort by precinct. The number of voters in 06-060 will be the number to enter in # VOTERS.
B21: REAA 16, SECTION II - FAIRBANKS REGIONAL OFFICE | F21: TEST BALLOTS | G21: 2
B23: Card # | C23: Delivery | E23: # VOTERS | F23: # BALLOTS | G23: BALLOT SEQ. #'S | J23: SAMPLE | K23: SUMMARY | L23: ICC TAB.
B24: =TOTALS!A31 -> 941 | C24: R3 | D24: 36-170 Tok | E24: 1403 | F24: By-Mail | H24: N/A | L24: 1
C25: R3 | D25: 63-170 Tok AVO | F25: 100 | G25: 1 | H25: - | I25: =G25+F25-1 -> 100 | J25: 10
C26: AP | D26: 90-901 Absentee By Mail | F26: 1300 | G26: =SUM(I25+1) -> 101 | H26: - | I26: =G26+F26-1 -> 1400
C27: R3 | D27: 93-900 Reg. III Absentee | F27: 25 | G27: =SUM(I26+1) -> 1401 | H27: - | I27: =G27+F27-1 -> 1425
C28: R1 | D28: 91-900 Reg. I Absentee | F28: 25 | G28: =SUM(I27+1) -> 1426 | H28: - | I28: =G28+F28-1 -> 1450
C29: R2 | D29: 92-900 Reg. II Absentee | F29: 10 | G29: =SUM(I28+1) -> 1451 | H29: - | I29: =G29+F29-1 -> 1460
C30: R4 | D30: 94-900 Reg. IV Absentee | F30: 5 | G30: =SUM(I29+1) -> 1461 | H30: - | I30: =G30+F30-1 -> 1465 | J30: 5
C31: R5 | D31: 95-900 Region V Absentee | F31: 5 | G31: =SUM(I30+1) -> 1466 | H31: - | I31: =G31+F31-1 -> 1470
D32: TOTAL | E32: =SUM(E24:E31) -> 1403 | F32: =SUM(F25:F31) -> 1470 | J32: =SUM(J24:J31) -> 15 | K32: =K24 -> 0 | L32: =L24 -> 1
B36: REAA 16, SECTION III - FAIRBANKS REGIONAL OFFICE | F36: TEST BALLOTS | G36: 0
B38: Card # | C38: Delivery | E38: # VOTERS | F38: # BALLOTS | G38: BALLOT SEQ. #'S | J38: SAMPLE | K38: SUMMARY | L38: ICC TAB.
B39: =TOTALS!A32 -> 0 | C39: R3 | D39: 36-058 Dot Lake | F39: By-Mail | H39: N/A | L39: 0
C40: R3 | D40: 36-118 Mentasta | F40: By-Mail | H40: N/A
C41: R3 | D41: 63-170 Tok AVO | G41: 1 | H41: - | I41: =G41+F41-1 -> 0
C42: AP | D42: 90-901 Absentee By Mail | G42: =I41+1 -> 1 | H42: - | I42: =G42+F42-1 -> 0
C43: R3 | D43: 93-900 Reg. III Absentee | G43: =I42+1 -> 1 | H43: - | I43: =G43+F43-1 -> 0
C44: R1 | D44: 91-900 Reg. I Absentee | G44: =I43+1 -> 1 | H44: - | I44: =G44+F44-1 -> 0
C45: R2 | D45: 92-900 Reg. II Absentee | G45: =I44+1 -> 1 | H45: - | I45: =G45+F45-1 -> 0
C46: R4 | D46: 94-900 Reg. IV Absentee | G46: =I45+1 -> 1 | H46: - | I46: =G46+F46-1 -> 0
C47: R5 | D47: 95-900 Region V Absentee | G47: =I46+1 -> 1 | H47: - | I47: =G47+F47-1 -> 0
D48: TOTAL | E48: =SUM(E39:E47) -> 0 | F48: =SUM(F41:F47) -> 0 | J48: =SUM(J39:J47) -> 0 | K48: =SUM(K39:K40) -> 0 | L48: =L39 -> 0

Sheet REAA17
B3: REAA 17 - FAIRBANKS REGIONAL OFFICE | F3: TEST BALLOTS | G3: 2
B5: Card # | C5: Delivery | E5: # VOTERS | F5: # BALLOTS | G5: BALLOT SEQ. #'S | J5: SAMPLE | K5: SUMMARY | L5: ICC TAB.
B6: =TOTALS!A33 -> 942 | C6: R3 | D6: 36-038 Chistochina | E6: 197 | F6: By Mail | L6: 1
C7: R3 | D7: 36-046 Copper Center | E7: 1111 | F7: By Mail
C8: R3 | D8: 36-070 Gakona | E8: 301 | F8: By Mail
C9: R3 | D9: 36-078 Glennallen | E9: 530 | F9: By Mail
C10: R3 | D10: 36-102 Kenny Lake | E10: 550 | F10: By Mail
C11: R3 | D11: 63-078 Glennallen AVO | F11: 100 | G11: =SUM(I10+1) -> 1 | H11: - | I11: =G11+F11-1 -> 100 | J11: 10
C12: AP | D12: 90-901 Absentee By Mail | F12: 2600 | G12: =SUM(I11+1) -> 101 | H12: - | I12: =G12+F12-1 -> 2700
C13: R3 | D13: 93-900 Reg. III Absentee | F13: 25 | G13: =SUM(I12+1) -> 2701 | H13: - | I13: =G13+F13-1 -> 2725
C14: R1 | D14: 91-900 Reg. I Absentee | F14: 25 | G14: =SUM(I13+1) -> 2726 | H14: - | I14: =G14+F14-1 -> 2750
C15: R2 | D15: 92-900 Reg. II Absentee | F15: 10 | G15: =SUM(I14+1) -> 2751 | H15: - | I15: =G15+F15-1 -> 2760
C16: R4 | D16: 94-900 Reg. IV Absentee | F16: 5 | G16: =SUM(I15+1) -> 2761 | H16: - | I16: =G16+F16-1 -> 2765 | J16: 5
C17: R5 | D17: 95-900 Region V Absentee | F17: 5 | G17: =SUM(I16+1) -> 2766 | H17: - | I17: =G17+F17-1 -> 2770
D18: TOTAL | E18: =SUM(E6:E17) -> 2689 | F18: =SUM(F6:F17) -> 2770 | J18: =SUM(J6:J17) -> 15 | K18: =SUM(K6:K10) -> 0 | L18: =L6 -> 1

Sheet REAA18
B3: REAA 18, SECTION I - JUNEAU REGIONAL OFFICE | F3: TEST BALLOTS | G3: 2
B5: Card # | C5: Delivery | E5: # VOTERS | F5: # BALLOTS | G5: BALLOT SEQ. #'S | J5: SAMPLE | K5: SUMMARY | L5: ICP CARDS
B6: =TOTALS!A34 -> 902 | C6: R1 | D6: 02-700 Angoon | E6: 305 | F6: 250 | G6: 1 | H6: - | I6: =G6+F6-1 -> 250 | J6: 5 | K6: 2 | L6: 2
C7: R1 | D7: 03-340 Klukwan | E7: 72 | F7: 50 | G7: =I6+1 -> 251 | H7: - | I7: =G7+F7-1 -> 300 | J7: 5 | K7: 2 | L7: HC
C8: R1 | D8: 02-932 Angoon AVO | F8: 50 | G8: =I7+1 -> 301 | H8: - | I8: =G8+F8-1 -> 350 | J8: 5
C9: AP | D9: 90-901 Absentee By Mail | F9: 25 | G9: =I8+1 -> 351 | H9: - | I9: =G9+F9-1 -> 375
C10: R1 | D10: 91-900 Reg. I Absentee | F10: 25 | G10: =I9+1 -> 376 | H10: - | I10: =G10+F10-1 -> 400 | J10: 5
C11: R2 | D11: 92-900 Reg. II Absentee | F11: 10 | G11: =I10+1 -> 401 | I11: =G11+F11-1 -> 410
C12: R3 | D12: 93-900 Reg. III Absentee | F12: 5 | G12: =I11+1 -> 411 | H12: - | I12: =G12+F12-1 -> 415
C13: R4 | D13: 94-900 Reg. IV Absentee | F13: 5 | G13: =I12+1 -> 416 | H13: - | I13: =G13+F13-1 -> 420 | J13: 5
C14: R5 | D14: 95-900 Region V Absentee | F14: 5 | G14: =I13+1 -> 421 | H14: - | I14: =G14+F14-1 -> 425
D15: TOTAL | E15: =SUM(E6:E14) -> 377 | F15: =SUM(F6:F14) -> 425 | J15: =SUM(J6:J14) -> 25 | K15: =SUM(K6:K7) -> 4 | L15: =SUM(L6:L7) -> 2
B19: REAA 18, SECTION II - JUNEAU REGIONAL OFFICE | F19: TEST BALLOTS | G19: 2
B21: Card # | C21: Delivery | E21: # VOTERS | F21: # BALLOTS | G21: BALLOT SEQ. #'S | J21: SAMPLE | K21: SUMMARY | L21: ICP CARDS
B22: =TOTALS!A35 -> 903 | C22: R1 | D22: 02-775 Tenakee Springs | E22: 124 | F22: 75 | G22: =I21+1 -> 1 | H22: - | I22: =G22+F22-1 -> 75 | J22: 5 | K22: 2 | L22: HC
C23: R1 | D23: 03-325 Gustavus | E23: 574 | F23: 250 | G23: =SUM(I22+1) -> 76 | H23: - | I23: =G23+F23-1 -> 325 | J23: 5 | K23: 2 | L23: 2
C24: R1 | D24: 03-968 Gustavus AVO | F24: 50 | G24: =I23+1 -> 326 | H24: - | I24: =G24+F24-1 -> 375 | J24: 5
C25: R1 | D25: 02-962 Tenakee Springs AVO | F25: 50 | G25: =I24+1 -> 376 | H25: - | I25: =G25+F25-1 -> 425 | J25: 5
C26: AP | D26: 90-901 Absentee By Mail | F26: 25 | G26: =I25+1 -> 426 | H26: - | I26: =G26+F26-1 -> 450
C27: R1 | D27: 91-900 Reg. I Absentee | F27: 25 | G27: =I26+1 -> 451 | H27: - | I27: =G27+F27-1 -> 475 | J27: 5
C28: R2 | D28: 92-900 Reg. II Absentee | F28: 10 | G28: =I27+1 -> 476 | H28: - | I28: =G28+F28-1 -> 485
C29: R3 | D29: 93-900 Reg. III Absentee | F29: 5 | G29: =I28+1 -> 486 | H29: - | I29: =G29+F29-1 -> 490
C30: R4 | D30: 94-900 Reg. IV Absentee | F30: 5 | G30: =I29+1 -> 491 | H30: - | I30: =G30+F30-1 -> 495 | J30: 5
C31: R5 | D31: 95-900 Region V Absentee | F31: 5 | G31: =I30+1 -> 496 | H31: - | I31: =G31+F31-1 -> 500
D32: TOTAL | E32: =SUM(E22:E31) -> 698 | F32: =SUM(F22:F31) -> 500 | J32: =SUM(J22:J31) -> 30 | K32: =SUM(K22:K23) -> 4 | L32: =SUM(L22:L23) -> 2

Sheet REAA19
B3: REAA 19 - JUNEAU REGIONAL OFFICE | F3: TEST BALLOTS | G3: 2
B5: Card # | C5: Delivery | E5: # VOTERS | F5: # BALLOTS | G5: BALLOT SEQ. #'S | J5: SAMPLE | K5: SUMMARY | L5: ICP CARDS
B6: =TOTALS!A36 -> 900 | C6: R1 | D6: 01-675 Coffman Cove | E6: 329 | F6: 100 | G6: 1 | H6: - | I6: =G6+F6-1 -> 100 | J6: 5 | K6: 2 | L6: HC
C7: R1 | D7: 02-780 Thorne Bay | E7: 554 | F7: 200 | G7: =I6+1 -> 101 | H7: - | I7: =G7+F7-1 -> 300 | J7: 5 | K7: 2 | L7: 2
C8: R1 | D8: 02-735 Kasaan | E8: 57 | F8: 50 | G8: =I7+1 -> 301 | H8: - | I8: =G8+F8-1 -> 350 | J8: 5 | K8: 2 | L8: HC
C9: R1 | D9: 02-760 Port Alexander | E9: 47 | F9: 50 | G9: =I8+1 -> 351 | H9: - | I9: =G9+F9-1 -> 400 | J9: 5 | K9: 2 | L9: HC
C10: R1 | D10: 02-957 Port Alexander AVO | F10: 25 | G10: =I9+1 -> 401 | I10: =G10+F10-1 -> 425 | J10: 5
C11: R1 | D11: 01-920 Coffman Cove AVO | F11: 25 | G11: =I10+1 -> 426 | H11: - | I11: =G11+F11-1 -> 450 | J11: 5
C12: R1 | D12: 02-938 Hollis AVO | F12: 50 | G12: =I11+1 -> 451 | I12: =G12+F12-1 -> 500 | J12: 5
C13: R1 | D13: 02-964 Thorne Bay AVO | F13: 100 | G13: =I12+1 -> 501 | H13: - | I13: =G13+F13-1 -> 600 | J13: 5
C14: R1 | D14: 02-950 Naukati Bay AVO | F14: 25 | G14: =I13+1 -> 601 | H14: - | I14: =G14+F14-1 -> 625 | J14: 5
C15: R1 | D15: 02-956 Port Protection AVO | F15: 25 | G15: =I14+1 -> 626 | H15: - | I15: =G15+F15-1 -> 650 | J15: 5
C16: R1 | D16: 01-928 Whale Pass AVO | F16: 50 | G16: =I15+1 -> 651 | H16: - | I16: =G16+F16-1 -> 700 | J16: 5
C17: R1 | D17: 02-960 South Thorne Bay AVO | F17: 100 | G17: =I16+1 -> 701 | H17: - | I17: =G17+F17-1 -> 800 | J17: 5
C18: AP | D18: 90-901 Absentee By Mail | F18: 200 | G18: =I17+1 -> 801 | H18: - | I18: =G18+F18-1 -> 1000
C19: R1 | D19: 91-900 Reg. I Absentee | F19: 25 | G19: =I18+1 -> 1001 | H19: - | I19: =G19+F19-1 -> 1025 | J19: 5
C20: R2 | D20: 92-900 Reg. II Absentee | F20: 10 | G20: =I19+1 -> 1026 | H20: - | I20: =G20+F20-1 -> 1035
C21: R3 | D21: 93-900 Reg. III Absentee | F21: 5 | G21: =I20+1 -> 1036 | H21: - | I21: =G21+F21-1 -> 1040
C22: R4 | D22: 94-900 Reg. IV Absentee | F22: 5 | G22: =I21+1 -> 1041 | H22: - | I22: =G22+F22-1 -> 1045 | J22: 5 | K22: =SUM(I22:J22) -> 1050
C23: R5 | D23: 95-900 Region V Absentee | F23: 5 | G23: =I22+1 -> 1046 | H23: - | I23: =G23+F23-1 -> 1050 | K23: =SUM(I23:J23) -> 1050
D24: TOTAL | E24: =SUM(E6:E23) -> 987 | F24: =SUM(F6:F23) -> 1050 | J24: =SUM(J6:J23) -> 70 | K24: =SUM(K6:K9) -> 8 | L24: =SUM(L6:L9) -> 2

Sheet REAA20
B3: REAA 20 - JUNEAU REGIONAL OFFICE | F3: TEST BALLOTS | G3: 2
B5: Card # | C5: Delivery | E5: # VOTERS | F5: # BALLOTS | G5: BALLOT SEQ. #'S | J5: SAMPLE | K5: SUMMARY | L5: ICP CARDS
B6: =TOTALS!A37 -> 901 | C6: R1 | D6: 01-680 Metlakatla | E6: 1035 | F6: 425 | G6: 1 | H6: - | I6: =F6 -> 425 | J6: 5 | K6: 2 | L6: 2
C7: R1 | D7: 01-926 Metlakatla AVO | F7: 50 | G7: =I6+1 -> 426 | H7: - | I7: =G7+F7-1 -> 475 | J7: 5
C8: AP | D8: 90-901 Absentee By Mail | F8: 25 | G8: =I7+1 -> 476 | H8: - | I8: =G8+F8-1 -> 500
C9: R1 | D9: 91-900 Reg. I Absentee | F9: 25 | G9: =I8+1 -> 501 | H9: - | I9: =G9+F9-1 -> 525 | J9: 5
C10: R2 | D10: 92-900 Reg. II Absentee | F10: 10 | G10: =I9+1 -> 526 | H10: - | I10: =G10+F10-1 -> 535
C11: R3 | D11: 93-900 Reg. III Absentee | F11: 5 | G11: =I10+1 -> 536 | H11: - | I11: =G11+F11-1 -> 540
C12: R4 | D12: 94-900 Reg. IV Absentee | F12: 5 | G12: =I11+1 -> 541 | H12: - | I12: =G12+F12-1 -> 545 | J12: 5
C13: R5 | D13: 95-900 Region V Absentee | F13: 5 | G13: =I12+1 -> 546 | H13: - | I13: =G13+F13-1 -> 550
D14: TOTAL | E14: =SUM(E6:E13) -> 1035 | F14: =SUM(F6:F13) -> 550 | J14: =SUM(J6:J13) -> 20 | K14: =K6 -> 2 | L14: =L6 -> 2

Sheet REAA21
B3: REAA 21 - ANCHORAGE/WASILLA/SOUTHEAST | F3: TEST BALLOTS | G3: 2
B5: Card # | C5: Delivery | E5: # VOTERS | F5: # BALLOTS | G5: BALLOT SEQ. #'S | J5: SAMPLE | K5: SUMMARY | L5: ICP CARDS
B6: =TOTALS!A38 -> 904 | C6: R1 | D6: 05-870 Tatitlek | E6: 113 | F6: 50 | G6: 1 | H6: - | I6: =F6 -> 50 | J6: 5 | K6: 2 | L6: HC
C7: R2 | D7: 09-145 Whittier | E7: 248 | F7: 175 | G7: =I6+1 -> 51 | H7: - | I7: =G7+F7-1 -> 225 | J7: 10 | K7: 2 | L7: 2
C8: R1 | D8: 05-870 Chenega (PAV) | G8: =I7+1 -> 226 | I8: =G8+F8-1 -> 225 | L8: HC
C9: R2 | D9: 09-986 Whittier AVO | F9: 50 | G9: =I8+1 -> 226 | H9: - | I9: =G9+F9-1 -> 275 | J9: 5
C10: AP | D10: 90-901 Absentee By Mail | F10: 50 | G10: =I9+1 -> 276 | H10: - | I10: =G10+F10-1 -> 325
C11: R2 | D11: 92-900 Reg. II Absentee | F11: 25 | G11: =I10+1 -> 326 | H11: - | I11: =G11+F11-1 -> 350
C12: R1 | D12: 91-900 Reg. I Absentee | F12: 25 | G12: =I11+1 -> 351 | I12: =G12+F12-1 -> 375 | J12: 5
C13: R3 | D13: 93-900 Reg. III Absentee | F13: 5 | G13: =I12+1 -> 376 | H13: - | I13: =G13+F13-1 -> 380
C14: R4 | D14: 94-900 Reg. IV Absentee | F14: 5 | G14: =I13+1 -> 381 | H14: - | I14: =G14+F14-1 -> 385 | J14: 5
C15: R5 | D15: 95-900 Region V Absentee | F15: 5 | G15: =I14+1 -> 386 | H15: - | I15: =G15+F15-1 -> 390
D16: TOTAL | E16: =SUM(E6:E15) -> 361 | F16: =SUM(F6:F15) -> 390 | J16: =SUM(J6:J15) -> 30 | K16: =SUM(K6:K8) -> 4 | L16: =SUM(L6:L7) -> 2
A19: Note: 32-850 Chenega is a PAV and part of the Tatitlek precinct but it is not a polling place or an AVO. Voters are automatically sent a by-mail application. A&P office sends a ballot. I would gray their row out because unless I have an AVO there I would not send

Sheet REAA22
B3: REAA 22 - NOME REGIONAL OFFICE | F3: TEST BALLOTS | G3: 2
B5: Card # | C5: Delivery | E5: # VOTERS | F5: # BALLOTS | G5: BALLOT SEQ. #'S | J5: SAMPLE | K5: SUMMARY | L5: ICP CARDS
B6: =TOTALS!A39 -> 925 | C6: R4 | D6: 38-813 Chevak | E6: 560 | F6: 150 | G6: 1 | H6: - | I6: =F6 -> 150 | J6: 5 | K6: 3 | L6: 2
C7: AP | D7: 90-901 Absentee By Mail | F7: 25 | G7: =SUM(I6+1) -> 151 | H7: - | I7: =G7+F7-1 -> 175
C8: R1 | D8: 91-900 Reg. I Absentee | F8: 25 | G8: =SUM(I7+1) -> 176 | H8: - | I8: =G8+F8-1 -> 200
C9: R2 | D9: 92-900 Reg. II Absentee | F9: 10 | G9: =SUM(I8+1) -> 201 | I9: =G9+F9-1 -> 210 | L9: HC
C10: R3 | D10: 93-900 Reg. III Absentee | F10: 5 | G10: =SUM(I9+1) -> 211 | H10: - | I10: =G10+F10-1 -> 215
C11: R4 | D11: 94-900 Reg. IV Absentee | F11: 5 | G11: =SUM(I10+1) -> 216 | H11: - | I11: =G11+F11-1 -> 220 | J11: 5 | K11: 3
C12: R5 | D12: 95-900 Region V Absentee | F12: 5 | G12: =SUM(I11+1) -> 221 | H12: - | I12: =G12+F12-1 -> 225
D13: TOTAL | E13: =SUM(E6:E12) -> 560 | F13: =SUM(F6:F12) -> 225 | J13: =SUM(J6:J12) -> 10 | K13: =K6 -> 3 | L13: =SUM(L6:L12) -> 2

Sheet REAA23
B3: REAA 23 - NOME REGIONAL OFFICES | F3: TEST BALLOTS | G3: 2
B5: Card # | C5: Delivery | E5: # VOTERS | F5: # BALLOTS | G5: BALLOT SEQ. #'S | J5: SAMPLE | K5: SUMMARY | L5: ICP CARDS
B6: =TOTALS!A40 -> 921 | C6: R4 | D6: 38-800 Akiachak | E6: 444 | F6: 100 | G6: 1 | H6: - | I6: =F6 -> 100 | J6: 5 | K6: 3 | L6: HC
C7: R4 | D7: 38-802 Akiak | E7: 256 | F7: 125 | G7: =I6+1 -> 101 | H7: - | I7: =G7+F7-1 -> 225 | J7: 5 | K7: 3 | L7: HC
C8: R4 | D8: 38-854 Tuluksak | E8: 256 | F8: 125 | G8: =I7+1 -> 226 | H8: - | I8: =G8+F8-1 -> 350 | J8: 5 | K8: 3 | L8: HC
C9: AP | D9: 90-901 Absentee By Mail | F9: 25 | G9: =I8+1 -> 351 | H9: - | I9: =G9+F9-1 -> 375
C10: R1 | D10: 91-900 Reg. I Absentee | F10: 25 | G10: =I9+1 -> 376 | H10: - | I10: =G10+F10-1 -> 400
C11: R2 | D11: 92-900 Reg. II Absentee | F11: 10 | G11: =I10+1 -> 401 | I11: =G11+F11-1 -> 410
C12: R3 | D12: 93-900 Reg. III Absentee | F12: 5 | G12: =I11+1 -> 411 | H12: - | I12: =G12+F12-1 -> 415
C13: R4 | D13: 94-900 Reg. IV Absentee | F13: 5 | G13: =I12+1 -> 416 | H13: - | I13: =G13+F13-1 -> 420 | J13: 5 | K13: 3
C14: R5 | D14: 95-900 Region V Absentee | F14: 5 | G14: =I13+1 -> 421 | H14: - | I14: =G14+F14-1 -> 425
D15: TOTAL | E15: =SUM(E6:E14) -> 956 | F15: =SUM(F6:F14) -> 425 | J15: =SUM(J6:J14) -> 20 | K15: =SUM(K6:K11) -> 9 | L15: HC

Sheet Sheet1
