Workbook

Sheet Totals
A1: ALASKA 2024 GENERAL ELECTION TOTAL BALLOT ORDER, ALL DISTRICTS
B2: Ballot ID# | D2: Totals | E2: Checksum | F2: Difference | G2: Pad Checksums
B3: 1001 | C3: Federal Only | D3: ='Federal Only'!B6 -> 100 | E3: ='Federal Only'!B9 -> 100 | F3: =E3-D3 -> 0 | G3: ='Federal Only'!H9 -> 0
C4: Absentee | D4: ='Abs By Mail'!C49 -> 60050 | E4: ='Abs By Mail'!D51 -> 60050 | F4: =E4-D4 -> 0 | G4: ='Abs By Mail'!H49 -> 0
B5: 1000 | C5: HD1-JD1 | D5: ='HD1-JD1'!D46 -> 15100 | E5: ='HD1-JD1'!D49 -> 15100 | F5: =E5-D5 -> 0 | G5: ='HD1-JD1'!J46 -> 0
B6: 1011 | C6: HD2-JD1 | D6: ='HD2-JD1'!D64 -> 17950 | E6: ='HD2-JD1'!D67 -> 17950 | F6: =E6-D6 -> 0 | G6: ='HD2-JD1'!J64 -> 0
B7: 1012 | C7: HD3-JD1 | D7: ='HD3-JD1'!D44 -> 19625 | E7: ='HD3-JD1'!D47 -> 19625 | F7: =E7-D7 -> 0 | G7: ='HD3-JD1'!J44 -> 0
B8: 1013 | C8: HD4-JD1 | D8: ='HD4-JD1'!D38 -> 16650 | E8: ='HD4-JD1'!D41 -> 16650 | F8: =E8-D8 -> 0 | G8: ='HD4-JD1'!J38 -> 0
B9: 1014 | C9: HD5-JD3 | D9: ='HD5-JD3'!D51 -> 15875 | E9: ='HD5-JD3'!D54 -> 15875 | F9: =E9-D9 -> 0 | G9: ='HD5-JD3'!J51 -> 0
B10: 1016 | C10: HD6-JD3 | D10: ='HD6-JD3'!D44 -> 20200 | E10: ='HD6-JD3'!D46 -> 20200 | F10: =E10-D10 -> 0 | G10: ='HD6-JD3'!J44 -> 0
B11: 1017 | C11: HD7-JD3 | D11: ='HD7-JD3'!D40 -> 17450 | E11: ='HD7-JD3'!D42 -> 17450 | F11: =E11-D11 -> 0 | G11: ='HD7-JD3'!J11 -> 0
B12: 1018 | C12: HD8-JD3 | D12: ='HD8-JD3'!D45 -> 17425 | E12: ='HD8-JD3'!D47 -> 17425 | F12: =E12-D12 -> 0 | G12: ='HD8-JD3'!J45 -> 0
B13: 1019 | C13: HD9-JD3 | D13: ='HD9-JD3'!D40 -> 15725 | E13: ='HD9-JD3'!D43 -> 15725 | F13: =E13-D13 -> 0 | G13: ='HD9-JD3'!J40 -> 0
B14: 1020 | C14: HD10-JD3 | D14: ='HD10-JD3'!D36 -> 13650 | E14: ='HD10-JD3'!D39 -> 13650 | F14: =E14-D14 -> 0 | G14: ='HD10-JD3'!J36 -> 0
B15: 1021 | C15: HD11-JD3 | D15: ='HD11-JD3'!D37 -> 14575 | E15: ='HD11-JD3'!D40 -> 14575 | F15: =E15-D15 -> 0 | G15: ='HD11-JD3'!J37 -> 0
B16: 1022 | C16: HD12-JD3 | D16: ='HD12-JD3'!D36 -> 14375 | E16: ='HD12-JD3'!D39 -> 14375 | F16: =E16-D16 -> 0 | G16: ='HD12-JD3'!J36 -> 0
B17: 1023 | C17: HD13-JD3 | D17: ='HD13-JD3'!D35 -> 14325 | E17: ='HD13-JD3'!D38 -> 14325 | F17: =E17-D17 -> 0 | G17: ='HD13-JD3'!J35 -> 0
B18: 1024 | C18: HD14-JD3 | D18: ='HD14-JD3'!D37 -> 13875 | E18: ='HD14-JD3'!D40 -> 13875 | F18: =E18-D18 -> 0 | G18: ='HD14-JD3'!J37 -> 0
B19: 1025 | C19: HD15-JD3 | D19: ='HD15-JD3'!D36 -> 14575 | E19: ='HD15-JD3'!D39 -> 14575 | F19: =E19-D19 -> 0 | G19: ='HD15-JD3'!J36 -> 0
B20: 1026 | C20: HD16-JD3 | D20: ='HD16-JD3'!D37 -> 14675 | E20: ='HD16-JD3'!D40 -> 14675 | F20: =E20-D20 -> 0 | G20: ='HD16-JD3'!J37 -> 0
B21: 1027 | C21: HD17-JD3 | D21: ='HD17-JD3'!D37 -> 14375 | E21: ='HD17-JD3'!D40 -> 14375 | F21: =E21-D21 -> 0 | G21: ='HD17-JD3'!J37 -> 0
B22: 1028 | C22: HD18-JD3 | D22: ='HD18-JD3'!D35 -> 9675 | E22: ='HD18-JD3'!D38 -> 9675 | F22: =E22-D22 -> 0 | G22: ='HD18-JD3'!J35 -> 0
B23: 1029 | C23: HD19-JD3 | D23: ='HD19-JD3'!D35 -> 12725 | E23: ='HD19-JD3'!D38 -> 12725 | F23: =E23-D23 -> 0 | G23: ='HD19-JD3'!J35 -> 0
B24: 1030 | C24: HD20-JD3 | D24: ='HD20-JD3'!D35 -> 13500 | E24: ='HD20-JD3'!D38 -> 13500 | F24: =E24-D24 -> 0 | G24: ='HD20-JD3'!J35 -> 0
B25: 1031 | C25: HD21-JD3 | D25: ='HD21-JD3'!D35 -> 14425 | E25: ='HD21-JD3'!D38 -> 14425 | F25: =E25-D25 -> 0 | G25: ='HD21-JD3'!J35 -> 0
B26: 1032 | C26: HD22-JD3 | D26: ='HD22-JD3'!D34 -> 13325 | E26: ='HD22-JD3'!D37 -> 13325 | F26: =E26-D26 -> 0 | G26: ='HD22-JD3'!J34 -> 0
B27: 1033 | C27: HD23-JD3 | D27: ='HD23-JD3'!D37 -> 16275 | E27: ='HD23-JD3'!D40 -> 16275 | F27: =E27-D27 -> 0 | G27: ='HD23-JD3'!J37 -> 0
B28: 1034 | C28: HD24-JD3 | D28: ='HD24-JD3'!D38 -> 15675 | E28: ='HD24-JD3'!D41 -> 15675 | F28: =E28-D28 -> 0 | G28: ='HD24-JD3'!J38 -> 0
B29: 1035 | C29: HD25-JD3 | D29: ='HD25-JD3'!D38 -> 17300 | E29: ='HD25-JD3'!D41 -> 17300 | F29: =E29-D29 -> 0 | G29: ='HD25-JD3'!J38 -> 0
B30: 1036 | C30: HD26-JD3 | D30: ='HD26-JD3'!D38 -> 16725 | E30: ='HD26-JD3'!D41 -> 16725 | F30: =E30-D30 -> 0 | G30: ='HD26-JD3'!J38 -> 0
B31: 1037 | C31: HD27-JD3 | D31: ='HD27-JD3'!D36 -> 18650 | E31: ='HD27-JD3'!D39 -> 18650 | F31: =E31-D31 -> 0 | G31: ='HD27-JD3'!J36 -> 0
B32: 1038 | C32: HD28-JD3 | D32: ='HD28-JD3'!D38 -> 16600 | E32: ='HD28-JD3'!D41 -> 16600 | F32: =E32-D32 -> 0 | G32: ='HD28-JD3'!J38 -> 0
B33: 1039 | C33: HD29-JD3 | D33: ='HD29-JD3'!D41 -> 17100 | E33: ='HD29-JD3'!D44 -> 17100 | F33: =E33-D33 -> 0 | G33: ='HD29-JD3'!J41 -> 0
B34: 1041 | C34: HD30-JD3 | D34: ='HD30-JD3'!D42 -> 16925 | E34: ='HD30-JD3'!D45 -> 16925 | F34: =E34-D34 -> 0 | G34: ='HD30-JD3'!J42 -> 0
B35: 1040 | C35: HD30-JD4 | D35: ='HD30-JD4'!D36 -> 2125 | E35: ='HD30-JD4'!D39 -> 2125 | F35: =E35-D35 -> 0 | G35: ='HD30-JD4'!J36 -> 0
B36: 1042 | C36: HD31-JD4 | D36: ='HD31-JD4'!D34 -> 15200 | E36: ='HD31-JD4'!D37 -> 15200 | F36: =E36-D36 -> 0 | G36: ='HD31-JD4'!J34 -> 0
B37: 1043 | C37: HD32-JD4 | D37: ='HD32-JD4'!D34 -> 12350 | E37: ='HD32-JD4'!D37 -> 12350 | F37: =E37-D37 -> 0 | G37: ='HD32-JD4'!J34 -> 0
B38: 1044 | C38: HD33-JD4 | D38: ='HD33-JD4'!D36 -> 17825 | E38: ='HD33-JD4'!D39 -> 17825 | F38: =E38-D38 -> 0 | G38: ='HD33-JD4'!J36 -> 0
B39: 1045 | C39: HD34-JD4 | D39: ='HD34-JD4'!D38 -> 19000 | E39: ='HD34-JD4'!D40 -> 19000 | F39: =E39-D39 -> 0 | G39: ='HD34-JD4'!J38 -> 0
B40: 1046 | C40: HD35-JD4 | D40: ='HD35-JD4'!D38 -> 17275 | E40: ='HD35-JD4'!D39 -> 17275 | F40: =E40-D40 -> 0 | G40: ='HD35-JD4'!J38 -> 0
B41: 1048 | C41: HD36-JD3 | D41: ='HD36-JD3'!D38 -> 2925 | E41: ='HD36-JD3'!D41 -> 2925 | F41: =E41-D41 -> 0 | G41: ='HD36-JD4'!J97 -> 0
B42: 1047 | C42: HD36-JD4 | D42: ='HD36-JD4'!D97 -> 15350 | E42: ='HD36-JD4'!D100 -> 15350 | F42: =E42-D42 -> 0 | G42: ='HD36-JD3'!J38 -> 0
B43: 1049 | C43: HD37-JD3 | D43: =SUM('HD37-JD3'!D110) -> 11175 | E43: ='HD37-JD3'!D113 -> 11175 | F43: =E43-D43 -> 0 | G43: ='HD37-JD4'!J86 -> 0
B44: 1053 | C44: HD37-JD4 | D44: ='HD37-JD4'!D86 -> 6050 | E44: ='HD37-JD4'!D88 -> 6050 | F44: =E44-D44 -> 0 | G44: ='HD37-JD3'!J110 -> 0
B45: 1057 | C45: HD38-JD4 | D45: ='HD38-JD4'!D81 -> 9750 | E45: ='HD38-JD4'!D84 -> 9750 | F45: =E45-D45 -> 0 | G45: ='HD38-JD4'!J81 -> 0
B46: 1066 | C46: HD39-JD2 | D46: =SUM('HD39-JD2'!D74) -> 8250 | E46: =SUM('HD39-JD2'!D76) -> 8250 | F46: =E47-D47 -> 0 | G46: ='HD39-JD4'!J69 -> 0
B47: 1061 | C47: HD39-JD4 | D47: ='HD39-JD4'!D69 -> 5575 | E47: ='HD39-JD4'!D71 -> 5575 | F47: =E46-D46 -> 0 | G47: ='HD39-JD2'!J74 -> 0
B48: 1071 | C48: HD40-JD2 | D48: ='HD40-JD2'!D69 -> 8500 | E48: ='HD40-JD2'!D72 -> 8500 | F48: =E48-D48 -> 0 | G48: ='HD40-JD2'!J69 -> 0
C49: Total | D49: =SUM(D3:D48) -> 680825 | E49: =SUM(E3:E48) -> 680825 | F49: =E49-D49 -> 0

Sheet Test Deck Order
B1: ALASKA 2024 GENERAL ELECTION TEST DECK ORDER
A2: Ballot ID# | C2: Director's Office Test Deck Reverse Order | D2: Region I Test Deck Straight Order | E2: Region II Test Deck Straight Order | F2: Region III Test Deck Straight Order | G2: Region IV Test Deck Straight Order | H2: Region V Test Deck Straight Order
A3: =Totals!B5 -> 1000 | B3: HD1-JD1 | C3: 2 | D3: 4 | E3: 2 | F3: 1 | G3: 1 | H3: 1
A4: =Totals!B6 -> 1011 | B4: HD2-JD1 | C4: 2 | D4: 4 | E4: 2 | F4: 1 | G4: 1 | H4: 1
A5: =Totals!B7 -> 1012 | B5: HD3-JD1 | C5: 2 | D5: 4 | E5: 2 | F5: 1 | G5: 1 | H5: 1
A6: =Totals!B8 -> 1013 | B6: HD4-JD1 | C6: 2 | D6: 4 | E6: 2 | F6: 1 | G6: 1 | H6: 1
A7: =Totals!B9 -> 1014 | B7: HD5-JD3 | C7: 2 | D7: 4 | E7: 2 | F7: 1 | G7: 1 | H7: 1
A8: =Totals!B10 -> 1016 | B8: HD6-JD3 | C8: 2 | D8: 4 | E8: 2 | F8: 1 | G8: 1 | H8: 1
A9: =Totals!B11 -> 1017 | B9: HD7-JD3 | C9: 2 | D9: 1 | E9: 2 | F9: 1 | G9: 1 | H9: 4
A10: =Totals!B12 -> 1018 | B10: HD8-JD3 | C10: 2 | D10: 1 | E10: 2 | F10: 1 | G10: 1 | H10: 4
A11: =Totals!B13 -> 1019 | B11: HD9-JD3 | C11: 2 | D11: 1 | E11: 4 | F11: 1 | G11: 1 | H11: 1
A12: =Totals!B14 -> 1020 | B12: HD10-JD3 | C12: 2 | D12: 1 | E12: 4 | F12: 1 | G12: 1 | H12: 1
A13: =Totals!B15 -> 1021 | B13: HD11-JD3 | C13: 2 | D13: 1 | E13: 4 | F13: 1 | G13: 1 | H13: 1
A14: =Totals!B16 -> 1022 | B14: HD12-JD3 | C14: 2 | D14: 1 | E14: 4 | F14: 1 | G14: 1 | H14: 1
... A46: =Totals!B48 -> 1071 | B46: HD40-JD2 | C46: 2 | D46: 1 | E46: 2 | F46: 1 | G46: 3 | H46: 1
A47: =Totals!B3 -> 1001 | B47: Fed Overseas | C47: 2 | E47: 4
B48: Total Regions | C48: =SUM(C3:C47) -> 90 | D48: =SUM(D3:D47) -> 62 | E48: =SUM(E3:E47) -> 124 | F48: =SUM(F3:F47) -> 65 | G48: =SUM(G3:G47) -> 56 | H48: =SUM(H3:H47) -> 71
B49: Total Order | I49: =SUM(C48:H48) -> 468

Sheet Federal Only
A1: ALASKA 2024 GENERAL ELECTION FEDERAL ONLY BALLOTS
F2: BALLOT ID# | H2: =Totals!B3 -> 1001
B4: # | C4: Numbers | E4: Sample | F4: Fascimile
A5: CARD - SEQUENCE | B5: Ballots | C5: FROM | D5: TO | E5: Ballots | F5: Ballots | G5: Delivery | H5: Checksum
A6: Federal Ballot Only | B6: 100 | C6: 1 | D6: =SUM(C6+B6-1) -> 100 | G6: AP | H6: =MOD(B6,25) -> 0
F7: 400 | G7: R2
A9: Checksum: Sequence End - Start: | B9: =D6-C6+1 -> 100 | H9: =SUM(H6:H8) -> 0

Sheet Abs By Mail
B1: ALASKA 2024 GENERAL ELECTION BALLOT ORDER ABSENTEE BY MAIL
D2: Numbers
A3: BALLOT ID# | B3: CARD - SEQUENCE | C3: # Ballots | D3: FROM | E3: TO | F3: Delivery | G3: # Registered | H3: Checksum
A4: =Totals!B5 -> 1000 | B4: HD1-JD1 | C4: 1150 | D4: =SUM('Federal Only'!D6)+1 -> 101 | E4: =SUM(C4+D4-1) -> 1250 | F4: AP | G4: ='HD1-JD1'!B15 -> 15252 | H4: =MOD(C4,25) -> 0
A5: =Totals!B6 -> 1011 | B5: HD2-JD1 | C5: 1500 | D5: =SUM(E4+1) -> 1251 | E5: =SUM(D5+C5-1) -> 2750 | F5: AP | G5: ='HD2-JD1'!B20 -> 16002 | H5: =MOD(C5,25) -> 0
A6: =Totals!B7 -> 1012 | B6: HD3-JD1 | C6: 1700 | D6: =SUM(E5+1) -> 2751 | E6: =SUM(D6+C6-1) -> 4450 | F6: AP | G6: ='HD3-JD1'!B15 -> 16915 | H6: =MOD(C6,25) -> 0
A7: =Totals!B8 -> 1013 | B7: HD4-JD1 | C7: 1750 | D7: =SUM(E6+1) -> 4451 | E7: =SUM(D7+C7-1) -> 6200 | F7: AP | G7: ='HD4-JD1'!B13 -> 15259 | H7: =MOD(C7,25) -> 0
A8: =Totals!B9 -> 1014 | B8: HD5-JD3 | C8: 1000 | D8: =SUM(E7+1) -> 6201 | E8: =SUM(D8+C8-1) -> 7200 | F8: AP | G8: ='HD5-JD3'!B17 -> 14102 | H8: =MOD(C8,25) -> 0
A9: =Totals!B10 -> 1016 | B9: HD6-JD3 | C9: 2500 | D9: =SUM(E8+1) -> 7201 | E9: =SUM(D9+C9-1) -> 9700 | F9: AP | G9: ='HD6-JD3'!B14 -> 18292 | H9: =MOD(C9,25) -> 0
A10: =Totals!B11 -> 1017 | B10: HD7-JD3 | C10: 1700 | D10: =SUM(E9+1) -> 9701 | E10: =SUM(D10+C10-1) -> 11400 | F10: AP | G10: ='HD7-JD3'!B11 -> 16894 | H10: =MOD(C10,25) -> 0
A11: =Totals!B12 -> 1018 | B11: HD8-JD3 | C11: 2100 | D11: =SUM(E10+1) -> 11401 | E11: =SUM(D11+C11-1) -> 13500 | F11: AP | G11: ='HD8-JD3'!B16 -> 17361 | H11: =MOD(C11,25) -> 0
A12: =Totals!B13 -> 1019 | B12: HD9-JD3 | C12: 3350 | D12: =SUM(E11+1) -> 13501 | E12: =SUM(D12+C12-1) -> 16850 | F12: AP | G12: ='HD9-JD3'!B14 -> 16315 | H12: =MOD(C12,25) -> 0
A13: =Totals!B14 -> 1020 | B13: HD10-JD3 | C13: 2100 | D13: =SUM(E12+1) -> 16851 | E13: =SUM(D13+C13-1) -> 18950 | F13: AP | G13: ='HD10-JD3'!B11 -> 15282 | H13: =MOD(C13,25) -> 0
A14: =Totals!B15 -> 1021 | B14: HD11-JD3 | C14: 2550 | D14: =SUM(E13+1) -> 18951 | E14: =SUM(D14+C14-1) -> 21500 | F14: AP | G14: ='HD11-JD3'!B12 -> 15325 | H14: =MOD(C14,25) -> 0
A15: =Totals!B16 -> 1022 | B15: HD12-JD3 | C15: 1850 | D15: =SUM(E14+1) -> 21501 | E15: =SUM(D15+C15-1) -> 23350 | F15: AP | G15: ='HD12-JD3'!B11 -> 15287 | H15: =MOD(C15,25) -> 0
A16: =Totals!B17 -> 1023 | B16: HD13-JD3 | C16: 1500 | D16: =SUM(E15+1) -> 23351 | E16: =SUM(D16+C16-1) -> 24850 | F16: AP | G16: ='HD13-JD3'!B10 -> 15426 | H16: =MOD(C16,25) -> 0
A17: =Totals!B18 -> 1024 | B17: HD14-JD3 | C17: 1850 | D17: =SUM(E16+1) -> 24851 | E17: =SUM(D17+C17-1) -> 26700 | F17: AP | G17: ='HD14-JD3'!B12 -> 14771 | H17: =MOD(C17,25) -> 0
A18: =Totals!B19 -> 1025 | B18: HD15-JD3 | C18: 2250 | D18: =SUM(E17+1) -> 26701 | E18: =SUM(D18+C18-1) -> 28950 | F18: AP | G18: ='HD15-JD3'!B11 -> 15618 | H18: =MOD(C18,25) -> 0
A19: =Totals!B20 -> 1026 | B19: HD16-JD3 | C19: 2350 | D19: =SUM(E18+1) -> 28951 | E19: =SUM(D19+C19-1) -> 31300 | F19: AP | G19: ='HD16-JD3'!B12 -> 15885 | H19: =MOD(C19,25) -> 0
A20: =Totals!B21 -> 1027 | B20: HD17-JD3 | C20: 2100 | D20: =SUM(E19+1) -> 31301 | E20: =SUM(D20+C20-1) -> 33400 | F20: AP | G20: ='HD17-JD3'!B12 -> 15184 | H20: =MOD(C20,25) -> 0
A21: =Totals!B22 -> 1028 | B21: HD18-JD3 | C21: 700 | D21: =SUM(E20+1) -> 33401 | E21: =SUM(D21+C21-1) -> 34100 | F21: AP | G21: ='HD18-JD3'!B10 -> 12104 | H21: =MOD(C21,25) -> 0
A22: =Totals!B23 -> 1029 | B22: HD19-JD3 | C22: 1050 | D22: =SUM(E21+1) -> 34101 | E22: =SUM(D22+C22-1) -> 35150 | F22: AP | G22: ='HD19-JD3'!B10 -> 13467 | H22: =MOD(C22,25) -> 0
A23: =Totals!B24 -> 1030 | B23: HD20-JD3 | C23: 1600 | D23: =SUM(E22+1) -> 35151 | E23: =SUM(D23+C23-1) -> 36750 | F23: AP | G23: ='HD20-JD3'!B10 -> 14364 | H23: =MOD(C23,25) -> 0
A24: =Totals!B25 -> 1031 | B24: HD21-JD3 | C24: 2250 | D24: =SUM(E23+1) -> 36751 | E24: =SUM(D24+C24-1) -> 39000 | F24: AP | G24: ='HD21-JD3'!B10 -> 15933 | H24: =MOD(C24,25) -> 0
A25: =Totals!B26 -> 1032 | B25: HD22-JD3 | C25: 1000 | D25: =SUM(E24+1) -> 39001 | E25: =SUM(D25+C25-1) -> 40000 | F25: AP | G25: ='HD22-JD3'!B9 -> 14600 | H25: =MOD(C25,25) -> 0
A26: =Totals!B27 -> 1033 | B26: HD23-JD3 | C26: 2300 | D26: =SUM(E25+1) -> 40001 | E26: =SUM(D26+C26-1) -> 42300 | F26: AP | G26: ='HD23-JD3'!B11 -> 16793 | H26: =MOD(C26,25) -> 0
A27: =Totals!B28 -> 1034 | B27: HD24-JD3 | C27: 1850 | D27: =SUM(E26+1) -> 42301 | E27: =SUM(D27+C27-1) -> 44150 | F27: AP | G27: ='HD24-JD3'!B12 -> 16036 | H27: =MOD(C27,25) -> 0
A28: =Totals!B29 -> 1035 | B28: HD25-JD3 | C28: 1450 | D28: =SUM(E27+1) -> 44151 | E28: =SUM(D28+C28-1) -> 45600 | F28: AP | G28: ='HD25-JD3'!B12 -> 16789 | H28: =MOD(C28,25) -> 0
A29: =Totals!B30 -> 1036 | B29: HD26-JD3 | C29: 1150 | D29: =SUM(E28+1) -> 45601 | E29: =SUM(D29+C29-1) -> 46750 | F29: AP | G29: ='HD26-JD3'!B12 -> 16315 | H29: =MOD(C29,25) -> 0
A30: =Totals!B31 -> 1037 | B30: HD27-JD3 | C30: 1100 | D30: =SUM(E29+1) -> 46751 | E30: =SUM(D30+C30-1) -> 47850 | F30: AP | G30: ='HD27-JD3'!B10 -> 16588 | H30: =MOD(C30,25) -> 0
A31: =Totals!B32 -> 1038 | B31: HD28-JD3 | C31: 1250 | D31: =SUM(E30+1) -> 47851 | E31: =SUM(D31+C31-1) -> 49100 | F31: AP | G31: ='HD28-JD3'!B12 -> 16272 | H31: =MOD(C31,25) -> 0
A32: =Totals!B33 -> 1039 | B32: HD29-JD3 | C32: 1500 | D32: =SUM(E31+1) -> 49101 | E32: =SUM(D32+C32-1) -> 50600 | F32: AP | G32: ='HD29-JD3'!B14 -> 16746 | H32: =MOD(C32,25) -> 0
A33: =Totals!B34 -> 1041 | B33: HD30-JD3 | C33: 1500 | D33: =SUM(E32+1) -> 50601 | E33: =SUM(D33+C33-1) -> 52100 | F33: AP | G33: ='HD30-JD3'!B13 -> 15521 | H33: =MOD(C33,25) -> 0
A34: =Totals!B35 -> 1040 | B34: HD30-JD4 | C34: 350 | D34: =SUM(E33+1) -> 52101 | E34: =SUM(D34+C34-1) -> 52450 | F34: AP | G34: ='HD30-JD4'!B9 -> 1827 | H34: =MOD(C34,25) -> 0
A35: =Totals!B36 -> 1042 | B35: HD31-JD4 | C35: 1000 | D35: =SUM(E34+1) -> 52451 | E35: =SUM(D35+C35-1) -> 53450 | F35: AP | G35: ='HD31-JD4'!B9 -> 14466 | H35: =MOD(C35,25) -> 0
A36: =Totals!B37 -> 1043 | B36: HD32-JD4 | C36: 550 | D36: =SUM(E35+1) -> 53451 | E36: =SUM(D36+C36-1) -> 54000 | F36: AP | G36: ='HD32-JD4'!B9 -> 11528 | H36: =MOD(C36,25) -> 0
A37: =Totals!B38 -> 1044 | B37: HD33-JD4 | C37: 900 | D37: =SUM(E36+1) -> 54001 | E37: =SUM(D37+C37-1) -> 54900 | F37: AP | G37: ='HD33-JD4'!B11 -> 16472 | H37: =MOD(C37,25) -> 0
A38: =Totals!B39 -> 1045 | B38: HD34-JD4 | C38: 1400 | D38: =SUM(E37+1) -> 54901 | E38: =SUM(D38+C38-1) -> 56300 | F38: AP | G38: ='HD34-JD4'!B13 -> 16091 | H38: =MOD(C38,25) -> 0
A39: =Totals!B40 -> 1046 | B39: HD35-JD4 | C39: 1400 | D39: =SUM(E38+1) -> 56301 | E39: =SUM(D39+C39-1) -> 57700 | F39: AP | G39: ='HD35-JD4'!B13 -> 15796 | H39: =MOD(C39,25) -> 0
A40: =Totals!B41 -> 1048 | B40: HD36-JD3 | C40: 500 | D40: =SUM(E39+1) -> 57701 | E40: =SUM(D40+C40-1) -> 58200 | F40: AP | G40: ='HD36-JD4'!B39 -> 13449 | H40: =MOD(C40,25) -> 0
A41: =Totals!B42 -> 1047 | B41: HD36-JD4 | C41: 1050 | D41: =SUM(E40+1) -> 58201 | E41: =SUM(D41+C41-1) -> 59250 | F41: AP | G41: ='HD36-JD3'!B11 -> 2776 | H41: =MOD(C41,25) -> 0
A42: =Totals!B43 -> 1049 | B42: HD37-JD3 | C42: 350 | D42: =SUM(E41+1) -> 59251 | E42: =SUM(D42+C42-1) -> 59600 | F42: AP | G42: ='HD37-JD3'!B33 -> 9078 | H42: =MOD(C42,25) -> 0
A43: =Totals!B44 -> 1053 | B43: HD37-JD4 | C43: 50 | D43: =SUM(E42+1) -> 59601 | E43: =SUM(D43+C43-1) -> 59650 | F43: AP | G43: ='HD37-JD4'!B12 -> 1016 | H43: =MOD(C43,25) -> 0
A44: =Totals!B45 -> 1057 | B44: HD38-JD4 | C44: 150 | D44: =SUM(E43+1) -> 59651 | E44: =SUM(D44+C44-1) -> 59800 | F44: AP | G44: ='HD38-JD4'!B29 -> 10926 | H44: =MOD(C44,25) -> 0
A45: =Totals!B46 -> 1066 | B45: HD39-JD2 | C45: 150 | D45: =SUM(E44+1) -> 59801 | E45: =SUM(D45+C45-1) -> 59950 | F45: AP | G45: ='HD39-JD2'!B22 -> 6423 | H45: =MOD(C45,25) -> 0
A46: =Totals!B47 -> 1061 | B46: HD39-JD4 | C46: 50 | D46: =SUM(E45+1) -> 59951 | E46: =SUM(D46+C46-1) -> 60000 | F46: AP | G46: ='HD39-JD4'!B16 -> 4132 | H46: =MOD(C46,25) -> 0
A47: =Totals!B48 -> 1071 | B47: HD40-JD2 | C47: 150 | D47: =SUM(E46+1) -> 60001 | E47: =SUM(D47+C47-1) -> 60150 | F47: AP | G47: ='HD40-JD2'!B25 -> 9146 | H47: =MOD(C47,25) -> 0
G48: =SUM(G4:G47) -> 603824
B49: TOTAL ABS BY MAIL | C49: =SUM(C4:C47) -> 60050 | H49: =SUM(H4:H47) -> 0
B51: Checksum: Sequence End - Start: | D51: =E47-D4+1 -> 60050

Sheet HD1-JD1
H1: BALLOT ID# | J1: =Totals!B5 -> 1000
B3: # REGIS- | D3: # | E3: Numbers | G3: Sample | H3: Fascimile
A4: DISTRICT / PRECINCT | B4: TERED | D4: Ballots | E4: FROM | F4: TO | G4: Ballots | H4: Ballots | I4: Delivery | J4: Check
A5: 01-600 Ketchikan No. 1 | B5: 2285 | C5: =SUM(B5*0.8) -> 1828 | D5: =MROUND(C5, 25) -> 1825 | E5: =SUM('Abs By Mail'!E47,1) -> 60151 | F5: =SUM(E5+D5-1) -> 61975 | G5: 25 | I5: R1 | J5: =MOD(D5,25) -> 0
A6: 01-610 Ketchikan No. 2 | B6: 2587 | C6: =SUM(B6*0.8) -> 2069.6 | D6: =MROUND(C6, 25) -> 2075 | E6: =SUM(F5+1) -> 61976 | F6: =SUM(E6+D6-1) -> 64050 | G6: 25 | I6: R1 | J6: =MOD(D6,25) -> 0
A7: 01-620 Ketchikan No. 3 | B7: 1769 | C7: =SUM(B7*0.8) -> 1415.2 | D7: =MROUND(C7, 25) -> 1425 | E7: =SUM(F6+1) -> 64051 | F7: =SUM(E7+D7-1) -> 65475 | G7: 25 | I7: R1 | J7: =MOD(D7,25) -> 0
A8: 01-640 North Tongass No. 1 | B8: 1107 | C8: =SUM(B8*0.8) -> 885.6 | D8: =MROUND(C8, 25) -> 875 | E8: =SUM(F7+1) -> 65476 | F8: =SUM(E8+D8-1) -> 66350 | G8: 25 | I8: R1 | J8: =MOD(D8,25) -> 0
A9: 01-650 North Tongass No. 2 | B9: 1898 | C9: =SUM(B9*0.8) -> 1518.4 | D9: =MROUND(C9, 25) -> 1525 | E9: =SUM(F8+1) -> 66351 | F9: =SUM(E9+D9-1) -> 67875 | G9: 25 | I9: R1 | J9: =MOD(D9,25) -> 0
A10: 01-660 Saxman | B10: 308 | C10: =SUM(B10*0.8) -> 246.4 | D10: =MROUND(C10, 25) -> 250 | E10: =SUM(F9+1) -> 67876 | F10: =SUM(E10+D10-1) -> 68125 | G10: 25 | I10: R1 | J10: =MOD(D10,25) -> 0
A11: 01-670 South Tongass | B11: 1993 | C11: =SUM(B11*0.8) -> 1594.4 | D11: =MROUND(C11, 25) -> 1600 | E11: =SUM(F10+1) -> 68126 | F11: =SUM(E11+D11-1) -> 69725 | G11: 25 | I11: R1 | J11: =MOD(D11,25) -> 0
A12: 01-675 Coffman Cove | B12: 329 | C12: =SUM(B12*0.8) -> 263.2 | D12: =MROUND(C12, 25) -> 275 | E12: =SUM(F11+1) -> 69726 | F12: =SUM(E12+D12-1) -> 70000 | G12: 25 | I12: R1 | J12: =MOD(D12,25) -> 0
A13: 01-680 Metlakatla | B13: 1035 | C13: =SUM(B13*0.8) -> 828 | D13: =MROUND(C13, 25) -> 825 | E13: =SUM(F12+1) -> 70001 | F13: =SUM(E13+D13-1) -> 70825 | G13: 25 | I13: R1 | J13: =MOD(D13,25) -> 0
A14: 01-690 Wrangell | B14: 1941 | C14: =SUM(B14*0.8) -> 1552.8 | D14: =MROUND(C14, 25) -> 1550 | E14: =SUM(F13+1) -> 70826 | F14: =SUM(E14+D14-1) -> 72375 | G14: 25 | I14: R1 | J14: =MOD(D14,25) -> 0
A15: TOTAL PRECINCT BALLOTS HD1-JD1 | B15: =SUM(B5:B14) -> 15252 | D15: =SUM(D5:D14) -> 12225
A17: ABSENTEE OFFICIALS & STATIONS:
A18: ANCHORAGE
A19: 92-900 Anchorage Elections Office | D19: 100 | E19: =SUM(F14+1) -> 72376 | F19: =SUM(E19+D19-1) -> 72475 | G19: 10 | I19: R2 | J19: =MOD(D19,25) -> 0
A20: 92-902 Anchorage Airport | D20: 25 | E20: =SUM(F19+1) -> 72476 | F20: =SUM(E20+D20-1) -> 72500 | G20: 5 | I20: R2 | J20: =MOD(D20,25) -> 0
A21: 92-904 UAA | D21: 50 | E21: =SUM(F20+1) -> 72501 | F21: =SUM(E21+D21-1) -> 72550 | G21: 5 | I21: R2 | J21: =MOD(D21,25) -> 0
A22: 92-905 Anchorage City Hall | D22: 50 | E22: =SUM(F21+1) -> 72551 | F22: =SUM(E22+D22-1) -> 72600 | G22: 5 | I22: R2 | J22: =MOD(D22,25) -> 0
A23: 92-907 Cook Inlet Tribal Council | D23: 25 | E23: =SUM(F22+1) -> 72601 | F23: =SUM(E23+D23-1) -> 72625 | G23: 5 | I23: R2 | J23: =MOD(D23,25) -> 0
A25: MAT-SU
A26: 95-900 Mat-Su Elections Office | D26: 25 | E26: =SUM(F23+1) -> 72626 | F26: =SUM(E26+D26-1) -> 72650 | G26: 5 | I26: R5 | J26: =MOD(D26,25) -> 0
A28: FAIRBANKS
A29: 93-900 Fairbanks Elections Office | D29: 50 | E29: =SUM(F26+1) -> 72651 | F29: =SUM(E29+D29-1) -> 72700 | G29: 5 | I29: R3 | J29: =MOD(D29,25) -> 0
A30: 93-901 UAF | D30: 25 | E30: =SUM(F29+1) -> 72701 | F30: =SUM(E30+D30-1) -> 72725 | G30: 5 | I30: R3 | J30: =MOD(D30,25) -> 0
A32: JUNEAU
A33: 91-900 Juneau Elections Office | D33: 100 | E33: =SUM(F30+1) -> 72726 | F33: =SUM(E33+D33-1) -> 72825 | G33: 5 | H33: 175 | I33: R1 | J33: =MOD(D33,25) -> 0
A34: 91-902 Juneau Downtown | D34: 75 | E34: =SUM(F33+1) -> 72826 | F34: =SUM(E34+D34-1) -> 72900 | G34: 5 | I34: R1 | J34: =MOD(D34,25) -> 0
A35: 01-920 Coffman Cove AVO | D35: 50 | E35: =SUM(F34+1) -> 72901 | F35: =SUM(E35+D35-1) -> 72950 | G35: 5 | I35: R1 | J35: =MOD(D35,25) -> 0
A36: 01-922 Hyder AVO | D36: 50 | E36: =SUM(F35+1) -> 72951 | F36: =SUM(E36+D36-1) -> 73000 | G36: 5 | I36: R1 | J36: =MOD(D36,25) -> 0
A37: 01-924 Ketchikan AVO | D37: 1600 | E37: =SUM(F36+1) -> 73001 | F37: =SUM(E37+D37-1) -> 74600 | G37: 100 | I37: R1 | J37: =MOD(D37,25) -> 0
A38: 01-926 Metlakatla AVO | D38: 75 | E38: =SUM(F37+1) -> 74601 | F38: =SUM(E38+D38-1) -> 74675 | G38: 10 | I38: R1 | J38: =MOD(D38,25) -> 0
A39: 01-928 Whale Pass AVO | D39: 100 | E39: =SUM(F38+1) -> 74676 | F39: =SUM(E39+D39-1) -> 74775 | G39: 5 | I39: R1 | J39: =MOD(D39,25) -> 0
A40: 01-930 Wrangell AVO | D40: 425 | E40: =SUM(F39+1) -> 74776 | F40: =SUM(E40+D40-1) -> 75200 | G40: 50 | I40: R1 | J40: =MOD(D40,25) -> 0
A42: NOME
A43: 94-900 Nome Elections Office | D43: 25 | E43: =SUM(F40+1) -> 75201 | F43: =SUM(E43+D43-1) -> 75225 | G43: 5 | I43: R4 | J43: =MOD(D43,25) -> 0
A44: 94-901 Prudhoe Bay Station | D44: 25 | E44: =SUM(F43+1) -> 75226 | F44: =SUM(E44+D44-1) -> 75250 | G44: 5 | I44: R4 | J44: =MOD(D44,25) -> 0
A45: TOTAL ABSENTEE BALLOTS HD1-JD1 | D45: =SUM(D19:D44) -> 2875
A46: TOTAL HD1-JD1 BALLOTS | D46: =D15+D45 -> 15100 | G46: =SUM(G5:G44) -> 490 | H46: =SUM(H5:H45) -> 175 | J46: =SUM(J5:J45) -> 0
A49: Checksum: Sequence End - Start: | D49: =F44-E5+1 -> 15100

Sheet HD2-JD1
H1: BALLOT ID# | J1: =Totals!B6 -> 1011
B3: # REGIS- | D3: # | E3: Numbers | G3: Sample | H3: Fascimile
A4: DISTRICT / PRECINCT | B4: TERED | D4: Ballots | E4: FROM | F4: TO | G4: Ballots | H4: Ballots | I4: Delivery | J4: Check
A5: 02-700 Angoon | B5: 305 | C5: =SUM(B5*0.8) -> 244 | D5: 275 | E5: =SUM('HD1-JD1'!F44)+1 -> 75251 | F5: =SUM(E5+D5-1) -> 75525 | G5: 25 | I5: R1 | J5: =MOD(D5,25) -> 0
A6: 02-705 Craig | B6: 1198 | C6: =SUM(B6*0.8) -> 958.4 | D6: 800 | E6: =SUM(F5+1) -> 75526 | F6: =SUM(E6+D6-1) -> 76325 | G6: 25 | I6: R1 | J6: =MOD(D6,25) -> 0
A7: 02-720 Hoonah | B7: 683 | C7: =SUM(B7*0.8) -> 546.4 | D7: =MROUND(C7, 25) -> 550 | E7: =SUM(F6+1) -> 76326 | F7: =SUM(E7+D7-1) -> 76875 | G7: 25 | I7: R1 | J7: =MOD(D7,25) -> 0
A8: 02-725 Hydaburg | B8: 281 | C8: =SUM(B8*0.8) -> 224.8 | D8: =MROUND(C8, 25) -> 225 | E8: =SUM(F7+1) -> 76876 | F8: =SUM(E8+D8-1) -> 77100 | G8: 25 | I8: R1 | J8: =MOD(D8,25) -> 0
A9: 02-730 Kake | B9: 350 | C9: =SUM(B9*0.8) -> 280 | D9: =MROUND(C9, 25) -> 275 | E9: =SUM(F8+1) -> 77101 | F9: =SUM(E9+D9-1) -> 77375 | G9: 25 | I9: R1 | J9: =MOD(D9,25) -> 0
A10: 02-735 Kasaan | B10: 57 | C10: =SUM(B10*0.8) -> 45.6 | D10: =MROUND(C10, 25) -> 50 | E10: =SUM(F9+1) -> 77376 | F10: =SUM(E10+D10-1) -> 77425 | G10: 10 | I10: R1 | J10: =MOD(D10,25) -> 0
A11: 02-740 Klawock | B11: 1324 | C11: =SUM(B11*0.8) -> 1059.2 | D11: =MROUND(C11, 25) -> 1050 | E11: =SUM(F10+1) -> 77426 | F11: =SUM(E11+D11-1) -> 78475 | G11: 25 | I11: R1 | J11: =MOD(D11,25) -> 0
A12: 02-750 Pelican-Elfin Cove | B12: 151 | C12: =SUM(B12*0.8) -> 120.8 | D12: =MROUND(C12, 25) -> 125 | E12: =SUM(F11+1) -> 78476 | F12: =SUM(E12+D12-1) -> 78600 | G12: 10 | I12: R1 | J12: =MOD(D12,25) -> 0
A13: 02-755 Petersburg-Kupreanof | B13: 3011 | C13: =SUM(B13*0.8) -> 2408.8 | D13: =MROUND(C13, 25) -> 2400 | E13: =SUM(F12+1) -> 78601 | F13: =SUM(E13+D13-1) -> 81000 | G13: 50 | I13: R1 | J13: =MOD(D13,25) -> 0
A14: 02-760 Port Alexander | B14: 47 | C14: =SUM(B14*0.8) -> 37.6 | D14: =MROUND(C14, 25) -> 50 | E14: =SUM(F13+1) -> 81001 | F14: =SUM(E14+D14-1) -> 81050 | G14: 10 | I14: R1 | J14: =MOD(D14,25) -> 0
A15: 02-765 Sitka No. 1 | B15: 3618 | C15: =SUM(B15*0.8) -> 2894.4 | D15: =MROUND(C15, 25) -> 2900 | E15: =SUM(F14+1) -> 81051 | F15: =SUM(E15+D15-1) -> 83950 | G15: 75 | I15: R1 | J15: =MOD(D15,25) -> 0
A16: 02-770 Sitka No. 2 | B16: 3803 | C16: =SUM(B16*0.8) -> 3042.4 | D16: =MROUND(C16, 25) -> 3050 | E16: =SUM(F15+1) -> 83951 | F16: =SUM(E16+D16-1) -> 87000 | G16: 75 | I16: R1 | J16: =MOD(D16,25) -> 0
A17: 02-775 Tenakee Springs | B17: 124 | C17: =SUM(B17*0.8) -> 99.2 | D17: =MROUND(C17, 25) -> 100 | E17: =SUM(F16+1) -> 87001 | F17: =SUM(E17+D17-1) -> 87100 | G17: 25 | I17: R1 | J17: =MOD(D17,25) -> 0
A18: 02-780 Thorne Bay | B18: 554 | C18: =SUM(B18*0.8) -> 443.2 | D18: =MROUND(C18, 25) -> 450 | E18: =SUM(F17+1) -> 87101 | F18: =SUM(E18+D18-1) -> 87550 | G18: 25 | I18: R1 | J18: =MOD(D18,25) -> 0
A19: 02-785 Yakutat | B19: 496 | C19: =SUM(B19*0.8) -> 396.8 | D19: =MROUND(C19, 25) -> 400 | E19: =SUM(F18+1) -> 87551 | F19: =SUM(E19+D19-1) -> 87950 | G19: 25 | I19: R1 | J19: =MOD(D19,25) -> 0
A20: TOTAL PRECINCT BALLOTS HD2-JD1 | B20: =SUM(B5:B19) -> 16002 | D20: =SUM(D5:D19) -> 12700
A22: ABSENTEE OFFICIALS & STATIONS:
A23: ANCHORAGE
A24: 92-900 Anchorage Elections Office | D24: 100 | E24: =SUM(F19+1) -> 87951 | F24: =SUM(E24+D24-1) -> 88050 | G24: 10 | I24: R2 | J24: =MOD(D24,25) -> 0
A25: 92-902 Anchorage Airport | D25: 25 | E25: =SUM(F24+1) -> 88051 | F25: =SUM(E25+D25-1) -> 88075 | G25: 5 | I25: R2 | J25: =MOD(D25,25) -> 0
A26: 92-904 UAA | D26: 50 | E26: =SUM(F25+1) -> 88076 | F26: =SUM(E26+D26-1) -> 88125 | G26: 5 | I26: R2 | J26: =MOD(D26,25) -> 0
A27: 92-905 Anchorage City Hall | D27: 50 | E27: =SUM(F26+1) -> 88126 | F27: =SUM(E27+D27-1) -> 88175 | G27: 5 | I27: R2 | J27: =MOD(D27,25) -> 0
A28: 92-907 Cook Inlet Tribal Council | D28: 25 | E28: =SUM(F27+1) -> 88176 | F28: =SUM(E28+D28-1) -> 88200 | G28: 5 | I28: R2 | J28: =MOD(D28,25) -> 0
A30: MAT-SU
A31: 95-900 Mat-Su Elections Office | D31: 25 | E31: =SUM(F28+1) -> 88201 | F31: =SUM(E31+D31-1) -> 88225 | G31: 5 | I31: R5 | J31: =MOD(D31,25) -> 0
A33: FAIRBANKS
A34: 93-900 Fairbanks Elections Office | D34: 50 | E34: =SUM(F31+1) -> 88226 | F34: =SUM(E34+D34-1) -> 88275 | G34: 5 | I34: R3 | J34: =MOD(D34,25) -> 0
A35: 93-901 UAF | D35: 25 | E35: =SUM(F34+1) -> 88276 | F35: =SUM(E35+D35-1) -> 88300 | G35: 5 | I35: R3 | J35: =MOD(D35,25) -> 0
A37: JUNEAU
A38: 91-900 Juneau Elections Office | D38: 150 | E38: =SUM(F35+1) -> 88301 | F38: =SUM(E38+D38-1) -> 88450 | G38: 25 | H38: 175 | I38: R1 | J38: =MOD(D38,25) -> 0
A39: 91-902 Juneau Downtown | D39: 150 | E39: =SUM(F38+1) -> 88451 | F39: =SUM(E39+D39-1) -> 88600 | G39: 25 | I39: R1 | J39: =MOD(D39,25) -> 0
A40: 02-932 Angoon AVO | D40: 75 | E40: =SUM(F39+1) -> 88601 | F40: =SUM(E40+D40-1) -> 88675 | G40: 25 | I40: R1 | J40: =MOD(D40,25) -> 0
A41: 02-934 Craig AVO | D41: 150 | E41: =SUM(F40+1) -> 88676 | F41: =SUM(E41+D41-1) -> 88825 | G41: 25 | I41: R1 | J41: =MOD(D41,25) -> 0
A42: 02-936 Elfin Cove AVO | D42: 50 | E42: =SUM(F41+1) -> 88826 | F42: =SUM(E42+D42-1) -> 88875 | G42: 10 | I42: R1 | J42: =MOD(D42,25) -> 0
A43: 02-938 Hollis AVO | D43: 100 | E43: =SUM(F42+1) -> 88876 | F43: =SUM(E43+D43-1) -> 88975 | G43: 15 | I43: R1 | J43: =MOD(D43,25) -> 0
A44: 02-940 Hoonah AVO | D44: 100 | E44: =SUM(F43+1) -> 88976 | F44: =SUM(E44+D44-1) -> 89075 | G44: 25 | I44: R1 | J44: =MOD(D44,25) -> 0
A45: 02-942 Hydaburg AVO | D45: 50 | E45: =SUM(F44+1) -> 89076 | F45: =SUM(E45+D45-1) -> 89125 | G45: 15 | I45: R1 | J45: =MOD(D45,25) -> 0
A46: 02-944 Kake AVO | D46: 50 | E46: =SUM(F45+1) -> 89126 | F46: =SUM(E46+D46-1) -> 89175 | G46: 15 | I46: R1 | J46: =MOD(D46,25) -> 0
A47: 02-946 Kasaan AVO | D47: 50 | E47: =SUM(F46+1) -> 89176 | F47: =SUM(E47+D47-1) -> 89225 | G47: 15 | I47: R1 | J47: =MOD(D47,25) -> 0
A48: 02-948 Klawock AVO | D48: 75 | E48: =SUM(F47+1) -> 89226 | F48: =SUM(E48+D48-1) -> 89300 | G48: 25 | I48: R1 | J48: =MOD(D48,25) -> 0
A49: 02-950 Naukati AVO | D49: 75 | E49: =SUM(F48+1) -> 89301 | F49: =SUM(E49+D49-1) -> 89375 | G49: 15 | I49: R1 | J49: =MOD(D49,25) -> 0
A50: 02-952 Pelican AVO | D50: 50 | E50: =SUM(F49+1) -> 89376 | F50: =SUM(E50+D50-1) -> 89425 | G50: 10 | I50: R1 | J50: =MOD(D50,25) -> 0
... A52: 02-956 Port Protection AVO | D52: 75 | E52: =SUM(F51+1) -> 90176 | F52: =SUM(E52+D52-1) -> 90250 | G52: 10 | I52: R1 | J52: =MOD(D52,25) -> 0
A53: 02-957 Port Alexander AVO | D53: 50 | E53: =SUM(F52+1) -> 90251 | F53: =SUM(E53+D53-1) -> 90300 | G53: 10 | I53: R1
A54: 02-958 Sitka AVO | D54: 2400 | E54: =SUM(F53+1) -> 90301 | F54: =SUM(E54+D54-1) -> 92700 | G54: 100 | I54: R1 | J54: =MOD(D54,25) -> 0
A55: 02-960 South Thorne Bay AVO | D55: 125 | E55: =SUM(F54+1) -> 92701 | F55: =SUM(E55+D55-1) -> 92825 | G55: 25 | I55: R1 | J55: =MOD(D55,25) -> 0
A56: 02-962 Tenakee Springs AVO | D56: 75 | E56: =SUM(F55+1) -> 92826 | F56: =SUM(E56+D56-1) -> 92900 | G56: 15 | I56: R1 | J56: =MOD(D56,25) -> 0
A57: 02-964 Thorne Bay AVO | D57: 100 | E57: =SUM(F56+1) -> 92901 | F57: =SUM(E57+D57-1) -> 93000 | G57: 15 | I57: R1 | J57: =MOD(D57,25) -> 0
A58: 02-966 Yakutat AVO | D58: 150 | E58: =SUM(F57+1) -> 93001 | F58: =SUM(E58+D58-1) -> 93150 | G58: 15 | I58: R1 | J58: =MOD(D58,25) -> 0
A60: NOME
A61: 94-900 Nome Elections Office | D61: 25 | E61: =SUM(F58+1) -> 93151 | F61: =SUM(E61+D61-1) -> 93175 | G61: 5 | I61: R4 | J61: =MOD(D61,25) -> 0
A62: 94-901 Prudhoe Bay Station | D62: 25 | E62: =SUM(F61+1) -> 93176 | F62: =SUM(E62+D62-1) -> 93200 | G62: 5 | I62: R4 | J62: =MOD(D62,25) -> 0
A63: TOTAL ABSENTEE BALLOTS HD2-JD1 | D63: =SUM(D24:D62) -> 5250
A64: TOTAL HD2-JD1 BALLOTS | D64: =D20+D63 -> 17950 | G64: =SUM(G5:G62) -> 1020 | H64: =SUM(H5:H63) -> 175 | J64: =SUM(J5:J63) -> 0
A67: Checksum: Sequence End - Start: | D67: =F62-E5+1 -> 17950

Sheet HD3-JD1
H1: BALLOT ID# | J1: =Totals!B7 -> 1012
B3: # REGIS- | D3: # | E3: Numbers | G3: Sample | H3: Fascimile
A4: DISTRICT / PRECINCT | B4: TERED | D4: Ballots | E4: FROM | F4: TO | G4: Ballots | H4: Ballots | I4: Delivery | J4: Check
A5: 03-300 Auke Bay | B5: 2050 | C5: =SUM(B5*0.8) -> 1640 | D5: =MROUND(C5, 25) -> 1650 | E5: =SUM('HD2-JD1'!F62,1) -> 93201 | F5: =SUM(E5+D5-1) -> 94850 | G5: 75 | I5: R1 | J5: =MOD(D5,25) -> 0
A6: 03-305 Lynn Canal | B6: 1397 | C6: =SUM(B6*0.8) -> 1117.6 | D6: =MROUND(C6, 25) -> 1125 | E6: =SUM(F5+1) -> 94851 | F6: =SUM(E6+D6-1) -> 95975 | G6: 75 | I6: R1 | J6: =MOD(D6,25) -> 0
A7: 03-310 Melvin Park | B7: 2308 | C7: =SUM(B7*0.8) -> 1846.4 | D7: =MROUND(C7, 25) -> 1850 | E7: =SUM(F6+1) -> 95976 | F7: =SUM(E7+D7-1) -> 97825 | G7: 75 | I7: R1 | J7: =MOD(D7,25) -> 0
A8: 03-315 Mendenhall Glacier | B8: 3353 | C8: =SUM(B8*0.8) -> 2682.4 | D8: =MROUND(C8, 25) -> 2675 | E8: =SUM(F7+1) -> 97826 | F8: =SUM(E8+D8-1) -> 100500 | G8: 75 | I8: R1 | J8: =MOD(D8,25) -> 0
A9: 03-320 Thunder Mountain | B9: 3534 | C9: =SUM(B9*0.8) -> 2827.2 | D9: =MROUND(C9, 25) -> 2825 | E9: =SUM(F8+1) -> 100501 | F9: =SUM(E9+D9-1) -> 103325 | G9: 75 | I9: R1 | J9: =MOD(D9,25) -> 0
A10: 03-325 Gustavus | B10: 574 | C10: =SUM(B10*0.8) -> 459.2 | D10: =MROUND(C10, 25) -> 450 | E10: =SUM(F9+1) -> 103326 | F10: =SUM(E10+D10-1) -> 103775 | G10: 50 | I10: R1 | J10: =MOD(D10,25) -> 0
A11: 03-330 Haines No. 1 | B11: 2123 | C11: =SUM(B11*0.8) -> 1698.4 | D11: =MROUND(C11, 25) -> 1700 | E11: =SUM(F10+1) -> 103776 | F11: =SUM(E11+D11-1) -> 105475 | G11: 50 | I11: R1 | J11: =MOD(D11,25) -> 0
A12: 03-335 Haines No. 2 | B12: 311 | C12: =SUM(B12*0.8) -> 248.8 | D12: =MROUND(C12, 25) -> 250 | E12: =SUM(F11+1) -> 105476 | F12: =SUM(E12+D12-1) -> 105725 | G12: 25 | I12: R1 | J12: =MOD(D12,25) -> 0
A13: 03-340 Klukwan | B13: 72 | C13: =SUM(B13*0.8) -> 57.6 | D13: 75 | E13: =SUM(F12+1) -> 105726 | F13: =SUM(E13+D13-1) -> 105800 | G13: 25 | I13: R1 | J13: =MOD(D13,25) -> 0
A14: 03-345 Skagway | B14: 1193 | C14: =SUM(B14*0.8) -> 954.4 | D14: =MROUND(C14, 25) -> 950 | E14: =SUM(F13+1) -> 105801 | F14: =SUM(E14+D14-1) -> 106750 | G14: 50 | I14: R1 | J14: =MOD(D14,25) -> 0
A15: TOTAL PRECINCT BALLOTS HD3-JD1 | B15: =SUM(B5:B14) -> 16915 | D15: =SUM(D5:D14) -> 13550
A17: ABSENTEE OFFICIALS & STATIONS:
A18: ANCHORAGE
A19: 92-900 Anchorage Elections Office | D19: 100 | E19: =SUM(F14+1) -> 106751 | F19: =SUM(E19+D19-1) -> 106850 | G19: 10 | I19: R2 | J19: =MOD(D19,25) -> 0
A20: 92-902 Anchorage Airport | D20: 25 | E20: =SUM(F19+1) -> 106851 | F20: =SUM(E20+D20-1) -> 106875 | G20: 5 | I20: R2 | J20: =MOD(D20,25) -> 0
A21: 92-904 UAA | D21: 50 | E21: =SUM(F20+1) -> 106876 | F21: =SUM(E21+D21-1) -> 106925 | G21: 5 | I21: R2 | J21: =MOD(D21,25) -> 0
A22: 92-905 Anchorage City Hall | D22: 50 | E22: =SUM(F21+1) -> 106926 | F22: =SUM(E22+D22-1) -> 106975 | G22: 5 | I22: R2 | J22: =MOD(D22,25) -> 0
A23: 92-907 Cook Inlet Tribal Council | D23: 25 | E23: =SUM(F22+1) -> 106976 | F23: =SUM(E23+D23-1) -> 107000 | G23: 5 | I23: R2 | J23: =MOD(D23,25) -> 0
A25: MAT-SU
A26: 95-900 Mat-Su Elections Office | D26: 25 | E26: =SUM(F23+1) -> 107001 | F26: =SUM(E26+D26-1) -> 107025 | G26: 5 | I26: R5 | J26: =MOD(D26,25) -> 0
A28: FAIRBANKS
A29: 93-900 Fairbanks Elections Office | D29: 50 | E29: =SUM(F26+1) -> 107026 | F29: =SUM(E29+D29-1) -> 107075 | G29: 5 | I29: R3 | J29: =MOD(D29,25) -> 0
A30: 93-901 UAF | D30: 25 | E30: =SUM(F29+1) -> 107076 | F30: =SUM(E30+D30-1) -> 107100 | G30: 5 | I30: R3 | J30: =MOD(D30,25) -> 0
A32: JUNEAU
A33: 91-900 Juneau Elections Office | D33: 3500 | E33: =SUM(F30+1) -> 107101 | F33: =SUM(E33+D33-1) -> 110600 | G33: 75 | H33: 225 | I33: R1 | J33: =MOD(D33,25) -> 0
A34: 91-902 Juneau Downtown | D34: 1000 | E34: =SUM(F33+1) -> 110601 | F34: =SUM(E34+D34-1) -> 111600 | G34: 75 | I34: R1 | J34: =MOD(D34,25) -> 0
A35: 03-968 Gustavus AVO | D35: 150 | E35: =SUM(F34+1) -> 111601 | F35: =SUM(E35+D35-1) -> 111750 | G35: 50 | I35: R1 | J35: =MOD(D35,25) -> 0
A36: 03-970 Skagway AVO | D36: 325 | E36: =SUM(F35+1) -> 111751 | F36: =SUM(E36+D36-1) -> 112075 | G36: 25 | I36: R1 | J36: =MOD(D36,25) -> 0
A37: 03-972 Haines AVO | D37: 600 | E37: =SUM(F36+1) -> 112076 | F37: =SUM(E37+D37-1) -> 112675 | G37: 25 | I37: R1 | J37: =MOD(D37,25) -> 0
A38: 03-974 Klukwan AVO | D38: 100 | E38: =SUM(F37+1) -> 112676 | F38: =SUM(E38+D38-1) -> 112775 | G38: 25 | I38: R1 | J38: =MOD(D38,25) -> 0
A40: NOME
A41: 94-900 Nome Elections Office | D41: 25 | E41: =SUM(F38+1) -> 112776 | F41: =SUM(E41+D41-1) -> 112800 | G41: 5 | I41: R4 | J41: =MOD(D41,25) -> 0
A42: 94-901 Prudhoe Bay Station | D42: 25 | E42: =SUM(F41+1) -> 112801 | F42: =SUM(E42+D42-1) -> 112825 | G42: 5 | I42: R4 | J42: =MOD(D42,25) -> 0
A43: TOTAL ABSENTEE BALLOTS HD3-JD1 | D43: =SUM(D19:D42) -> 6075
A44: TOTAL HD3-JD1 BALLOTS | D44: =D15+D43 -> 19625 | G44: =SUM(G5:G42) -> 905 | H44: =SUM(H5:H43) -> 225 | J44: =SUM(J5:J43) -> 0
A47: Checksum: Sequence End - Start: | D47: =F42-E5+1 -> 19625

Sheet HD4-JD1
H1: BALLOT ID# | J1: =Totals!B8 -> 1013
B3: # REGIS- | D3: # | E3: Numbers | G3: Sample | H3: Fascimile
A4: DISTRICT / PRECINCT | B4: TERED | D4: Ballots | E4: FROM | F4: TO | G4: Ballots | H4: Ballots | I4: Delivery | J4: Check
A5: 04-100 Douglas | B5: 1773 | C5: =SUM(B5*0.8) -> 1418.4 | D5: =MROUND(C5, 25) -> 1425 | E5: =SUM('HD3-JD1'!F42)+1 -> 112826 | F5: =SUM(E5+D5-1) -> 114250 | G5: 50 | I5: R1 | J5: =MOD(D5,25) -> 0
A6: 04-105 Juneau Airport Area | B6: 1566 | C6: =SUM(B6*0.8) -> 1252.8 | D6: =MROUND(C6, 25) -> 1250 | E6: =SUM(F5+1) -> 114251 | F6: =SUM(E6+D6-1) -> 115500 | G6: 50 | I6: R1 | J6: =MOD(D6,25) -> 0
A7: 04-110 Juneau No. 1 | B7: 2340 | C7: =SUM(B7*0.8) -> 1872 | D7: =MROUND(C7, 25) -> 1875 | E7: =SUM(F6+1) -> 115501 | F7: =SUM(E7+D7-1) -> 117375 | G7: 50 | I7: R1 | J7: =MOD(D7,25) -> 0
A8: 04-115 Juneau No. 2 | B8: 2328 | C8: =SUM(B8*0.8) -> 1862.4 | D8: =MROUND(C8, 25) -> 1850 | E8: =SUM(F7+1) -> 117376 | F8: =SUM(E8+D8-1) -> 119225 | G8: 50 | I8: R1 | J8: =MOD(D8,25) -> 0
A9: 04-120 Juneau No. 3 | B9: 1085 | C9: =SUM(B9*0.8) -> 868 | D9: =MROUND(C9, 25) -> 875 | E9: =SUM(F8+1) -> 119226 | F9: =SUM(E9+D9-1) -> 120100 | G9: 50 | I9: R1 | J9: =MOD(D9,25) -> 0
A10: 04-125 Lemon Creek | B10: 2471 | C10: =SUM(B10*0.8) -> 1976.8 | D10: =MROUND(C10, 25) -> 1975 | E10: =SUM(F9+1) -> 120101 | F10: =SUM(E10+D10-1) -> 122075 | G10: 50 | I10: R1 | J10: =MOD(D10,25) -> 0
A11: 04-130 Glacier Valley Area | B11: 2210 | C11: =SUM(B11*0.8) -> 1768 | D11: =MROUND(C11, 25) -> 1775 | E11: =SUM(F10+1) -> 122076 | F11: =SUM(E11+D11-1) -> 123850 | G11: 50 | I11: R1 | J11: =MOD(D11,25) -> 0
A12: 04-135 North Douglas | B12: 1486 | C12: =SUM(B12*0.8) -> 1188.8 | D12: =MROUND(C12, 25) -> 1200 | E12: =SUM(F11+1) -> 123851 | F12: =SUM(E12+D12-1) -> 125050 | G12: 50 | I12: R1 | J12: =MOD(D12,25) -> 0
A13: TOTAL PRECINCT BALLOTS HD4-JD1 | B13: =SUM(B5:B12) -> 15259 | D13: =SUM(D5:D12) -> 12225
A15: ABSENTEE OFFICIALS & STATIONS:
A16: ANCHORAGE
A17: 92-900 Anchorage Elections Office | D17: 100 | E17: =SUM(F12+1) -> 125051 | F17: =SUM(E17+D17-1) -> 125150 | G17: 10 | I17: R2 | J17: =MOD(D17,25) -> 0
A18: 92-902 Anchorage Airport | D18: 50 | E18: =SUM(F17+1) -> 125151 | F18: =SUM(E18+D18-1) -> 125200 | G18: 5 | I18: R2 | J18: =MOD(D18,25) -> 0
A19: 92-904 UAA | D19: 50 | E19: =SUM(F18+1) -> 125201 | F19: =SUM(E19+D19-1) -> 125250 | G19: 5 | I19: R2 | J19: =MOD(D19,25) -> 0
A20: 92-905 Anchorage City Hall | D20: 50 | E20: =SUM(F19+1) -> 125251 | F20: =SUM(E20+D20-1) -> 125300 | G20: 5 | I20: R2 | J20: =MOD(D20,25) -> 0
A21: 92-907 Cook Inlet Tribal Council | D21: 25 | E21: =SUM(F20+1) -> 125301 | F21: =SUM(E21+D21-1) -> 125325 | G21: 5 | I21: R2 | J21: =MOD(D21,25) -> 0
A23: MAT-SU
A24: 95-900 Mat-Su Elections Office | D24: 25 | E24: =SUM(F21+1) -> 125326 | F24: =SUM(E24+D24-1) -> 125350 | G24: 5 | I24: R5 | J24: =MOD(D24,25) -> 0
A26: FAIRBANKS
A27: 93-900 Fairbanks Elections Office | D27: 50 | E27: =SUM(F24+1) -> 125351 | F27: =SUM(E27+D27-1) -> 125400 | G27: 5 | I27: R3 | J27: =MOD(D27,25) -> 0
A28: 93-901 UAF | D28: 25 | E28: =SUM(F27+1) -> 125401 | F28: =SUM(E28+D28-1) -> 125425 | G28: 5 | I28: R3 | J28: =MOD(D28,25) -> 0
A30: JUNEAU
A31: 91-900 Juneau Elections Office | D31: 2000 | E31: =SUM(F28+1) -> 125426 | F31: =SUM(E31+D31-1) -> 127425 | G31: 25 | H31: 200 | I31: R1 | J31: =MOD(D31,25) -> 0
A32: 91-902 Juneau Downtown | D32: 2000 | E32: =SUM(F31+1) -> 127426 | F32: =SUM(E32+D32-1) -> 129425 | G32: 25 | I32: R1 | J32: =MOD(D32,25) -> 0
A34: NOME
A35: 94-900 Nome Elections Office | D35: 25 | E35: =SUM(F32+1) -> 129426 | F35: =SUM(E35+D35-1) -> 129450 | G35: 5 | I35: R4 | J35: =MOD(D35,25) -> 0
A36: 94-901 Prudhoe Bay Station | D36: 25 | E36: =SUM(F35+1) -> 129451 | F36: =SUM(E36+D36-1) -> 129475 | G36: 5 | I36: R4 | J36: =MOD(D36,25) -> 0
A37: TOTAL ABSENTEE BALLOTS HD4-JD1 | D37: =SUM(D17:D36) -> 4425
A38: TOTAL HD4-JD1 BALLOTS | D38: =D13+D37 -> 16650 | G38: =SUM(G5:G37) -> 505 | H38: =SUM(H5:H37) -> 200 | J38: =SUM(J5:J37) -> 0
A41: Checksum: Sequence End - Start: | D41: =F36-E5+1 -> 16650

Sheet HD5-JD3
H1: BALLOT ID# | J1: =Totals!B9 -> 1014
B3: # REGIS- | D3: # | E3: Numbers | G3: Sample | H3: Fascimile
A4: DISTRICT / PRECINCT | B4: TERED | D4: Ballots | E4: FROM | F4: TO | G4: Ballots | H4: Ballots | I4: Delivery | J4: Check
A5: 05-800 Chiniak | B5: 134 | C5: =SUM(B5*0.8) -> 107.2 | D5: =MROUND(C5, 25) -> 100 | E5: =SUM('HD4-JD1'!F36,1) -> 129476 | F5: =SUM(E5+D5-1) -> 129575 | G5: 25 | I5: R1 | J5: =MOD(D5,25) -> 0
A6: 05-810 Flats | B6: 1807 | C6: =SUM(B6*0.8) -> 1445.6 | D6: =MROUND(C6, 25) -> 1450 | E6: =SUM(F5+1) -> 129576 | F6: =SUM(E6+D6-1) -> 131025 | G6: 75 | I6: R1 | J6: =MOD(D6,25) -> 0
A7: 05-815 Kodiak Island South | B7: 164 | C7: =SUM(B7*0.8) -> 131.2 | D7: =MROUND(C7, 25) -> 125 | E7: =SUM(F6+1) -> 131026 | F7: =SUM(E7+D7-1) -> 131150 | G7: 25 | I7: R1 | J7: =MOD(D7,25) -> 0
A8: 05-820 Kodiak No. 1 | B8: 2032 | C8: =SUM(B8*0.8) -> 1625.6 | D8: =MROUND(C8, 25) -> 1625 | E8: =SUM(F7+1) -> 131151 | F8: =SUM(E8+D8-1) -> 132775 | G8: 25 | I8: R1 | J8: =MOD(D8,25) -> 0
A9: 05-825 Kodiak No. 2 | B9: 2005 | C9: =SUM(B9*0.8) -> 1604 | D9: =MROUND(C9, 25) -> 1600 | E9: =SUM(F8+1) -> 132776 | F9: =SUM(E9+D9-1) -> 134375 | G9: 25 | I9: R1 | J9: =MOD(D9,25) -> 0
A10: 05-830 Mission Road | B10: 3571 | C10: =SUM(B10*0.8) -> 2856.8 | D10: =MROUND(C10, 25) -> 2850 | E10: =SUM(F9+1) -> 134376 | F10: =SUM(E10+D10-1) -> 137225 | G10: 50 | I10: R1 | J10: =MOD(D10,25) -> 0
A11: 05-835 Old Harbor | B11: 119 | C11: =SUM(B11*0.8) -> 95.2 | D11: =MROUND(C11, 25) -> 100 | E11: =SUM(F10+1) -> 137226 | F11: =SUM(E11+D11-1) -> 137325 | G11: 10 | I11: R1 | J11: =MOD(D11,25) -> 0
A12: 05-840 Ouzinke | B12: 137 | C12: =SUM(B12*0.8) -> 109.6 | D12: =MROUND(C12, 25) -> 100 | E12: =SUM(F11+1) -> 137326 | F12: =SUM(E12+D12-1) -> 137425 | G12: 10 | I12: R1 | J12: =MOD(D12,25) -> 0
A13: 05-845 Port Lions | B13: 173 | C13: =SUM(B13*0.8) -> 138.4 | D13: =MROUND(C13, 25) -> 150 | E13: =SUM(F12+1) -> 137426 | F13: =SUM(E13+D13-1) -> 137575 | G13: 50 | I13: R1 | J13: =MOD(D13,25) -> 0
A14: 05-860 Cordova | B14: 1999 | C14: =SUM(B14*0.8) -> 1599.2 | D14: =MROUND(C14, 25) -> 1600 | E14: =SUM(F13+1) -> 137576 | F14: =SUM(E14+D14-1) -> 139175 | G14: 75 | I14: R1 | J14: =MOD(D14,25) -> 0
A15: 05-865 Seward-Lowell Point | B15: 1848 | C15: =SUM(B15*0.8) -> 1478.4 | D15: =MROUND(C15, 25) -> 1475 | E15: =SUM(F14+1) -> 139176 | F15: =SUM(E15+D15-1) -> 140650 | G15: 75 | I15: R6 | J15: =MOD(D15,25) -> 0
A16: 05-870 Tatitlek | B16: 113 | C16: =SUM(B16*0.8) -> 90.4 | D16: =MROUND(C16, 25) -> 100 | E16: =SUM(F15+1) -> 140651 | F16: =SUM(E16+D16-1) -> 140750 | G16: 25 | I16: R1 | J16: =MOD(D16,25) -> 0
A17: TOTAL PRECINCT BALLOTS HD5-JD3 | B17: =SUM(B5:B16) -> 14102 | D17: =SUM(D5:D16) -> 11275
A19: ABSENTEE OFFICIALS & STATIONS:
A20: ANCHORAGE
A21: 92-900 Anchorage Elections Office | D21: 200 | E21: =SUM(F16+1) -> 140751 | F21: =SUM(E21+D21-1) -> 140950 | G21: 10 | I21: R2 | J21: =MOD(D21,25) -> 0
A22: 92-902 Anchorage Airport | D22: 50 | E22: =SUM(F21+1) -> 140951 | F22: =SUM(E22+D22-1) -> 141000 | G22: 5 | I22: R2 | J22: =MOD(D22,25) -> 0
A23: 92-904 UAA | D23: 100 | E23: =SUM(F22+1) -> 141001 | F23: =SUM(E23+D23-1) -> 141100 | G23: 5 | I23: R2 | J23: =MOD(D23,25) -> 0
A24: 92-905 Anchorage City Hall | D24: 100 | E24: =SUM(F23+1) -> 141101 | F24: =SUM(E24+D24-1) -> 141200 | G24: 5 | I24: R2 | J24: =MOD(D24,25) -> 0
A25: 92-907 Cook Inlet Tribal Council | D25: 50 | E25: =SUM(F24+1) -> 141201 | F25: =SUM(E25+D25-1) -> 141250 | G25: 5 | I25: R2 | J25: =MOD(D25,25) -> 0
A27: MAT-SU
A28: 95-900 Mat-Su Elections Office | D28: 25 | E28: =SUM(F25+1) -> 141251 | F28: =SUM(E28+D28-1) -> 141275 | G28: 5 | I28: R5 | J28: =MOD(D28,25) -> 0
A29: 95-901 Soldotna | D29: 500 | E29: =SUM(F28+1) -> 141276 | F29: =SUM(E29+D29-1) -> 141775 | G29: 25 | I29: R6 | J29: =MOD(D29,25) -> 0
A30: 95-902 Kenai City | D30: 300 | E30: =SUM(F29+1) -> 141776 | F30: =SUM(E30+D30-1) -> 142075 | G30: 25 | I30: R6 | J30: =MOD(D30,25) -> 0
A32: FAIRBANKS
A33: 93-900 Fairbanks Elections Office | D33: 50 | E33: =SUM(F30+1) -> 142076 | F33: =SUM(E33+D33-1) -> 142125 | G33: 5 | I33: R3 | J33: =MOD(D33,25) -> 0
A34: 93-901 UAF | D34: 25 | E34: =SUM(F33+1) -> 142126 | F34: =SUM(E34+D34-1) -> 142150 | G34: 5 | I34: R3 | J34: =MOD(D34,25) -> 0
A36: JUNEAU
A37: 91-900 Juneau Elections Office | D37: 50 | E37: =SUM(F34+1) -> 142151 | F37: =SUM(E37+D37-1) -> 142200 | G37: 25 | H37: 150 | I37: R1 | J37: =MOD(D37,25) -> 0
A38: 91-902 Juneau Downtown | D38: 50 | E38: =SUM(F37+1) -> 142201 | F38: =SUM(E38+D38-1) -> 142250 | G38: 25 | I38: R1 | J38: =MOD(D38,25) -> 0
A39: 91-905 Seward AVO/AVM | D39: 800 | E39: =SUM(F38+1) -> 142251 | F39: =SUM(E39+D39-1) -> 143050 | G39: 25 | I39: R1 | J39: =MOD(D39,25) -> 0
A40: 91-906 Homer Early Vote | D40: 150 | E40: =SUM(F39+1) -> 143051 | F40: =SUM(E40+D40-1) -> 143200 | G40: 25 | I40: R1 | J40: =MOD(D40,25) -> 0
A41: 05-976 Cordova AVO | D41: 800 | E41: =SUM(F40+1) -> 143201 | F41: =SUM(E41+D41-1) -> 144000 | G41: 50 | I41: R1 | J41: =MOD(D41,25) -> 0
A42: 05-978 Kodiak AVO | D42: 1025 | E42: =SUM(F41+1) -> 144001 | F42: =SUM(E42+D42-1) -> 145025 | G42: 50 | I42: R1 | J42: =MOD(D42,25) -> 0
A43: 05-980 Larsen Bay AVO | D43: 75 | E43: =SUM(F42+1) -> 145026 | F43: =SUM(E43+D43-1) -> 145100 | G43: 25 | I43: R1 | J43: =MOD(D43,25) -> 0
A44: 05-982 Ouzinkie AVO | D44: 75 | E44: =SUM(F43+1) -> 145101 | F44: =SUM(E44+D44-1) -> 145175 | G44: 25 | I44: R1 | J44: =MOD(D44,25) -> 0
A45: 05-984 Port Lions AVO | D45: 125 | E45: =SUM(F44+1) -> 145176 | F45: =SUM(E45+D45-1) -> 145300 | G45: 25 | I45: R1 | J45: =MOD(D45,25) -> 0
A47: NOME
A48: 94-900 Nome Elections Office | D48: 25 | E48: =SUM(F45+1) -> 145301 | F48: =SUM(E48+D48-1) -> 145325 | G48: 5 | I48: R4 | J48: =MOD(D48,25) -> 0
A49: 94-901 Prudhoe Bay Station | D49: 25 | E49: =SUM(F48+1) -> 145326 | F49: =SUM(E49+D49-1) -> 145350 | G49: 5 | I49: R4 | J49: =MOD(D49,25) -> 0
A50: TOTAL ABSENTEE BALLOTS HD5-JD3 | D50: =SUM(D21:D49) -> 4600
A51: TOTAL HD5-JD3 BALLOTS | D51: =D17+D50 -> 15875 | G51: =SUM(G5:G50) -> 850 | H51: =SUM(H5:H50) -> 150 | J51: =SUM(J5:J50) -> 0
A54: Checksum: Sequence End - Start: | D54: =F49-E5+1 -> 15875

Sheet HD6-JD3
H1: BALLOT ID# | J1: =Totals!B10 -> 1016
B3: # REGIS- | D3: # | E3: Numbers | G3: Sample | H3: Fascimile
A4: DISTRICT / PRECINCT | B4: TERED | D4: Ballots | E4: FROM | F4: TO | G4: Ballots | H4: Ballots | I4: Delivery | J4: Check
A5: 06-200 Anchor Point | B5: 2528 | C5: =SUM(B5*0.8) -> 2022.4 | D5: =MROUND(C5, 25) -> 2025 | E5: =SUM('HD5-JD3'!F49,1) -> 145351 | F5: =SUM(E5+D5-1) -> 147375 | G5: 50 | I5: R6 | J5: =MOD(D5,25) -> 0
A6: 06-210 Diamond Ridge | B6: 1408 | C6: =SUM(B6*0.8) -> 1126.4 | D6: =MROUND(C6, 25) -> 1125 | E6: =SUM(F5+1) -> 147376 | F6: =SUM(E6+D6-1) -> 148500 | G6: 50 | I6: R6 | J6: =MOD(D6,25) -> 0
A7: 06-220 Fox River | B7: 992 | C7: =SUM(B7*0.8) -> 793.6 | D7: =MROUND(C7, 25) -> 800 | E7: =SUM(F6+1) -> 148501 | F7: =SUM(E7+D7-1) -> 149300 | G7: 75 | I7: R6 | J7: =MOD(D7,25) -> 0
A8: 06-230 Homer No. 1 | B8: 2932 | C8: =SUM(B8*0.8) -> 2345.6 | D8: =MROUND(C8, 25) -> 2350 | E8: =SUM(F7+1) -> 149301 | F8: =SUM(E8+D8-1) -> 151650 | G8: 75 | I8: R6 | J8: =MOD(D8,25) -> 0
A9: 06-240 Homer No. 2 | B9: 2445 | C9: =SUM(B9*0.8) -> 1956 | D9: =MROUND(C9, 25) -> 1950 | E9: =SUM(F8+1) -> 151651 | F9: =SUM(E9+D9-1) -> 153600 | G9: 50 | I9: R6 | J9: =MOD(D9,25) -> 0
A10: 06-250 Kachemak-Fritz Creek | B10: 2195 | C10: =SUM(B10*0.8) -> 1756 | D10: =MROUND(C10, 25) -> 1750 | E10: =SUM(F9+1) -> 153601 | F10: =SUM(E10+D10-1) -> 155350 | G10: 25 | I10: R6 | J10: =MOD(D10,25) -> 0
A11: 06-260 Kasilof | B11: 3581 | C11: =SUM(B11*0.8) -> 2864.8 | D11: =MROUND(C11, 25) -> 2875 | E11: =SUM(F10+1) -> 155351 | F11: =SUM(E11+D11-1) -> 158225 | G11: 75 | I11: R6 | J11: =MOD(D11,25) -> 0
A12: 06-270 Ninilchik | B12: 1736 | C12: =SUM(B12*0.8) -> 1388.8 | D12: =MROUND(C12, 25) -> 1400 | E12: =SUM(F11+1) -> 158226 | F12: =SUM(E12+D12-1) -> 159625 | G12: 75 | I12: R6 | J12: =MOD(D12,25) -> 0
A13: 06-280 Seldovia-Kachemak Bay | B13: 475 | C13: =SUM(B13*0.8) -> 380 | D13: =MROUND(C13, 25) -> 375 | E13: =SUM(F12+1) -> 159626 | F13: =SUM(E13+D13-1) -> 160000 | G13: 25 | I13: R6 | J13: =MOD(D13,25) -> 0
A14: TOTAL PRECINCT BALLOTS HD6-JD3 | B14: =SUM(B5:B13) -> 18292 | D14: =SUM(D5:D13) -> 14650
A16: ABSENTEE OFFICIALS & STATIONS:
A17: ANCHORAGE
A18: 92-900 Anchorage Elections Office | D18: 200 | E18: =SUM(F13+1) -> 160001 | F18: =SUM(E18+D18-1) -> 160200 | G18: 10 | I18: R2 | J18: =MOD(D18,25) -> 0
A19: 92-902 Anchorage Airport | D19: 50 | E19: =SUM(F18+1) -> 160201 | F19: =SUM(E19+D19-1) -> 160250 | G19: 5 | I19: R2 | J19: =MOD(D19,25) -> 0
A20: 92-904 UAA | D20: 50 | E20: =SUM(F19+1) -> 160251 | F20: =SUM(E20+D20-1) -> 160300 | G20: 5 | I20: R2 | J20: =MOD(D20,25) -> 0
A21: 92-905 Anchorage City Hall | D21: 100 | E21: =SUM(F20+1) -> 160301 | F21: =SUM(E21+D21-1) -> 160400 | G21: 5 | I21: R2 | J21: =MOD(D21,25) -> 0
A22: 92-907 Cook Inlet Tribal Council | D22: 50 | E22: =SUM(F21+1) -> 160401 | F22: =SUM(E22+D22-1) -> 160450 | G22: 5 | I22: R2 | J22: =MOD(D22,25) -> 0
A24: MAT-SU
A25: 95-900 Mat-Su Elections Office | D25: 25 | E25: =SUM(F22+1) -> 160451 | F25: =SUM(E25+D25-1) -> 160475 | G25: 5 | I25: R5 | J25: =MOD(D25,25) -> 0
A26: 95-901 Soldotna | D26: 1200 | E26: =SUM(F25+1) -> 160476 | F26: =SUM(E26+D26-1) -> 161675 | G26: 50 | I26: R6 | J26: =MOD(D26,25) -> 0
A27: 95-902 Kenai City | D27: 400 | E27: =SUM(F26+1) -> 161676 | F27: =SUM(E27+D27-1) -> 162075 | G27: 50 | I27: R6 | J27: =MOD(D27,25) -> 0
A29: FAIRBANKS
A30: 93-900 Fairbanks Elections Office | D30: 50 | E30: =SUM(F27+1) -> 162076 | F30: =SUM(E30+D30-1) -> 162125 | G30: 5 | I30: R3 | J30: =MOD(D30,25) -> 0
A31: 93-901 UAF | D31: 25 | E31: =SUM(F30+1) -> 162126 | F31: =SUM(E31+D31-1) -> 162150 | G31: 5 | I31: R3 | J31: =MOD(D31,25) -> 0
A33: JUNEAU
A34: 91-900 Juneau Elections Office | D34: 75 | E34: =SUM(F31+1) -> 162151 | F34: =SUM(E34+D34-1) -> 162225 | G34: 10 | H34: 175 | I34: R1 | J34: =MOD(D34,25) -> 0
A35: 91-902 Juneau Downtown | D35: 75 | E35: =SUM(F34+1) -> 162226 | F35: =SUM(E35+D35-1) -> 162300 | G35: 10 | I35: R1 | J35: =MOD(D35,25) -> 0
A36: 91-905 Seward AVO/AVM | D36: 75 | E36: =SUM(F35+1) -> 162301 | F36: =SUM(E36+D36-1) -> 162375 | G36: 15 | I36: R1 | J36: =MOD(D36,25) -> 0
A37: 91-906 Homer Early Vote | D37: 3000 | E37: =SUM(F36+1) -> 162376 | F37: =SUM(E37+D37-1) -> 165375 | G37: 125 | I37: R1 | J37: =MOD(D37,25) -> 0
A38: 06-992 Seldovia AVO | D38: 125 | E38: =SUM(F37+1) -> 165376 | F38: =SUM(E38+D38-1) -> 165500 | G38: 15 | I38: R1 | J38: =MOD(D38,25) -> 0
A40: NOME
A41: 94-900 Nome Elections Office | D41: 25 | E41: =SUM(F38+1) -> 165501 | F41: =SUM(E41+D41-1) -> 165525 | G41: 5 | I41: R4 | J41: =MOD(D41,25) -> 0
A42: 94-901 Prudhoe Bay Station | D42: 25 | E42: =SUM(F41+1) -> 165526 | F42: =SUM(E42+D42-1) -> 165550 | G42: 5 | I42: R4 | J42: =MOD(D42,25) -> 0
A43: TOTAL ABSENTEE BALLOTS HD6-JD3 | D43: =SUM(D18:D42) -> 5550
A44: TOTAL HD6-JD3 BALLOTS | D44: =D14+D43 -> 20200 | G44: =SUM(G5:G43) -> 830 | H44: =SUM(H5:H43) -> 175 | J44: =SUM(J5:J43) -> 0
D46: =F42-E5+1 -> 20200
A47: Checksum: Sequence End - Start:

Sheet HD7-JD3
H1: BALLOT ID# | J1: =Totals!B11 -> 1017
B3: # REGIS- | D3: # | E3: Numbers | G3: Sample | H3: Fascimile
A4: DISTRICT / PRECINCT | B4: TERED | D4: Ballots | E4: FROM | F4: TO | G4: Ballots | H4: Ballots | I4: Delivery | J4: Check
A5: 07-005 Central | B5: 2845 | C5: =SUM(B5*0.8) -> 2276 | D5: =MROUND(C5, 25) -> 2275 | E5: ='HD6-JD3'!F42+1 -> 165551 | F5: =SUM(E5+D5-1) -> 167825 | G5: 25 | I5: R6 | J5: =MOD(D5,25) -> 0
A6: 07-010 K-Beach | B6: 3437 | C6: =SUM(B6*0.8) -> 2749.6 | D6: =MROUND(C6, 25) -> 2750 | E6: =SUM(F5+1) -> 167826 | F6: =SUM(E6+D6-1) -> 170575 | G6: 25 | I6: R6 | J6: =MOD(D6,25) -> 0
A7: 07-015 Kenai No. 1 | B7: 3219 | C7: =SUM(B7*0.8) -> 2575.2 | D7: =MROUND(C7, 25) -> 2575 | E7: =SUM(F6+1) -> 170576 | F7: =SUM(E7+D7-1) -> 173150 | G7: 25 | I7: R6 | J7: =MOD(D7,25) -> 0
A8: 07-020 Kenai No. 2 | B8: 1699 | C8: =SUM(B8*0.8) -> 1359.2 | D8: =MROUND(C8, 25) -> 1350 | E8: =SUM(F7+1) -> 173151 | F8: =SUM(E8+D8-1) -> 174500 | G8: 25 | I8: R6 | J8: =MOD(D8,25) -> 0
A9: 07-025 Kenai No. 3 | B9: 1526 | C9: =SUM(B9*0.8) -> 1220.8 | D9: =MROUND(C9, 25) -> 1225 | E9: =SUM(F8+1) -> 174501 | F9: =SUM(E9+D9-1) -> 175725 | G9: 25 | I9: R6 | J9: =MOD(D9,25) -> 0
A10: 07-030 Soldotna | B10: 4168 | C10: =SUM(B10*0.8) -> 3334.4 | D10: =MROUND(C10, 25) -> 3325 | E10: =SUM(F9+1) -> 175726 | F10: =SUM(E10+D10-1) -> 179050 | G10: 25 | I10: R6 | J10: =MOD(D10,25) -> 0
A11: TOTAL PRECINCT BALLOTS HD7-JD3 | B11: =SUM(B5:B10) -> 16894 | D11: =SUM(D5:D10) -> 13500 | J11: =SUM(J5:J5) -> 0
A13: ABSENTEE OFFICIALS & STATIONS:
A14: ANCHORAGE
A15: 92-900 Anchorage Elections Office | D15: 200 | E15: =SUM(F10+1) -> 179051 | F15: =SUM(E15+D15-1) -> 179250 | G15: 10 | I15: R2 | J15: =MOD(D15,25) -> 0
A16: 92-902 Anchorage Airport | D16: 50 | E16: =SUM(F15+1) -> 179251 | F16: =SUM(E16+D16-1) -> 179300 | G16: 5 | I16: R2 | J16: =MOD(D16,25) -> 0
A17: 92-904 UAA | D17: 100 | E17: =SUM(F16+1) -> 179301 | F17: =SUM(E17+D17-1) -> 179400 | G17: 5 | I17: R2 | J17: =MOD(D17,25) -> 0
A18: 92-905 Anchorage City Hall | D18: 100 | E18: =SUM(F17+1) -> 179401 | F18: =SUM(E18+D18-1) -> 179500 | G18: 5 | I18: R2 | J18: =MOD(D18,25) -> 0
A19: 92-907 Cook Inlet Tribal Council | D19: 50 | E19: =SUM(F18+1) -> 179501 | F19: =SUM(E19+D19-1) -> 179550 | G19: 5 | I19: R2 | J19: =MOD(D19,25) -> 0
A21: MAT-SU
A22: 95-900 Mat-Su Elections Office | D22: 25 | E22: =SUM(F19+1) -> 179551 | F22: =SUM(E22+D22-1) -> 179575 | G22: 5 | H22: 400 | I22: R5 | J22: =MOD(D22,25) -> 0
A23: 95-901 Soldotna | D23: 2000 | E23: =SUM(F22+1) -> 179576 | F23: =SUM(E23+D23-1) -> 181575 | G23: 50 | I23: R6 | J23: =MOD(D23,25) -> 0
A24: 95-902 Kenai City | D24: 1000 | E24: =SUM(F23+1) -> 181576 | F24: =SUM(E24+D24-1) -> 182575 | G24: 50 | I24: R6 | J24: =MOD(D24,25) -> 0
A26: FAIRBANKS
A27: 93-900 Fairbanks Elections Office | D27: 50 | E27: =SUM(F24+1) -> 182576 | F27: =SUM(E27+D27-1) -> 182625 | G27: 5 | I27: R3 | J27: =MOD(D27,25) -> 0
A28: 93-901 UAF | D28: 25 | E28: =SUM(F27+1) -> 182626 | F28: =SUM(E28+D28-1) -> 182650 | G28: 5 | I28: R3 | J28: =MOD(D28,25) -> 0
A30: JUNEAU
A31: 91-900 Juneau Elections Office | D31: 50 | E31: =SUM(F28+1) -> 182651 | F31: =SUM(E31+D31-1) -> 182700 | G31: 5 | I31: R1 | J31: =MOD(D31,25) -> 0
A32: 91-902 Juneau Downtown | D32: 50 | E32: =SUM(F31+1) -> 182701 | F32: =SUM(E32+D32-1) -> 182750 | G32: 5 | I32: R1 | J32: =MOD(D32,25) -> 0
A33: 91-905 Seward AVO/AVM | D33: 50 | E33: =SUM(F32+1) -> 182751 | F33: =SUM(E33+D33-1) -> 182800 | G33: 15 | I33: R1 | J33: =MOD(D33,25) -> 0
A34: 91-906 Homer Early Vote | D34: 150 | E34: =SUM(F33+1) -> 182801 | F34: =SUM(E34+D34-1) -> 182950 | G34: 15 | I34: R1 | J34: =MOD(D34,25) -> 0
A36: NOME
A37: 94-900 Nome Elections Office | D37: 25 | E37: =SUM(F34+1) -> 182951 | F37: =SUM(E37+D37-1) -> 182975 | G37: 5 | I37: R4 | J37: =MOD(D37,25) -> 0
A38: 94-901 Prudhoe Bay Station | D38: 25 | E38: =SUM(F37+1) -> 182976 | F38: =SUM(E38+D38-1) -> 183000 | G38: 5 | I38: R4 | J38: =MOD(D38,25) -> 0
A39: TOTAL ABSENTEE BALLOTS HD7-JD3 | D39: =SUM(D15:D38) -> 3950 | G39: =SUM(G5:G38) -> 345 | H39: =SUM(H5:H38) -> 400
A40: TOTAL HD7-JD3 BALLOTS | D40: =D11+D39 -> 17450
D42: =F38-E5+1 -> 17450
A43: Checksum: Sequence End - Start:

Sheet HD8-JD3
H1: BALLOT ID# | J1: =Totals!B12 -> 1018
B3: # REGIS- | D3: # | E3: Numbers | G3: Sample | H3: Fascimile
A4: DISTRICT / PRECINCT | B4: TERED | D4: Ballots | E4: FROM | F4: TO | G4: Ballots | H4: Ballots | I4: Delivery | J4: Check
A5: 08-035 Bear Creek | B5: 1905 | C5: =SUM(B5*0.8) -> 1524 | D5: =MROUND(C5, 25) -> 1525 | E5: ='HD7-JD3'!F38+1 -> 183001 | F5: =SUM(E5+D5-1) -> 184525 | G5: 25 | I5: R6 | J5: =MOD(D5,25) -> 0
A6: 08-040 Cooper Landing | B6: 405 | C6: =SUM(B6*0.8) -> 324 | D6: =MROUND(C6, 25) -> 325 | E6: =SUM(F5+1) -> 184526 | F6: =SUM(E6+D6-1) -> 184850 | G6: 25 | I6: R6 | J6: =MOD(D6,25) -> 0
A7: 08-045 Funny River No. 1 | B7: 1149 | C7: =SUM(B7*0.8) -> 919.2 | D7: =MROUND(C7, 25) -> 925 | E7: =SUM(F6+1) -> 184851 | F7: =SUM(E7+D7-1) -> 185775 | G7: 25 | I7: R6 | J7: =MOD(D7,25) -> 0
A8: 08-050 Funny River No. 2 | B8: 1278 | C8: =SUM(B8*0.8) -> 1022.4 | D8: =MROUND(C8, 25) -> 1025 | E8: =SUM(F7+1) -> 185776 | F8: =SUM(E8+D8-1) -> 186800 | G8: 25 | I8: R6 | J8: =MOD(D8,25) -> 0
A9: 08-055 Hope | B9: 182 | C9: =SUM(B9*0.8) -> 145.6 | D9: =MROUND(C9, 25) -> 150 | E9: =SUM(F8+1) -> 186801 | F9: =SUM(E9+D9-1) -> 186950 | G9: 25 | I9: R6 | J9: =MOD(D9,25) -> 0
A10: 08-060 Mackey Lake | B10: 2425 | C10: =SUM(B10*0.8) -> 1940 | D10: =MROUND(C10, 25) -> 1950 | E10: =SUM(F9+1) -> 186951 | F10: =SUM(E10+D10-1) -> 188900 | G10: 25 | I10: R6 | J10: =MOD(D10,25) -> 0
A11: 08-065 Moose Pass | B11: 379 | C11: =SUM(B11*0.8) -> 303.2 | D11: =MROUND(C11, 25) -> 300 | E11: =SUM(F10+1) -> 188901 | F11: =SUM(E11+D11-1) -> 189200 | G11: 25 | I11: R6 | J11: =MOD(D11,25) -> 0
A12: 08-070 Nikiski | B12: 2299 | C12: =SUM(B12*0.8) -> 1839.2 | D12: =MROUND(C12, 25) -> 1850 | E12: =SUM(F11+1) -> 189201 | F12: =SUM(E12+D12-1) -> 191050 | G12: 25 | I12: R6 | J12: =MOD(D12,25) -> 0
A13: 08-075 Salamatof | B13: 2600 | C13: =SUM(B13*0.8) -> 2080 | D13: =MROUND(C13, 25) -> 2075 | E13: =SUM(F12+1) -> 191051 | F13: =SUM(E13+D13-1) -> 193125 | G13: 25 | I13: R6 | J13: =MOD(D13,25) -> 0
A14: 08-080 Sterling No. 1 | B14: 2285 | C14: =SUM(B14*0.8) -> 1828 | D14: =MROUND(C14, 25) -> 1825 | E14: =SUM(F13+1) -> 193126 | F14: =SUM(E14+D14-1) -> 194950 | G14: 25 | I14: R6 | J14: =MOD(D14,25) -> 0
A15: 08-085 Sterling No. 2 | B15: 2454 | C15: =SUM(B15*0.8) -> 1963.2 | D15: =MROUND(C15, 25) -> 1975 | E15: =SUM(F14+1) -> 194951 | F15: =SUM(E15+D15-1) -> 196925 | G15: 25 | I15: R6 | J15: =MOD(D15,25) -> 0
A16: TOTAL PRECINCT BALLOTS HD8-JD3 | B16: =SUM(B5:B15) -> 17361 | D16: =SUM(D5:D15) -> 13925
A18: ABSENTEE OFFICIALS & STATIONS:
A19: ANCHORAGE
A20: 92-900 Anchorage Elections Office | D20: 200 | E20: =SUM(F15+1) -> 196926 | F20: =SUM(E20+D20-1) -> 197125 | G20: 10 | I20: R2 | J20: =MOD(D20,25) -> 0
A21: 92-902 Anchorage Airport | D21: 50 | E21: =SUM(F20+1) -> 197126 | F21: =SUM(E21+D21-1) -> 197175 | G21: 5 | I21: R2 | J21: =MOD(D21,25) -> 0
A22: 92-904 UAA | D22: 100 | E22: =SUM(F21+1) -> 197176 | F22: =SUM(E22+D22-1) -> 197275 | G22: 5 | I22: R2 | J22: =MOD(D22,25) -> 0
A23: 92-905 Anchorage City Hall | D23: 100 | E23: =SUM(F22+1) -> 197276 | F23: =SUM(E23+D23-1) -> 197375 | G23: 5 | I23: R2 | J23: =MOD(D23,25) -> 0
A24: 92-907 Cook Inlet Tribal Council | D24: 50 | E24: =SUM(F23+1) -> 197376 | F24: =SUM(E24+D24-1) -> 197425 | G24: 5 | I24: R2 | J24: =MOD(D24,25) -> 0
A26: MAT-SU
A27: 95-900 Mat-Su Elections Office | D27: 25 | E27: =SUM(F24+1) -> 197426 | F27: =SUM(E27+D27-1) -> 197450 | G27: 5 | H27: 300 | I27: R5 | J27: =MOD(D27,25) -> 0
A28: 95-901 Soldotna | D28: 1800 | E28: =SUM(F27+1) -> 197451 | F28: =SUM(E28+D28-1) -> 199250 | G28: 50 | I28: R6 | J28: =MOD(D28,25) -> 0
A29: 95-902 Kenai City | D29: 700 | E29: =SUM(F28+1) -> 199251 | F29: =SUM(E29+D29-1) -> 199950 | G29: 50 | I29: R6 | J29: =MOD(D29,25) -> 0
A31: FAIRBANKS
A32: 93-900 Fairbanks Elections Office | D32: 50 | E32: =SUM(F29+1) -> 199951 | F32: =SUM(E32+D32-1) -> 200000 | G32: 5 | I32: R3 | J32: =MOD(D32,25) -> 0
A33: 93-901 UAF | D33: 25 | E33: =SUM(F32+1) -> 200001 | F33: =SUM(E33+D33-1) -> 200025 | G33: 5 | I33: R3 | J33: =MOD(D33,25) -> 0
A35: JUNEAU
A36: 91-900 Juneau Elections Office | D36: 50 | E36: =SUM(F33+1) -> 200026 | F36: =SUM(E36+D36-1) -> 200075 | G36: 5 | I36: R1 | J36: =MOD(D36,25) -> 0
A37: 91-902 Juneau Downtown | D37: 50 | E37: =SUM(F36+1) -> 200076 | F37: =SUM(E37+D37-1) -> 200125 | G37: 5 | I37: R1 | J37: =MOD(D37,25) -> 0
A38: 91-905 Seward AVO/AVM | D38: 125 | E38: =SUM(F37+1) -> 200126 | F38: =SUM(E38+D38-1) -> 200250 | G38: 25 | I38: R1 | J38: =MOD(D38,25) -> 0
A39: 91-906 Homer Early Vote | D39: 125 | E39: =SUM(F38+1) -> 200251 | F39: =SUM(E39+D39-1) -> 200375 | G39: 25 | I39: R1 | J39: =MOD(D39,25) -> 0
A41: NOME
A42: 94-900 Nome Elections Office | D42: 25 | E42: =SUM(F39+1) -> 200376 | F42: =SUM(E42+D42-1) -> 200400 | G42: 5 | I42: R4 | J42: =MOD(D42,25) -> 0
A43: 94-901 Prudhoe Bay Station | D43: 25 | E43: =SUM(F42+1) -> 200401 | F43: =SUM(E43+D43-1) -> 200425 | G43: 5 | I43: R4 | J43: =MOD(D43,25) -> 0
A44: TOTAL ABSENTEE BALLOTS HD8-JD3 | D44: =SUM(D20:D43) -> 3500
A45: TOTAL HD8-JD3 BALLOTS | D45: =D16+D44 -> 17425 | G45: =SUM(G5:G44) -> 490 | H45: =SUM(H5:H44) -> 300 | J45: =SUM(J5:J44) -> 0
D47: =F43-E5+1 -> 17425
A48: Checksum: Sequence End - Start:

Sheet HD9-JD3
H1: BALLOT ID# | J1: =Totals!B13 -> 1019
B3: # REGIS- | D3: # | E3: Numbers | G3: Sample | H3: Fascimile
A4: DISTRICT / PRECINCT | B4: TERED | D4: Ballots | E4: FROM | F4: TO | G4: Ballots | H4: Ballots | I4: Delivery | J4: Check
A5: 09-105 Girdwood | B5: 1949 | C5: =SUM(B5*0.8) -> 1559.2 | D5: =MROUND(C5, 25) -> 1550 | E5: =SUM('HD8-JD3'!F43,1) -> 200426 | F5: =SUM(E5+D5-1) -> 201975 | G5: 50 | I5: R2 | J5: =MOD(D5,25) -> 0
A6: 09-110 Indian | B6: 300 | C6: =SUM(B6*0.8) -> 240 | D6: =MROUND(C6, 25) -> 250 | E6: =SUM(F5+1) -> 201976 | F6: =SUM(E6+D6-1) -> 202225 | G6: 50 | I6: R2 | J6: =MOD(D6,25) -> 0
A7: 09-115 South Anchorage No. 1 | B7: 2825 | C7: =SUM(B7*0.8) -> 2260 | D7: 2100 | E7: =SUM(F6+1) -> 202226 | F7: =SUM(E7+D7-1) -> 204325 | G7: 50 | I7: R2 | J7: =MOD(D7,25) -> 0
A8: 09-120 South Anchorage No. 2 | B8: 3290 | C8: =SUM(B8*0.8) -> 2632 | D8: 2500 | E8: =SUM(F7+1) -> 204326 | F8: =SUM(E8+D8-1) -> 206825 | G8: 50 | I8: R2 | J8: =MOD(D8,25) -> 0
A9: 09-125 South Anchorage No. 3 | B9: 2824 | C9: =SUM(B9*0.8) -> 2259.2 | D9: 2100 | E9: =SUM(F8+1) -> 206826 | F9: =SUM(E9+D9-1) -> 208925 | G9: 50 | I9: R2 | J9: =MOD(D9,25) -> 0
A10: 09-130 South Anchorage No. 4 | B10: 3086 | C10: =SUM(B10*0.8) -> 2468.8 | D10: 2300 | E10: =SUM(F9+1) -> 208926 | F10: =SUM(E10+D10-1) -> 211225 | G10: 50 | I10: R2 | J10: =MOD(D10,25) -> 0
A11: 09-135 South Anchorage No. 5 | B11: 1368 | C11: =SUM(B11*0.8) -> 1094.4 | D11: =MROUND(C11,25) -> 1100 | E11: =SUM(F10+1) -> 211226 | F11: =SUM(E11+D11-1) -> 212325 | G11: 50 | I11: R2 | J11: =MOD(D11,25) -> 0
A12: 09-140 Stuckagain Heights | B12: 425 | C12: =SUM(B12*0.8) -> 340 | D12: =MROUND(C12, 25) -> 350 | E12: =SUM(F11+1) -> 212326 | F12: =SUM(E12+D12-1) -> 212675 | G12: 50 | I12: R2 | J12: =MOD(D12,25) -> 0
A13: 09-145 Whittier | B13: 248 | C13: =SUM(B13*0.8) -> 198.4 | D13: =MROUND(C13, 25) -> 200 | E13: =SUM(F12+1) -> 212676 | F13: =SUM(E13+D13-1) -> 212875 | G13: 50 | I13: R2 | J13: =MOD(D13,25) -> 0
A14: TOTAL PRECINCT BALLOTS HD9-JD3 | B14: =SUM(B5:B13) -> 16315 | D14: =SUM(D5:D13) -> 12450
A16: ABSENTEE OFFICIALS & STATIONS:
A17: ANCHORAGE
A18: 92-900 Anchorage Elections Office | D18: 2100 | E18: =SUM(F13+1) -> 212876 | F18: =SUM(E18+D18-1) -> 214975 | G18: 50 | H18: 400 | I18: R2 | J18: =MOD(D18,25) -> 0
A19: 92-902 Anchorage Airport | D19: 75 | E19: =SUM(F18+1) -> 214976 | F19: =SUM(E19+D19-1) -> 215050 | G19: 25 | I19: R2 | J19: =MOD(D19,25) -> 0
A20: 92-904 UAA | D20: 200 | E20: =SUM(F19+1) -> 215051 | F20: =SUM(E20+D20-1) -> 215250 | G20: 25 | I20: R2 | J20: =MOD(D20,25) -> 0
A21: 92-905 Anchorage City Hall | D21: 500 | E21: =SUM(F20+1) -> 215251 | F21: =SUM(E21+D21-1) -> 215750 | G21: 25 | I21: R2 | J21: =MOD(D21,25) -> 0
A22: 92-986 City of Whittier | D22: 50 | E22: =SUM(F21+1) -> 215751 | F22: =SUM(E22+D22-1) -> 215800 | G22: 25 | I22: R2 | J22: =MOD(D22,25) -> 0
A23: 92-907 Cook Inlet Tribal Council | D23: 150 | E23: =SUM(F22+1) -> 215801 | F23: =SUM(E23+D23-1) -> 215950 | G23: 25 | I23: R2 | J23: =MOD(D23,25) -> 0
A25: MAT-SU
A26: 95-900 Mat-Su Elections Office | D26: 25 | E26: =SUM(F23+1) -> 215951 | F26: =SUM(E26+D26-1) -> 215975 | G26: 5 | I26: R5 | J26: =MOD(D26,25) -> 0
A28: FAIRBANKS
A29: 93-900 Fairbanks Elections Office | D29: 50 | E29: =SUM(F26+1) -> 215976 | F29: =SUM(E29+D29-1) -> 216025 | G29: 5 | I29: R3 | J29: =MOD(D29,25) -> 0
A30: 93-901 UAF | D30: 25 | E30: =SUM(F29+1) -> 216026 | F30: =SUM(E30+D30-1) -> 216050 | G30: 5 | I30: R3 | J30: =MOD(D30,25) -> 0
A32: JUNEAU
A33: 91-900 Juneau Elections Office | D33: 25 | E33: =SUM(F30+1) -> 216051 | F33: =SUM(E33+D33-1) -> 216075 | G33: 5 | I33: R1 | J33: =MOD(D33,25) -> 0
A34: 91-902 Juneau Downtown | D34: 25 | E34: =SUM(F33+1) -> 216076 | F34: =SUM(E34+D34-1) -> 216100 | G34: 5 | I34: R1 | J34: =MOD(D34,25) -> 0
A36: NOME
A37: 94-900 Nome Elections Office | D37: 25 | E37: =SUM(F34+1) -> 216101 | F37: =SUM(E37+D37-1) -> 216125 | G37: 5 | I37: R4 | J37: =MOD(D37,25) -> 0
A38: 94-901 Prudhoe Bay Station | D38: 25 | E38: =SUM(F37+1) -> 216126 | F38: =SUM(E38+D38-1) -> 216150 | G38: 5 | I38: R4 | J38: =MOD(D38,25) -> 0
A39: TOTAL ABSENTEE BALLOTS HD9-JD3 | D39: =SUM(D18:D38) -> 3275
A40: TOTAL HD9-JD3 BALLOTS | D40: =D14+D39 -> 15725 | G40: =SUM(G5:G39) -> 660 | H40: =SUM(H5:H39) -> 400 | J40: =SUM(J5:J39) -> 0
A43: Checksum: Sequence End - Start: | D43: =F38-E5+1 -> 15725

Sheet HD10-JD3
H1: BALLOT ID# | J1: =Totals!B14 -> 1020
B3: # REGIS- | D3: # | E3: Numbers | G3: Sample | H3: Fascimile
A4: DISTRICT / PRECINCT | B4: TERED | D4: Ballots | E4: FROM | F4: TO | G4: Ballots | H4: Ballots | I4: Delivery | J4: Check
A5: 10-150 Dimond | B5: 3456 | C5: =SUM(B5*0.8) -> 2764.8 | D5: 2000 | E5: =SUM('HD9-JD3'!F38,1) -> 216151 | F5: =SUM(E5+D5-1) -> 218150 | G5: 50 | I5: R2 | J5: =MOD(D5,25) -> 0
A6: 10-155 Oceanview No. 1 | B6: 3184 | C6: =SUM(B6*0.8) -> 2547.2 | D6: =MROUND(C6, 25) -> 2550 | E6: =SUM(F5+1) -> 218151 | F6: =SUM(E6+D6-1) -> 220700 | G6: 50 | I6: R2 | J6: =MOD(D6,25) -> 0
A7: 10-160 Oceanview No. 2 | B7: 1872 | C7: =SUM(B7*0.8) -> 1497.6 | D7: =MROUND(C7, 25) -> 1500 | E7: =SUM(F6+1) -> 220701 | F7: =SUM(E7+D7-1) -> 222200 | G7: 50 | I7: R2 | J7: =MOD(D7,25) -> 0
A8: 10-165 Oceanview No. 3 | B8: 2812 | C8: =SUM(B8*0.8) -> 2249.6 | D8: 2100 | E8: =SUM(F7+1) -> 222201 | F8: =SUM(E8+D8-1) -> 224300 | G8: 50 | I8: R2 | J8: =MOD(D8,25) -> 0
A9: 10-170 Oceanview No. 4 | B9: 1946 | C9: =SUM(B9*0.8) -> 1556.8 | D9: 1600 | E9: =SUM(F8+1) -> 224301 | F9: =SUM(E9+D9-1) -> 225900 | G9: 50 | I9: R2 | J9: =MOD(D9,25) -> 0
A10: 10-175 Oceanview No. 5 | B10: 2012 | C10: =SUM(B10*0.8) -> 1609.6 | D10: =MROUND(C10, 25) -> 1600 | E10: =SUM(F9+1) -> 225901 | F10: =SUM(E10+D10-1) -> 227500 | G10: 50 | I10: R2 | J10: =MOD(D10,25) -> 0
A11: TOTAL PRECINCT BALLOTS HD10-JD3 | B11: =SUM(B5:B10) -> 15282 | D11: =SUM(D5:D10) -> 11350 | J11: =MOD(D11,25) -> 0
A13: ABSENTEE OFFICIALS & STATIONS:
A14: ANCHORAGE
A15: 92-900 Anchorage Elections Office | D15: 1400 | E15: =SUM(F10+1) -> 227501 | F15: =SUM(E15+D15-1) -> 228900 | G15: 50 | H15: 300 | I15: R2 | J15: =MOD(D15,25) -> 0
A16: 92-902 Anchorage Airport | D16: 50 | E16: =SUM(F15+1) -> 228901 | F16: =SUM(E16+D16-1) -> 228950 | G16: 25 | I16: R2 | J16: =MOD(D16,25) -> 0
A17: 92-904 UAA | D17: 150 | E17: =SUM(F16+1) -> 228951 | F17: =SUM(E17+D17-1) -> 229100 | G17: 25 | I17: R2 | J17: =MOD(D17,25) -> 0
A18: 92-905 Anchorage City Hall | D18: 400 | E18: =SUM(F17+1) -> 229101 | F18: =SUM(E18+D18-1) -> 229500 | G18: 25 | I18: R2 | J18: =MOD(D18,25) -> 0
A19: 92-907 Cook Inlet Tribal Council | D19: 100 | E19: =SUM(F18+1) -> 229501 | F19: =SUM(E19+D19-1) -> 229600 | G19: 25 | I19: R2 | J19: =MOD(D19,25) -> 0
A21: MAT-SU
A22: 95-900 Mat-Su Elections Office | D22: 25 | E22: =SUM(F19+1) -> 229601 | F22: =SUM(E22+D22-1) -> 229625 | G22: 5 | I22: R5 | J22: =MOD(D22,25) -> 0
A24: FAIRBANKS
A25: 93-900 Fairbanks Elections Office | D25: 50 | E25: =SUM(F22+1) -> 229626 | F25: =SUM(E25+D25-1) -> 229675 | G25: 5 | I25: R3 | J25: =MOD(D25,25) -> 0
A26: 93-901 UAF | D26: 25 | E26: =SUM(F25+1) -> 229676 | F26: =SUM(E26+D26-1) -> 229700 | G26: 5 | I26: R3 | J26: =MOD(D26,25) -> 0
A28: JUNEAU
A29: 91-900 Juneau Elections Office | D29: 25 | E29: =SUM(F26+1) -> 229701 | F29: =SUM(E29+D29-1) -> 229725 | G29: 5 | I29: R1 | J29: =MOD(D29,25) -> 0
A30: 91-902 Juneau Downtown | D30: 25 | E30: =SUM(F29+1) -> 229726 | F30: =SUM(E30+D30-1) -> 229750 | G30: 5 | I30: R1 | J30: =MOD(D30,25) -> 0
A32: NOME
A33: 94-900 Nome Elections Office | D33: 25 | E33: =SUM(F30+1) -> 229751 | F33: =SUM(E33+D33-1) -> 229775 | G33: 5 | I33: R4 | J33: =MOD(D33,25) -> 0
A34: 94-901 Prudhoe Bay Station | D34: 25 | E34: =SUM(F33+1) -> 229776 | F34: =SUM(E34+D34-1) -> 229800 | G34: 5 | I34: R4 | J34: =MOD(D34,25) -> 0
A35: TOTAL ABSENTEE BALLOTS HD10-JD3 | D35: =SUM(D15:D34) -> 2300
A36: TOTAL HD10-JD3 BALLOTS | B36: =SUM(B11+B35) -> 15282 | D36: =D11+D35 -> 13650 | G36: =SUM(G5:G35) -> 485 | H36: =SUM(H5:H35) -> 300 | J36: =SUM(J5:J35) -> 0
A39: Checksum: Sequence End - Start: | D39: =F34-E5+1 -> 13650

Sheet HD11-JD3
H1: BALLOT ID# | J1: =Totals!B15 -> 1021
B3: # REGIS- | D3: # | E3: Numbers | G3: Sample | H3: Fascimile
A4: DISTRICT / PRECINCT | B4: TERED | D4: Ballots | E4: FROM | F4: TO | G4: Ballots | H4: Ballots | I4: Delivery | J4: Check
A5: 11-205 Hillside No. 1 | B5: 2399 | C5: =SUM(B5*0.8) -> 1919.2 | D5: =MROUND(C5, 25) -> 1925 | E5: =SUM('HD10-JD3'!F34,1) -> 229801 | F5: =SUM(E5+D5-1) -> 231725 | G5: 50 | I5: R2 | J5: =MOD(D5,25) -> 0
A6: 11-210 Hillside No. 2 | B6: 3780 | C6: =SUM(B6*0.8) -> 3024 | D6: 2800 | E6: =SUM(F5+1) -> 231726 | F6: =SUM(E6+D6-1) -> 234525 | G6: 50 | I6: R2 | J6: =MOD(D6,25) -> 0
A7: 11-215 Hillside No. 3 | B7: 1563 | C7: =SUM(B7*0.8) -> 1250.4 | D7: =MROUND(C7, 25) -> 1250 | E7: =SUM(F6+1) -> 234526 | F7: =SUM(E7+D7-1) -> 235775 | G7: 50 | I7: R2 | J7: =MOD(D7,25) -> 0
A8: 11-220 Hillside No. 4 | B8: 1994 | C8: =SUM(B8*0.8) -> 1595.2 | D8: =MROUND(C8, 25) -> 1600 | E8: =SUM(F7+1) -> 235776 | F8: =SUM(E8+D8-1) -> 237375 | G8: 50 | I8: R2 | J8: =MOD(D8,25) -> 0
A9: 11-225 Hillside No. 5 | B9: 1673 | C9: =SUM(B9*0.8) -> 1338.4 | D9: =MROUND(C9, 25) -> 1350 | E9: =SUM(F8+1) -> 237376 | F9: =SUM(E9+D9-1) -> 238725 | G9: 50 | I9: R2 | J9: =MOD(D9,25) -> 0
A10: 11-230 Hillside No. 6 | B10: 2210 | C10: =SUM(B10*0.8) -> 1768 | D10: =MROUND(C10, 25) -> 1775 | E10: =SUM(F9+1) -> 238726 | F10: =SUM(E10+D10-1) -> 240500 | G10: 50 | I10: R2 | J10: =MOD(D10,25) -> 0
A11: 11-235 Hillside No. 7 | B11: 1706 | C11: =SUM(B11*0.8) -> 1364.8 | D11: =MROUND(C11, 25) -> 1375 | E11: =SUM(F10+1) -> 240501 | F11: =SUM(E11+D11-1) -> 241875 | G11: 50 | I11: R2 | J11: =MOD(D11,25) -> 0
A12: TOTAL PRECINCT BALLOTS HD11-JD3 | B12: =SUM(B5:B11) -> 15325 | D12: =SUM(D5:D11) -> 12075
A14: ABSENTEE OFFICIALS & STATIONS:
A15: ANCHORAGE
A16: 92-900 Anchorage Elections Office | D16: 1500 | E16: =SUM(F11+1) -> 241876 | F16: =SUM(E16+D16-1) -> 243375 | G16: 50 | H16: 300 | I16: R2 | J16: =MOD(D16,25) -> 0
A17: 92-902 Anchorage Airport | D17: 50 | E17: =SUM(F16+1) -> 243376 | F17: =SUM(E17+D17-1) -> 243425 | G17: 25 | I17: R2 | J17: =MOD(D17,25) -> 0
A18: 92-904 UAA | D18: 250 | E18: =SUM(F17+1) -> 243426 | F18: =SUM(E18+D18-1) -> 243675 | G18: 25 | I18: R2 | J18: =MOD(D18,25) -> 0
A19: 92-905 Anchorage City Hall | D19: 400 | E19: =SUM(F18+1) -> 243676 | F19: =SUM(E19+D19-1) -> 244075 | G19: 25 | I19: R2 | J19: =MOD(D19,25) -> 0
A20: 92-907 Cook Inlet Tribal Council | D20: 100 | E20: =SUM(F19+1) -> 244076 | F20: =SUM(E20+D20-1) -> 244175 | G20: 25 | I20: R2 | J20: =MOD(D20,25) -> 0
A22: MAT-SU
A23: 95-900 Mat-Su Elections Office | D23: 25 | E23: =SUM(F20+1) -> 244176 | F23: =SUM(E23+D23-1) -> 244200 | G23: 5 | I23: R5 | J23: =MOD(D23,25) -> 0
A25: FAIRBANKS
A26: 93-900 Fairbanks Elections Office | D26: 50 | E26: =SUM(F23+1) -> 244201 | F26: =SUM(E26+D26-1) -> 244250 | G26: 5 | I26: R3 | J26: =MOD(D26,25) -> 0
A27: 93-901 UAF | D27: 25 | E27: =SUM(F26+1) -> 244251 | F27: =SUM(E27+D27-1) -> 244275 | G27: 5 | I27: R3 | J27: =MOD(D27,25) -> 0
A29: JUNEAU
A30: 91-900 Juneau Elections Office | D30: 25 | E30: =SUM(F27+1) -> 244276 | F30: =SUM(E30+D30-1) -> 244300 | G30: 5 | I30: R1 | J30: =MOD(D30,25) -> 0
A31: 91-902 Juneau Downtown | D31: 25 | E31: =SUM(F30+1) -> 244301 | F31: =SUM(E31+D31-1) -> 244325 | G31: 5 | I31: R1 | J31: =MOD(D31,25) -> 0
A33: NOME
A34: 94-900 Nome Elections Office | D34: 25 | E34: =SUM(F31+1) -> 244326 | F34: =SUM(E34+D34-1) -> 244350 | G34: 5 | I34: R4 | J34: =MOD(D34,25) -> 0
A35: 94-901 Prudhoe Bay Station | D35: 25 | E35: =SUM(F34+1) -> 244351 | F35: =SUM(E35+D35-1) -> 244375 | G35: 5 | I35: R4 | J35: =MOD(D35,25) -> 0
A36: TOTAL ABSENTEE BALLOTS HD11-JD3 | D36: =SUM(D16:D35) -> 2500
A37: TOTAL HD11-JD3 BALLOTS | D37: =D12+D36 -> 14575 | G37: =SUM(G5:G36) -> 535 | H37: =SUM(H11:H36) -> 300 | J37: =SUM(J11:J36) -> 0
A40: Checksum: Sequence End - Start: | D40: =F35-E5+1 -> 14575

Sheet HD12-JD3
H1: BALLOT ID# | J1: =Totals!B16 -> 1022
B3: # REGIS- | D3: # | E3: Numbers | G3: Sample | H3: Fascimile
A4: DISTRICT / PRECINCT | B4: TERED | D4: Ballots | E4: FROM | F4: TO | G4: Ballots | H4: Ballots | I4: Delivery | J4: Check
A5: 12-250 Southeast Anchorage No. 1 | B5: 3360 | C5: =SUM(B5*0.8) -> 2688 | D5: =MROUND(C5, 25) -> 2700 | E5: =SUM('HD11-JD3'!F35,1) -> 244376 | F5: =SUM(E5+D5-1) -> 247075 | G5: 50 | I5: R2 | J5: =MOD(D5,25) -> 0
A6: 12-255 Southeast Anchorage No. 2 | B6: 1639 | C6: =SUM(B6*0.8) -> 1311.2 | D6: =MROUND(C6, 25) -> 1300 | E6: =SUM(F5+1) -> 247076 | F6: =SUM(E6+D6-1) -> 248375 | G6: 50 | I6: R2 | J6: =MOD(D6,25) -> 0
A7: 12-260 Southeast Anchorage No. 3 | B7: 2624 | C7: =SUM(B7*0.8) -> 2099.2 | D7: =MROUND(C7, 25) -> 2100 | E7: =SUM(F6+1) -> 248376 | F7: =SUM(E7+D7-1) -> 250475 | G7: 50 | I7: R2 | J7: =MOD(D7,25) -> 0
A8: 12-265 Southeast Anchorage No. 4 | B8: 2169 | C8: =SUM(B8*0.8) -> 1735.2 | D8: =MROUND(C8, 25) -> 1725 | E8: =SUM(F7+1) -> 250476 | F8: =SUM(E8+D8-1) -> 252200 | G8: 50 | I8: R2 | J8: =MOD(D8,25) -> 0
A9: 12-270 Southeast Anchorage No. 5 | B9: 3276 | C9: =SUM(B9*0.8) -> 2620.8 | D9: =MROUND(C9, 25) -> 2625 | E9: =SUM(F8+1) -> 252201 | F9: =SUM(E9+D9-1) -> 254825 | G9: 50 | I9: R2 | J9: =MOD(D9,25) -> 0
A10: 12-275 Southeast Anchorage No. 6 | B10: 2219 | C10: =SUM(B10*0.8) -> 1775.2 | D10: =MROUND(C10, 25) -> 1775 | E10: =SUM(F9+1) -> 254826 | F10: =SUM(E10+D10-1) -> 256600 | G10: 50 | I10: R2 | J10: =MOD(D10,25) -> 0
A11: TOTAL PRECINCT BALLOTS HD12-JD3 | B11: =SUM(B5:B10) -> 15287 | D11: =SUM(D5:D10) -> 12225
A13: ABSENTEE OFFICIALS & STATIONS:
A14: ANCHORAGE
A15: 92-900 Anchorage Elections Office | D15: 1300 | E15: =SUM(F10+1) -> 256601 | F15: =SUM(E15+D15-1) -> 257900 | G15: 50 | H15: 300 | I15: R2 | J15: =MOD(D15,25) -> 0
A16: 92-902 Anchorage Airport | D16: 50 | E16: =SUM(F15+1) -> 257901 | F16: =SUM(E16+D16-1) -> 257950 | G16: 25 | I16: R2 | J16: =MOD(D16,25) -> 0
A17: 92-904 UAA | D17: 200 | E17: =SUM(F16+1) -> 257951 | F17: =SUM(E17+D17-1) -> 258150 | G17: 25 | I17: R2 | J17: =MOD(D17,25) -> 0
A18: 92-905 Anchorage City Hall | D18: 300 | E18: =SUM(F17+1) -> 258151 | F18: =SUM(E18+D18-1) -> 258450 | G18: 25 | I18: R2 | J18: =MOD(D18,25) -> 0
A19: 92-907 Cook Inlet Tribal Council | D19: 100 | E19: =SUM(F18+1) -> 258451 | F19: =SUM(E19+D19-1) -> 258550 | G19: 25 | I19: R2 | J19: =MOD(D19,25) -> 0
A21: MAT-SU
A22: 95-900 Mat-Su Elections Office | D22: 25 | E22: =SUM(F19+1) -> 258551 | F22: =SUM(E22+D22-1) -> 258575 | G22: 5 | I22: R5 | J22: =MOD(D22,25) -> 0
A24: FAIRBANKS
A25: 93-900 Fairbanks Elections Office | D25: 50 | E25: =SUM(F22+1) -> 258576 | F25: =SUM(E25+D25-1) -> 258625 | G25: 5 | I25: R3 | J25: =MOD(D25,25) -> 0
A26: 93-901 UAF | D26: 25 | E26: =SUM(F25+1) -> 258626 | F26: =SUM(E26+D26-1) -> 258650 | G26: 5 | I26: R3 | J26: =MOD(D26,25) -> 0
A28: JUNEAU
A29: 91-900 Juneau Elections Office | D29: 25 | E29: =SUM(F26+1) -> 258651 | F29: =SUM(E29+D29-1) -> 258675 | G29: 5 | I29: R1 | J29: =MOD(D29,25) -> 0
A30: 91-902 Juneau Downtown | D30: 25 | E30: =SUM(F29+1) -> 258676 | F30: =SUM(E30+D30-1) -> 258700 | G30: 5 | I30: R1 | J30: =MOD(D30,25) -> 0
A32: NOME
A33: 94-900 Nome Elections Office | D33: 25 | E33: =SUM(F30+1) -> 258701 | F33: =SUM(E33+D33-1) -> 258725 | G33: 5 | I33: R4 | J33: =MOD(D33,25) -> 0
A34: 94-901 Prudhoe Bay Station | D34: 25 | E34: =SUM(F33+1) -> 258726 | F34: =SUM(E34+D34-1) -> 258750 | G34: 5 | I34: R4 | J34: =MOD(D34,25) -> 0
A35: TOTAL ABSENTEE BALLOTS HD12-JD3 | D35: =SUM(D15:D34) -> 2150
A36: TOTAL HD12-JD3 BALLOTS | D36: =D11+D35 -> 14375 | G36: =SUM(G5:G35) -> 485 | H36: =SUM(H5:H35) -> 300 | J36: =SUM(J5:J35) -> 0
A39: Checksum: Sequence End - Start: | D39: =F34-E5+1 -> 14375

Sheet HD13-JD3
H1: BALLOT ID# | J1: =Totals!B17 -> 1023
B3: # REGIS- | D3: # | E3: Numbers | G3: Sample | H3: Fascimile
A4: DISTRICT / PRECINCT | B4: TERED | D4: Ballots | E4: FROM | F4: TO | G4: Ballots | H4: Ballots | I4: Delivery | J4: Check
A5: 13-305 South Midtown No. 1 | B5: 688 | C5: =SUM(B5*0.8) -> 550.4 | D5: =MROUND(C5, 25) -> 550 | E5: =SUM('HD12-JD3'!F34,1) -> 258751 | F5: =SUM(E5+D5-1) -> 259300 | G5: 50 | I5: R2 | J5: =MOD(D5,25) -> 0
A6: 13-310 South Midtown No. 2 | B6: 3609 | C6: =SUM(B6*0.8) -> 2887.2 | D6: =MROUND(C6, 25) -> 2875 | E6: =SUM(F5+1) -> 259301 | F6: =SUM(E6+D6-1) -> 262175 | G6: 50 | I6: R2 | J6: =MOD(D6,25) -> 0
A7: 13-315 South Midtown No. 3 | B7: 3595 | C7: =SUM(B7*0.8) -> 2876 | D7: =MROUND(C7, 25) -> 2875 | E7: =SUM(F6+1) -> 262176 | F7: =SUM(E7+D7-1) -> 265050 | G7: 50 | I7: R2 | J7: =MOD(D7,25) -> 0
A8: 13-320 South Midtown No. 4 | B8: 3847 | C8: =SUM(B8*0.8) -> 3077.6 | D8: =MROUND(C8, 25) -> 3075 | E8: =SUM(F7+1) -> 265051 | F8: =SUM(E8+D8-1) -> 268125 | G8: 50 | I8: R2 | J8: =MOD(D8,25) -> 0
A9: 13-325 South Midtown No. 5 | B9: 3687 | C9: =SUM(B9*0.8) -> 2949.6 | D9: =MROUND(C9, 25) -> 2950 | E9: =SUM(F8+1) -> 268126 | F9: =SUM(E9+D9-1) -> 271075 | G9: 50 | I9: R2 | J9: =MOD(D9,25) -> 0
A10: TOTAL PRECINCT BALLOTS HD13-JD3 | B10: =SUM(B5:B9) -> 15426 | D10: =SUM(D5:D9) -> 12325
A12: ABSENTEE OFFICIALS & STATIONS:
A13: ANCHORAGE
A14: 92-900 Anchorage Elections Office | D14: 1200 | E14: =SUM(F9+1) -> 271076 | F14: =SUM(E14+D14-1) -> 272275 | G14: 50 | H14: 300 | I14: R2 | J14: =MOD(D14,25) -> 0
A15: 92-902 Anchorage Airport | D15: 50 | E15: =SUM(F14+1) -> 272276 | F15: =SUM(E15+D15-1) -> 272325 | G15: 25 | I15: R2 | J15: =MOD(D15,25) -> 0
A16: 92-904 UAA | D16: 150 | E16: =SUM(F15+1) -> 272326 | F16: =SUM(E16+D16-1) -> 272475 | G16: 25 | I16: R2 | J16: =MOD(D16,25) -> 0
A17: 92-905 Anchorage City Hall | D17: 300 | E17: =SUM(F16+1) -> 272476 | F17: =SUM(E17+D17-1) -> 272775 | G17: 25 | I17: R2 | J17: =MOD(D17,25) -> 0
A18: 92-907 Cook Inlet Tribal Council | D18: 100 | E18: =SUM(F17+1) -> 272776 | F18: =SUM(E18+D18-1) -> 272875 | G18: 25 | I18: R2 | J18: =MOD(D18,25) -> 0
A20: MAT-SU
A21: 95-900 Mat-Su Elections Office | D21: 25 | E21: =SUM(F18+1) -> 272876 | F21: =SUM(E21+D21-1) -> 272900 | G21: 5 | I21: R5 | J21: =MOD(D21,25) -> 0
A23: FAIRBANKS
A24: 93-900 Fairbanks Elections Office | D24: 50 | E24: =SUM(F21+1) -> 272901 | F24: =SUM(E24+D24-1) -> 272950 | G24: 5 | I24: R3 | J24: =MOD(D24,25) -> 0
A25: 93-901 UAF | D25: 25 | E25: =SUM(F24+1) -> 272951 | F25: =SUM(E25+D25-1) -> 272975 | G25: 5 | I25: R3 | J25: =MOD(D25,25) -> 0
A27: JUNEAU
A28: 91-900 Juneau Elections Office | D28: 25 | E28: =SUM(F25+1) -> 272976 | F28: =SUM(E28+D28-1) -> 273000 | G28: 5 | I28: R1 | J28: =MOD(D28,25) -> 0
A29: 91-902 Juneau Downtown | D29: 25 | E29: =SUM(F28+1) -> 273001 | F29: =SUM(E29+D29-1) -> 273025 | G29: 5 | I29: R1 | J29: =MOD(D29,25) -> 0
A31: NOME
A32: 94-900 Nome Elections Office | D32: 25 | E32: =SUM(F29+1) -> 273026 | F32: =SUM(E32+D32-1) -> 273050 | G32: 5 | I32: R4 | J32: =MOD(D32,25) -> 0
A33: 94-901 Prudhoe Bay Station | D33: 25 | E33: =SUM(F32+1) -> 273051 | F33: =SUM(E33+D33-1) -> 273075 | G33: 5 | I33: R4 | J33: =MOD(D33,25) -> 0
A34: TOTAL ABSENTEE BALLOTS HD13-JD3 | D34: =SUM(D14:D33) -> 2000
A35: TOTAL HD13-JD3 BALLOTS | D35: =D10+D34 -> 14325 | G35: =SUM(G5:G34) -> 435 | H35: =SUM(H5:H34) -> 300 | J35: =SUM(J5:J34) -> 0
A38: Checksum: Sequence End - Start: | D38: =F33-E5+1 -> 14325

Sheet HD14-JD3
H1: BALLOT ID# | J1: =Totals!B18 -> 1024
B3: # REGIS- | D3: # | E3: Numbers | G3: Sample | H3: Fascimile
A4: DISTRICT / PRECINCT | B4: TERED | D4: Ballots | E4: FROM | F4: TO | G4: Ballots | H4: Ballots | I4: Delivery | J4: Check
A5: 14-350 North Midtown No. 1 | B5: 1188 | C5: =SUM(B5*0.8) -> 950.4 | D5: =MROUND(C5, 25) -> 950 | E5: =SUM('HD13-JD3'!F33,1) -> 273076 | F5: =SUM(E5+D5-1) -> 274025 | G5: 50 | I5: R2 | J5: =MOD(D5,25) -> 0
A6: 14-355 North Midtown No. 2 | B6: 1368 | C6: =SUM(B6*0.8) -> 1094.4 | D6: =MROUND(C6, 25) -> 1100 | E6: =SUM(F5+1) -> 274026 | F6: =SUM(E6+D6-1) -> 275125 | G6: 50 | I6: R2 | J6: =MOD(D6,25) -> 0
A7: 14-360 North Midtown No. 3 | B7: 1077 | C7: =SUM(B7*0.8) -> 861.6 | D7: =MROUND(C7, 25) -> 850 | E7: =SUM(F6+1) -> 275126 | F7: =SUM(E7+D7-1) -> 275975 | G7: 50 | I7: R2 | J7: =MOD(D7,25) -> 0
A8: 14-365 North Midtown No. 4 | B8: 3085 | C8: =SUM(B8*0.8) -> 2468 | D8: =MROUND(C8, 25) -> 2475 | E8: =SUM(F7+1) -> 275976 | F8: =SUM(E8+D8-1) -> 278450 | G8: 50 | I8: R2 | J8: =MOD(D8,25) -> 0
A9: 14-370 North Midtown No. 5 | B9: 3096 | C9: =SUM(B9*0.8) -> 2476.8 | D9: =MROUND(C9, 25) -> 2475 | E9: =SUM(F8+1) -> 278451 | F9: =SUM(E9+D9-1) -> 280925 | G9: 50 | I9: R2 | J9: =MOD(D9,25) -> 0
A10: 14-375 North Midtown No. 6 | B10: 2173 | C10: =SUM(B10*0.8) -> 1738.4 | D10: =MROUND(C10, 25) -> 1750 | E10: =SUM(F9+1) -> 280926 | F10: =SUM(E10+D10-1) -> 282675 | G10: 50 | I10: R2 | J10: =MOD(D10,25) -> 0
A11: 14-380 North Midtown No. 7 | B11: 2784 | C11: =SUM(B11*0.8) -> 2227.2 | D11: =MROUND(C11, 25) -> 2225 | E11: =SUM(F10+1) -> 282676 | F11: =SUM(E11+D11-1) -> 284900 | G11: 50 | I11: R2 | J11: =MOD(D11,25) -> 0
A12: TOTAL PRECINCT BALLOTS HD14-JD3 | B12: =SUM(B5:B11) -> 14771 | D12: =SUM(D5:D11) -> 11825
A14: ABSENTEE OFFICIALS & STATIONS:
A15: ANCHORAGE
A16: 92-900 Anchorage Elections Office | D16: 1200 | E16: =SUM(F11+1) -> 284901 | F16: =SUM(E16+D16-1) -> 286100 | G16: 50 | H16: 300 | I16: R2 | J16: =MOD(D16,25) -> 0
A17: 92-902 Anchorage Airport | D17: 100 | E17: =SUM(F16+1) -> 286101 | F17: =SUM(E17+D17-1) -> 286200 | G17: 25 | I17: R2 | J17: =MOD(D17,25) -> 0
A18: 92-904 UAA | D18: 150 | E18: =SUM(F17+1) -> 286201 | F18: =SUM(E18+D18-1) -> 286350 | G18: 25 | I18: R2 | J18: =MOD(D18,25) -> 0
A19: 92-905 Anchorage City Hall | D19: 300 | E19: =SUM(F18+1) -> 286351 | F19: =SUM(E19+D19-1) -> 286650 | G19: 25 | I19: R2 | J19: =MOD(D19,25) -> 0
A20: 92-907 Cook Inlet Tribal Council | D20: 100 | E20: =SUM(F19+1) -> 286651 | F20: =SUM(E20+D20-1) -> 286750 | G20: 25 | I20: R2 | J20: =MOD(D20,25) -> 0
A22: MAT-SU
A23: 95-900 Mat-Su Elections Office | D23: 25 | E23: =SUM(F20+1) -> 286751 | F23: =SUM(E23+D23-1) -> 286775 | G23: 25 | I23: R5 | J23: =MOD(D23,25) -> 0
A25: FAIRBANKS
A26: 93-900 Fairbanks Elections Office | D26: 50 | E26: =SUM(F23+1) -> 286776 | F26: =SUM(E26+D26-1) -> 286825 | G26: 5 | I26: R3 | J26: =MOD(D26,25) -> 0
A27: 93-901 UAF | D27: 25 | E27: =SUM(F26+1) -> 286826 | F27: =SUM(E27+D27-1) -> 286850 | G27: 5 | I27: R3 | J27: =MOD(D27,25) -> 0
A29: JUNEAU
A30: 91-900 Juneau Elections Office | D30: 25 | E30: =SUM(F27+1) -> 286851 | F30: =SUM(E30+D30-1) -> 286875 | G30: 5 | I30: R1 | J30: =MOD(D30,25) -> 0
A31: 91-902 Juneau Downtown | D31: 25 | E31: =SUM(F30+1) -> 286876 | F31: =SUM(E31+D31-1) -> 286900 | G31: 5 | I31: R1 | J31: =MOD(D31,25) -> 0
A33: NOME
A34: 94-900 Nome Elections Office | D34: 25 | E34: =SUM(F31+1) -> 286901 | F34: =SUM(E34+D34-1) -> 286925 | G34: 5 | I34: R4 | J34: =MOD(D34,25) -> 0
A35: 94-901 Prudhoe Bay Station | D35: 25 | E35: =SUM(F34+1) -> 286926 | F35: =SUM(E35+D35-1) -> 286950 | G35: 5 | I35: R4 | J35: =MOD(D35,25) -> 0
A36: TOTAL ABSENTEE BALLOTS HD14-JD3 | D36: =SUM(D16:D35) -> 2050
A37: TOTAL HD14-JD3 BALLOTS | D37: =D12+D36 -> 13875 | G37: =SUM(G5:G36) -> 555 | H37: =SUM(H5:H36) -> 300 | J37: =SUM(J5:J36) -> 0
A40: Checksum: Sequence End - Start: | D40: =F35-E5+1 -> 13875

Sheet HD15-JD3
H1: BALLOT ID# | J1: =Totals!B19 -> 1025
B3: # REGIS- | D3: # | E3: Numbers | G3: Sample | H3: Fascimile
A4: DISTRICT / PRECINCT | B4: TERED | D4: Ballots | E4: FROM | F4: TO | G4: Ballots | H4: Ballots | I4: Delivery | J4: Check
A5: 15-405 Southwest Anchorage No. 1 | B5: 1845 | C5: =SUM(B5*0.8) -> 1476 | D5: =MROUND(C5, 25) -> 1475 | E5: ='HD14-JD3'!F35+1 -> 286951 | F5: =SUM(E5+D5-1) -> 288425 | G5: 50 | I5: R2 | J5: =MOD(D5,25) -> 0
A6: 15-410 Southwest Anchorage No. 2 | B6: 2380 | C6: =SUM(B6*0.8) -> 1904 | D6: =MROUND(C6, 25) -> 1900 | E6: =SUM(F5+1) -> 288426 | F6: =SUM(E6+D6-1) -> 290325 | G6: 50 | I6: R2 | J6: =MOD(D6,25) -> 0
A7: 15-415 Southwest Anchorage No. 3 | B7: 2740 | C7: =SUM(B7*0.8) -> 2192 | D7: =MROUND(C7, 25) -> 2200 | E7: =SUM(F6+1) -> 290326 | F7: =SUM(E7+D7-1) -> 292525 | G7: 50 | I7: R2 | J7: =MOD(D7,25) -> 0
A8: 15-420 Southwest Anchorage No. 4 | B8: 2763 | C8: =SUM(B8*0.8) -> 2210.4 | D8: =MROUND(C8, 25) -> 2200 | E8: =SUM(F7+1) -> 292526 | F8: =SUM(E8+D8-1) -> 294725 | G8: 50 | I8: R2 | J8: =MOD(D8,25) -> 0
A9: 15-425 Southwest Anchorage No. 5 | B9: 2506 | C9: =SUM(B9*0.8) -> 2004.8 | D9: =MROUND(C9, 25) -> 2000 | E9: =SUM(F8+1) -> 294726 | F9: =SUM(E9+D9-1) -> 296725 | G9: 50 | I9: R2 | J9: =MOD(D9,25) -> 0
A10: 15-430 Southwest Anchorage No. 6 | B10: 3384 | C10: =SUM(B10*0.8) -> 2707.2 | D10: =MROUND(C10, 25) -> 2700 | E10: =SUM(F9+1) -> 296726 | F10: =SUM(E10+D10-1) -> 299425 | G10: 50 | I10: R2 | J10: =MOD(D10,25) -> 0
A11: TOTAL PRECINCT BALLOTS HD15-JD3 | B11: =SUM(B5:B10) -> 15618 | D11: =SUM(D5:D10) -> 12475
A13: ABSENTEE OFFICIALS & STATIONS:
A14: ANCHORAGE
A15: 92-900 Anchorage Elections Office | D15: 1200 | E15: =SUM(F10+1) -> 299426 | F15: =SUM(E15+D15-1) -> 300625 | G15: 50 | H15: 300 | I15: R2 | J15: =MOD(D15,25) -> 0
A16: 92-902 Anchorage Airport | D16: 50 | E16: =SUM(F15+1) -> 300626 | F16: =SUM(E16+D16-1) -> 300675 | G16: 25 | I16: R2 | J16: =MOD(D16,25) -> 0
A17: 92-904 UAA | D17: 150 | E17: =SUM(F16+1) -> 300676 | F17: =SUM(E17+D17-1) -> 300825 | G17: 25 | I17: R2 | J17: =MOD(D17,25) -> 0
A18: 92-905 Anchorage City Hall | D18: 400 | E18: =SUM(F17+1) -> 300826 | F18: =SUM(E18+D18-1) -> 301225 | G18: 25 | I18: R2 | J18: =MOD(D18,25) -> 0
A19: 92-907 Cook Inlet Tribal Council | D19: 100 | E19: =SUM(F18+1) -> 301226 | F19: =SUM(E19+D19-1) -> 301325 | G19: 25 | I19: R2 | J19: =MOD(D19,25) -> 0
A21: MAT-SU
A22: 95-900 Mat-Su Elections Office | D22: 25 | E22: =SUM(F19+1) -> 301326 | F22: =SUM(E22+D22-1) -> 301350 | G22: 5 | I22: R5 | J22: =MOD(D22,25) -> 0
A24: FAIRBANKS
A25: 93-900 Fairbanks Elections Office | D25: 50 | E25: =SUM(F22+1) -> 301351 | F25: =SUM(E25+D25-1) -> 301400 | G25: 5 | I25: R3 | J25: =MOD(D25,25) -> 0
A26: 93-901 UAF | D26: 25 | E26: =SUM(F25+1) -> 301401 | F26: =SUM(E26+D26-1) -> 301425 | G26: 5 | I26: R3 | J26: =MOD(D26,25) -> 0
A28: JUNEAU
A29: 91-900 Juneau Elections Office | D29: 25 | E29: =SUM(F26+1) -> 301426 | F29: =SUM(E29+D29-1) -> 301450 | G29: 5 | I29: R1 | J29: =MOD(D29,25) -> 0
A30: 91-902 Juneau Downtown | D30: 25 | E30: =SUM(F29+1) -> 301451 | F30: =SUM(E30+D30-1) -> 301475 | G30: 5 | I30: R1 | J30: =MOD(D30,25) -> 0
A32: NOME
A33: 94-900 Nome Elections Office | D33: 25 | E33: =SUM(F30+1) -> 301476 | F33: =SUM(E33+D33-1) -> 301500 | G33: 5 | I33: R4 | J33: =MOD(D33,25) -> 0
A34: 94-901 Prudhoe Bay Station | D34: 25 | E34: =SUM(F33+1) -> 301501 | F34: =SUM(E34+D34-1) -> 301525 | G34: 5 | I34: R4 | J34: =MOD(D34,25) -> 0
A35: TOTAL ABSENTEE BALLOTS HD15-JD3 | D35: =SUM(D15:D34) -> 2100
A36: TOTAL HD15-JD3 BALLOTS | D36: =D11+D35 -> 14575 | G36: =SUM(G5:G35) -> 485 | H36: =SUM(H5:H35) -> 300 | J36: =SUM(J5:J35) -> 0
A39: Checksum: Sequence End - Start: | D39: =F34-E5+1 -> 14575

Sheet HD16-JD3
H1: BALLOT ID# | J1: =Totals!B20 -> 1026
B3: # REGIS- | D3: # | E3: Numbers | G3: Sample | H3: Fascimile
A4: DISTRICT / PRECINCT | B4: TERED | D4: Ballots | E4: FROM | F4: TO | G4: Ballots | H4: Ballots | I4: Delivery | J4: Check
A5: 16-450 West Anchorage No. 1 | B5: 1852 | C5: =SUM(B5*0.8) -> 1481.6 | D5: =MROUND(C5, 25) -> 1475 | E5: =SUM('HD15-JD3'!F34,1) -> 301526 | F5: =SUM(E5+D5-1) -> 303000 | G5: 50 | I5: R2 | J5: =MOD(D5,25) -> 0
A6: 16-455 West Anchorage No. 2 | B6: 2285 | C6: =SUM(B6*0.8) -> 1828 | D6: =MROUND(C6, 25) -> 1825 | E6: =SUM(F5+1) -> 303001 | F6: =SUM(E6+D6-1) -> 304825 | G6: 50 | I6: R2 | J6: =MOD(D6,25) -> 0
A7: 16-460 West Anchorage No. 3 | B7: 3400 | C7: =SUM(B7*0.8) -> 2720 | D7: =MROUND(C7, 25) -> 2725 | E7: =SUM(F6+1) -> 304826 | F7: =SUM(E7+D7-1) -> 307550 | G7: 50 | I7: R2 | J7: =MOD(D7,25) -> 0
A8: 16-465 West Anchorage No. 4 | B8: 1939 | C8: =SUM(B8*0.8) -> 1551.2 | D8: =MROUND(C8, 25) -> 1550 | E8: =SUM(F7+1) -> 307551 | F8: =SUM(E8+D8-1) -> 309100 | G8: 50 | I8: R2 | J8: =MOD(D8,25) -> 0
A9: 16-470 West Anchorage No. 5 | B9: 2552 | C9: =SUM(B9*0.8) -> 2041.6 | D9: =MROUND(C9, 25) -> 2050 | E9: =SUM(F8+1) -> 309101 | F9: =SUM(E9+D9-1) -> 311150 | G9: 50 | I9: R2 | J9: =MOD(D9,25) -> 0
A10: 16-475 West Anchorage No. 6 | B10: 2018 | C10: =SUM(B10*0.8) -> 1614.4 | D10: =MROUND(C10, 25) -> 1625 | E10: =SUM(F9+1) -> 311151 | F10: =SUM(E10+D10-1) -> 312775 | G10: 50 | I10: R2 | J10: =MOD(D10,25) -> 0
A11: 16-480 West Anchorage No. 7 | B11: 1839 | C11: =SUM(B11*0.8) -> 1471.2 | D11: =MROUND(C11, 25) -> 1475 | E11: =SUM(F10+1) -> 312776 | F11: =SUM(E11+D11-1) -> 314250 | G11: 50 | I11: R2 | J11: =MOD(D11,25) -> 0
A12: TOTAL PRECINCT BALLOTS HD16-JD3 | B12: =SUM(B5:B11) -> 15885 | D12: =SUM(D5:D11) -> 12725
A14: ABSENTEE OFFICIALS & STATIONS:
A15: ANCHORAGE
A16: 92-900 Anchorage Elections Office | D16: 1000 | E16: =SUM(F11+1) -> 314251 | F16: =SUM(E16+D16-1) -> 315250 | G16: 50 | H16: 300 | I16: R2 | J16: =MOD(D16,25) -> 0
A17: 92-902 Anchorage Airport | D17: 50 | E17: =SUM(F16+1) -> 315251 | F17: =SUM(E17+D17-1) -> 315300 | G17: 25 | I17: R2 | J17: =MOD(D17,25) -> 0
A18: 92-904 UAA | D18: 150 | E18: =SUM(F17+1) -> 315301 | F18: =SUM(E18+D18-1) -> 315450 | G18: 25 | I18: R2 | J18: =MOD(D18,25) -> 0
A19: 92-905 Anchorage City Hall | D19: 450 | E19: =SUM(F18+1) -> 315451 | F19: =SUM(E19+D19-1) -> 315900 | G19: 25 | I19: R2 | J19: =MOD(D19,25) -> 0
A20: 92-907 Cook Inlet Tribal Council | D20: 100 | E20: =SUM(F19+1) -> 315901 | F20: =SUM(E20+D20-1) -> 316000 | G20: 25 | I20: R2 | J20: =MOD(D20,25) -> 0
A22: MAT-SU
A23: 95-900 Mat-Su Elections Office | D23: 25 | E23: =SUM(F20+1) -> 316001 | F23: =SUM(E23+D23-1) -> 316025 | G23: 5 | I23: R5 | J23: =MOD(D23,25) -> 0
A25: FAIRBANKS
A26: 93-900 Fairbanks Elections Office | D26: 50 | E26: =SUM(F23+1) -> 316026 | F26: =SUM(E26+D26-1) -> 316075 | G26: 5 | I26: R3 | J26: =MOD(D26,25) -> 0
A27: 93-901 UAF | D27: 25 | E27: =SUM(F26+1) -> 316076 | F27: =SUM(E27+D27-1) -> 316100 | G27: 5 | I27: R3 | J27: =MOD(D27,25) -> 0
A29: JUNEAU
A30: 91-900 Juneau Elections Office | D30: 25 | E30: =SUM(F27+1) -> 316101 | F30: =SUM(E30+D30-1) -> 316125 | G30: 5 | I30: R1 | J30: =MOD(D30,25) -> 0
A31: 91-902 Juneau Downtown | D31: 25 | E31: =SUM(F30+1) -> 316126 | F31: =SUM(E31+D31-1) -> 316150 | G31: 5 | I31: R1 | J31: =MOD(D31,25) -> 0
A33: NOME
A34: 94-900 Nome Elections Office | D34: 25 | E34: =SUM(F31+1) -> 316151 | F34: =SUM(E34+D34-1) -> 316175 | G34: 5 | I34: R4 | J34: =MOD(D34,25) -> 0
A35: 94-901 Prudhoe Bay Station | D35: 25 | E35: =SUM(F34+1) -> 316176 | F35: =SUM(E35+D35-1) -> 316200 | G35: 5 | I35: R4 | J35: =MOD(D35,25) -> 0
A36: TOTAL ABSENTEE BALLOTS HD16-JD3 | D36: =SUM(D16:D35) -> 1950
A37: TOTAL HD16-JD3 BALLOTS | D37: =D12+D36 -> 14675 | G37: =SUM(G5:G36) -> 535 | H37: =SUM(H5:H36) -> 300 | J37: =SUM(J5:J36) -> 0
A40: Checksum: Sequence End - Start: | D40: =F35-E5+1 -> 14675

Sheet HD17-JD3
H1: BALLOT ID# | J1: =Totals!B21 -> 1027
B3: # REGIS- | D3: # | E3: Numbers | G3: Sample | H3: Fascimile
A4: DISTRICT / PRECINCT | B4: TERED | D4: Ballots | E4: FROM | F4: TO | G4: Ballots | H4: Ballots | I4: Delivery | J4: Check
A5: 17-505 Downtown Anchorage No. 1 | B5: 1743 | C5: =SUM(B5*0.8) -> 1394.4 | D5: =MROUND(C5, 25) -> 1400 | E5: =SUM('HD16-JD3'!F35,1) -> 316201 | F5: =SUM(E5+D5-1) -> 317600 | G5: 50 | I5: R2 | J5: =MOD(D5,25) -> 0
A6: 17-510 Downtown Anchorage No. 2 | B6: 1787 | C6: =SUM(B6*0.8) -> 1429.6 | D6: =MROUND(C6, 25) -> 1425 | E6: =SUM(F5+1) -> 317601 | F6: =SUM(E6+D6-1) -> 319025 | G6: 50 | I6: R2 | J6: =MOD(D6,25) -> 0
A7: 17-515 Downtown Anchorage No. 3 | B7: 994 | C7: =SUM(B7*0.8) -> 795.2 | D7: =MROUND(C7, 25) -> 800 | E7: =SUM(F6+1) -> 319026 | F7: =SUM(E7+D7-1) -> 319825 | G7: 50 | I7: R2 | J7: =MOD(D7,25) -> 0
A8: 17-520 Downtown Anchorage No. 4 | B8: 3017 | C8: =SUM(B8*0.8) -> 2413.6 | D8: =MROUND(C8, 25) -> 2425 | E8: =SUM(F7+1) -> 319826 | F8: =SUM(E8+D8-1) -> 322250 | G8: 50 | I8: R2 | J8: =MOD(D8,25) -> 0
A9: 17-525 Downtown Anchorage No. 5 | B9: 2907 | C9: =SUM(B9*0.8) -> 2325.6 | D9: =MROUND(C9, 25) -> 2325 | E9: =SUM(F8+1) -> 322251 | F9: =SUM(E9+D9-1) -> 324575 | G9: 50 | I9: R2 | J9: =MOD(D9,25) -> 0
A10: 17-530 Downtown Anchorage No. 6 | B10: 1876 | C10: =SUM(B10*0.8) -> 1500.8 | D10: =MROUND(C10, 25) -> 1500 | E10: =SUM(F9+1) -> 324576 | F10: =SUM(E10+D10-1) -> 326075 | G10: 50 | I10: R2 | J10: =MOD(D10,25) -> 0
A11: 17-535 Downtown Anchorage No. 7 | B11: 2860 | C11: =SUM(B11*0.8) -> 2288 | D11: =MROUND(C11, 25) -> 2300 | E11: =SUM(F10+1) -> 326076 | F11: =SUM(E11+D11-1) -> 328375 | G11: 50 | I11: R2 | J11: =MOD(D11,25) -> 0
A12: TOTAL PRECINCT BALLOTS HD17-JD3 | B12: =SUM(B5:B11) -> 15184 | D12: =SUM(D5:D11) -> 12175
A14: ABSENTEE OFFICIALS & STATIONS:
A15: ANCHORAGE
A16: 92-900 Anchorage Elections Office | D16: 900 | E16: =SUM(F11+1) -> 328376 | F16: =SUM(E16+D16-1) -> 329275 | G16: 50 | H16: 300 | I16: R2 | J16: =MOD(D16,25) -> 0
A17: 92-902 Anchorage Airport | D17: 50 | E17: =SUM(F16+1) -> 329276 | F17: =SUM(E17+D17-1) -> 329325 | G17: 25 | I17: R2 | J17: =MOD(D17,25) -> 0
A18: 92-904 UAA | D18: 150 | E18: =SUM(F17+1) -> 329326 | F18: =SUM(E18+D18-1) -> 329475 | G18: 25 | I18: R2 | J18: =MOD(D18,25) -> 0
A19: 92-905 Anchorage City Hall | D19: 800 | E19: =SUM(F18+1) -> 329476 | F19: =SUM(E19+D19-1) -> 330275 | G19: 50 | I19: R2 | J19: =MOD(D19,25) -> 0
A20: 92-907 Cook Inlet Tribal Council | D20: 100 | E20: =SUM(F19+1) -> 330276 | F20: =SUM(E20+D20-1) -> 330375 | G20: 25 | I20: R2 | J20: =MOD(D20,25) -> 0
A22: MAT-SU
A23: 95-900 Mat-Su Elections Office | D23: 25 | E23: =SUM(F20+1) -> 330376 | F23: =SUM(E23+D23-1) -> 330400 | G23: 5 | I23: R5 | J23: =MOD(D23,25) -> 0
A25: FAIRBANKS
A26: 93-900 Fairbanks Elections Office | D26: 50 | E26: =SUM(F23+1) -> 330401 | F26: =SUM(E26+D26-1) -> 330450 | G26: 5 | I26: R3 | J26: =MOD(D26,25) -> 0
A27: 93-901 UAF | D27: 25 | E27: =SUM(F26+1) -> 330451 | F27: =SUM(E27+D27-1) -> 330475 | G27: 5 | I27: R3 | J27: =MOD(D27,25) -> 0
A29: JUNEAU
A30: 91-900 Juneau Elections Office | D30: 25 | E30: =SUM(F27+1) -> 330476 | F30: =SUM(E30+D30-1) -> 330500 | G30: 5 | I30: R1 | J30: =MOD(D30,25) -> 0
A31: 91-902 Juneau Downtown | D31: 25 | E31: =SUM(F30+1) -> 330501 | F31: =SUM(E31+D31-1) -> 330525 | G31: 5 | I31: R1 | J31: =MOD(D31,25) -> 0
A33: NOME
A34: 94-900 Nome Elections Office | D34: 25 | E34: =SUM(F31+1) -> 330526 | F34: =SUM(E34+D34-1) -> 330550 | G34: 5 | I34: R4 | J34: =MOD(D34,25) -> 0
A35: 94-901 Prudhoe Bay Station | D35: 25 | E35: =SUM(F34+1) -> 330551 | F35: =SUM(E35+D35-1) -> 330575 | G35: 5 | I35: R4 | J35: =MOD(D35,25) -> 0
A36: TOTAL ABSENTEE BALLOTS HD17-JD3 | D36: =SUM(D16:D35) -> 2200
A37: TOTAL HD17-JD3 BALLOTS | D37: =D12+D36 -> 14375 | G37: =SUM(G5:G36) -> 560 | H37: =SUM(H5:H36) -> 300 | J37: =SUM(J5:J36) -> 0
A40: Checksum: Sequence End - Start: | D40: =F35-E5+1 -> 14375

Sheet HD18-JD3
H1: BALLOT ID# | J1: =Totals!B22 -> 1028
B3: # REGIS- | D3: # | E3: Numbers | G3: Sample | H3: Fascimile
A4: DISTRICT / PRECINCT | B4: TERED | D4: Ballots | E4: FROM | F4: TO | G4: Ballots | H4: Ballots | I4: Delivery | J4: Check
A5: 18-550 Government Hill | B5: 1646 | C5: =SUM(B5*0.8) -> 1316.8 | D5: =MROUND(C5, 25) -> 1325 | E5: =SUM('HD17-JD3'!F35,1) -> 330576 | F5: =SUM(E5+D5-1) -> 331900 | G5: 50 | I5: R2 | J5: =MOD(D5,25) -> 0
A6: 18-555 JBER No.1 | B6: 5579 | C6: =SUM(B6*0.8) -> 4463.2 | D6: 3000 | E6: =SUM(F5+1) -> 331901 | F6: =SUM(E6+D6-1) -> 334900 | G6: 50 | I6: R2 | J6: =MOD(D6,25) -> 0
A7: 18-556 JBER No.2 | B7: 1870 | C7: =SUM(B7*0.8) -> 1496 | D7: 1200 | E7: =SUM(F6+1) -> 334901 | F7: =SUM(E7+D7-1) -> 336100 | G7: 50 | I7: R2 | J7: =MOD(D7,25) -> 0
A8: 18-560 North Muldoon | B8: 1948 | C8: =SUM(B8*0.8) -> 1558.4 | D8: =MROUND(C8, 25) -> 1550 | E8: =SUM(F7+1) -> 336101 | F8: =SUM(E8+D8-1) -> 337650 | G8: 50 | I8: R2 | J8: =MOD(D8,25) -> 0
A9: 18-565 Ship Creek | B9: 1061 | C9: =SUM(B9*0.8) -> 848.8 | D9: =MROUND(C9, 25) -> 850 | E9: =SUM(F8+1) -> 337651 | F9: =SUM(E9+D9-1) -> 338500 | G9: 50 | I9: R2 | J9: =MOD(D9,25) -> 0
A10: TOTAL PRECINCT BALLOTS HD18-JD3 | B10: =SUM(B5:B9) -> 12104 | D10: =SUM(D5:D9) -> 7925
A12: ABSENTEE OFFICIALS & STATIONS:
A13: ANCHORAGE
A14: 92-900 Anchorage Elections Office | D14: 900 | E14: =SUM(F9+1) -> 338501 | F14: =SUM(E14+D14-1) -> 339400 | G14: 50 | H14: 300 | I14: R2 | J14: =MOD(D14,25) -> 0
A15: 92-902 Anchorage Airport | D15: 50 | E15: =SUM(F14+1) -> 339401 | F15: =SUM(E15+D15-1) -> 339450 | G15: 25 | I15: R2 | J15: =MOD(D15,25) -> 0
A16: 92-904 UAA | D16: 150 | E16: =SUM(F15+1) -> 339451 | F16: =SUM(E16+D16-1) -> 339600 | G16: 25 | I16: R2 | J16: =MOD(D16,25) -> 0
A17: 92-905 Anchorage City Hall | D17: 300 | E17: =SUM(F16+1) -> 339601 | F17: =SUM(E17+D17-1) -> 339900 | G17: 25 | I17: R2 | J17: =MOD(D17,25) -> 0
A18: 92-907 Cook Inlet Tribal Council | D18: 150 | E18: =SUM(F17+1) -> 339901 | F18: =SUM(E18+D18-1) -> 340050 | G18: 25 | I18: R2 | J18: =MOD(D18,25) -> 0
A20: MAT-SU
A21: 95-900 Mat-Su Elections Office | D21: 25 | E21: =SUM(F18+1) -> 340051 | F21: =SUM(E21+D21-1) -> 340075 | G21: 5 | I21: R5 | J21: =MOD(D21,25) -> 0
A23: FAIRBANKS
A24: 93-900 Fairbanks Elections Office | D24: 50 | E24: =SUM(F21+1) -> 340076 | F24: =SUM(E24+D24-1) -> 340125 | G24: 5 | I24: R3 | J24: =MOD(D24,25) -> 0
A25: 93-901 UAF | D25: 25 | E25: =SUM(F24+1) -> 340126 | F25: =SUM(E25+D25-1) -> 340150 | G25: 5 | I25: R3 | J25: =MOD(D25,25) -> 0
A27: JUNEAU
A28: 91-900 Juneau Elections Office | D28: 25 | E28: =SUM(F25+1) -> 340151 | F28: =SUM(E28+D28-1) -> 340175 | G28: 5 | I28: R1 | J28: =MOD(D28,25) -> 0
A29: 91-902 Juneau Downtown | D29: 25 | E29: =SUM(F28+1) -> 340176 | F29: =SUM(E29+D29-1) -> 340200 | G29: 5 | I29: R1 | J29: =MOD(D29,25) -> 0
A31: NOME
A32: 94-900 Nome Elections Office | D32: 25 | E32: =SUM(F29+1) -> 340201 | F32: =SUM(E32+D32-1) -> 340225 | G32: 5 | I32: R4 | J32: =MOD(D32,25) -> 0
A33: 94-901 Prudhoe Bay Station | D33: 25 | E33: =SUM(F32+1) -> 340226 | F33: =SUM(E33+D33-1) -> 340250 | G33: 5 | I33: R4 | J33: =MOD(D33,25) -> 0
A34: TOTAL ABSENTEE BALLOTS HD18-JD3 | D34: =SUM(D14:D33) -> 1750
A35: TOTAL HD18-JD3 BALLOTS | D35: =D10+D34 -> 9675 | G35: =SUM(G5:G33) -> 435 | H35: =SUM(H5:H33) -> 300 | J35: =SUM(J5:J33) -> 0
A38: Checksum: Sequence End - Start: | D38: =F33-E5+1 -> 9675

Sheet HD19-JD3
H1: BALLOT ID# | J1: =Totals!B23 -> 1029
B3: # REGIS- | D3: # | E3: Numbers | G3: Sample | H3: Fascimile
A4: DISTRICT / PRECINCT | B4: TERED | D4: Ballots | E4: FROM | F4: TO | G4: Ballots | H4: Ballots | I4: Delivery | J4: Check
A5: 19-605 Airport Heights No. 1 | B5: 2309 | C5: =SUM(B5*0.8) -> 1847.2 | D5: =MROUND(C5, 25) -> 1850 | E5: ='HD18-JD3'!F33+1 -> 340251 | F5: =SUM(E5+D5-1) -> 342100 | G5: 50 | I5: R2 | J5: =MOD(D5,25) -> 0
A6: 19-610 Airport Heights No. 2 | B6: 3933 | C6: =SUM(B6*0.8) -> 3146.4 | D6: =MROUND(C6, 25) -> 3150 | E6: =SUM(F5+1) -> 342101 | F6: =SUM(E6+D6-1) -> 345250 | G6: 50 | I6: R2 | J6: =MOD(D6,25) -> 0
A7: 19-615 Mountainview No. 1 | B7: 2012 | C7: =SUM(B7*0.8) -> 1609.6 | D7: =MROUND(C7, 25) -> 1600 | E7: =SUM(F6+1) -> 345251 | F7: =SUM(E7+D7-1) -> 346850 | G7: 50 | I7: R2 | J7: =MOD(D7,25) -> 0
A8: 19-620 Mountainview No. 2 | B8: 2611 | C8: =SUM(B8*0.8) -> 2088.8 | D8: =MROUND(C8, 25) -> 2100 | E8: =SUM(F7+1) -> 346851 | F8: =SUM(E8+D8-1) -> 348950 | G8: 50 | I8: R2 | J8: =MOD(D8,25) -> 0
A9: 19-625 South Mountainview | B9: 2602 | C9: =SUM(B9*0.8) -> 2081.6 | D9: =MROUND(C9, 25) -> 2075 | E9: =SUM(F8+1) -> 348951 | F9: =SUM(E9+D9-1) -> 351025 | G9: 50 | I9: R2 | J9: =MOD(D9,25) -> 0
A10: TOTAL PRECINCT BALLOTS HD19-JD3 | B10: =SUM(B5:B9) -> 13467 | D10: =SUM(D5:D9) -> 10775
A12: ABSENTEE OFFICIALS & STATIONS:
A13: ANCHORAGE
A14: 92-900 Anchorage Elections Office | D14: 900 | E14: =SUM(F9+1) -> 351026 | F14: =SUM(E14+D14-1) -> 351925 | G14: 50 | H14: 300 | I14: R2 | J14: =MOD(D14,25) -> 0
A15: 92-902 Anchorage Airport | D15: 50 | E15: =SUM(F14+1) -> 351926 | F15: =SUM(E15+D15-1) -> 351975 | G15: 25 | I15: R2 | J15: =MOD(D15,25) -> 0
A16: 92-904 UAA | D16: 150 | E16: =SUM(F15+1) -> 351976 | F16: =SUM(E16+D16-1) -> 352125 | G16: 25 | I16: R2 | J16: =MOD(D16,25) -> 0
A17: 92-905 Anchorage City Hall | D17: 250 | E17: =SUM(F16+1) -> 352126 | F17: =SUM(E17+D17-1) -> 352375 | G17: 25 | I17: R2 | J17: =MOD(D17,25) -> 0
A18: 92-907 Cook Inlet Tribal Council | D18: 400 | E18: =SUM(F17+1) -> 352376 | F18: =SUM(E18+D18-1) -> 352775 | G18: 50 | I18: R2 | J18: =MOD(D18,25) -> 0
A20: MAT-SU
A21: 95-900 Mat-Su Elections Office | D21: 25 | E21: =SUM(F18+1) -> 352776 | F21: =SUM(E21+D21-1) -> 352800 | G21: 5 | I21: R5 | J21: =MOD(D21,25) -> 0
A23: FAIRBANKS
A24: 93-900 Fairbanks Elections Office | D24: 50 | E24: =SUM(F21+1) -> 352801 | F24: =SUM(E24+D24-1) -> 352850 | G24: 5 | I24: R3 | J24: =MOD(D24,25) -> 0
A25: 93-901 UAF | D25: 25 | E25: =SUM(F24+1) -> 352851 | F25: =SUM(E25+D25-1) -> 352875 | G25: 5 | I25: R3 | J25: =MOD(D25,25) -> 0
A27: JUNEAU
A28: 91-900 Juneau Elections Office | D28: 25 | E28: =SUM(F25+1) -> 352876 | F28: =SUM(E28+D28-1) -> 352900 | G28: 5 | I28: R1 | J28: =MOD(D28,25) -> 0
A29: 91-902 Juneau Downtown | D29: 25 | E29: =SUM(F28+1) -> 352901 | F29: =SUM(E29+D29-1) -> 352925 | G29: 5 | I29: R1 | J29: =MOD(D29,25) -> 0
A31: NOME
A32: 94-900 Nome Elections Office | D32: 25 | E32: =SUM(F29+1) -> 352926 | F32: =SUM(E32+D32-1) -> 352950 | G32: 5 | I32: R4 | J32: =MOD(D32,25) -> 0
A33: 94-901 Prudhoe Bay Station | D33: 25 | E33: =SUM(F32+1) -> 352951 | F33: =SUM(E33+D33-1) -> 352975 | G33: 5 | I33: R4 | J33: =MOD(D33,25) -> 0
A34: TOTAL ABSENTEE BALLOTS HD19-JD3 | D34: =SUM(D14:D33) -> 1950
A35: TOTAL HD19-JD3 BALLOTS | D35: =D10+D34 -> 12725 | G35: =SUM(G5:G34) -> 460 | H35: =SUM(H5:H34) -> 300 | J35: =SUM(J5:J34) -> 0
A38: Checksum: Sequence End - Start: | D38: =F33-E5+1 -> 12725

Sheet HD20-JD3
H1: BALLOT ID# | J1: =Totals!B24 -> 1030
B3: # REGIS- | D3: # | E3: Numbers | G3: Sample | H3: Fascimile
A4: DISTRICT / PRECINCT | B4: TERED | D4: Ballots | E4: FROM | F4: TO | G4: Ballots | H4: Ballots | I4: Delivery | J4: Check
A5: 20-650 University No. 1 | B5: 1082 | C5: =SUM(B5*0.8) -> 865.6 | D5: =MROUND(C5, 25) -> 875 | E5: =SUM('HD19-JD3'!F33,1) -> 352976 | F5: =SUM(E5+D5-1) -> 353850 | G5: 50 | I5: R2 | J5: =MOD(D5,25) -> 0
A6: 20-655 University No. 2 | B6: 3907 | C6: =SUM(B6*0.8) -> 3125.6 | D6: =MROUND(C6, 25) -> 3125 | E6: =SUM(F5+1) -> 353851 | F6: =SUM(E6+D6-1) -> 356975 | G6: 50 | I6: R2 | J6: =MOD(D6,25) -> 0
A7: 20-660 University No. 3 | B7: 3072 | C7: =SUM(B7*0.8) -> 2457.6 | D7: =MROUND(C7, 25) -> 2450 | E7: =SUM(F6+1) -> 356976 | F7: =SUM(E7+D7-1) -> 359425 | G7: 50 | I7: R2 | J7: =MOD(D7,25) -> 0
A8: 20-665 University No. 4 | B8: 1568 | C8: =SUM(B8*0.8) -> 1254.4 | D8: =MROUND(C8, 25) -> 1250 | E8: =SUM(F7+1) -> 359426 | F8: =SUM(E8+D8-1) -> 360675 | G8: 50 | I8: R2 | J8: =MOD(D8,25) -> 0
A9: 20-670 University No. 5 | B9: 4735 | C9: =SUM(B9*0.8) -> 3788 | D9: =MROUND(C9, 25) -> 3800 | E9: =SUM(F8+1) -> 360676 | F9: =SUM(E9+D9-1) -> 364475 | G9: 50 | I9: R2 | J9: =MOD(D9,25) -> 0
A10: TOTAL PRECINCT BALLOTS HD20-JD3 | B10: =SUM(B5:B9) -> 14364 | D10: =SUM(D5:D9) -> 11500
A12: ABSENTEE OFFICIALS & STATIONS:
A13: ANCHORAGE
A14: 92-900 Anchorage Elections Office | D14: 900 | E14: =SUM(F9+1) -> 364476 | F14: =SUM(E14+D14-1) -> 365375 | G14: 50 | H14: 300 | I14: R2 | J14: =MOD(D14,25) -> 0
A15: 92-902 Anchorage Airport | D15: 50 | E15: =SUM(F14+1) -> 365376 | F15: =SUM(E15+D15-1) -> 365425 | G15: 25 | I15: R2 | J15: =MOD(D15,25) -> 0
A16: 92-904 UAA | D16: 500 | E16: =SUM(F15+1) -> 365426 | F16: =SUM(E16+D16-1) -> 365925 | G16: 25 | I16: R2 | J16: =MOD(D16,25) -> 0
A17: 92-905 Anchorage City Hall | D17: 250 | E17: =SUM(F16+1) -> 365926 | F17: =SUM(E17+D17-1) -> 366175 | G17: 25 | I17: R2 | J17: =MOD(D17,25) -> 0
A18: 92-907 Cook Inlet Tribal Council | D18: 100 | E18: =SUM(F17+1) -> 366176 | F18: =SUM(E18+D18-1) -> 366275 | G18: 25 | I18: R2 | J18: =MOD(D18,25) -> 0
A20: MAT-SU
A21: 95-900 Mat-Su Elections Office | D21: 25 | E21: =SUM(F18+1) -> 366276 | F21: =SUM(E21+D21-1) -> 366300 | G21: 5 | I21: R5 | J21: =MOD(D21,25) -> 0
A23: FAIRBANKS
A24: 93-900 Fairbanks Elections Office | D24: 50 | E24: =SUM(F21+1) -> 366301 | F24: =SUM(E24+D24-1) -> 366350 | G24: 5 | I24: R3 | J24: =MOD(D24,25) -> 0
A25: 93-901 UAF | D25: 25 | E25: =SUM(F24+1) -> 366351 | F25: =SUM(E25+D25-1) -> 366375 | G25: 5 | I25: R3 | J25: =MOD(D25,25) -> 0
A27: JUNEAU
A28: 91-900 Juneau Elections Office | D28: 25 | E28: =SUM(F25+1) -> 366376 | F28: =SUM(E28+D28-1) -> 366400 | G28: 5 | I28: R1 | J28: =MOD(D28,25) -> 0
A29: 91-902 Juneau Downtown | D29: 25 | E29: =SUM(F28+1) -> 366401 | F29: =SUM(E29+D29-1) -> 366425 | G29: 5 | I29: R1 | J29: =MOD(D29,25) -> 0
A31: NOME
A32: 94-900 Nome Elections Office | D32: 25 | E32: =SUM(F29+1) -> 366426 | F32: =SUM(E32+D32-1) -> 366450 | G32: 5 | I32: R4 | J32: =MOD(D32,25) -> 0
A33: 94-901 Prudhoe Bay Station | D33: 25 | E33: =SUM(F32+1) -> 366451 | F33: =SUM(E33+D33-1) -> 366475 | G33: 5 | I33: R4 | J33: =MOD(D33,25) -> 0
A34: TOTAL ABSENTEE BALLOTS HD20-JD3 | D34: =SUM(D14:D33) -> 2000
A35: TOTAL HD20-JD3 BALLOTS | D35: =D10+D34 -> 13500 | G35: =SUM(G5:G33) -> 435 | H35: =SUM(H5:H33) -> 300 | J35: =SUM(J5:J33) -> 0
A38: Checksum: Sequence End - Start: | D38: =F33-E5+1 -> 13500

Sheet HD21-JD3
H1: BALLOT ID# | J1: =Totals!B25 -> 1031
B3: # REGIS- | D3: # | E3: Numbers | G3: Sample | H3: Fascimile
A4: DISTRICT / PRECINCT | B4: TERED | D4: Ballots | E4: FROM | F4: TO | G4: Ballots | H4: Ballots | I4: Delivery | J4: Check
A5: 21-705 East Anchorage No. 1 | B5: 2265 | C5: =SUM(B5*0.8) -> 1812 | D5: =MROUND(C5, 25) -> 1800 | E5: =SUM('HD20-JD3'!F33,1) -> 366476 | F5: =SUM(E5+D5-1) -> 368275 | G5: 50 | I5: R2 | J5: =MOD(D5,25) -> 0
A6: 21-710 East Anchorage No. 2 | B6: 3017 | C6: =SUM(B6*0.8) -> 2413.6 | D6: =MROUND(C6, 25) -> 2425 | E6: =SUM(F5+1) -> 368276 | F6: =SUM(E6+D6-1) -> 370700 | G6: 50 | I6: R2 | J6: =MOD(D6,25) -> 0
A7: 21-715 East Anchorage No. 3 | B7: 4200 | C7: =SUM(B7*0.8) -> 3360 | D7: =MROUND(C7, 25) -> 3350 | E7: =SUM(F6+1) -> 370701 | F7: =SUM(E7+D7-1) -> 374050 | G7: 50 | I7: R2 | J7: =MOD(D7,25) -> 0
A8: 21-720 East Anchorage No. 4 | B8: 2717 | C8: =SUM(B8*0.8) -> 2173.6 | D8: =MROUND(C8, 25) -> 2175 | E8: =SUM(F7+1) -> 374051 | F8: =SUM(E8+D8-1) -> 376225 | G8: 50 | I8: R2 | J8: =MOD(D8,25) -> 0
A9: 21-725 East Anchorage No. 5 | B9: 3734 | C9: =SUM(B9*0.8) -> 2987.2 | D9: =MROUND(C9, 25) -> 2975 | E9: =SUM(F8+1) -> 376226 | F9: =SUM(E9+D9-1) -> 379200 | G9: 50 | I9: R2 | J9: =MOD(D9,25) -> 0
A10: TOTAL PRECINCT BALLOTS HD21-JD3 | B10: =SUM(B5:B9) -> 15933 | D10: =SUM(D5:D9) -> 12725
A12: ABSENTEE OFFICIALS & STATIONS:
A13: ANCHORAGE
A14: 92-900 Anchorage Elections Office | D14: 900 | E14: =SUM(F9+1) -> 379201 | F14: =SUM(E14+D14-1) -> 380100 | G14: 50 | H14: 300 | I14: R2 | J14: =MOD(D14,25) -> 0
A15: 92-902 Anchorage Airport | D15: 50 | E15: =SUM(F14+1) -> 380101 | F15: =SUM(E15+D15-1) -> 380150 | G15: 25 | I15: R2 | J15: =MOD(D15,25) -> 0
A16: 92-904 UAA | D16: 200 | E16: =SUM(F15+1) -> 380151 | F16: =SUM(E16+D16-1) -> 380350 | G16: 25 | I16: R2 | J16: =MOD(D16,25) -> 0
A17: 92-905 Anchorage City Hall | D17: 250 | E17: =SUM(F16+1) -> 380351 | F17: =SUM(E17+D17-1) -> 380600 | G17: 25 | I17: R2 | J17: =MOD(D17,25) -> 0
A18: 92-907 Cook Inlet Tribal Council | D18: 100 | E18: =SUM(F17+1) -> 380601 | F18: =SUM(E18+D18-1) -> 380700 | G18: 25 | I18: R2 | J18: =MOD(D18,25) -> 0
A20: MAT-SU
A21: 95-900 Mat-Su Elections Office | D21: 25 | E21: =SUM(F18+1) -> 380701 | F21: =SUM(E21+D21-1) -> 380725 | G21: 5 | I21: R5 | J21: =MOD(D21,25) -> 0
A23: FAIRBANKS
A24: 93-900 Fairbanks Elections Office | D24: 50 | E24: =SUM(F21+1) -> 380726 | F24: =SUM(E24+D24-1) -> 380775 | G24: 5 | I24: R3 | J24: =MOD(D24,25) -> 0
A25: 93-901 UAF | D25: 25 | E25: =SUM(F24+1) -> 380776 | F25: =SUM(E25+D25-1) -> 380800 | G25: 5 | I25: R3 | J25: =MOD(D25,25) -> 0
A27: JUNEAU
A28: 91-900 Juneau Elections Office | D28: 25 | E28: =SUM(F25+1) -> 380801 | F28: =SUM(E28+D28-1) -> 380825 | G28: 5 | I28: R1 | J28: =MOD(D28,25) -> 0
A29: 91-902 Juneau Downtown | D29: 25 | E29: =SUM(F28+1) -> 380826 | F29: =SUM(E29+D29-1) -> 380850 | G29: 5 | I29: R1 | J29: =MOD(D29,25) -> 0
A31: NOME
A32: 94-900 Nome Elections Office | D32: 25 | E32: =SUM(F29+1) -> 380851 | F32: =SUM(E32+D32-1) -> 380875 | G32: 5 | I32: R4 | J32: =MOD(D32,25) -> 0
A33: 94-901 Prudhoe Bay Station | D33: 25 | E33: =SUM(F32+1) -> 380876 | F33: =SUM(E33+D33-1) -> 380900 | G33: 5 | I33: R4 | J33: =MOD(D33,25) -> 0
A34: TOTAL ABSENTEE BALLOTS HD21-JD3 | D34: =SUM(D14:D33) -> 1700
A35: TOTAL HD21-JD3 BALLOTS | D35: =D10+D34 -> 14425 | G35: =SUM(G5:G33) -> 435 | H35: =SUM(H5:H33) -> 300 | J35: =SUM(J5:J33) -> 0
A38: Checksum: Sequence End - Start: | D38: =F33-E5+1 -> 14425

Sheet HD22-JD3
H1: BALLOT ID# | J1: =Totals!B26 -> 1032
B3: # REGIS- | D3: # | E3: Numbers | G3: Sample | H3: Fascimile
A4: DISTRICT / PRECINCT | B4: TERED | D4: Ballots | E4: FROM | F4: TO | G4: Ballots | H4: Ballots | I4: Delivery | J4: Check
A5: 22-750 Northeast Anchorage No. 1 | B5: 3808 | C5: =SUM(B5*0.8) -> 3046.4 | D5: =MROUND(C5, 25) -> 3050 | E5: =SUM('HD21-JD3'!F33,1) -> 380901 | F5: =SUM(E5+D5-1) -> 383950 | G5: 50 | I5: R2 | J5: =MOD(D5,25) -> 0
A6: 22-755 Northeast Anchorage No. 2 | B6: 4007 | C6: =SUM(B6*0.8) -> 3205.6 | D6: =MROUND(C6, 25) -> 3200 | E6: =SUM(F5+1) -> 383951 | F6: =SUM(E6+D6-1) -> 387150 | G6: 50 | I6: R2 | J6: =MOD(D6,25) -> 0
A7: 22-760 Northeast Anchorage No. 3 | B7: 3975 | C7: =SUM(B7*0.8) -> 3180 | D7: =MROUND(C7, 25) -> 3175 | E7: =SUM(F6+1) -> 387151 | F7: =SUM(E7+D7-1) -> 390325 | G7: 50 | I7: R2 | J7: =MOD(D7,25) -> 0
A8: 22-765 Northeast Anchorage No. 4 | B8: 2810 | C8: =SUM(B8*0.8) -> 2248 | D8: =MROUND(C8, 25) -> 2250 | E8: =SUM(F7+1) -> 390326 | F8: =SUM(E8+D8-1) -> 392575 | G8: 50 | I8: R2 | J8: =MOD(D8,25) -> 0
A9: TOTAL PRECINCT BALLOTS HD22-JD3 | B9: =SUM(B5:B8) -> 14600 | D9: =SUM(D5:D8) -> 11675
A11: ABSENTEE OFFICIALS & STATIONS:
A12: ANCHORAGE
A13: 92-900 Anchorage Elections Office | D13: 900 | E13: =SUM(F8+1) -> 392576 | F13: =SUM(E13+D13-1) -> 393475 | G13: 50 | H13: 300 | I13: R2 | J13: =MOD(D13,25) -> 0
A14: 92-902 Anchorage Airport | D14: 50 | E14: =SUM(F13+1) -> 393476 | F14: =SUM(E14+D14-1) -> 393525 | G14: 25 | I14: R2 | J14: =MOD(D14,25) -> 0
A15: 92-904 UAA | D15: 150 | E15: =SUM(F14+1) -> 393526 | F15: =SUM(E15+D15-1) -> 393675 | G15: 25 | I15: R2 | J15: =MOD(D15,25) -> 0
A16: 92-905 Anchorage City Hall | D16: 250 | E16: =SUM(F15+1) -> 393676 | F16: =SUM(E16+D16-1) -> 393925 | G16: 25 | I16: R2 | J16: =MOD(D16,25) -> 0
A17: 92-907 Cook Inlet Tribal Council | D17: 100 | E17: =SUM(F16+1) -> 393926 | F17: =SUM(E17+D17-1) -> 394025 | G17: 25 | I17: R2 | J17: =MOD(D17,25) -> 0
A19: MAT-SU
A20: 95-900 Mat-Su Elections Office | D20: 25 | E20: =SUM(F17+1) -> 394026 | F20: =SUM(E20+D20-1) -> 394050 | G20: 5 | I20: R5 | J20: =MOD(D20,25) -> 0
A22: FAIRBANKS
A23: 93-900 Fairbanks Elections Office | D23: 50 | E23: =SUM(F20+1) -> 394051 | F23: =SUM(E23+D23-1) -> 394100 | G23: 5 | I23: R3 | J23: =MOD(D23,25) -> 0
A24: 93-901 UAF | D24: 25 | E24: =SUM(F23+1) -> 394101 | F24: =SUM(E24+D24-1) -> 394125 | G24: 5 | I24: R3 | J24: =MOD(D24,25) -> 0
A26: JUNEAU
A27: 91-900 Juneau Elections Office | D27: 25 | E27: =SUM(F24+1) -> 394126 | F27: =SUM(E27+D27-1) -> 394150 | G27: 5 | I27: R1 | J27: =MOD(D27,25) -> 0
A28: 91-902 Juneau Downtown | D28: 25 | E28: =SUM(F27+1) -> 394151 | F28: =SUM(E28+D28-1) -> 394175 | G28: 5 | I28: R1 | J28: =MOD(D28,25) -> 0
A30: NOME
A31: 94-900 Nome Elections Office | D31: 25 | E31: =SUM(F28+1) -> 394176 | F31: =SUM(E31+D31-1) -> 394200 | G31: 5 | I31: R4 | J31: =MOD(D31,25) -> 0
A32: 94-901 Prudhoe Bay Station | D32: 25 | E32: =SUM(F31+1) -> 394201 | F32: =SUM(E32+D32-1) -> 394225 | G32: 5 | I32: R4 | J32: =MOD(D32,25) -> 0
A33: TOTAL ABSENTEE BALLOTS HD22-JD3 | D33: =SUM(D13:D32) -> 1650
A34: TOTAL HD22-JD3 BALLOTS | D34: =D9+D33 -> 13325 | G34: =SUM(G5:G32) -> 385 | H34: =SUM(H5:H32) -> 300 | J34: =SUM(J5:J32) -> 0
A37: Checksum: Sequence End - Start: | D37: =F32-E5+1 -> 13325

Sheet HD23-JD3
H1: BALLOT ID# | J1: =Totals!B27 -> 1033
B3: # REGIS- | D3: # | E3: Numbers | G3: Sample | H3: Fascimile
A4: DISTRICT / PRECINCT | B4: TERED | D4: Ballots | E4: FROM | F4: TO | G4: Ballots | H4: Ballots | I4: Delivery | J4: Check
A5: 23-805 Chugach Park No. 1 | B5: 4405 | C5: =SUM(B5*0.8) -> 3524 | D5: =MROUND(C5, 25) -> 3525 | E5: =SUM('HD22-JD3'!F32,1) -> 394226 | F5: =SUM(E5+D5-1) -> 397750 | G5: 50 | I5: R2 | J5: =MOD(D5,25) -> 0
A6: 23-810 Eagle River No. 1 | B6: 2759 | C6: =SUM(B6*0.8) -> 2207.2 | D6: =MROUND(C6, 25) -> 2200 | E6: =SUM(F5+1) -> 397751 | F6: =SUM(E6+D6-1) -> 399950 | G6: 50 | I6: R2 | J6: =MOD(D6,25) -> 0
A7: 23-815 Eagle River No. 2 | B7: 3016 | C7: =SUM(B7*0.8) -> 2412.8 | D7: =MROUND(C7, 25) -> 2425 | E7: =SUM(F6+1) -> 399951 | F7: =SUM(E7+D7-1) -> 402375 | G7: 50 | I7: R2 | J7: =MOD(D7,25) -> 0
A8: 23-820 Hiland | B8: 2762 | C8: =SUM(B8*0.8) -> 2209.6 | D8: =MROUND(C8, 25) -> 2200 | E8: =SUM(F7+1) -> 402376 | F8: =SUM(E8+D8-1) -> 404575 | G8: 50 | I8: R2 | J8: =MOD(D8,25) -> 0
A9: 23-825 Meadow Creek No. 1 | B9: 2538 | C9: =SUM(B9*0.8) -> 2030.4 | D9: =MROUND(C9, 25) -> 2025 | E9: =SUM(F8+1) -> 404576 | F9: =SUM(E9+D9-1) -> 406600 | G9: 50 | I9: R2 | J9: =MOD(D9,25) -> 0
A10: 23-830 Meadow Creek No. 2 | B10: 1313 | C10: =SUM(B10*0.8) -> 1050.4 | D10: =MROUND(C10, 25) -> 1050 | E10: =SUM(F9+1) -> 406601 | F10: =SUM(E10+D10-1) -> 407650 | G10: 50 | I10: R2 | J10: =MOD(D10,25) -> 0
A11: TOTAL PRECINCT BALLOTS HD23-JD3 | B11: =SUM(B5:B10) -> 16793 | D11: =SUM(D5:D10) -> 13425
A13: ABSENTEE OFFICIALS & STATIONS:
A14: ANCHORAGE
A15: 92-900 Anchorage Elections Office | D15: 700 | E15: =SUM(F10+1) -> 407651 | F15: =SUM(E15+D15-1) -> 408350 | G15: 50 | H15: 300 | I15: R2 | J15: =MOD(D15,25) -> 0
A16: 92-902 Anchorage Airport | D16: 50 | E16: =SUM(F15+1) -> 408351 | F16: =SUM(E16+D16-1) -> 408400 | G16: 25 | I16: R2 | J16: =MOD(D16,25) -> 0
A17: 92-904 UAA | D17: 150 | E17: =SUM(F16+1) -> 408401 | F17: =SUM(E17+D17-1) -> 408550 | G17: 25 | I17: R2 | J17: =MOD(D17,25) -> 0
A18: 92-905 Anchorage City Hall | D18: 200 | E18: =SUM(F17+1) -> 408551 | F18: =SUM(E18+D18-1) -> 408750 | G18: 25 | I18: R2 | J18: =MOD(D18,25) -> 0
A19: 92-906 Eagle River / Chugiak | D19: 1500 | E19: =SUM(F18+1) -> 408751 | F19: =SUM(E19+D19-1) -> 410250 | G19: 75 | I19: R2 | J19: =MOD(D19,25) -> 0
A20: 92-907 Cook Inlet Tribal Council | D20: 50 | E20: =SUM(F19+1) -> 410251 | F20: =SUM(E20+D20-1) -> 410300 | G20: 25 | I20: R2 | J20: =MOD(D20,25) -> 0
A22: MAT-SU
A23: 95-900 Mat-Su Elections Office | D23: 25 | E23: =SUM(F20+1) -> 410301 | F23: =SUM(E23+D23-1) -> 410325 | G23: 5 | I23: R5 | J23: =MOD(D23,25) -> 0
A25: FAIRBANKS
A26: 93-900 Fairbanks Elections Office | D26: 50 | E26: =SUM(F23+1) -> 410326 | F26: =SUM(E26+D26-1) -> 410375 | G26: 5 | I26: R3 | J26: =MOD(D26,25) -> 0
A27: 93-901 UAF | D27: 25 | E27: =SUM(F26+1) -> 410376 | F27: =SUM(E27+D27-1) -> 410400 | G27: 5 | I27: R3 | J27: =MOD(D27,25) -> 0
A29: JUNEAU
A30: 91-900 Juneau Elections Office | D30: 25 | E30: =SUM(F27+1) -> 410401 | F30: =SUM(E30+D30-1) -> 410425 | G30: 5 | I30: R1 | J30: =MOD(D30,25) -> 0
A31: 91-902 Juneau Downtown | D31: 25 | E31: =SUM(F30+1) -> 410426 | F31: =SUM(E31+D31-1) -> 410450 | G31: 5 | I31: R1 | J31: =MOD(D31,25) -> 0
A33: NOME
A34: 94-900 Nome Elections Office | D34: 25 | E34: =SUM(F31+1) -> 410451 | F34: =SUM(E34+D34-1) -> 410475 | G34: 5 | I34: R4 | J34: =MOD(D34,25) -> 0
A35: 94-901 Prudhoe Bay Station | D35: 25 | E35: =SUM(F34+1) -> 410476 | F35: =SUM(E35+D35-1) -> 410500 | G35: 5 | I35: R4 | J35: =MOD(D35,25) -> 0
A36: TOTAL ABSENTEE BALLOTS HD23-JD3 | D36: =SUM(D15:D35) -> 2850
A37: TOTAL HD23-JD3 BALLOTS | D37: =D11+D36 -> 16275 | G37: =SUM(G5:G35) -> 560 | H37: =SUM(H5:H35) -> 300 | J37: =SUM(J5:J35) -> 0
A40: Checksum: Sequence End - Start: | D40: =F35-E5+1 -> 16275

Sheet HD24-JD3
H1: BALLOT ID# | J1: =Totals!B28 -> 1034
B3: # REGIS- | D3: # | E3: Numbers | G3: Sample | H3: Fascimile
A4: DISTRICT / PRECINCT | B4: TERED | D4: Ballots | E4: FROM | F4: TO | G4: Ballots | H4: Ballots | I4: Delivery | J4: Check
A5: 24-850 Chugach Park No. 2 | B5: 2530 | C5: =SUM(B5*0.8) -> 2024 | D5: =MROUND(C5, 25) -> 2025 | E5: =SUM('HD23-JD3'!F35,1) -> 410501 | F5: =SUM(E5+D5-1) -> 412525 | G5: 50 | I5: R2 | J5: =MOD(D5,25) -> 0
A6: 24-855 Chugiak | B6: 1120 | C6: =SUM(B6*0.8) -> 896 | D6: =MROUND(C6, 25) -> 900 | E6: =SUM(F5+1) -> 412526 | F6: =SUM(E6+D6-1) -> 413425 | G6: 50 | I6: R2 | J6: =MOD(D6,25) -> 0
A7: 24-860 Eagle River No. 3 | B7: 2934 | C7: =SUM(B7*0.8) -> 2347.2 | D7: =MROUND(C7, 25) -> 2350 | E7: =SUM(F6+1) -> 413426 | F7: =SUM(E7+D7-1) -> 415775 | G7: 50 | I7: R2 | J7: =MOD(D7,25) -> 0
A8: 24-865 Eklutna | B8: 2107 | C8: =SUM(B8*0.8) -> 1685.6 | D8: =MROUND(C8, 25) -> 1675 | E8: =SUM(F7+1) -> 415776 | F8: =SUM(E8+D8-1) -> 417450 | G8: 50 | I8: R2 | J8: =MOD(D8,25) -> 0
A9: 24-870 Fire Lake | B9: 2817 | C9: =SUM(B9*0.8) -> 2253.6 | D9: =MROUND(C9, 25) -> 2250 | E9: =SUM(F8+1) -> 417451 | F9: =SUM(E9+D9-1) -> 419700 | G9: 50 | I9: R2 | J9: =MOD(D9,25) -> 0
A10: 24-875 Peters Creek No. 1 | B10: 2821 | C10: =SUM(B10*0.8) -> 2256.8 | D10: =MROUND(C10, 25) -> 2250 | E10: =SUM(F9+1) -> 419701 | F10: =SUM(E10+D10-1) -> 421950 | G10: 50 | I10: R2 | J10: =MOD(D10,25) -> 0
A11: 24-880 Peters Creek No. 2 | B11: 1707 | C11: =SUM(B11*0.8) -> 1365.6 | D11: =MROUND(C11, 25) -> 1375 | E11: =SUM(F10+1) -> 421951 | F11: =SUM(E11+D11-1) -> 423325 | G11: 50 | I11: R2 | J11: =MOD(D11,25) -> 0
A12: TOTAL PRECINCT BALLOTS HD24-JD3 | B12: =SUM(B5:B11) -> 16036 | D12: =SUM(D5:D11) -> 12825
A14: ABSENTEE OFFICIALS & STATIONS:
A15: ANCHORAGE
A16: 92-900 Anchorage Elections Office | D16: 700 | E16: =SUM(F11+1) -> 423326 | F16: =SUM(E16+D16-1) -> 424025 | G16: 50 | H16: 300 | I16: R2 | J16: =MOD(D16,25) -> 0
A17: 92-902 Anchorage Airport | D17: 50 | E17: =SUM(F16+1) -> 424026 | F17: =SUM(E17+D17-1) -> 424075 | G17: 25 | I17: R2 | J17: =MOD(D17,25) -> 0
A18: 92-904 UAA | D18: 150 | E18: =SUM(F17+1) -> 424076 | F18: =SUM(E18+D18-1) -> 424225 | G18: 25 | I18: R2 | J18: =MOD(D18,25) -> 0
A19: 92-905 Anchorage City Hall | D19: 200 | E19: =SUM(F18+1) -> 424226 | F19: =SUM(E19+D19-1) -> 424425 | G19: 25 | I19: R2 | J19: =MOD(D19,25) -> 0
A20: 92-906 Eagle River/Chugiak | D20: 1500 | E20: =SUM(F19+1) -> 424426 | F20: =SUM(E20+D20-1) -> 425925 | G20: 75 | I20: R2 | J20: =MOD(D20,25) -> 0
A21: 92-907 Cook Inlet Tribal Council | D21: 50 | E21: =SUM(F20+1) -> 425926 | F21: =SUM(E21+D21-1) -> 425975 | G21: 25 | I21: R2 | J21: =MOD(D21,25) -> 0
A23: MAT-SU
A24: 95-900 Mat-Su Elections Office | D24: 25 | E24: =SUM(F21+1) -> 425976 | F24: =SUM(E24+D24-1) -> 426000 | G24: 5 | I24: R5 | J24: =MOD(D24,25) -> 0
A26: FAIRBANKS
A27: 93-900 Fairbanks Elections Office | D27: 50 | E27: =SUM(F24+1) -> 426001 | F27: =SUM(E27+D27-1) -> 426050 | G27: 5 | I27: R3 | J27: =MOD(D27,25) -> 0
A28: 93-901 UAF | D28: 25 | E28: =SUM(F27+1) -> 426051 | F28: =SUM(E28+D28-1) -> 426075 | G28: 5 | I28: R3 | J28: =MOD(D28,25) -> 0
A30: JUNEAU
A31: 91-900 Juneau Elections Office | D31: 25 | E31: =SUM(F28+1) -> 426076 | F31: =SUM(E31+D31-1) -> 426100 | G31: 5 | I31: R1 | J31: =MOD(D31,25) -> 0
A32: 91-902 Juneau Downtown | D32: 25 | E32: =SUM(F31+1) -> 426101 | F32: =SUM(E32+D32-1) -> 426125 | G32: 5 | I32: R1 | J32: =MOD(D32,25) -> 0
A34: NOME
A35: 94-900 Nome Elections Office | D35: 25 | E35: =SUM(F32+1) -> 426126 | F35: =SUM(E35+D35-1) -> 426150 | G35: 5 | I35: R4 | J35: =MOD(D35,25) -> 0
A36: 94-901 Prudhoe Bay Station | D36: 25 | E36: =SUM(F35+1) -> 426151 | F36: =SUM(E36+D36-1) -> 426175 | G36: 5 | I36: R4 | J36: =MOD(D36,25) -> 0
A37: TOTAL ABSENTEE BALLOTS HD24-JD3 | D37: =SUM(D16:D36) -> 2850
A38: TOTAL HD24-JD3 BALLOTS | D38: =D12+D37 -> 15675 | G38: =SUM(G5:G36) -> 610 | H38: =SUM(H5:H36) -> 300 | J38: =SUM(J5:J36) -> 0
A41: Checksum: Sequence End - Start: | D41: =F36-E5+1 -> 15675

Sheet HD25-JD3
H1: BALLOT ID# | J1: =Totals!B29 -> 1035
B3: # REGIS- | D3: # | E3: Numbers | G3: Sample | H3: Fascimile
A4: DISTRICT / PRECINCT | B4: TERED | D4: Ballots | E4: FROM | F4: TO | G4: Ballots | H4: Ballots | I4: Delivery | J4: Check
A5: 25-305 Butte | B5: 3477 | C5: =SUM(B5*0.8) -> 2781.6 | D5: =MROUND(C5, 25) -> 2775 | E5: =SUM('HD24-JD3'!F36,1) -> 426176 | F5: =SUM(E5+D5-1) -> 428950 | G5: 50 | I5: R5 | J5: =MOD(D5,25) -> 0
A6: 25-310 Greater Palmer | B6: 1873 | C6: =SUM(B6*0.8) -> 1498.4 | D6: =MROUND(C6, 25) -> 1500 | E6: =SUM(F5+1) -> 428951 | F6: =SUM(E6+D6-1) -> 430450 | G6: 50 | I6: R5 | J6: =MOD(D6,25) -> 0
A7: 25-315 Lazy Mountain | B7: 1998 | C7: =SUM(B7*0.8) -> 1598.4 | D7: =MROUND(C7, 25) -> 1600 | E7: =SUM(F6+1) -> 430451 | F7: =SUM(E7+D7-1) -> 432050 | G7: 50 | I7: R5 | J7: =MOD(D7,25) -> 0
A8: 25-320 Palmer City No. 1 | B8: 2661 | C8: =SUM(B8*0.8) -> 2128.8 | D8: =MROUND(C8, 25) -> 2125 | E8: =SUM(F7+1) -> 432051 | F8: =SUM(E8+D8-1) -> 434175 | G8: 50 | I8: R5 | J8: =MOD(D8,25) -> 0
A9: 25-325 Palmer City No. 2 | B9: 2431 | C9: =SUM(B9*0.8) -> 1944.8 | D9: =MROUND(C9, 25) -> 1950 | E9: =SUM(F8+1) -> 434176 | F9: =SUM(E9+D9-1) -> 436125 | G9: 50 | I9: R5 | J9: =MOD(D9,25) -> 0
A10: 25-330 Springer Loop | B10: 2127 | C10: =SUM(B10*0.8) -> 1701.6 | D10: =MROUND(C10, 25) -> 1700 | E10: =SUM(F9+1) -> 436126 | F10: =SUM(E10+D10-1) -> 437825 | G10: 50 | I10: R5 | J10: =MOD(D10,25) -> 0
A11: 25-335 Walby | B11: 2222 | C11: =SUM(B11*0.8) -> 1777.6 | D11: =MROUND(C11, 25) -> 1775 | E11: =SUM(F10+1) -> 437826 | F11: =SUM(E11+D11-1) -> 439600 | G11: 50 | I11: R5 | J11: =MOD(D11,25) -> 0
A12: TOTAL PRECINCT BALLOTS HD25-JD3 | B12: =SUM(B3:B11) -> 16789 | D12: =SUM(D5:D11) -> 13425
A14: ABSENTEE OFFICIALS & STATIONS:
A15: ANCHORAGE
A16: 92-900 Anchorage Elections Office | D16: 200 | E16: =SUM(F11+1) -> 439601 | F16: =SUM(E16+D16-1) -> 439800 | G16: 25 | I16: R2 | J16: =MOD(D16,25) -> 0
A17: 92-902 Anchorage Airport | D17: 50 | E17: =SUM(F16+1) -> 439801 | F17: =SUM(E17+D17-1) -> 439850 | G17: 5 | I17: R2 | J17: =MOD(D17,25) -> 0
A18: 92-904 UAA | D18: 100 | E18: =SUM(F17+1) -> 439851 | F18: =SUM(E18+D18-1) -> 439950 | G18: 10 | I18: R2 | J18: =MOD(D18,25) -> 0
A19: 92-905 Anchorage City Hall | D19: 100 | E19: =SUM(F18+1) -> 439951 | F19: =SUM(E19+D19-1) -> 440050 | G19: 10 | I19: R2 | J19: =MOD(D19,25) -> 0
A20: 92-907 Cook Inlet Tribal Council | D20: 50 | E20: =SUM(F19+1) -> 440051 | F20: =SUM(E20+D20-1) -> 440100 | G20: 5 | I20: R2 | J20: =MOD(D20,25) -> 0
A22: MAT-SU
A23: 95-900 Mat-Su Elections Office | D23: 1500 | E23: =SUM(F20+1) -> 440101 | F23: =SUM(E23+D23-1) -> 441600 | G23: 50 | H23: 300 | I23: R5 | J23: =MOD(D23,25) -> 0
A24: 95-903 Mat-Su AVO | D24: 1700 | E24: =SUM(F23+1) -> 441601 | F24: =SUM(E24+D24-1) -> 443300 | G24: 50 | I24: R5 | J24: =MOD(D24,25) -> 0
A26: FAIRBANKS
A27: 93-900 Fairbanks Elections Office | D27: 50 | E27: =SUM(F24+1) -> 443301 | F27: =SUM(E27+D27-1) -> 443350 | G27: 5 | I27: R3 | J27: =MOD(D27,25) -> 0
A28: 93-901 UAF | D28: 25 | E28: =SUM(F27+1) -> 443351 | F28: =SUM(E28+D28-1) -> 443375 | G28: 5 | I28: R3 | J28: =MOD(D28,25) -> 0
A30: JUNEAU
A31: 91-900 Juneau Elections Office | D31: 25 | E31: =SUM(F28+1) -> 443376 | F31: =SUM(E31+D31-1) -> 443400 | G31: 5 | I31: R1 | J31: =MOD(D31,25) -> 0
A32: 91-902 Juneau Downtown | D32: 25 | E32: =SUM(F31+1) -> 443401 | F32: =SUM(E32+D32-1) -> 443425 | G32: 5 | I32: R1 | J32: =MOD(D32,25) -> 0
A34: NOME
A35: 94-900 Nome Elections Office | D35: 25 | E35: =SUM(F32+1) -> 443426 | F35: =SUM(E35+D35-1) -> 443450 | G35: 5 | I35: R4 | J35: =MOD(D35,25) -> 0
A36: 94-901 Prudhoe Bay Station | D36: 25 | E36: =SUM(F35+1) -> 443451 | F36: =SUM(E36+D36-1) -> 443475 | G36: 5 | I36: R4 | J36: =MOD(D36,25) -> 0
A37: TOTAL ABSENTEE BALLOTS HD25-JD3 | D37: =SUM(D16:D36) -> 3875
A38: TOTAL HD25-JD3 BALLOTS | D38: =D12+D37 -> 17300 | G38: =SUM(G5:G36) -> 535 | H38: =SUM(H5:H36) -> 300 | J38: =SUM(J5:J36) -> 0
A41: Checksum: Sequence End - Start: | D41: =F36-E5+1 -> 17300

Sheet HD26-JD3
H1: BALLOT ID# | J1: =Totals!B30 -> 1036
B3: # REGIS- | D3: # | E3: Numbers | G3: Sample | H3: Fascimile
A4: DISTRICT / PRECINCT | B4: TERED | D4: Ballots | E4: FROM | F4: TO | G4: Ballots | H4: Ballots | I4: Delivery | J4: Check
A5: 26-350 Fairview No. 1 | B5: 1834 | C5: =SUM(B5*0.8) -> 1467.2 | D5: =MROUND(C5, 25) -> 1475 | E5: =SUM('HD25-JD3'!F36,1) -> 443476 | F5: =SUM(E5+D5-1) -> 444950 | G5: 50 | I5: R5 | J5: =MOD(D5,25) -> 0
A6: 26-355 Fairview No. 2 | B6: 1260 | C6: =SUM(B6*0.8) -> 1008 | D6: =MROUND(C6, 25) -> 1000 | E6: =SUM(F5+1) -> 444951 | F6: =SUM(E6+D6-1) -> 445950 | G6: 50 | I6: R5 | J6: =MOD(D6,25) -> 0
A7: 26-360 Knik Goose Bay No. 1 | B7: 3973 | C7: =SUM(B7*0.8) -> 3178.4 | D7: =MROUND(C7, 25) -> 3175 | E7: =SUM(F6+1) -> 445951 | F7: =SUM(E7+D7-1) -> 449125 | G7: 50 | I7: R5 | J7: =MOD(D7,25) -> 0
A8: 26-365 Knik Goose Bay No. 2 | B8: 2587 | C8: =SUM(B8*0.8) -> 2069.6 | D8: =MROUND(C8, 25) -> 2075 | E8: =SUM(F7+1) -> 449126 | F8: =SUM(E8+D8-1) -> 451200 | G8: 50 | I8: R5 | J8: =MOD(D8,25) -> 0
A9: 26-370 Knik Goose Bay No. 3 | B9: 1724 | C9: =SUM(B9*0.8) -> 1379.2 | D9: =MROUND(C9, 25) -> 1375 | E9: =SUM(F8+1) -> 451201 | F9: =SUM(E9+D9-1) -> 452575 | G9: 50 | I9: R5 | J9: =MOD(D9,25) -> 0
A10: 26-375 Mat-Su Campus | B10: 1914 | C10: =SUM(B10*0.8) -> 1531.2 | D10: =MROUND(C10, 25) -> 1525 | E10: =SUM(F9+1) -> 452576 | F10: =SUM(E10+D10-1) -> 454100 | G10: 50 | I10: R5 | J10: =MOD(D10,25) -> 0
A11: 26-380 Snowshoe | B11: 3023 | C11: =SUM(B11*0.8) -> 2418.4 | D11: =MROUND(C11, 25) -> 2425 | E11: =SUM(F10+1) -> 454101 | F11: =SUM(E11+D11-1) -> 456525 | G11: 50 | I11: R5 | J11: =MOD(D11,25) -> 0
A12: TOTAL PRECINCT BALLOTS HD26-JD3 | B12: =SUM(B5:B11) -> 16315 | D12: =SUM(D5:D11) -> 13050
A14: ABSENTEE OFFICIALS & STATIONS:
A15: ANCHORAGE
A16: 92-900 Anchorage Elections Office | D16: 200 | E16: =SUM(F11+1) -> 456526 | F16: =SUM(E16+D16-1) -> 456725 | G16: 25 | I16: R2 | J16: =MOD(D16,25) -> 0
A17: 92-902 Anchorage Airport | D17: 50 | E17: =SUM(F16+1) -> 456726 | F17: =SUM(E17+D17-1) -> 456775 | G17: 5 | I17: R2 | J17: =MOD(D17,25) -> 0
A18: 92-904 UAA | D18: 100 | E18: =SUM(F17+1) -> 456776 | F18: =SUM(E18+D18-1) -> 456875 | G18: 10 | I18: R2 | J18: =MOD(D18,25) -> 0
A19: 92-905 Anchorage City Hall | D19: 100 | E19: =SUM(F18+1) -> 456876 | F19: =SUM(E19+D19-1) -> 456975 | G19: 10 | I19: R2 | J19: =MOD(D19,25) -> 0
A20: 92-907 Cook Inlet Tribal Council | D20: 50 | E20: =SUM(F19+1) -> 456976 | F20: =SUM(E20+D20-1) -> 457025 | G20: 5 | I20: R2
A22: MAT-SU
A23: 95-900 Mat-Su Elections Office | D23: 2000 | E23: =SUM(F20+1) -> 457026 | F23: =SUM(E23+D23-1) -> 459025 | G23: 50 | H23: 400 | I23: R5 | J23: =MOD(D23,25) -> 0
A24: 95-903 Mat-Su AVO | D24: 1000 | E24: =SUM(F23+1) -> 459026 | F24: =SUM(E24+D24-1) -> 460025 | G24: 50 | I24: R5 | J24: =MOD(D24,25) -> 0
A26: FAIRBANKS
A27: 93-900 Fairbanks Elections Office | D27: 50 | E27: =SUM(F24+1) -> 460026 | F27: =SUM(E27+D27-1) -> 460075 | G27: 5 | I27: R3 | J27: =MOD(D27,25) -> 0
A28: 93-901 UAF | D28: 25 | E28: =SUM(F27+1) -> 460076 | F28: =SUM(E28+D28-1) -> 460100 | G28: 5 | I28: R3 | J28: =MOD(D28,25) -> 0
A30: JUNEAU
A31: 91-900 Juneau Elections Office | D31: 25 | E31: =SUM(F28+1) -> 460101 | F31: =SUM(E31+D31-1) -> 460125 | G31: 5 | I31: R1 | J31: =MOD(D31,25) -> 0
A32: 91-902 Juneau Downtown | D32: 25 | E32: =SUM(F31+1) -> 460126 | F32: =SUM(E32+D32-1) -> 460150 | G32: 5 | I32: R1 | J32: =MOD(D32,25) -> 0
A34: NOME
A35: 94-900 Nome Elections Office | D35: 25 | E35: =SUM(F32+1) -> 460151 | F35: =SUM(E35+D35-1) -> 460175 | G35: 5 | I35: R4 | J35: =MOD(D35,25) -> 0
A36: 94-901 Prudhoe Bay Station | D36: 25 | E36: =SUM(F35+1) -> 460176 | F36: =SUM(E36+D36-1) -> 460200 | G36: 5 | I36: R4 | J36: =MOD(D36,25) -> 0
A37: TOTAL ABSENTEE BALLOTS HD26-JD3 | D37: =SUM(D16:D36) -> 3675
A38: TOTAL HD26-JD3 BALLOTS | D38: =D12+D37 -> 16725 | G38: =SUM(G5:G36) -> 535 | H38: =SUM(H5:H36) -> 400 | J38: =SUM(J5:J36) -> 0
A41: Checksum: Sequence End - Start: | D41: =F36-E5+1 -> 16725

Sheet HD27-JD3
H1: BALLOT ID# | J1: =Totals!B31 -> 1037
B3: # REGIS- | D3: # | E3: Numbers | G3: Sample | H3: Fascimile
A4: DISTRICT / PRECINCT | B4: TERED | D4: Ballots | E4: FROM | F4: TO | G4: Ballots | H4: Ballots | I4: Delivery | J4: Check
A5: 27-405 Foothills | B5: 2469 | C5: =SUM(B5*0.8) -> 1975.2 | D5: =MROUND(C5, 25) -> 1975 | E5: =SUM('HD26-JD3'!F36,1) -> 460201 | F5: =SUM(E5+D5-1) -> 462175 | G5: 50 | I5: R5 | J5: =MOD(D5,25) -> 0
A6: 27-410 Meadow Lakes No. 1 | B6: 3641 | C6: =SUM(B6*0.8) -> 2912.8 | D6: =MROUND(C6, 25) -> 2925 | E6: =SUM(F5+1) -> 462176 | F6: =SUM(E6+D6-1) -> 465100 | G6: 50 | I6: R5 | J6: =MOD(D6,25) -> 0
A7: 27-415 Meadow Lakes No. 2 | B7: 2661 | C7: =SUM(B7*0.8) -> 2128.8 | D7: =MROUND(C7, 25) -> 2125 | E7: =SUM(F6+1) -> 465101 | F7: =SUM(E7+D7-1) -> 467225 | G7: 50 | I7: R5 | J7: =MOD(D7,25) -> 0
A8: 27-420 Wasilla No. 1 | B8: 3608 | C8: =SUM(B8*0.8) -> 2886.4 | D8: =MROUND(C8, 25) -> 2875 | E8: =SUM(F7+1) -> 467226 | F8: =SUM(E8+D8-1) -> 470100 | G8: 50 | I8: R5 | J8: =MOD(D8,25) -> 0
A9: 27-425 Wasilla No. 2 | B9: 4209 | C9: =SUM(B9*0.8) -> 3367.2 | D9: =MROUND(C9, 25) -> 3375 | E9: =SUM(F8+1) -> 470101 | F9: =SUM(E9+D9-1) -> 473475 | G9: 50 | I9: R5 | J9: =MOD(D9,25) -> 0
A10: TOTAL PRECINCT BALLOTS HD27-JD3 | B10: =SUM(B5:B9) -> 16588 | D10: =SUM(D5:D9) -> 13275
A12: ABSENTEE OFFICIALS & STATIONS:
A13: ANCHORAGE
A14: 92-900 Anchorage Elections Office | D14: 200 | E14: =SUM(F9+1) -> 473476 | F14: =SUM(E14+D14-1) -> 473675 | G14: 25 | I14: R2 | J14: =MOD(D14,25) -> 0
A15: 92-902 Anchorage Airport | D15: 50 | E15: =SUM(F14+1) -> 473676 | F15: =SUM(E15+D15-1) -> 473725 | G15: 5 | I15: R2 | J15: =MOD(D15,25) -> 0
A16: 92-904 UAA | D16: 100 | E16: =SUM(F15+1) -> 473726 | F16: =SUM(E16+D16-1) -> 473825 | G16: 10 | I16: R2 | J16: =MOD(D16,25) -> 0
A17: 92-905 Anchorage City Hall | D17: 100 | E17: =SUM(F16+1) -> 473826 | F17: =SUM(E17+D17-1) -> 473925 | G17: 10 | I17: R2 | J17: =MOD(D17,25) -> 0
A18: 92-907 Cook Inlet Tribal Council | D18: 50 | E18: =SUM(F17+1) -> 473926 | F18: =SUM(E18+D18-1) -> 473975 | G18: 5 | I18: R2 | J18: =MOD(D18,25) -> 0
A20: MAT-SU
A21: 95-900 Mat-Su Elections Office | D21: 3500 | E21: =SUM(F18+1) -> 473976 | F21: =SUM(E21+D21-1) -> 477475 | G21: 50 | H21: 400 | I21: R5 | J21: =MOD(D21,25) -> 0
A22: 95-903 Mat-Su AVO | D22: 1200 | E22: =SUM(F21+1) -> 477476 | F22: =SUM(E22+D22-1) -> 478675 | G22: 50 | I22: R5 | J22: =MOD(D22,25) -> 0
A24: FAIRBANKS
A25: 93-900 Fairbanks Elections Office | D25: 50 | E25: =SUM(F22+1) -> 478676 | F25: =SUM(E25+D25-1) -> 478725 | G25: 5 | I25: R3 | J25: =MOD(D25,25) -> 0
A26: 93-901 UAF | D26: 25 | E26: =SUM(F25+1) -> 478726 | F26: =SUM(E26+D26-1) -> 478750 | G26: 5 | I26: R3 | J26: =MOD(D26,25) -> 0
A28: JUNEAU
A29: 91-900 Juneau Elections Office | D29: 25 | E29: =SUM(F26+1) -> 478751 | F29: =SUM(E29+D29-1) -> 478775 | G29: 5 | I29: R1 | J29: =MOD(D29,25) -> 0
A30: 91-902 Juneau Downtown | D30: 25 | E30: =SUM(F29+1) -> 478776 | F30: =SUM(E30+D30-1) -> 478800 | G30: 5 | I30: R1 | J30: =MOD(D30,25) -> 0
A32: NOME
A33: 94-900 Nome Elections Office | D33: 25 | E33: =SUM(F30+1) -> 478801 | F33: =SUM(E33+D33-1) -> 478825 | G33: 5 | I33: R4 | J33: =MOD(D33,25) -> 0
A34: 94-901 Prudhoe Bay Station | D34: 25 | E34: =SUM(F33+1) -> 478826 | F34: =SUM(E34+D34-1) -> 478850 | G34: 5 | I34: R4 | J34: =MOD(D34,25) -> 0
A35: TOTAL ABSENTEE BALLOTS HD27-JD3 | D35: =SUM(D14:D34) -> 5375
A36: TOTAL HD27-JD3 BALLOTS | D36: =D10+D35 -> 18650 | G36: =SUM(G5:G34) -> 435 | H36: =SUM(H5:H34) -> 400 | J36: =SUM(J5:J34) -> 0
A39: Checksum: Sequence End - Start: | D39: =F34-E5+1 -> 18650

Sheet HD28-JD3
H1: BALLOT ID# | J1: =Totals!B32 -> 1038
B3: # REGIS- | D3: # | E3: Numbers | G3: Sample | H3: Fascimile
A4: DISTRICT / PRECINCT | B4: TERED | D4: Ballots | E4: FROM | F4: TO | G4: Ballots | H4: Ballots | I4: Delivery | J4: Check
A5: 28-450 Lakes No. 1 | B5: 2011 | C5: =SUM(B5*0.8) -> 1608.8 | D5: =MROUND(C5, 25) -> 1600 | E5: =SUM('HD27-JD3'!F34,1) -> 478851 | F5: =SUM(E5+D5-1) -> 480450 | G5: 50 | I5: R5 | J5: =MOD(D5,25) -> 0
A6: 28-455 Lakes No. 2 | B6: 1362 | C6: =SUM(B6*0.8) -> 1089.6 | D6: =MROUND(C6, 25) -> 1100 | E6: =SUM(F5+1) -> 480451 | F6: =SUM(E6+D6-1) -> 481550 | G6: 50 | I6: R5 | J6: =MOD(D6,25) -> 0
A7: 28-460 Seldon No. 1 | B7: 2974 | C7: =SUM(B7*0.8) -> 2379.2 | D7: =MROUND(C7, 25) -> 2375 | E7: =SUM(F6+1) -> 481551 | F7: =SUM(E7+D7-1) -> 483925 | G7: 50 | I7: R5 | J7: =MOD(D7,25) -> 0
A8: 28-465 Seldon No. 2 | B8: 4083 | C8: =SUM(B8*0.8) -> 3266.4 | D8: =MROUND(C8, 25) -> 3275 | E8: =SUM(F7+1) -> 483926 | F8: =SUM(E8+D8-1) -> 487200 | G8: 50 | I8: R5 | J8: =MOD(D8,25) -> 0
A9: 28-470 Seward Meridian | B9: 1286 | C9: =SUM(B9*0.8) -> 1028.8 | D9: =MROUND(C9, 25) -> 1025 | E9: =SUM(F8+1) -> 487201 | F9: =SUM(E9+D9-1) -> 488225 | G9: 50 | I9: R5 | J9: =MOD(D9,25) -> 0
A10: 28-475 Trunk | B10: 2652 | C10: =SUM(B10*0.8) -> 2121.6 | D10: =MROUND(C10, 25) -> 2125 | E10: =SUM(F9+1) -> 488226 | F10: =SUM(E10+D10-1) -> 490350 | G10: 50 | I10: R5 | J10: =MOD(D10,25) -> 0
A11: 28-480 Wasilla Lake | B11: 1904 | C11: =SUM(B11*0.8) -> 1523.2 | D11: =MROUND(C11, 25) -> 1525 | E11: =SUM(F10+1) -> 490351 | F11: =SUM(E11+D11-1) -> 491875 | G11: 50 | I11: R5 | J11: =MOD(D11,25) -> 0
A12: TOTAL PRECINCT BALLOTS HD28-JD3 | B12: =SUM(B5:B11) -> 16272 | D12: =SUM(D5:D11) -> 13025
A14: ABSENTEE OFFICIALS & STATIONS:
A15: ANCHORAGE
A16: 92-900 Anchorage Elections Office | D16: 200 | E16: =SUM(F11+1) -> 491876 | F16: =SUM(E16+D16-1) -> 492075 | G16: 15 | I16: R2 | J16: =MOD(D16,25) -> 0
A17: 92-902 Anchorage Airport | D17: 50 | E17: =SUM(F16+1) -> 492076 | F17: =SUM(E17+D17-1) -> 492125 | G17: 5 | I17: R2 | J17: =MOD(D17,25) -> 0
A18: 92-904 UAA | D18: 100 | E18: =SUM(F17+1) -> 492126 | F18: =SUM(E18+D18-1) -> 492225 | G18: 10 | I18: R2 | J18: =MOD(D18,25) -> 0
A19: 92-905Anchorage City Hall | D19: 100 | E19: =SUM(F18+1) -> 492226 | F19: =SUM(E19+D19-1) -> 492325 | G19: 10 | I19: R2 | J19: =MOD(D19,25) -> 0
A20: 92-907 Cook Inlet Tribal Council | D20: 50 | E20: =SUM(F19+1) -> 492326 | F20: =SUM(E20+D20-1) -> 492375 | G20: 5 | I20: R2 | J20: =MOD(D20,25) -> 0
A22: MAT-SU
A23: 95-900 Mat-Su Elections Office | D23: 2000 | E23: =SUM(F20+1) -> 492376 | F23: =SUM(E23+D23-1) -> 494375 | G23: 50 | H23: 400 | I23: R5 | J23: =MOD(D23,25) -> 0
A24: 95-903 Mat-Su AVO | D24: 900 | E24: =SUM(F23+1) -> 494376 | F24: =SUM(E24+D24-1) -> 495275 | G24: 50 | I24: R5 | J24: =MOD(D24,25) -> 0
A26: FAIRBANKS
A27: 93-900 Fairbanks Elections Office | D27: 50 | E27: =SUM(F24+1) -> 495276 | F27: =SUM(E27+D27-1) -> 495325 | G27: 5 | I27: R3 | J27: =MOD(D27,25) -> 0
A28: 93-901 UAF | D28: 25 | E28: =SUM(F27+1) -> 495326 | F28: =SUM(E28+D28-1) -> 495350 | G28: 5 | I28: R3 | J28: =MOD(D28,25) -> 0
A30: JUNEAU
A31: 91-900 Juneau Elections Office | D31: 25 | E31: =SUM(F28+1) -> 495351 | F31: =SUM(E31+D31-1) -> 495375 | G31: 5 | I31: R1 | J31: =MOD(D31,25) -> 0
A32: 91-902 Juneau Downtown | D32: 25 | E32: =SUM(F31+1) -> 495376 | F32: =SUM(E32+D32-1) -> 495400 | G32: 5 | I32: R1 | J32: =MOD(D32,25) -> 0
A34: NOME
A35: 94-900 Nome Elections Office | D35: 25 | E35: =SUM(F32+1) -> 495401 | F35: =SUM(E35+D35-1) -> 495425 | G35: 5 | I35: R4 | J35: =MOD(D35,25) -> 0
A36: 94-901 Prudhoe Bay Station | D36: 25 | E36: =SUM(F35+1) -> 495426 | F36: =SUM(E36+D36-1) -> 495450 | G36: 5 | I36: R4 | J36: =MOD(D36,25) -> 0
A37: TOTAL ABSENTEE BALLOTS HD28-JD3 | D37: =SUM(D16:D36) -> 3575
A38: TOTAL HD28-JD3 BALLOTS | D38: =D12+D37 -> 16600 | G38: =SUM(G5:G36) -> 525 | H38: =SUM(H5:H36) -> 400 | J38: =SUM(J5:J36) -> 0
A41: Checksum: Sequence End - Start: | D41: =F36-E5+1 -> 16600

Sheet HD29-JD3
H1: BALLOT ID# | J1: =Totals!B33 -> 1039
B3: # REGIS- | D3: # | E3: Numbers | G3: Sample | H3: Fascimile
A4: DISTRICT / PRECINCT | B4: TERED | D4: Ballots | E4: FROM | F4: TO | G4: Ballots | H4: Ballots | I4: Delivery | J4: Check
A5: 29-505 Farm Loop | B5: 3029 | C5: =SUM(B5*0.8) -> 2423.2 | D5: =MROUND(C5, 25) -> 2425 | E5: =SUM('HD28-JD3'!F36,1) -> 495451 | F5: =SUM(E5+D5-1) -> 497875 | G5: 50 | I5: R5 | J5: =MOD(D5,25) -> 0
A6: 29-510 Fishhook | B6: 4305 | C6: =SUM(B6*0.8) -> 3444 | D6: =MROUND(C6, 25) -> 3450 | E6: =SUM(F5+1) -> 497876 | F6: =SUM(E6+D6-1) -> 501325 | G6: 50 | I6: R5 | J6: =MOD(D6,25) -> 0
A7: 29-515 Kings Lake | B7: 3032 | C7: =SUM(B7*0.8) -> 2425.6 | D7: =MROUND(C7, 25) -> 2425 | E7: =SUM(F6+1) -> 501326 | F7: =SUM(E7+D7-1) -> 503750 | G7: 50 | I7: R5 | J7: =MOD(D7,25) -> 0
A8: 29-520 Lakes No. 3 | B8: 1524 | C8: =SUM(B8*0.8) -> 1219.2 | D8: =MROUND(C8, 25) -> 1225 | E8: =SUM(F7+1) -> 503751 | F8: =SUM(E8+D8-1) -> 504975 | G8: 50 | I8: R5 | J8: =MOD(D8,25) -> 0
A9: 29-525 Sheep Mountain | B9: 410 | C9: =SUM(B9*0.8) -> 328 | D9: =MROUND(C9, 25) -> 325 | E9: =SUM(F8+1) -> 504976 | F9: =SUM(E9+D9-1) -> 505300 | G9: 50 | I9: R5 | J9: =MOD(D9,25) -> 0
A10: 29-530 Sutton | B10: 1214 | C10: =SUM(B10*0.8) -> 971.2 | D10: =MROUND(C10, 25) -> 975 | E10: =SUM(F9+1) -> 505301 | F10: =SUM(E10+D10-1) -> 506275 | G10: 50 | I10: R5 | J10: =MOD(D10,25) -> 0
A11: 29-535 Valdez No. 1 | B11: 1192 | C11: =SUM(B11*0.8) -> 953.6 | D11: =MROUND(C11, 25) -> 950 | E11: =SUM(F10+1) -> 506276 | F11: =SUM(E11+D11-1) -> 507225 | G11: 50 | I11: R5 | J11: =MOD(D11,25) -> 0
A12: 29-540 Valdez No. 2 | B12: 798 | C12: =SUM(B12*0.8) -> 638.4 | D12: =MROUND(C12, 25) -> 650 | E12: =SUM(F11+1) -> 507226 | F12: =SUM(E12+D12-1) -> 507875 | G12: 50 | I12: R5 | J12: =MOD(D12,25) -> 0
A13: 29-545 Valdez No. 3 | B13: 1242 | C13: =SUM(B13*0.8) -> 993.6 | D13: =MROUND(C13, 25) -> 1000 | E13: =SUM(F12+1) -> 507876 | F13: =SUM(E13+D13-1) -> 508875 | G13: 50 | I13: R5 | J13: =MOD(D13,25) -> 0
A14: TOTAL PRECINCT BALLOTS HD29-JD3 | B14: =SUM(B5:B13) -> 16746 | D14: =SUM(D5:D13) -> 13425
A16: ABSENTEE OFFICIALS & STATIONS:
A17: ANCHORAGE
A18: 92-900 Anchorage Elections Office | D18: 200 | E18: =SUM(F13+1) -> 508876 | F18: =SUM(E18+D18-1) -> 509075 | G18: 15 | I18: R2 | J18: =MOD(D18,25) -> 0
A19: 92-902 Anchorage Airport | D19: 50 | E19: =SUM(F18+1) -> 509076 | F19: =SUM(E19+D19-1) -> 509125 | G19: 5 | I19: R2 | J19: =MOD(D19,25) -> 0
A20: 92-904 UAA | D20: 100 | E20: =SUM(F19+1) -> 509126 | F20: =SUM(E20+D20-1) -> 509225 | G20: 5 | I20: R2 | J20: =MOD(D20,25) -> 0
A21: 92-905Anchorage City Hall | D21: 100 | E21: =SUM(F20+1) -> 509226 | F21: =SUM(E21+D21-1) -> 509325 | G21: 5 | I21: R2 | J21: =MOD(D21,25) -> 0
A22: 92-907 Cook Inlet Tribal Council | D22: 50 | E22: =SUM(F21+1) -> 509326 | F22: =SUM(E22+D22-1) -> 509375 | G22: 5 | I22: R2 | J22: =MOD(D22,25) -> 0
A24: MAT-SU
A25: 95-900 Mat-Su Elections Office | D25: 1200 | E25: =SUM(F22+1) -> 509376 | F25: =SUM(E25+D25-1) -> 510575 | G25: 50 | H25: 400 | I25: R5 | J25: =MOD(D25,25) -> 0
A26: 95-903 Mat-Su AVO | D26: 1200 | E26: =SUM(F25+1) -> 510576 | F26: =SUM(E26+D26-1) -> 511775 | G26: 50 | I26: R5 | J26: =MOD(D26,25) -> 0
A27: 29-981 Valdez | D27: 600 | E27: =SUM(F26+1) -> 511776 | F27: =SUM(E27+D27-1) -> 512375 | G27: 25 | I27: R5 | J27: =MOD(D27,25) -> 0
A29: FAIRBANKS
A30: 93-900 Fairbanks Elections Office | D30: 50 | E30: =SUM(F27+1) -> 512376 | F30: =SUM(E30+D30-1) -> 512425 | G30: 5 | I30: R3 | J30: =MOD(D30,25) -> 0
A31: 93-901 UAF | D31: 25 | E31: =SUM(F30+1) -> 512426 | F31: =SUM(E31+D31-1) -> 512450 | G31: 5 | I31: R3 | J31: =MOD(D31,25) -> 0
A33: JUNEAU
A34: 91-900 Juneau Elections Office | D34: 25 | E34: =SUM(F31+1) -> 512451 | F34: =SUM(E34+D34-1) -> 512475 | G34: 5 | I34: R1 | J34: =MOD(D34,25) -> 0
A35: 91-902 Juneau Downtown | D35: 25 | E35: =SUM(F34+1) -> 512476 | F35: =SUM(E35+D35-1) -> 512500 | G35: 5 | I35: R1 | J35: =MOD(D35,25) -> 0
A37: NOME
A38: 94-900 Nome Elections Office | D38: 25 | E38: =SUM(F35+1) -> 512501 | F38: =SUM(E38+D38-1) -> 512525 | G38: 5 | I38: R4 | J38: =MOD(D38,25) -> 0
A39: 94-901 Prudhoe Bay Station | D39: 25 | E39: =SUM(F38+1) -> 512526 | F39: =SUM(E39+D39-1) -> 512550 | G39: 5 | I39: R4 | J39: =MOD(D39,25) -> 0
A40: TOTAL ABSENTEE BALLOTS HD29-JD3 | D40: =SUM(D17:D39) -> 3675
A41: TOTAL HD29-JD3 BALLOTS | D41: =D14+D40 -> 17100 | G41: =SUM(G5:G39) -> 640 | H41: =SUM(H5:H39) -> 400 | J41: =SUM(J5:J39) -> 0
A44: Checksum: Sequence End - Start: | D44: =F39-E5+1 -> 17100

Sheet HD30-JD3
H1: BALLOT ID# | J1: =Totals!B34 -> 1041
B3: # REGIS- | D3: # | E3: Numbers | G3: Sample | H3: Fascimile
A4: DISTRICT / PRECINCT | B4: TERED | D4: Ballots | E4: FROM | F4: TO | G4: Ballots | H4: Ballots | I4: Delivery | J4: Check
A5: 30-555 Big Lake | B5: 3680 | C5: =SUM(B5*0.8) -> 2944 | D5: =MROUND(C5, 25) -> 2950 | E5: ='HD29-JD3'!F39+1 -> 512551 | F5: =SUM(E5+D5-1) -> 515500 | G5: 50 | I5: R5 | J5: =MOD(D5,25) -> 0
A6: 30-570 East Schrock | B6: 297 | C6: =SUM(B6*0.8) -> 237.6 | D6: =MROUND(C6, 25) -> 250 | E6: =SUM(F5+1) -> 515501 | F6: =SUM(E6+D6-1) -> 515750 | G6: 50 | I6: R5 | J6: =MOD(D6,25) -> 0
A7: 30-580 Houston | B7: 1919 | C7: =SUM(B7*0.8) -> 1535.2 | D7: =MROUND(C7, 25) -> 1525 | E7: =SUM(F6+1) -> 515751 | F7: =SUM(E7+D7-1) -> 517275 | G7: 50 | I7: R5 | J7: =MOD(D7,25) -> 0
A8: 30-585 Knik Goose Bay No. 4 | B8: 3756 | C8: =SUM(B8*0.8) -> 3004.8 | D8: =MROUND(C8, 25) -> 3000 | E8: =SUM(F7+1) -> 517276 | F8: =SUM(E8+D8-1) -> 520275 | G8: 50 | I8: R5 | J8: =MOD(D8,25) -> 0
A9: 30-590 Trapper Creek | B9: 678 | C9: =SUM(B9*0.8) -> 542.4 | D9: =MROUND(C9, 25) -> 550 | E9: =SUM(F8+1) -> 520276 | F9: =SUM(E9+D9-1) -> 520825 | G9: 50 | I9: R5 | J9: =MOD(D9,25) -> 0
A10: 30-595 Susitna | B10: 1607 | C10: =SUM(B10*0.8) -> 1285.6 | D10: =MROUND(C10, 25) -> 1275 | E10: =SUM(F9+1) -> 520826 | F10: =SUM(E10+D10-1) -> 522100 | G10: 50 | I10: R5 | J10: =MOD(D10,25) -> 0
A11: 30-600 Talkeetna | B11: 1227 | C11: =SUM(B11*0.8) -> 981.6 | D11: =MROUND(C11, 25) -> 975 | E11: =SUM(F10+1) -> 522101 | F11: =SUM(E11+D11-1) -> 523075 | G11: 50 | I11: R5 | J11: =MOD(D11,25) -> 0
A12: 30-605 Willow | B12: 2357 | C12: =SUM(B12*0.8) -> 1885.6 | D12: =MROUND(C12, 25) -> 1875 | E12: =SUM(F11+1) -> 523076 | F12: =SUM(E12+D12-1) -> 524950 | G12: 50 | I12: R5 | J12: =MOD(D12,25) -> 0
A13: TOTAL PRECINCT BALLOTS HD30-JD3 | B13: =SUM(B5:B12) -> 15521 | D13: =SUM(D5:D12) -> 12400
A15: ABSENTEE OFFICIALS & STATIONS:
A16: ANCHORAGE
A17: 92-900 Anchorage Elections Office | D17: 150 | E17: =SUM(F12+1) -> 524951 | F17: =SUM(E17+D17-1) -> 525100 | G17: 15 | I17: R2 | J17: =MOD(D17,25) -> 0
A18: 92-902 Anchorage Airport | D18: 50 | E18: =SUM(F17+1) -> 525101 | F18: =SUM(E18+D18-1) -> 525150 | G18: 5 | I18: R2 | J18: =MOD(D18,25) -> 0
A19: 92-904 UAA | D19: 100 | E19: =SUM(F18+1) -> 525151 | F19: =SUM(E19+D19-1) -> 525250 | G19: 5 | I19: R2 | J19: =MOD(D19,25) -> 0
A20: 92-905 Anchorage City Hall | D20: 100 | E20: =SUM(F19+1) -> 525251 | F20: =SUM(E20+D20-1) -> 525350 | G20: 5 | I20: R2 | J20: =MOD(D20,25) -> 0
A21: 92-907 Cook Inlet Tribal Council | D21: 50 | E21: =SUM(F20+1) -> 525351 | F21: =SUM(E21+D21-1) -> 525400 | G21: 5 | I21: R2 | J21: =MOD(D21,25) -> 0
A23: MAT-SU
A24: 95-900 Mat-Su Elections Office | D24: 2000 | E24: =SUM(F21+1) -> 525401 | F24: =SUM(E24+D24-1) -> 527400 | G24: 50 | H24: 400 | I24: R5 | J24: =MOD(D24,25) -> 0
A25: 95-903 MatSu Borough | D25: 500 | E25: =SUM(F24+1) -> 527401 | F25: =SUM(E25+D25-1) -> 527900 | G25: 50 | I25: R5 | J25: =MOD(D25,25) -> 0
A26: 30-984 Houston | D26: 600 | E26: =SUM(F25+1) -> 527901 | F26: =SUM(E26+D26-1) -> 528500 | G26: 50 | I26: R5 | J26: =MOD(D26,25) -> 0
A27: 30-985 Talkeetna | D27: 500 | E27: =SUM(F26+1) -> 528501 | F27: =SUM(E27+D27-1) -> 529000 | G27: 50 | I27: R5 | J27: =MOD(D27,25) -> 0
A28: 30-986 Trapper Creek | D28: 300 | E28: =SUM(F27+1) -> 529001 | F28: =SUM(E28+D28-1) -> 529300 | G28: 50 | I28: R5 | J28: =MOD(D28,25) -> 0
A30: FAIRBANKS
A31: 93-900 Fairbanks Elections Office | D31: 50 | E31: =SUM(F28+1) -> 529301 | F31: =SUM(E31+D31-1) -> 529350 | G31: 5 | I31: R3
A32: 93-901 UAF | D32: 25 | E32: =SUM(F31+1) -> 529351 | F32: =SUM(E32+D32-1) -> 529375 | G32: 5 | I32: R3
A34: JUNEAU
A35: 91-900 Juneau Elections Office | D35: 25 | E35: =SUM(F32+1) -> 529376 | F35: =SUM(E35+D35-1) -> 529400 | G35: 5 | I35: R1 | J35: =MOD(D35,25) -> 0
A36: 91-902 Juneau Downtown | D36: 25 | E36: =SUM(F35+1) -> 529401 | F36: =SUM(E36+D36-1) -> 529425 | G36: 5 | I36: R1 | J36: =MOD(D36,25) -> 0
A38: NOME
A39: 94-900 Nome Elections Office | D39: 25 | E39: =SUM(F36+1) -> 529426 | F39: =SUM(E39+D39-1) -> 529450 | G39: 5 | I39: R4 | J39: =MOD(D39,25) -> 0
A40: 94-901 Prudhoe Bay Station | D40: 25 | E40: =SUM(F39+1) -> 529451 | F40: =SUM(E40+D40-1) -> 529475 | G40: 5 | I40: R4 | J40: =MOD(D40,25) -> 0
A41: TOTAL ABSENTEE BALLOTS HD30-JD3 | D41: =SUM(D16:D40) -> 4525
A42: TOTAL HD30-JD3 BALLOTS | D42: =D13+D41 -> 16925 | G42: =SUM(G5:G40) -> 715 | H42: =SUM(H5:H40) -> 400 | J42: =SUM(J5:J40) -> 0
A45: Checksum: Sequence End - Start: | D45: =F40-E5+1 -> 16925

Sheet HD30-JD4
H1: BALLOT ID# | J1: =Totals!B35 -> 1040
B3: # REGIS- | D3: # | E3: Numbers | G3: Sample | H3: Fascimile
A4: DISTRICT / PRECINCT | B4: TERED | D4: Ballots | E4: FROM | F4: TO | G4: Ballots | H4: Ballots | I4: Delivery | J4: Check
A5: 30-550 Anderson/Clear | B5: 403 | C5: =SUM(B5*0.8) -> 322.4 | D5: =MROUND(C5, 25) -> 325 | E5: =SUM('HD30-JD3'!F40,1) -> 529476 | F5: =SUM(E5+D5-1) -> 529800 | G5: 50 | I5: R5 | J5: =MOD(D5,25) -> 0
A6: 30-560 Cantwell | B6: 214 | C6: =SUM(B6*0.8) -> 171.2 | D6: =MROUND(C6, 25) -> 175 | E6: =SUM(F5+1) -> 529801 | F6: =SUM(E6+D6-1) -> 529975 | G6: 50 | I6: R5 | J6: =MOD(D6,25) -> 0
A7: 30-565 Denali Park | B7: 289 | C7: =SUM(B7*0.8) -> 231.2 | D7: =MROUND(C7, 25) -> 225 | E7: =SUM(F6+1) -> 529976 | F7: =SUM(E7+D7-1) -> 530200 | G7: 50 | I7: R5 | J7: =MOD(D7,25) -> 0
A8: 30-575 Healy | B8: 921 | C8: =SUM(B8*0.8) -> 736.8 | D8: =MROUND(C8, 25) -> 725 | E8: =SUM(F7+1) -> 530201 | F8: =SUM(E8+D8-1) -> 530925 | G8: 50 | I8: R5 | J8: =MOD(D8,25) -> 0
A9: TOTAL PRECINCT BALLOTS HD30-JD4 | B9: =SUM(B5:B8) -> 1827 | D9: =SUM(D5:D8) -> 1450
A11: ABSENTEE OFFICIALS & STATIONS:
A12: ANCHORAGE
A13: 92-900 Anchorage Elections Office | D13: 75 | E13: =SUM(F8+1) -> 530926 | F13: =SUM(E13+D13-1) -> 531000 | G13: 15 | I13: R2 | J13: =MOD(D13,25) -> 0
A14: 92-902 Anchorage Airport | D14: 25 | E14: =SUM(F13+1) -> 531001 | F14: =SUM(E14+D14-1) -> 531025 | G14: 5 | I14: R2 | J14: =MOD(D14,25) -> 0
A15: 92-904 UAA | D15: 25 | E15: =SUM(F14+1) -> 531026 | F15: =SUM(E15+D15-1) -> 531050 | G15: 5 | I15: R2 | J15: =MOD(D15,25) -> 0
A16: 92-905 Anchorage City Hall | D16: 25 | E16: =SUM(F15+1) -> 531051 | F16: =SUM(E16+D16-1) -> 531075 | G16: 5 | I16: R2 | J16: =MOD(D16,25) -> 0
A17: 92-907 Cook Inlet Tribal Council | D17: 25 | E17: =SUM(F16+1) -> 531076 | F17: =SUM(E17+D17-1) -> 531100 | G17: 5 | I17: R2 | J17: =MOD(D17,25) -> 0
A19: MAT-SU
A20: 95-900 Mat-Su Elections Office | D20: 50 | E20: =SUM(F17+1) -> 531101 | F20: =SUM(E20+D20-1) -> 531150 | G20: 25 | H20: 200 | I20: R5 | J20: =MOD(D20,25) -> 0
A21: 30-982 Cantwell | D21: 100 | E21: =SUM(F20+1) -> 531151 | F21: =SUM(E21+D21-1) -> 531250 | G21: 25 | I21: R5 | J21: =MOD(D21,25) -> 0
A22: 30-983 Denali Borough | D22: 200 | E22: =SUM(F21+1) -> 531251 | F22: =SUM(E22+D22-1) -> 531450 | G22: 25 | I22: R5 | J22: =MOD(D22,25) -> 0
A24: FAIRBANKS
A25: 93-900 Fairbanks Elections Office | D25: 25 | E25: =SUM(F22+1) -> 531451 | F25: =SUM(E25+D25-1) -> 531475 | G25: 5 | I25: R3 | J25: =MOD(D25,25) -> 0
A26: 93-901 UAF | D26: 25 | E26: =SUM(F25+1) -> 531476 | F26: =SUM(E26+D26-1) -> 531500 | G26: 5 | I26: R3 | J26: =MOD(D26,25) -> 0
A28: JUNEAU
A29: 91-900 Juneau Elections Office | D29: 25 | E29: =SUM(F26+1) -> 531501 | F29: =SUM(E29+D29-1) -> 531525 | G29: 5 | I29: R1 | J29: =MOD(D29,25) -> 0
A30: 91-902 Juneau Downtown | D30: 25 | E30: =SUM(F29+1) -> 531526 | F30: =SUM(E30+D30-1) -> 531550 | G30: 5 | I30: R1 | J30: =MOD(D30,25) -> 0
A32: NOME
A33: 94-900 Nome Elections Office | D33: 25 | E33: =SUM(F30+1) -> 531551 | F33: =SUM(E33+D33-1) -> 531575 | G33: 5 | I33: R4 | J33: =MOD(D33,25) -> 0
A34: 94-901 Prudhoe Bay Station | D34: 25 | E34: =SUM(F33+1) -> 531576 | F34: =SUM(E34+D34-1) -> 531600 | G34: 5 | I34: R4 | J34: =MOD(D34,25) -> 0
A35: TOTAL ABSENTEE BALLOTS HD30-JD4 | D35: =SUM(D13:D34) -> 675
A36: TOTAL HD30-JD4 BALLOTS | D36: =D9+D35 -> 2125 | G36: =SUM(G5:G34) -> 340 | H36: =SUM(H5:H34) -> 200 | J36: =SUM(J5:J34) -> 0
A39: Checksum: Sequence End - Start: | D39: =F34-E5+1 -> 2125

Sheet HD31-JD4
H1: BALLOT ID# | J1: =Totals!B36 -> 1042
B3: # REGIS- | D3: # | E3: Numbers | G3: Sample | H3: Fascimile
A4: DISTRICT / PRECINCT | B4: TERED | D4: Ballots | E4: FROM | F4: TO | G4: Ballots | H4: Ballots | I4: Delivery | J4: Check
A5: 31-446 Aurora | B5: 3194 | C5: =SUM(B5*0.8) -> 2555.2 | D5: =MROUND(C5, 25) -> 2550 | E5: =SUM('HD30-JD4'!F34,1) -> 531601 | F5: =SUM(E5+D5-1) -> 534150 | G5: 50 | I5: R3 | J5: =MOD(D5,25) -> 0
A6: 31-455 Fairbanks No. 1 | B6: 3943 | C6: =SUM(B6*0.8) -> 3154.4 | D6: =MROUND(C6, 25) -> 3150 | E6: =SUM(F5+1) -> 534151 | F6: =SUM(E6+D6-1) -> 537300 | G6: 50 | I6: R3 | J6: =MOD(D6,25) -> 0
A7: 31-480 Fairbanks No. 2 | B7: 3247 | C7: =SUM(B7*0.8) -> 2597.6 | D7: =MROUND(C7, 25) -> 2600 | E7: =SUM(F6+1) -> 537301 | F7: =SUM(E7+D7-1) -> 539900 | G7: 50 | I7: R3 | J7: =MOD(D7,25) -> 0
A8: 31-485 Fairbanks No. 3 | B8: 4082 | C8: =SUM(B8*0.8) -> 3265.6 | D8: =MROUND(C8, 25) -> 3275 | E8: =SUM(F7+1) -> 539901 | F8: =SUM(E8+D8-1) -> 543175 | G8: 50 | I8: R3 | J8: =MOD(D8,25) -> 0
A9: TOTAL PRECINCT BALLOTS HD31-JD4 | B9: =SUM(B5:B8) -> 14466 | D9: =SUM(D5:D8) -> 11575
A11: ABSENTEE OFFICIALS & STATIONS:
A12: ANCHORAGE
A13: 92-900 Anchorage Elections Office | D13: 200 | E13: =SUM(F8+1) -> 543176 | F13: =SUM(E13+D13-1) -> 543375 | G13: 15 | I13: R2 | J13: =MOD(D13,25) -> 0
A14: 92-902 Anchorage Airport | D14: 50 | E14: =SUM(F13+1) -> 543376 | F14: =SUM(E14+D14-1) -> 543425 | G14: 5 | I14: R2 | J14: =MOD(D14,25) -> 0
A15: 92-904 UAA | D15: 100 | E15: =SUM(F14+1) -> 543426 | F15: =SUM(E15+D15-1) -> 543525 | G15: 5 | I15: R2 | J15: =MOD(D15,25) -> 0
A16: 92-905 Anchorage City Hall | D16: 100 | E16: =SUM(F15+1) -> 543526 | F16: =SUM(E16+D16-1) -> 543625 | G16: 5 | I16: R2 | J16: =MOD(D16,25) -> 0
A17: 92-907 Cook Inlet Tribal Council | D17: 50 | E17: =SUM(F16+1) -> 543626 | F17: =SUM(E17+D17-1) -> 543675 | G17: 5 | I17: R2 | J17: =MOD(D17,25) -> 0
A19: MAT-SU
A20: 95-900 Mat-Su Elections Office | D20: 25 | E20: =SUM(F17+1) -> 543676 | F20: =SUM(E20+D20-1) -> 543700 | G20: 5 | I20: R5 | J20: =MOD(D20,25) -> 0
A22: FAIRBANKS
A23: 93-900 Fairbanks Elections Office | D23: 2000 | E23: =SUM(F20+1) -> 543701 | F23: =SUM(E23+D23-1) -> 545700 | G23: 100 | H23: 200 | I23: R3 | J23: =MOD(D23,25) -> 0
A24: 93-901 UAF | D24: 1000 | E24: =SUM(F23+1) -> 545701 | F24: =SUM(E24+D24-1) -> 546700 | G24: 100 | I24: R3 | J24: =MOD(D24,25) -> 0
A26: JUNEAU
A27: 91-900 Juneau Elections Office | D27: 25 | E27: =SUM(F24+1) -> 546701 | F27: =SUM(E27+D27-1) -> 546725 | G27: 5 | I27: R1 | J27: =MOD(D27,25) -> 0
A28: 91-902 Juneau Downtown | D28: 25 | E28: =SUM(F27+1) -> 546726 | F28: =SUM(E28+D28-1) -> 546750 | G28: 5 | I28: R1 | J28: =MOD(D28,25) -> 0
A30: NOME
A31: 94-900 Nome Elections Office | D31: 25 | E31: =SUM(F28+1) -> 546751 | F31: =SUM(E31+D31-1) -> 546775 | G31: 5 | I31: R4 | J31: =MOD(D31,25) -> 0
A32: 94-901 Prudhoe Bay Station | D32: 25 | E32: =SUM(F31+1) -> 546776 | F32: =SUM(E32+D32-1) -> 546800 | G32: 5 | I32: R4 | J32: =MOD(D32,25) -> 0
A33: TOTAL ABSENTEE BALLOTS HD31-JD4 | D33: =SUM(D13:D32) -> 3625
A34: TOTAL HD31-JD4 BALLOTS | D34: =D9+D33 -> 15200 | G34: =SUM(G5:G32) -> 460 | H34: =SUM(H5:H32) -> 200 | J34: =SUM(J5:J32) -> 0
A37: Checksum: Sequence End - Start: | D37: =F32-E5+1 -> 15200

Sheet HD32-JD4
H1: BALLOT ID# | J1: =Totals!B37 -> 1043
B3: # REGIS- | D3: # | E3: Numbers | G3: Sample | H3: Fascimile
A4: DISTRICT / PRECINCT | B4: TERED | D4: Ballots | E4: FROM | F4: TO | G4: Ballots | H4: Ballots | I4: Delivery | J4: Check
A5: 32-355 Fairbanks No. 4 | B5: 2826 | C5: =SUM(B5*0.8) -> 2260.8 | D5: =MROUND(C5, 25) -> 2250 | E5: ='HD31-JD4'!F32+1 -> 546801 | F5: =SUM(E5+D5-1) -> 549050 | G5: 50 | I5: R3 | J5: =MOD(D5,25) -> 0
A6: 32-365 Fairbanks No. 5 | B6: 1959 | C6: =SUM(B6*0.8) -> 1567.2 | D6: =MROUND(C6, 25) -> 1575 | E6: =F5+1 -> 549051 | F6: =SUM(E6+D6-1) -> 550625 | G6: 50 | I6: R3 | J6: =MOD(D6,25) -> 0
A7: 32-375 Fort Wainwright | B7: 3144 | C7: =SUM(B7*0.8) -> 2515.2 | D7: =MROUND(C7, 25) -> 2525 | E7: =F6+1 -> 550626 | F7: =SUM(E7+D7-1) -> 553150 | G7: 50 | I7: R3 | J7: =MOD(D7,25) -> 0
A8: 32-385 Badger No. 2 | B8: 3599 | C8: =SUM(B8*0.8) -> 2879.2 | D8: =MROUND(C8, 25) -> 2875 | E8: =F7+1 -> 553151 | F8: =SUM(E8+D8-1) -> 556025 | G8: 50 | I8: R3 | J8: =MOD(D8,25) -> 0
A9: TOTAL PRECINCT BALLOTS HD32-JD4 | B9: =SUM(B5:B8) -> 11528 | D9: =SUM(D5:D8) -> 9225
A11: ABSENTEE OFFICIALS & STATIONS:
A12: ANCHORAGE
A13: 92-900 Anchorage Elections Office | D13: 200 | E13: =F8+1 -> 556026 | F13: =SUM(E13+D13-1) -> 556225 | G13: 15 | I13: R2 | J13: =MOD(D13,25) -> 0
A14: 92-902 Anchorage Airport | D14: 50 | E14: =SUM(F13+1) -> 556226 | F14: =SUM(E14+D14-1) -> 556275 | G14: 5 | I14: R2 | J14: =MOD(D14,25) -> 0
A15: 92-904 UAA | D15: 100 | E15: =SUM(F14+1) -> 556276 | F15: =SUM(E15+D15-1) -> 556375 | G15: 5 | I15: R2 | J15: =MOD(D15,25) -> 0
A16: 92-905 Anchorage City Hall | D16: 100 | E16: =SUM(F15+1) -> 556376 | F16: =SUM(E16+D16-1) -> 556475 | G16: 5 | I16: R2 | J16: =MOD(D16,25) -> 0
A17: 92-907 Cook Inlet Tribal Council | D17: 50 | E17: =SUM(F16+1) -> 556476 | F17: =SUM(E17+D17-1) -> 556525 | G17: 5 | I17: R2 | J17: =MOD(D17,25) -> 0
A19: MAT-SU
A20: 95-900 Mat-Su Elections Office | D20: 25 | E20: =SUM(F17+1) -> 556526 | F20: =SUM(E20+D20-1) -> 556550 | G20: 5 | I20: R5 | J20: =MOD(D20,25) -> 0
A22: FAIRBANKS
A23: 93-900 Fairbanks Elections Office | D23: 1500 | E23: =SUM(F20+1) -> 556551 | F23: =SUM(E23+D23-1) -> 558050 | G23: 100 | H23: 200 | I23: R3 | J23: =MOD(D23,25) -> 0
A24: 93-901 UAF | D24: 1000 | E24: =SUM(F23+1) -> 558051 | F24: =SUM(E24+D24-1) -> 559050 | G24: 50 | I24: R3 | J24: =MOD(D24,25) -> 0
A26: JUNEAU
A27: 91-900 Juneau Elections Office | D27: 25 | E27: =SUM(F24+1) -> 559051 | F27: =SUM(E27+D27-1) -> 559075 | G27: 5 | I27: R1 | J27: =MOD(D27,25) -> 0
A28: 91-902 Juneau Downtown | D28: 25 | E28: =SUM(F27+1) -> 559076 | F28: =SUM(E28+D28-1) -> 559100 | G28: 5 | I28: R1
A30: NOME
A31: 94-900 Nome Elections Office | D31: 25 | E31: =SUM(F28+1) -> 559101 | F31: =SUM(E31+D31-1) -> 559125 | G31: 5 | I31: R4 | J31: =MOD(D31,25) -> 0
A32: 94-901 Prudhoe Bay Station | D32: 25 | E32: =SUM(F31+1) -> 559126 | F32: =SUM(E32+D32-1) -> 559150 | G32: 5 | I32: R4 | J32: =MOD(D32,25) -> 0
A33: TOTAL ABSENTEE BALLOTS HD32-JD4 | D33: =SUM(D13:D32) -> 3125
A34: TOTAL HD32-JD4 BALLOTS | D34: =D9+D33 -> 12350 | G34: =SUM(G5:G32) -> 410 | H34: =SUM(H5:H32) -> 200 | J34: =SUM(J5:J32) -> 0
A37: Checksum: Sequence End - Start: | D37: =F32-E5+1 -> 12350

Sheet HD33-JD4
H1: BALLOT ID# | J1: =Totals!B38 -> 1044
B3: # REGIS- | D3: # | E3: Numbers | G3: Sample | H3: Fascimile
A4: DISTRICT / PRECINCT | B4: TERED | D4: Ballots | E4: FROM | F4: TO | G4: Ballots | H4: Ballots | I4: Delivery | J4: Check
A5: 33-130 Badger No. 1 | B5: 3551 | C5: =SUM(B5*0.8) -> 2840.8 | D5: =MROUND(C5, 25) -> 2850 | E5: ='HD32-JD4'!F32+1 -> 559151 | F5: =SUM(E5+D5-1) -> 562000 | G5: 50 | I5: R3 | J5: =MOD(D5,25) -> 0
A6: 33-135 Chena Lakes | B6: 3267 | C6: =SUM(B6*0.8) -> 2613.6 | D6: =MROUND(C6, 25) -> 2625 | E6: =SUM(F5+1) -> 562001 | F6: =SUM(E6+D6-1) -> 564625 | G6: 50 | I6: R3 | J6: =MOD(D6,25) -> 0
A7: 33-155 Moose Creek | B7: 476 | C7: =SUM(B7*0.8) -> 380.8 | D7: =MROUND(C7, 25) -> 375 | E7: =SUM(F6+1) -> 564626 | F7: =SUM(E7+D7-1) -> 565000 | G7: 50 | I7: R3 | J7: =MOD(D7,25) -> 0
A8: 33-165 Newby | B8: 3447 | C8: =SUM(B8*0.8) -> 2757.6 | D8: =MROUND(C8, 25) -> 2750 | E8: =SUM(F7+1) -> 565001 | F8: =SUM(E8+D8-1) -> 567750 | G8: 50 | I8: R3 | J8: =MOD(D8,25) -> 0
A9: 33-175 North Pole | B9: 2306 | C9: =SUM(B9*0.8) -> 1844.8 | D9: =MROUND(C9, 25) -> 1850 | E9: =SUM(F8+1) -> 567751 | F9: =SUM(E9+D9-1) -> 569600 | G9: 50 | I9: R3 | J9: =MOD(D9,25) -> 0
A10: 33-183 Plack | B10: 3425 | C10: =SUM(B10*0.8) -> 2740 | D10: =MROUND(C10, 25) -> 2750 | E10: =SUM(F9+1) -> 569601 | F10: =SUM(E10+D10-1) -> 572350 | G10: 50 | I10: R3 | J10: =MOD(D10,25) -> 0
A11: TOTAL PRECINCT BALLOTS HD33-JD4 | B11: =SUM(B5:B10) -> 16472 | D11: =SUM(D5:D10) -> 13200
A13: ABSENTEE OFFICIALS & STATIONS:
A14: ANCHORAGE
A15: 92-900 Anchorage Elections Office | D15: 200 | E15: =F10+1 -> 572351 | F15: =SUM(E15+D15-1) -> 572550 | G15: 15 | I15: R2 | J15: =MOD(D15,25) -> 0
A16: 92-902 Anchorage Airport | D16: 50 | E16: =SUM(F15+1) -> 572551 | F16: =SUM(E16+D16-1) -> 572600 | G16: 5 | I16: R2 | J16: =MOD(D16,25) -> 0
A17: 92-904 UAA | D17: 100 | E17: =SUM(F16+1) -> 572601 | F17: =SUM(E17+D17-1) -> 572700 | G17: 5 | I17: R2 | J17: =MOD(D17,25) -> 0
A18: 92-905 Anchorage City Hall | D18: 100 | E18: =SUM(F17+1) -> 572701 | F18: =SUM(E18+D18-1) -> 572800 | G18: 5 | I18: R2 | J18: =MOD(D18,25) -> 0
A19: 92-907 Cook Inlet Tribal Council | D19: 50 | E19: =SUM(F18+1) -> 572801 | F19: =SUM(E19+D19-1) -> 572850 | G19: 5 | I19: R2 | J19: =MOD(D19,25) -> 0
A21: MAT-SU
A22: 95-900 Mat-Su Elections Office | D22: 25 | E22: =SUM(F19+1) -> 572851 | F22: =SUM(E22+D22-1) -> 572875 | G22: 5 | I22: R5 | J22: =MOD(D22,25) -> 0
A24: FAIRBANKS
A25: 93-900 Fairbanks Elections Office | D25: 3000 | E25: =SUM(F22+1) -> 572876 | F25: =SUM(E25+D25-1) -> 575875 | G25: 50 | H25: 200 | I25: R3 | J25: =MOD(D25,25) -> 0
A26: 93-901 UAF | D26: 1000 | E26: =SUM(F25+1) -> 575876 | F26: =SUM(E26+D26-1) -> 576875 | G26: 50 | I26: R3 | J26: =MOD(D26,25) -> 0
A28: JUNEAU
A29: 91-900 Juneau Elections Office | D29: 25 | E29: =SUM(F26+1) -> 576876 | F29: =SUM(E29+D29-1) -> 576900 | G29: 5 | I29: R1 | J29: =MOD(D29,25) -> 0
A30: 91-902 Juneau Downtown | D30: 25 | E30: =SUM(F29+1) -> 576901 | F30: =SUM(E30+D30-1) -> 576925 | G30: 5 | I30: R1 | J30: =MOD(D30,25) -> 0
A32: NOME
A33: 94-900 Nome Elections Office | D33: 25 | E33: =SUM(F30+1) -> 576926 | F33: =SUM(E33+D33-1) -> 576950 | G33: 5 | I33: R4 | J33: =MOD(D33,25) -> 0
A34: 94-901 Prudhoe Bay Station | D34: 25 | E34: =SUM(F33+1) -> 576951 | F34: =SUM(E34+D34-1) -> 576975 | G34: 5 | I34: R4 | J34: =MOD(D34,25) -> 0
A35: TOTAL ABSENTEE BALLOTS HD33-JD4 | D35: =SUM(D15:D34) -> 4625
A36: TOTAL HD33-JD4 BALLOTS | D36: =D11+D35 -> 17825 | G36: =SUM(G5:G35) -> 460 | H36: =SUM(H5:H35) -> 200 | J36: =SUM(J5:J35) -> 0
A39: Checksum: Sequence End - Start: | D39: =F34-E5+1 -> 17825

Sheet HD34-JD4
H1: BALLOT ID# | J1: =Totals!B39 -> 1045
B3: # REGIS- | D3: # | E3: Numbers | G3: Sample | H3: Fascimile
A4: DISTRICT / PRECINCT | B4: TERED | D4: Ballots | E4: FROM | F4: TO | G4: Ballots | H4: Ballots | I4: Delivery | J4: Check
A5: 34-235 Eielson | B5: 2190 | C5: =SUM(B5*0.8) -> 1752 | D5: =MROUND(C5, 25) -> 1750 | E5: ='HD33-JD4'!F34+1 -> 576976 | F5: =SUM(E5+D5-1) -> 578725 | G5: 50 | I5: R3 | J5: =MOD(D5,25) -> 0
A6: 34-238 Eielson Farm Road | B6: 159 | C6: =SUM(B6*0.8) -> 127.2 | D6: =MROUND(C6, 25) -> 125 | E6: =SUM(F5+1) -> 578726 | F6: =SUM(E6+D6-1) -> 578850 | G6: 50 | I6: R3 | J6: =MOD(D6,25) -> 0
A7: 34-240 Farmers Loop | B7: 2447 | C7: =SUM(B7*0.8) -> 1957.6 | D7: =MROUND(C7, 25) -> 1950 | E7: =SUM(F6+1) -> 578851 | F7: =SUM(E7+D7-1) -> 580800 | G7: 50 | I7: R3 | J7: =MOD(D7,25) -> 0
A8: 34-260 Salcha | B8: 1123 | C8: =SUM(B8*0.8) -> 898.4 | D8: =MROUND(C8, 25) -> 900 | E8: =SUM(F7+1) -> 580801 | F8: =SUM(E8+D8-1) -> 581700 | G8: 50 | I8: R3 | J8: =MOD(D8,25) -> 0
A9: 34-263 Steele Creek | B9: 3047 | C9: =SUM(B9*0.8) -> 2437.6 | D9: =MROUND(C9, 25) -> 2450 | E9: =SUM(F8+1) -> 581701 | F9: =SUM(E9+D9-1) -> 584150 | G9: 50 | I9: R3 | J9: =MOD(D9,25) -> 0
A10: 34-265 Steese | B10: 3213 | C10: =SUM(B10*0.8) -> 2570.4 | D10: =MROUND(C10, 25) -> 2575 | E10: =SUM(F9+1) -> 584151 | F10: =SUM(E10+D10-1) -> 586725 | G10: 50 | I10: R3 | J10: =MOD(D10,25) -> 0
A11: 34-270 Summit | B11: 2696 | C11: =SUM(B11*0.8) -> 2156.8 | D11: =MROUND(C11, 25) -> 2150 | E11: =SUM(F10+1) -> 586726 | F11: =SUM(E11+D11-1) -> 588875 | G11: 50 | I11: R3 | J11: =MOD(D11,25) -> 0
A12: 34-280 Two Rivers | B12: 1216 | C12: =SUM(B12*0.8) -> 972.8 | D12: =MROUND(C12, 25) -> 975 | E12: =SUM(F11+1) -> 588876 | F12: =SUM(E12+D12-1) -> 589850 | G12: 50 | I12: R3 | J12: =MOD(D12,25) -> 0
A13: TOTAL PRECINCT BALLOTS HD34-JD4 | B13: =SUM(B5:B12) -> 16091 | D13: =SUM(D5:D12) -> 12875
A15: ABSENTEE OFFICIALS & STATIONS:
A16: ANCHORAGE
A17: 92-900 Anchorage Elections Office | D17: 200 | E17: =F12+1 -> 589851 | F17: =SUM(E17+D17-1) -> 590050 | G17: 15 | I17: R2 | J17: =MOD(D17,25) -> 0
A18: 92-902 Anchorage Airport | D18: 50 | E18: =SUM(F17+1) -> 590051 | F18: =SUM(E18+D18-1) -> 590100 | G18: 5 | I18: R2 | J18: =MOD(D18,25) -> 0
A19: 92-904 UAA | D19: 100 | E19: =SUM(F18+1) -> 590101 | F19: =SUM(E19+D19-1) -> 590200 | G19: 5 | I19: R2 | J19: =MOD(D19,25) -> 0
A20: 92-905 Anchorage City Hall | D20: 100 | E20: =SUM(F19+1) -> 590201 | F20: =SUM(E20+D20-1) -> 590300 | G20: 5 | I20: R2 | J20: =MOD(D20,25) -> 0
A21: 92-907 Cook Inlet Tribal Council | D21: 50 | E21: =SUM(F20+1) -> 590301 | F21: =SUM(E21+D21-1) -> 590350 | G21: 5 | I21: R2 | J21: =MOD(D21,25) -> 0
A23: MAT-SU
A24: 95-900 Mat-Su Elections Office | D24: 25 | E24: =SUM(F21+1) -> 590351 | F24: =SUM(E24+D24-1) -> 590375 | G24: 5 | I24: R5 | J24: =MOD(D24,25) -> 0
A26: FAIRBANKS
A27: 93-900 Fairbanks Elections Office | D27: 4500 | E27: =SUM(F24+1) -> 590376 | F27: =SUM(E27+D27-1) -> 594875 | G27: 100 | H27: 200 | I27: R3 | J27: =MOD(D27,25) -> 0
A28: 93-901 UAF | D28: 1000 | E28: =SUM(F27+1) -> 594876 | F28: =SUM(E28+D28-1) -> 595875 | G28: 50 | I28: R3 | J28: =MOD(D28,25) -> 0
A30: JUNEAU
A31: 91-900 Juneau Elections Office | D31: 25 | E31: =SUM(F28+1) -> 595876 | F31: =SUM(E31+D31-1) -> 595900 | G31: 5 | I31: R1 | J31: =MOD(D31,25) -> 0
A32: 91-902 Juneau Downtown | D32: 25 | E32: =SUM(F31+1) -> 595901 | F32: =SUM(E32+D32-1) -> 595925 | G32: 5 | I32: R1 | J32: =MOD(D32,25) -> 0
A34: NOME
A35: 94-900 Nome Elections Office | D35: 25 | E35: =SUM(F32+1) -> 595926 | F35: =SUM(E35+D35-1) -> 595950 | G35: 5 | I35: R4 | J35: =MOD(D35,25) -> 0
A36: 94-901 Prudhoe Bay Station | D36: 25 | E36: =SUM(F35+1) -> 595951 | F36: =SUM(E36+D36-1) -> 595975 | G36: 5 | I36: R4 | J36: =MOD(D36,25) -> 0
A37: TOTAL ABSENTEE BALLOTS HD34-JD4 | D37: =SUM(D16:D36) -> 6125
A38: TOTAL HD34-JD4 BALLOTS | D38: =D13+D37 -> 19000 | G38: =SUM(G5:G37) -> 610 | H38: =SUM(H5:H37) -> 200 | J38: =SUM(J5:J37) -> 0
A40: Checksum: Sequence End - Start: | D40: =F36-E5+1 -> 19000

Sheet HD35-JD4
H1: BALLOT ID# | J1: =Totals!B40 -> 1046
B3: # REGIS- | D3: # | E3: Numbers | G3: Sample | H3: Fascimile
A4: DISTRICT / PRECINCT | B4: TERED | D4: Ballots | E4: FROM | F4: TO | G4: Ballots | H4: Ballots | I4: Delivery | J4: Check
A5: 35-580 Airport | B5: 974 | C5: =SUM(B5*0.8) -> 779.2 | D5: =MROUND(C5, 25) -> 775 | E5: =SUM('HD34-JD4'!F36,1) -> 595976 | F5: =SUM(E5+D5-1) -> 596750 | G5: 50 | I5: R3 | J5: =MOD(D5,25) -> 0
A6: 35-582 Chena | B6: 3925 | C6: =SUM(B6*0.8) -> 3140 | D6: =MROUND(C6, 25) -> 3150 | E6: =SUM(F5+1) -> 596751 | F6: =SUM(E6+D6-1) -> 599900 | G6: 50 | I6: R3 | J6: =MOD(D6,25) -> 0
A7: 35-584 Ester | B7: 1360 | C7: =SUM(B7*0.8) -> 1088 | D7: =MROUND(C7, 25) -> 1100 | E7: =SUM(F6+1) -> 599901 | F7: =SUM(E7+D7-1) -> 601000 | G7: 50 | I7: R3 | J7: =MOD(D7,25) -> 0
A8: 35-586 Geist | B8: 1792 | C8: =SUM(B8*0.8) -> 1433.6 | D8: =MROUND(C8, 25) -> 1425 | E8: =SUM(F7+1) -> 601001 | F8: =SUM(E8+D8-1) -> 602425 | G8: 50 | I8: R3 | J8: =MOD(D8,25) -> 0
A9: 35-587 Lakeview | B9: 516 | C9: =SUM(B9*0.8) -> 412.8 | D9: =MROUND(C9, 25) -> 425 | E9: =SUM(F8+1) -> 602426 | F9: =SUM(E9+D9-1) -> 602850 | G9: 50 | I9: R3 | J9: =MOD(D9,25) -> 0
A10: 35-592 Shanly | B10: 1632 | C10: =SUM(B10*0.8) -> 1305.6 | D10: =MROUND(C10, 25) -> 1300 | E10: =SUM(F9+1) -> 602851 | F10: =SUM(E10+D10-1) -> 604150 | G10: 50 | I10: R3 | J10: =MOD(D10,25) -> 0
A11: 35-595 University Hills | B11: 1819 | C11: =SUM(B11*0.8) -> 1455.2 | D11: =MROUND(C11, 25) -> 1450 | E11: =SUM(F10+1) -> 604151 | F11: =SUM(E11+D11-1) -> 605600 | G11: 50 | I11: R3 | J11: =MOD(D11,25) -> 0
A12: 35-596 University West | B12: 3778 | C12: =SUM(B12*0.8) -> 3022.4 | D12: =MROUND(C12, 25) -> 3025 | E12: =SUM(F11+1) -> 605601 | F12: =SUM(E12+D12-1) -> 608625 | G12: 50 | I12: R3 | J12: =MOD(D12,25) -> 0
A13: TOTAL PRECINCT BALLOTS HD35-JD4 | B13: =SUM(B5:B12) -> 15796 | D13: =SUM(D5:D12) -> 12650
A15: ABSENTEE OFFICIALS & STATIONS:
A16: ANCHORAGE
A17: 92-900 Anchorage Elections Office | D17: 200 | E17: =SUM(F12+1) -> 608626 | F17: =SUM(E17+D17-1) -> 608825 | G17: 15 | I17: R2 | J17: =MOD(D17,25) -> 0
A18: 92-902 Anchorage Airport | D18: 50 | E18: =SUM(F17+1) -> 608826 | F18: =SUM(E18+D18-1) -> 608875 | G18: 5 | I18: R2 | J18: =MOD(D18,25) -> 0
A19: 92-904 UAA | D19: 100 | E19: =SUM(F18+1) -> 608876 | F19: =SUM(E19+D19-1) -> 608975 | G19: 5 | I19: R2 | J19: =MOD(D19,25) -> 0
A20: 92-905 Anchorage City Hall | D20: 100 | E20: =SUM(F19+1) -> 608976 | F20: =SUM(E20+D20-1) -> 609075 | G20: 5 | I20: R2 | J20: =MOD(D20,25) -> 0
A21: 92-907 Cook Inlet Tribal Council | D21: 50 | E21: =SUM(F20+1) -> 609076 | F21: =SUM(E21+D21-1) -> 609125 | G21: 5 | I21: R2 | J21: =MOD(D21,25) -> 0
A23: MAT-SU
A24: 95-900 Mat-Su Elections Office | D24: 25 | E24: =SUM(F21+1) -> 609126 | F24: =SUM(E24+D24-1) -> 609150 | G24: 5 | I24: R5 | J24: =MOD(D24,25) -> 0
A26: FAIRBANKS
A27: 93-900 Fairbanks Elections Office | D27: 3000 | E27: =SUM(F24+1) -> 609151 | F27: =SUM(E27+D27-1) -> 612150 | G27: 100 | H27: 200 | I27: R3 | J27: =MOD(D27,25) -> 0
A28: 93-901 UAF | D28: 1000 | E28: =SUM(F27+1) -> 612151 | F28: =SUM(E28+D28-1) -> 613150 | G28: 50 | I28: R3 | J28: =MOD(D28,25) -> 0
A30: JUNEAU
A31: 91-900 Juneau Elections Office | D31: 25 | E31: =SUM(F28+1) -> 613151 | F31: =SUM(E31+D31-1) -> 613175 | G31: 5 | I31: R1 | J31: =MOD(D31,25) -> 0
A32: 91-902 Juneau Downtown | D32: 25 | E32: =SUM(F31+1) -> 613176 | F32: =SUM(E32+D32-1) -> 613200 | G32: 5 | I32: R1 | J32: =MOD(D32,25) -> 0
A34: NOME
A35: 94-900 Nome Elections Office | D35: 25 | E35: =SUM(F32+1) -> 613201 | F35: =SUM(E35+D35-1) -> 613225 | G35: 5 | I35: R4 | J35: =MOD(D35,25) -> 0
A36: 94-901 Prudhoe Bay Station | D36: 25 | E36: =SUM(F35+1) -> 613226 | F36: =SUM(E36+D36-1) -> 613250 | G36: 5 | I36: R4 | J36: =MOD(D36,25) -> 0
A37: TOTAL ABSENTEE BALLOTS HD35-JD4 | D37: =SUM(D17:D36) -> 4625
A38: TOTAL HD35-JD4 BALLOTS | D38: =D13+D37 -> 17275 | G38: =SUM(G5:G36) -> 610 | H38: =SUM(H5:H36) -> 200 | J38: =SUM(J5:J36) -> 0
A39: Checksum: Sequence End - Start: | D39: =F36-E5+1 -> 17275

Sheet HD36-JD3
H1: BALLOT ID# | J1: =Totals!B41 -> 1048
B3: # REGIS- | D3: # | E3: Numbers | G3: Sample | H3: Fascimile
A4: DISTRICT / PRECINCT | B4: TERED | D4: Ballots | E4: FROM | F4: TO | G4: Ballots | H4: Ballots | I4: Delivery | J4: Check
A5: 36-038 Chistochina | B5: 197 | C5: =SUM(B5*0.8) -> 157.6 | D5: =MROUND(C5, 25) -> 150 | E5: =SUM('HD35-JD4'!F36,1) -> 613251 | F5: =SUM(E5+D5-1) -> 613400 | G5: 25 | I5: R3 | J5: =MOD(D5,25) -> 0
A6: 36-046 Copper Center | B6: 1111 | C6: =SUM(B6*0.8) -> 888.8 | D6: =MROUND(C6, 25) -> 900 | E6: =SUM(F5+1) -> 613401 | F6: =SUM(E6+D6-1) -> 614300 | G6: 25 | I6: R3 | J6: =MOD(D6,25) -> 0
A7: 36-070 Gakona | B7: 301 | C7: =SUM(B7*0.8) -> 240.8 | D7: =MROUND(C7, 25) -> 250 | E7: =SUM(F6+1) -> 614301 | F7: =SUM(E7+D7-1) -> 614550 | G7: 25 | I7: R3 | J7: =MOD(D7,25) -> 0
A8: 36-078 Glennallen | B8: 530 | C8: =SUM(B8*0.8) -> 424 | D8: =MROUND(C8, 25) -> 425 | E8: =SUM(F7+1) -> 614551 | F8: =SUM(E8+D8-1) -> 614975 | G8: 25 | I8: R3 | J8: =MOD(D8,25) -> 0
A9: 36-102 Kenny Lake | B9: 550 | C9: =SUM(B9*0.8) -> 440 | D9: =MROUND(C9, 25) -> 450 | E9: =SUM(F8+1) -> 614976 | F9: =SUM(E9+D9-1) -> 615425 | G9: 25 | I9: R3 | J9: =MOD(D9,25) -> 0
A10: 36-118 Mentasta | B10: 87 | C10: =SUM(B10*0.8) -> 69.6 | D10: =MROUND(C10, 25) -> 75 | E10: =SUM(F9+1) -> 615426 | F10: =SUM(E10+D10-1) -> 615500 | G10: 25 | I10: R3 | J10: =MOD(D10,25) -> 0
A11: TOTAL PRECINCT BALLOTS HD36-JD3 | B11: =SUM(B5:B10) -> 2776 | D11: =SUM(D5:D10) -> 2250
A13: ABSENTEE OFFICIALS & STATIONS:
A14: ANCHORAGE
A15: 92-900 Anchorage Elections Office | D15: 100 | E15: =F10+1 -> 615501 | F15: =SUM(E15+D15-1) -> 615600 | G15: 15 | I15: R2 | J15: =MOD(D15,25) -> 0
A16: 92-902 Anchorage Airport | D16: 25 | E16: =SUM(F15+1) -> 615601 | F16: =SUM(E16+D16-1) -> 615625 | G16: 5 | I16: R2 | J16: =MOD(D16,25) -> 0
A17: 92-904 UAA | D17: 25 | E17: =SUM(F16+1) -> 615626 | F17: =SUM(E17+D17-1) -> 615650 | G17: 5 | I17: R2 | J17: =MOD(D17,25) -> 0
A18: 92-905 Anchorage City Hall | D18: 25 | E18: =SUM(F17+1) -> 615651 | F18: =SUM(E18+D18-1) -> 615675 | G18: 5 | I18: R2 | J18: =MOD(D18,25) -> 0
A19: 92-907 Cook Inlet Tribal Council | D19: 25 | E19: =SUM(F18+1) -> 615676 | F19: =SUM(E19+D19-1) -> 615700 | G19: 5 | I19: R2 | J19: =MOD(D19,25) -> 0
A21: MAT-SU
A22: 95-900 Mat-Su Elections Office | D22: 25 | E22: =SUM(F19+1) -> 615701 | F22: =SUM(E22+D22-1) -> 615725 | G22: 5 | I22: R5 | J22: =MOD(D22,25) -> 0
A24: FAIRBANKS
A25: 93-900 Fairbanks Elections Office | D25: 100 | E25: =SUM(F22+1) -> 615726 | F25: =SUM(E25+D25-1) -> 615825 | G25: 25 | H25: 100 | I25: R3 | J25: =MOD(D25,25) -> 0
A26: 63-038 Chistochina | D26: 50 | E26: =SUM(F25+1) -> 615826 | F26: =SUM(E26+D26-1) -> 615875 | G26: 25 | I26: R3 | J26: =MOD(D26,25) -> 0
A27: 63-046 Copper Center | D27: 100 | E27: =SUM(F26+1) -> 615876 | F27: =SUM(E27+D27-1) -> 615975 | G27: 25 | I27: R3 | J27: =MOD(D27,25) -> 0
A28: 63-078 Glennallen | D28: 100 | E28: =SUM(F27+1) -> 615976 | F28: =SUM(E28+D28-1) -> 616075 | G28: 25 | I28: R3 | J28: =MOD(D28,25) -> 0
A30: JUNEAU
A31: 91-900 Juneau Elections Office | D31: 25 | E31: =SUM(F28+1) -> 616076 | F31: =SUM(E31+D31-1) -> 616100 | G31: 5 | I31: R1 | J31: =MOD(D31,25) -> 0
A32: 91-902 Juneau Downtown | D32: 25 | E32: =SUM(F31+1) -> 616101 | F32: =SUM(E32+D32-1) -> 616125 | G32: 5 | I32: R1 | J32: =MOD(D32,25) -> 0
A34: NOME
A35: 94-900 Nome Elections Office | D35: 25 | E35: =SUM(F32+1) -> 616126 | F35: =SUM(E35+D35-1) -> 616150 | G35: 5 | I35: R4 | J35: =MOD(D35,25) -> 0
A36: 94-901 Prudhoe Bay Station | D36: 25 | E36: =SUM(F35+1) -> 616151 | F36: =SUM(E36+D36-1) -> 616175 | G36: 5 | I36: R4 | J36: =MOD(D36,25) -> 0
A37: TOTAL ABSENTEE BALLOTS HD36-JD3 | D37: =SUM(D15:D36) -> 675
A38: TOTAL HD36-JD3 BALLOTS | D38: =D11+D37 -> 2925 | G38: =SUM(G5:G36) -> 310 | H38: =SUM(H5:H36) -> 100 | J38: =SUM(J5:J36) -> 0
A41: Checksum: Sequence End - Start: | D41: =F36-E5+1 -> 2925

Sheet HD36-JD4
H1: BALLOT ID# | J1: =Totals!B42 -> 1047
B3: # REGIS- | D3: # | E3: Numbers | G3: Sample | H3: Fascimile
A4: DISTRICT / PRECINCT | B4: TERED | D4: Ballots | E4: FROM | F4: TO | G4: Ballots | H4: Ballots | I4: Delivery | J4: Check
A5: 36-001 Goldstream No. 1 | B5: 1726 | C5: =SUM(B5*0.8) -> 1380.8 | D5: =MROUND(C5, 25) -> 1375 | E5: =SUM('HD36-JD3'!F36,1) -> 616176 | F5: =SUM(E5+D5-1) -> 617550 | G5: 50 | I5: R3 | J5: =MOD(D5,25) -> 0
A6: 36-002 Goldstream No. 2 | B6: 1603 | C6: =SUM(B6*0.8) -> 1282.4 | D6: =MROUND(C6, 25) -> 1275 | E6: =SUM(F5+1) -> 617551 | F6: =SUM(E6+D6-1) -> 618825 | G6: 50 | I6: R3 | J6: =MOD(D6,25) -> 0
A7: 36-010 Allakaket | B7: 116 | C7: =SUM(B7*0.8) -> 92.8 | D7: =MROUND(C7, 25) -> 100 | E7: =SUM(F6+1) -> 618826 | F7: =SUM(E7+D7-1) -> 618925 | G7: 25 | I7: R3 | J7: =MOD(D7,25) -> 0
A8: 36-014 Anvik | B8: 46 | C8: =SUM(B8*0.8) -> 36.8 | D8: =MROUND(C8, 25) -> 25 | E8: =SUM(F7+1) -> 618926 | F8: =SUM(E8+D8-1) -> 618950 | G8: 25 | I8: R3 | J8: =MOD(D8,25) -> 0
A9: 36-018 Arctic Village | B9: 102 | C9: =SUM(B9*0.8) -> 81.6 | D9: =MROUND(C9, 25) -> 75 | E9: =SUM(F8+1) -> 618951 | F9: =SUM(E9+D9-1) -> 619025 | G9: 25 | I9: R3 | J9: =MOD(D9,25) -> 0
A10: 36-022 Beaver | B10: 49 | C10: =SUM(B10*0.8) -> 39.2 | D10: =MROUND(C10, 25) -> 50 | E10: =SUM(F9+1) -> 619026 | F10: =SUM(E10+D10-1) -> 619075 | G10: 25 | I10: R3 | J10: =MOD(D10,25) -> 0
A11: 36-026 Bettles | B11: 69 | C11: =SUM(B11*0.8) -> 55.2 | D11: =MROUND(C11, 25) -> 50 | E11: =SUM(F10+1) -> 619076 | F11: =SUM(E11+D11-1) -> 619125 | G11: 25 | I11: R3 | J11: =MOD(D11,25) -> 0
A12: 36-034 Central | B12: 116 | C12: =SUM(B12*0.8) -> 92.8 | D12: =MROUND(C12, 25) -> 100 | E12: =SUM(F11+1) -> 619126 | F12: =SUM(E12+D12-1) -> 619225 | G12: 25 | I12: R3 | J12: =MOD(D12,25) -> 0
A13: 36-042 Circle | B13: 188 | C13: =SUM(B13*0.8) -> 150.4 | D13: =MROUND(C13, 25) -> 150 | E13: =SUM(F12+1) -> 619226 | F13: =SUM(E13+D13-1) -> 619375 | G13: 25 | I13: R3 | J13: =MOD(D13,25) -> 0
A14: 36-050 Delta Junction | B14: 968 | C14: =SUM(B14*0.8) -> 774.4 | D14: =MROUND(C14, 25) -> 775 | E14: =SUM(F13+1) -> 619376 | F14: =SUM(E14+D14-1) -> 620150 | G14: 25 | I14: R3 | J14: =MOD(D14,25) -> 0
A15: 36-054 Deltana | B15: 3298 | C15: =SUM(B15*0.8) -> 2638.4 | D15: =MROUND(C15, 25) -> 2650 | E15: =SUM(F14+1) -> 620151 | F15: =SUM(E15+D15-1) -> 622800 | G15: 25 | I15: R3 | J15: =MOD(D15,25) -> 0
A16: 36-058 Dot Lake | B16: 103 | C16: =SUM(B16*0.8) -> 82.4 | D16: =MROUND(C16, 25) -> 75 | E16: =SUM(F15+1) -> 622801 | F16: =SUM(E16+D16-1) -> 622875 | G16: 25 | I16: R3 | J16: =MOD(D16,25) -> 0
A17: 36-062 Eagle | B17: 213 | C17: =SUM(B17*0.8) -> 170.4 | D17: =MROUND(C17, 25) -> 175 | E17: =SUM(F16+1) -> 622876 | F17: =SUM(E17+D17-1) -> 623050 | G17: 25 | I17: R3 | J17: =MOD(D17,25) -> 0
... A38: 36-174 Venetie | B38: 146 | C38: =SUM(B38*0.8) -> 116.8 | D38: =MROUND(C38, 25) -> 125 | E38: =SUM(F37+1) -> 626851 | F38: =SUM(E38+D38-1) -> 626975 | G38: 25 | I38: R3 | J38: =MOD(D38,25) -> 0
A39: TOTAL PRECINCT BALLOTS HD36-JD4 | B39: =SUM(B5:B38) -> 13449 | D39: =SUM(D5:D38) -> 10800
A41: ABSENTEE OFFICIALS & STATIONS:
A42: ANCHORAGE
A43: 92-900 Anchorage Elections Office | D43: 200 | E43: =SUM(F38+1) -> 626976 | F43: =SUM(E43+D43-1) -> 627175 | G43: 15 | I43: R2 | J43: =MOD(D43,25) -> 0
A44: 92-902 Anchorage Airport | D44: 50 | E44: =SUM(F43+1) -> 627176 | F44: =SUM(E44+D44-1) -> 627225 | G44: 5 | I44: R2 | J44: =MOD(D44,25) -> 0
A45: 92-904 UAA | D45: 100 | E45: =SUM(F44+1) -> 627226 | F45: =SUM(E45+D45-1) -> 627325 | G45: 5 | I45: R2 | J45: =MOD(D45,25) -> 0
A46: 92-905 Anchorage City Hall | D46: 100 | E46: =SUM(F45+1) -> 627326 | F46: =SUM(E46+D46-1) -> 627425 | G46: 5 | I46: R2 | J46: =MOD(D46,25) -> 0
A47: 92-907 Cook Inlet Tribal Council | D47: 50 | E47: =SUM(F46+1) -> 627426 | F47: =SUM(E47+D47-1) -> 627475 | G47: 5 | I47: R2 | J47: =MOD(D47,25) -> 0
A49: MAT-SU
A50: 95-900 Mat-Su Elections Office | D50: 25 | E50: =SUM(F47+1) -> 627476 | F50: =SUM(E50+D50-1) -> 627500 | G50: 5 | I50: R5 | J50: =MOD(D50,25) -> 0
J51: =MOD(D51,25) -> 0
A52: FAIRBANKS | J52: =MOD(D52,25) -> 0
A53: 93-900 Fairbanks Elections Office | D53: 1000 | E53: =SUM(F50+1) -> 627501 | F53: =SUM(E53+D53-1) -> 628500 | G53: 50 | H53: 200 | I53: R3 | J53: =MOD(D53,25) -> 0
A54: 63-010 Allakaket | D54: 50 | E54: =SUM(F53+1) -> 628501 | F54: =SUM(E54+D54-1) -> 628550 | G54: 25 | I54: R3 | J54: =MOD(D54,25) -> 0
A55: 63-014 Anvik | D55: 50 | E55: =SUM(F54+1) -> 628551 | F55: =SUM(E55+D55-1) -> 628600 | G55: 25 | I55: R3 | J55: =MOD(D55,25) -> 0
A56: 63-018 Arctic Village | D56: 50 | E56: =SUM(F55+1) -> 628601 | F56: =SUM(E56+D56-1) -> 628650 | G56: 25 | I56: R3 | J56: =MOD(D56,25) -> 0
A57: 63-022 Beaver | D57: 50 | E57: =SUM(F56+1) -> 628651 | F57: =SUM(E57+D57-1) -> 628700 | G57: 25 | I57: R3 | J57: =MOD(D57,25) -> 0
A58: 63-026 Bettles | D58: 50 | E58: =SUM(F57+1) -> 628701 | F58: =SUM(E58+D58-1) -> 628750 | G58: 25 | I58: R3 | J58: =MOD(D58,25) -> 0
A59: 63-027 Birch Creek | D59: 50 | E59: =SUM(F58+1) -> 628751 | F59: =SUM(E59+D59-1) -> 628800 | G59: 25 | I59: R3 | J59: =MOD(D59,25) -> 0
A60: 63-031 Chalkyitsik | D60: 50 | E60: =SUM(F59+1) -> 628801 | F60: =SUM(E60+D60-1) -> 628850 | G60: 25 | I60: R3 | J60: =MOD(D60,25) -> 0
A61: 63-038 Chistochina | D61: 50 | E61: =SUM(F60+1) -> 628851 | F61: =SUM(E61+D61-1) -> 628900 | G61: 25 | I61: R3 | J61: =MOD(D61,25) -> 0
A62: 63-042 Circle | D62: 50 | E62: =SUM(F61+1) -> 628901 | F62: =SUM(E62+D62-1) -> 628950 | G62: 25 | I62: R3 | J62: =MOD(D62,25) -> 0
A63: 63-043 Coldfoot | D63: 50 | E63: =SUM(F62+1) -> 628951 | F63: =SUM(E63+D63-1) -> 629000 | G63: 25 | I63: R3 | J63: =MOD(D63,25) -> 0
A64: 63-046 Copper Center | D64: 100 | E64: =SUM(F63+1) -> 629001 | F64: =SUM(E64+D64-1) -> 629100 | G64: 25 | I64: R3 | J64: =MOD(D64,25) -> 0
A65: 63-050 Delta Junction | D65: 500 | E65: =SUM(F64+1) -> 629101 | F65: =SUM(E65+D65-1) -> 629600 | G65: 25 | I65: R3 | J65: =MOD(D65,25) -> 0
... A88: 63-174 Venetie | D88: 50 | E88: =SUM(F87+1) -> 631376 | F88: =SUM(E88+D88-1) -> 631425 | G88: 25 | I88: R3 | J88: =MOD(D88,25) -> 0
A90: JUNEAU
A91: 91-900 Juneau Elections Office | D91: 25 | E91: =SUM(F88+1) -> 631426 | F91: =SUM(E91+D91-1) -> 631450 | G91: 5 | I91: R1 | J91: =MOD(D91,25) -> 0
A92: 91-902 Juneau Downtown | D92: 25 | E92: =SUM(F91+1) -> 631451 | F92: =SUM(E92+D92-1) -> 631475 | G92: 5 | I92: R1 | J92: =MOD(D92,25) -> 0
A93: NOME
A94: 94-900 Nome Elections Office | D94: 25 | E94: =SUM(F92+1) -> 631476 | F94: =SUM(E94+D94-1) -> 631500 | G94: 5 | I94: R4 | J94: =MOD(D94,25) -> 0
A95: 94-901 Prudhoe Bay Station | D95: 25 | E95: =SUM(F94+1) -> 631501 | F95: =SUM(E95+D95-1) -> 631525 | G95: 5 | I95: R4 | J95: =MOD(D95,25) -> 0
A96: TOTAL ABSENTEE BALLOTS HD36-JD4 | D96: =SUM(D43:D95) -> 4550
A97: TOTAL HD36-JD4 BALLOTS | D97: =D39+D96 -> 15350 | G97: =SUM(G5:G95) -> 1885 | H97: =SUM(H5:H95) -> 200 | J97: =SUM(J5:J95) -> 0
A100: Checksum: Sequence End - Start: | D100: =F95-E5+1 -> 15350

Sheet HD37-JD3
H1: BALLOT ID# | J1: =Totals!B43 -> 1049
B3: # REGIS- | D3: # | E3: Numbers | G3: Sample | H3: Fascimile
A4: DISTRICT / PRECINCT | B4: TERED | D4: Ballots | E4: FROM | F4: TO | G4: Ballots | H4: Ballots | I4: Delivery | J4: Check
A5: 37-700 Akutan | B5: 439 | C5: =SUM(B5*0.8) -> 351.2 | D5: 250 | E5: =SUM('HD36-JD4'!F95,1) -> 631526 | F5: =SUM(E5+D5-1) -> 631775 | G5: 5 | I5: R4 | J5: =MOD(D5,25) -> 0
A6: 37-702 Aleknagik | B6: 166 | C6: =SUM(B6*0.8) -> 132.8 | D6: 150 | E6: =SUM(F5+1) -> 631776 | F6: =SUM(E6+D6-1) -> 631925 | G6: 5 | I6: R4 | J6: =MOD(D6,25) -> 0
A7: 37-704 Aleutians No. 1 | B7: 151 | C7: =SUM(B7*0.8) -> 120.8 | D7: 100 | E7: =SUM(F6+1) -> 631926 | F7: =SUM(E7+D7-1) -> 632025 | G7: 5 | I7: R4 | J7: =MOD(D7,25) -> 0
A8: 37-706 Aleutians No. 2 | B8: 1745 | C8: =SUM(B8*0.8) -> 1396 | D8: 1000 | E8: =SUM(F7+1) -> 632026 | F8: =SUM(E8+D8-1) -> 633025 | G8: 5 | I8: R4 | J8: =MOD(D8,25) -> 0
A9: 37-708 Chignik | B9: 221 | C9: =SUM(B9*0.8) -> 176.8 | D9: 125 | E9: =SUM(F8+1) -> 633026 | F9: =SUM(E9+D9-1) -> 633150 | G9: 5 | I9: R4 | J9: =MOD(D9,25) -> 0
A10: 37-710 Clark's Point | B10: 46 | C10: =SUM(B10*0.8) -> 36.8 | D10: 50 | E10: =SUM(F9+1) -> 633151 | F10: =SUM(E10+D10-1) -> 633200 | G10: 5 | I10: R4 | J10: =MOD(D10,25) -> 0
A11: 37-712 Cold Bay | B11: 72 | C11: =SUM(B11*0.8) -> 57.6 | D11: =MROUND(C11, 25) -> 50 | E11: =SUM(F10+1) -> 633201 | F11: =SUM(E11+D11-1) -> 633250 | G11: 5 | I11: R4 | J11: =MOD(D11,25) -> 0
A12: 37-714 Dillingham | B12: 1689 | C12: =SUM(B12*0.8) -> 1351.2 | D12: 1000 | E12: =SUM(F11+1) -> 633251 | F12: =SUM(E12+D12-1) -> 634250 | G12: 5 | I12: R4 | J12: =MOD(D12,25) -> 0
A13: 37-716 Egegik | B13: 95 | C13: =SUM(B13*0.8) -> 76 | D13: 50 | E13: =SUM(F12+1) -> 634251 | F13: =SUM(E13+D13-1) -> 634300 | G13: 5 | I13: R4 | J13: =MOD(D13,25) -> 0
A14: 37-718 Ekwok | B14: 72 | C14: =SUM(B14*0.8) -> 57.6 | D14: =MROUND(C14, 25) -> 50 | E14: =SUM(F13+1) -> 634301 | F14: =SUM(E14+D14-1) -> 634350 | G14: 5 | I14: R4 | J14: =MOD(D14,25) -> 0
A15: 37-720 King Cove | B15: 345 | C15: =SUM(B15*0.8) -> 276 | D15: 250 | E15: =SUM(F14+1) -> 634351 | F15: =SUM(E15+D15-1) -> 634600 | G15: 5 | I15: R4 | J15: =MOD(D15,25) -> 0
A16: 37-722 King Salmon | B16: 352 | C16: =SUM(B16*0.8) -> 281.6 | D16: 200 | E16: =SUM(F15+1) -> 634601 | F16: =SUM(E16+D16-1) -> 634800 | G16: 5 | I16: R4 | J16: =MOD(D16,25) -> 0
A17: 37-724 Koliganek | B17: 112 | C17: =SUM(B17*0.8) -> 89.6 | D17: =MROUND(C17, 25) -> 100 | E17: =SUM(F16+1) -> 634801 | F17: =SUM(E17+D17-1) -> 634900 | G17: 5 | I17: R4 | J17: =MOD(D17,25) -> 0
A18: 37-726 Lake Iliamna No. 1 | B18: 212 | C18: =SUM(B18*0.8) -> 169.6 | D18: 150 | E18: =SUM(F17+1) -> 634901 | F18: =SUM(E18+D18-1) -> 635050 | G18: 5 | I18: R4 | J18: =MOD(D18,25) -> 0
A19: 37-728 Lake Iliamna No. 2 | B19: 161 | C19: =SUM(B19*0.8) -> 128.8 | D19: =MROUND(C19, 25) -> 125 | E19: =SUM(F18+1) -> 635051 | F19: =SUM(E19+D19-1) -> 635175 | G19: 5 | I19: R4 | J19: =MOD(D19,25) -> 0
A20: 37-730 Levelock | B20: 41 | C20: =SUM(B20*0.8) -> 32.8 | D20: 50 | E20: =SUM(F19+1) -> 635176 | F20: =SUM(E20+D20-1) -> 635225 | G20: 5 | I20: R4 | J20: =MOD(D20,25) -> 0
A21: 37-732 Manokotak | B21: 334 | C21: =SUM(B21*0.8) -> 267.2 | D21: 175 | E21: =SUM(F20+1) -> 635226 | F21: =SUM(E21+D21-1) -> 635400 | G21: 5 | I21: R4 | J21: =MOD(D21,25) -> 0
A22: 37-734 Naknek | B22: 414 | C22: =SUM(B22*0.8) -> 331.2 | D22: 200 | E22: =SUM(F21+1) -> 635401 | F22: =SUM(E22+D22-1) -> 635600 | G22: 5 | I22: R4 | J22: =MOD(D22,25) -> 0
A23: 37-736 New Stuyahok | B23: 296 | C23: =SUM(B23*0.8) -> 236.8 | D23: 250 | E23: =SUM(F22+1) -> 635601 | F23: =SUM(E23+D23-1) -> 635850 | G23: 5 | I23: R4 | J23: =MOD(D23,25) -> 0
A24: 37-738 Nondalton | B24: 282 | C24: =SUM(B24*0.8) -> 225.6 | D24: 100 | E24: =SUM(F23+1) -> 635851 | F24: =SUM(E24+D24-1) -> 635950 | G24: 5 | I24: R4 | J24: =MOD(D24,25) -> 0
A25: 37-740 Pedro Bay | B25: 32 | C25: =SUM(B25*0.8) -> 25.6 | D25: 50 | E25: =SUM(F24+1) -> 635951 | F25: =SUM(E25+D25-1) -> 636000 | G25: 5 | I25: R4 | J25: =MOD(D25,25) -> 0
A26: 37-742 Port Heiden | B26: 58 | C26: =SUM(B26*0.8) -> 46.4 | D26: 75 | E26: =SUM(F25+1) -> 636001 | F26: =SUM(E26+D26-1) -> 636075 | G26: 5 | I26: R4 | J26: =MOD(D26,25) -> 0
A27: 37-744 Sand Point | B27: 429 | C27: =SUM(B27*0.8) -> 343.2 | D27: 225 | E27: =SUM(F26+1) -> 636076 | F27: =SUM(E27+D27-1) -> 636300 | G27: 5 | I27: R4 | J27: =MOD(D27,25) -> 0
A28: 37-748 South Naknek | B28: 52 | C28: =SUM(B28*0.8) -> 41.6 | D28: 75 | E28: =SUM(F27+1) -> 636301 | F28: =SUM(E28+D28-1) -> 636375 | G28: 5 | I28: R4 | J28: =MOD(D28,25) -> 0
A29: 37-750 St. George Island | B29: 33 | C29: =SUM(B29*0.8) -> 26.4 | D29: 50 | E29: =SUM(F28+1) -> 636376 | F29: =SUM(E29+D29-1) -> 636425 | G29: 5 | I29: R4 | J29: =MOD(D29,25) -> 0
A30: 37-752 St. Paul Island | B30: 266 | C30: =SUM(B30*0.8) -> 212.8 | D30: =MROUND(C30, 25) -> 225 | E30: =SUM(F29+1) -> 636426 | F30: =SUM(E30+D30-1) -> 636650 | G30: 5 | I30: R4 | J30: =MOD(D30,25) -> 0
A31: 37-754 Togiak | B31: 580 | C31: =SUM(B31*0.8) -> 464 | D31: 275 | E31: =SUM(F30+1) -> 636651 | F31: =SUM(E31+D31-1) -> 636925 | G31: 5 | I31: R4 | J31: =MOD(D31,25) -> 0
A32: 37-756 Tyonek | B32: 383 | C32: =SUM(B32*0.8) -> 306.4 | D32: 100 | E32: =SUM(F31+1) -> 636926 | F32: =SUM(E32+D32-1) -> 637025 | G32: 5 | I32: R4 | J32: =MOD(D32,25) -> 0
A33: TOTAL PRECINCT BALLOTS HD37-JD3 | B33: =SUM(B5:B32) -> 9078 | D33: =SUM(D5:D32) -> 5500
A35: ABSENTEE OFFICIALS & STATIONS:
A36: ANCHORAGE
A37: 92-900 Anchorage Elections Office | D37: 200 | E37: =SUM(F32+1) -> 637026 | F37: =SUM(E37+D37-1) -> 637225 | G37: 15 | I37: R2 | J37: =MOD(D37,25) -> 0
A38: 92-902 Anchorage Airport | D38: 50 | E38: =SUM(F37+1) -> 637226 | F38: =SUM(E38+D38-1) -> 637275 | G38: 5 | I38: R2 | J38: =MOD(D38,25) -> 0
A39: 92-904 UAA | D39: 100 | E39: =SUM(F38+1) -> 637276 | F39: =SUM(E39+D39-1) -> 637375 | G39: 5 | I39: R2 | J39: =MOD(D39,25) -> 0
A40: 92-905 Anchorage City Hall | D40: 100 | E40: =SUM(F39+1) -> 637376 | F40: =SUM(E40+D40-1) -> 637475 | G40: 5 | I40: R2 | J40: =MOD(D40,25) -> 0
A41: 92-907 Cook Inlet Tribal Council | D41: 50 | E41: =SUM(F40+1) -> 637476 | F41: =SUM(E41+D41-1) -> 637525 | G41: 5 | I41: R2 | J41: =MOD(D41,25) -> 0
A43: MAT-SU
A44: 95-900 Mat-Su Elections Office | D44: 25 | E44: =SUM(F41+1) -> 637526 | F44: =SUM(E44+D44-1) -> 637550 | G44: 5 | I44: R5 | J44: =MOD(D44,25) -> 0
A45: 95-901 Soldotna | D45: 25 | E45: =SUM(F44+1) -> 637551 | F45: =SUM(E45+D45-1) -> 637575 | G45: 5 | I45: R6 | J45: =MOD(D45,25) -> 0
A46: 95-902 Kenai City | D46: 25 | E46: =SUM(F45+1) -> 637576 | F46: =SUM(E46+D46-1) -> 637600 | G46: 5 | I46: R6 | J46: =MOD(D46,25) -> 0
A48: FAIRBANKS
A49: 93-900 Fairbanks Elections Office | D49: 50 | E49: =SUM(F46+1) -> 637601 | F49: =SUM(E49+D49-1) -> 637650 | G49: 5 | I49: R3 | J49: =MOD(D49,25) -> 0
A50: 93-901 UAF | D50: 25 | E50: =SUM(F49+1) -> 637651 | F50: =SUM(E50+D50-1) -> 637675 | G50: 5 | I50: R3 | J50: =MOD(D50,25) -> 0
A52: JUNEAU
A53: 91-900 Juneau Elections Office | D53: 25 | E53: =SUM(F50+1) -> 637676 | F53: =SUM(E53+D53-1) -> 637700 | G53: 5 | I53: R1 | J53: =MOD(D53,25) -> 0
A54: 91-902 Juneau Downtown | D54: 25 | E54: =SUM(F53+1) -> 637701 | F54: =SUM(E54+D54-1) -> 637725 | G54: 5 | I54: R1 | J54: =MOD(D54,25) -> 0
A55: 91-906 Homer Early Vote | D55: 25 | E55: =SUM(F54+1) -> 637726 | F55: =SUM(E55+D55-1) -> 637750 | G55: 5 | I55: R1 | J55: =MOD(D55,25) -> 0
A57: NOME
A58: 94-900 Nome Elections Office | D58: 25 | E58: =SUM(F55+1) -> 637751 | F58: =SUM(E58+D58-1) -> 637775 | G58: 25 | H58: 100 | I58: R4 | J58: =MOD(D58,25) -> 0
A59: 94-901 Prudhoe Bay Station | D59: 25 | E59: =SUM(F58+1) -> 637776 | F59: =SUM(E59+D59-1) -> 637800 | G59: 25 | I59: R4 | J59: =MOD(D59,25) -> 0
A60: 37-940 Kokhanok | D60: 100 | E60: =SUM(F59+1) -> 637801 | F60: =SUM(E60+D60-1) -> 637900 | G60: 5 | I60: R4 | J60: =MOD(D60,25) -> 0
A61: 37-941 Port Heiden | D61: 100 | E61: =SUM(F60+1) -> 637901 | F61: =SUM(E61+D61-1) -> 638000 | G61: 5 | I61: R4 | J61: =MOD(D61,25) -> 0
A62: 37-942 Manokotak | D62: 100 | E62: =SUM(F61+1) -> 638001 | F62: =SUM(E62+D62-1) -> 638100 | G62: 5 | I62: R4 | J62: =MOD(D62,25) -> 0
A63: 37-943 King Cove | D63: 100 | E63: =SUM(F62+1) -> 638101 | F63: =SUM(E63+D63-1) -> 638200 | G63: 5 | I63: R4 | J63: =MOD(D63,25) -> 0
A64: 37-944 Chignik Bay | D64: 100 | E64: =SUM(F63+1) -> 638201 | F64: =SUM(E64+D64-1) -> 638300 | G64: 5 | I64: R4 | J64: =MOD(D64,25) -> 0
A65: 37-945 Egegik | D65: 100 | E65: =SUM(F64+1) -> 638301 | F65: =SUM(E65+D65-1) -> 638400 | G65: 5 | I65: R4 | J65: =MOD(D65,25) -> 0
A66: 37-946 Ekwok | D66: 100 | E66: =SUM(F65+1) -> 638401 | F66: =SUM(E66+D66-1) -> 638500 | G66: 5 | I66: R4 | J66: =MOD(D66,25) -> 0
A67: 37-947 Koliganek | D67: 100 | E67: =SUM(F66+1) -> 638501 | F67: =SUM(E67+D67-1) -> 638600 | G67: 5 | I67: R4 | J67: =MOD(D67,25) -> 0
A68: 37-948 Newhalen | D68: 100 | E68: =SUM(F67+1) -> 638601 | F68: =SUM(E68+D68-1) -> 638700 | G68: 5 | I68: R4 | J68: =MOD(D68,25) -> 0
A69: 37-949 Aleknagik | D69: 100 | E69: =SUM(F68+1) -> 638701 | F69: =SUM(E69+D69-1) -> 638800 | G69: 5 | I69: R4 | J69: =MOD(D69,25) -> 0
A70: 37-950 Levelock | D70: 100 | E70: =SUM(F69+1) -> 638801 | F70: =SUM(E70+D70-1) -> 638900 | G70: 5 | I70: R4 | J70: =MOD(D70,25) -> 0
... A108: 37-999 New Stuyahok | D108: 100 | E108: =SUM(F107+1) -> 642601 | F108: =SUM(E108+D108-1) -> 642700 | G108: 5 | I108: R4 | J108: =MOD(D108,25) -> 0
A109: TOTAL ABSENTEE BALLOTS HD37-JD3 | D109: =SUM(D37:D108) -> 5675
A110: TOTAL HD37-JD3 BALLOTS | D110: =D33+D109 -> 11175 | G110: =SUM(G5:G108) -> 510 | H110: =SUM(H5:H108) -> 100 | J110: =SUM(J5:J108) -> 0
A113: Checksum: Sequence End - Start: | D113: =F108-E5+1 -> 11175

Sheet HD37-JD4
H1: BALLOT ID# | J1: =Totals!B44 -> 1053
B3: # REGIS- | D3: # | E3: Numbers | G3: Sample | H3: Fascimile
A4: DISTRICT / PRECINCT | B4: TERED | D4: Ballots | E4: FROM | F4: TO | G4: Ballots | H4: Ballots | I4: Delivery | J4: Check
A5: 37-707 Aniak | B5: 316 | C5: =SUM(B5*0.8) -> 252.8 | D5: 175 | E5: =SUM('HD37-JD3'!F108,1) -> 642701 | F5: =SUM(E5+D5-1) -> 642875 | G5: 5 | I5: R4 | J5: =MOD(D5,25) -> 0
A6: 37-709 Chuathbaluk | B6: 55 | C6: =SUM(B6*0.8) -> 44 | D6: =MROUND(C6, 25) -> 50 | E6: =SUM(F5+1) -> 642876 | F6: =SUM(E6+D6-1) -> 642925 | G6: 5 | I6: R4 | J6: =MOD(D6,25) -> 0
A7: 37-713 Crooked Creek | B7: 63 | C7: =SUM(B7*0.8) -> 50.4 | D7: =MROUND(C7, 25) -> 50 | E7: =SUM(F6+1) -> 642926 | F7: =SUM(E7+D7-1) -> 642975 | G7: 5 | I7: R4 | J7: =MOD(D7,25) -> 0
A8: 37-719 Goodnews Bay | B8: 201 | C8: =SUM(B8*0.8) -> 160.8 | D8: =MROUND(C8, 25) -> 150 | E8: =SUM(F7+1) -> 642976 | F8: =SUM(E8+D8-1) -> 643125 | G8: 5 | I8: R4 | J8: =MOD(D8,25) -> 0
A9: 37-731 Lower Kalskag | B9: 154 | C9: =SUM(B9*0.8) -> 123.2 | D9: =MROUND(C9, 25) -> 125 | E9: =SUM(F8+1) -> 643126 | F9: =SUM(E9+D9-1) -> 643250 | G9: 5 | I9: R4 | J9: =MOD(D9,25) -> 0
A10: 37-746 Sleetmute | B10: 97 | C10: =SUM(B10*0.8) -> 77.6 | D10: 125 | E10: =SUM(F9+1) -> 643251 | F10: =SUM(E10+D10-1) -> 643375 | G10: 5 | I10: R4 | J10: =MOD(D10,25) -> 0
A11: 37-758 Upper Kalskag | B11: 130 | C11: =SUM(B11*0.8) -> 104 | D11: =MROUND(C11, 25) -> 100 | E11: =SUM(F10+1) -> 643376 | F11: =SUM(E11+D11-1) -> 643475 | G11: 5 | I11: R4 | J11: =MOD(D11,25) -> 0
A12: TOTAL PRECINCT BALLOTS HD37-JD4 | B12: =SUM(B5:B11) -> 1016 | D12: =SUM(D5:D11) -> 775
A14: ABSENTEE OFFICIALS & STATIONS:
A15: ANCHORAGE
A16: 92-900 Anchorage Elections Office | D16: 50 | E16: =SUM(F11+1) -> 643476 | F16: =SUM(E16+D16-1) -> 643525 | G16: 15 | I16: R2 | J16: =MOD(D16,25) -> 0
A17: 92-902 Anchorage Airport | D17: 25 | E17: =SUM(F16+1) -> 643526 | F17: =SUM(E17+D17-1) -> 643550 | G17: 5 | I17: R2 | J17: =MOD(D17,25) -> 0
A18: 92-904 UAA | D18: 25 | E18: =SUM(F17+1) -> 643551 | F18: =SUM(E18+D18-1) -> 643575 | G18: 5 | I18: R2 | J18: =MOD(D18,25) -> 0
A19: 92-905 Anchorage City Hall | D19: 25 | E19: =SUM(F18+1) -> 643576 | F19: =SUM(E19+D19-1) -> 643600 | G19: 5 | I19: R2 | J19: =MOD(D19,25) -> 0
A20: 92-907 Cook Inlet Tribal Council | D20: 25 | E20: =SUM(F19+1) -> 643601 | F20: =SUM(E20+D20-1) -> 643625 | G20: 5 | I20: R2 | J20: =MOD(D20,25) -> 0
A22: MAT-SU
A23: 95-900 Mat-Su Elections Office | D23: 25 | E23: =SUM(F20+1) -> 643626 | F23: =SUM(E23+D23-1) -> 643650 | G23: 5 | I23: R5 | J23: =MOD(D23,25) -> 0
A25: FAIRBANKS
A26: 93-900 Fairbanks Elections Office | D26: 50 | E26: =SUM(F23+1) -> 643651 | F26: =SUM(E26+D26-1) -> 643700 | G26: 5 | I26: R3 | J26: =MOD(D26,25) -> 0
A27: 93-901 UAF | D27: 25 | E27: =SUM(F26+1) -> 643701 | F27: =SUM(E27+D27-1) -> 643725 | G27: 5 | I27: R3 | J27: =MOD(D27,25) -> 0
A29: JUNEAU
A30: 91-900 Juneau Elections Office | D30: 25 | E30: =SUM(F27+1) -> 643726 | F30: =SUM(E30+D30-1) -> 643750 | G30: 5 | I30: R1 | J30: =MOD(D30,25) -> 0
A31: 91-902 Juneau Downtown | D31: 25 | E31: =SUM(F30+1) -> 643751 | F31: =SUM(E31+D31-1) -> 643775 | G31: 5 | I31: R1 | J31: =MOD(D31,25) -> 0
A32: 91-906 Homer Early Vote | D32: 25 | E32: =SUM(F31+1) -> 643776 | F32: =SUM(E32+D32-1) -> 643800 | G32: 5 | I32: R1 | J32: =MOD(D32,25) -> 0
A34: NOME
A35: 94-900 Nome Elections Office | D35: 25 | E35: =SUM(F32+1) -> 643801 | F35: =SUM(E35+D35-1) -> 643825 | G35: 25 | H35: 100 | I35: R4 | J35: =MOD(D35,25) -> 0
A36: 94-901 Prudhoe Bay Station | D36: 25 | E36: =SUM(F35+1) -> 643826 | F36: =SUM(E36+D36-1) -> 643850 | G36: 25 | I36: R4 | J36: =MOD(D36,25) -> 0
A37: 37-940 Kokhanok | D37: 100 | E37: =SUM(F36+1) -> 643851 | F37: =SUM(E37+D37-1) -> 643950 | G37: 5 | I37: R4 | J37: =MOD(D37,25) -> 0
A38: 37-941 Port Heiden | D38: 100 | E38: =SUM(F37+1) -> 643951 | F38: =SUM(E38+D38-1) -> 644050 | G38: 5 | I38: R4 | J38: =MOD(D38,25) -> 0
A39: 37-942 Manokotak | D39: 100 | E39: =SUM(F38+1) -> 644051 | F39: =SUM(E39+D39-1) -> 644150 | G39: 5 | I39: R4 | J39: =MOD(D39,25) -> 0
A40: 37-943 King Cove | D40: 100 | E40: =SUM(F39+1) -> 644151 | F40: =SUM(E40+D40-1) -> 644250 | G40: 5 | I40: R4 | J40: =MOD(D40,25) -> 0
A41: 37-944 Chignik Bay | D41: 100 | E41: =SUM(F40+1) -> 644251 | F41: =SUM(E41+D41-1) -> 644350 | G41: 5 | I41: R4 | J41: =MOD(D41,25) -> 0
A42: 37-945 Egegik | D42: 100 | E42: =SUM(F41+1) -> 644351 | F42: =SUM(E42+D42-1) -> 644450 | G42: 5 | I42: R4 | J42: =MOD(D42,25) -> 0
A43: 37-946 Ekwok | D43: 100 | E43: =SUM(F42+1) -> 644451 | F43: =SUM(E43+D43-1) -> 644550 | G43: 5 | I43: R4 | J43: =MOD(D43,25) -> 0
A44: 37-947 Koliganek | D44: 100 | E44: =SUM(F43+1) -> 644551 | F44: =SUM(E44+D44-1) -> 644650 | G44: 5 | I44: R4 | J44: =MOD(D44,25) -> 0
A45: 37-948 Newhalen | D45: 100 | E45: =SUM(F44+1) -> 644651 | F45: =SUM(E45+D45-1) -> 644750 | G45: 5 | I45: R4 | J45: =MOD(D45,25) -> 0
A46: 37-949 Aleknagik | D46: 100 | E46: =SUM(F45+1) -> 644751 | F46: =SUM(E46+D46-1) -> 644850 | G46: 5 | I46: R4 | J46: =MOD(D46,25) -> 0
A47: 37-950 Levelock | D47: 100 | E47: =SUM(F46+1) -> 644851 | F47: =SUM(E47+D47-1) -> 644950 | G47: 5 | I47: R4 | J47: =MOD(D47,25) -> 0
... A84: 37-999 New Stuyahok | D84: 100 | E84: =SUM(F83+1) -> 648651 | F84: =SUM(E84+D84-1) -> 648750 | G84: 5 | I84: R4 | J84: =MOD(D84,25) -> 0
A85: TOTAL ABSENTEE BALLOTS HD37-JD4 | D85: =SUM(D16:D84) -> 5275
A86: TOTAL HD37-JD4 BALLOTS | D86: =D12+D85 -> 6050 | G86: =SUM(G5:G84) -> 390 | H86: =SUM(H5:H84) -> 100 | J86: =SUM(J5:J38) -> 0
A88: Checksum: Sequence End - Start: | D88: =F84-E5+1 -> 6050

Sheet HD38-JD4
H1: BALLOT ID# | J1: =Totals!B45 -> 1057
B3: # REGIS- | D3: # | E3: Numbers | G3: Sample | H3: Fascimile
A4: DISTRICT / PRECINCT | B4: TERED | D4: Ballots | E4: FROM | F4: TO | G4: Ballots | H4: Ballots | I4: Delivery | J4: Check
A5: 38-800 Akiachak | B5: 444 | C5: =SUM(B5*0.8) -> 355.2 | D5: 225 | E5: ='HD37-JD4'!F84+1 -> 648751 | F5: =SUM(E5+D5-1) -> 648975 | G5: 5 | I5: R4 | J5: =MOD(D5,25) -> 0
A6: 38-802 Akiak | B6: 256 | C6: =SUM(B6*0.8) -> 204.8 | D6: 150 | E6: =SUM(F5+1) -> 648976 | F6: =SUM(E6+D6-1) -> 649125 | G6: 5 | I6: R4 | J6: =MOD(D6,25) -> 0
A7: 38-806 Atmautluak | B7: 210 | C7: =SUM(B7*0.8) -> 168 | D7: 125 | E7: =SUM(F6+1) -> 649126 | F7: =SUM(E7+D7-1) -> 649250 | G7: 5 | I7: R4 | J7: =MOD(D7,25) -> 0
A8: 38-808 Bethel No. 1 | B8: 2080 | C8: =SUM(B8*0.8) -> 1664 | D8: 1250 | E8: =SUM(F7+1) -> 649251 | F8: =SUM(E8+D8-1) -> 650500 | G8: 5 | I8: R4 | J8: =MOD(D8,25) -> 0
A9: 38-810 Bethel No. 2 | B9: 1932 | C9: =SUM(B9*0.8) -> 1545.6 | D9: 1000 | E9: =SUM(F8+1) -> 650501 | F9: =SUM(E9+D9-1) -> 651500 | G9: 5 | I9: R4 | J9: =MOD(D9,25) -> 0
A10: 38-812 Chefornak | B10: 322 | C10: =SUM(B10*0.8) -> 257.6 | D10: =MROUND(C10, 25) -> 250 | E10: =SUM(F9+1) -> 651501 | F10: =SUM(E10+D10-1) -> 651750 | G10: 5 | I10: R4 | J10: =MOD(D10,25) -> 0
A11: 38-813 Chevak | B11: 560 | C11: =SUM(B11*0.8) -> 448 | D11: 225 | E11: =SUM(F10+1) -> 651751 | F11: =SUM(E11+D11-1) -> 651975 | G11: 5 | I11: R4 | J11: =MOD(D11,25) -> 0
A12: 38-818 Eek | B12: 227 | C12: =SUM(B12*0.8) -> 181.6 | D12: 150 | E12: =SUM(F11+1) -> 651976 | F12: =SUM(E12+D12-1) -> 652125 | G12: 5 | I12: R4 | J12: =MOD(D12,25) -> 0
A13: 38-822 Kasigluk | B13: 366 | C13: =SUM(B13*0.8) -> 292.8 | D13: 150 | E13: =SUM(F12+1) -> 652126 | F13: =SUM(E13+D13-1) -> 652275 | G13: 5 | I13: R4 | J13: =MOD(D13,25) -> 0
A14: 38-824 Kipnuk | B14: 457 | C14: =SUM(B14*0.8) -> 365.6 | D14: 250 | E14: =SUM(F13+1) -> 652276 | F14: =SUM(E14+D14-1) -> 652525 | G14: 5 | I14: R4 | J14: =MOD(D14,25) -> 0
A15: 38-826 Kongiganak | B15: 326 | C15: =SUM(B15*0.8) -> 260.8 | D15: =MROUND(C15, 25) -> 250 | E15: =SUM(F14+1) -> 652526 | F15: =SUM(E15+D15-1) -> 652775 | G15: 5 | I15: R4 | J15: =MOD(D15,25) -> 0
A16: 38-828 Kwethluk | B16: 476 | C16: =SUM(B16*0.8) -> 380.8 | D16: 225 | E16: =SUM(F15+1) -> 652776 | F16: =SUM(E16+D16-1) -> 653000 | G16: 5 | I16: R4 | J16: =MOD(D16,25) -> 0
A17: 38-830 Kwigillingok | B17: 238 | C17: =SUM(B17*0.8) -> 190.4 | D17: 175 | E17: =SUM(F16+1) -> 653001 | F17: =SUM(E17+D17-1) -> 653175 | G17: 5 | I17: R4 | J17: =MOD(D17,25) -> 0
A18: 38-836 Mekoryuk | B18: 133 | C18: =SUM(B18*0.8) -> 106.4 | D18: 125 | E18: =SUM(F17+1) -> 653176 | F18: =SUM(E18+D18-1) -> 653300 | G18: 5 | I18: R4 | J18: =MOD(D18,25) -> 0
A19: 38-838 Napakiak | B19: 227 | C19: =SUM(B19*0.8) -> 181.6 | D19: =MROUND(C19, 25) -> 175 | E19: =SUM(F18+1) -> 653301 | F19: =SUM(E19+D19-1) -> 653475 | G19: 5 | I19: R4 | J19: =MOD(D19,25) -> 0
A20: 38-840 Napaskiak | B20: 305 | C20: =SUM(B20*0.8) -> 244 | D20: 125 | E20: =SUM(F19+1) -> 653476 | F20: =SUM(E20+D20-1) -> 653600 | G20: 5 | I20: R4 | J20: =MOD(D20,25) -> 0
A21: 38-842 Newtok | B21: 200 | C21: =SUM(B21*0.8) -> 160 | D21: =MROUND(C21, 25) -> 150 | E21: =SUM(F20+1) -> 653601 | F21: =SUM(E21+D21-1) -> 653750 | G21: 5 | I21: R4 | J21: =MOD(D21,25) -> 0
A22: 38-844 Nightmute | B22: 148 | C22: =SUM(B22*0.8) -> 118.4 | D22: =MROUND(C22, 25) -> 125 | E22: =SUM(F21+1) -> 653751 | F22: =SUM(E22+D22-1) -> 653875 | G22: 5 | I22: R4 | J22: =MOD(D22,25) -> 0
A23: 38-846 Nunapitchuk | B23: 328 | C23: =SUM(B23*0.8) -> 262.4 | D23: 175 | E23: =SUM(F22+1) -> 653876 | F23: =SUM(E23+D23-1) -> 654050 | G23: 5 | I23: R4 | J23: =MOD(D23,25) -> 0
A24: 38-848 Quinhagak | B24: 471 | C24: =SUM(B24*0.8) -> 376.8 | D24: 225 | E24: =SUM(F23+1) -> 654051 | F24: =SUM(E24+D24-1) -> 654275 | G24: 5 | I24: R4 | J24: =MOD(D24,25) -> 0
A25: 38-852 Toksook Bay | B25: 428 | C25: =SUM(B25*0.8) -> 342.4 | D25: 250 | E25: =SUM(F24+1) -> 654276 | F25: =SUM(E25+D25-1) -> 654525 | G25: 5 | I25: R4 | J25: =MOD(D25,25) -> 0
A26: 38-854 Tuluksak | B26: 256 | C26: =SUM(B26*0.8) -> 204.8 | D26: 175 | E26: =SUM(F25+1) -> 654526 | F26: =SUM(E26+D26-1) -> 654700 | G26: 5 | I26: R4 | J26: =MOD(D26,25) -> 0
A27: 38-856 Tuntutuliak | B27: 293 | C27: =SUM(B27*0.8) -> 234.4 | D27: 200 | E27: =SUM(F26+1) -> 654701 | F27: =SUM(E27+D27-1) -> 654900 | G27: 5 | I27: R4 | J27: =MOD(D27,25) -> 0
A28: 38-858 Tununak | B28: 243 | C28: =SUM(B28*0.8) -> 194.4 | D28: =MROUND(C28, 25) -> 200 | E28: =SUM(F27+1) -> 654901 | F28: =SUM(E28+D28-1) -> 655100 | G28: 5 | I28: R4 | J28: =MOD(D28,25) -> 0
A29: TOTAL PRECINCT BALLOTS HD38-JD4 | B29: =SUM(B5:B28) -> 10926 | D29: =SUM(D5:D28) -> 6350
A31: ABSENTEE OFFICIALS & STATIONS:
A32: ANCHORAGE
A33: 92-900 Anchorage Elections Office | D33: 200 | E33: =SUM(F28+1) -> 655101 | F33: =SUM(E33+D33-1) -> 655300 | G33: 15 | I33: R2 | J33: =MOD(D33,25) -> 0
A34: 92-902 Anchorage Airport | D34: 50 | E34: =SUM(F33+1) -> 655301 | F34: =SUM(E34+D34-1) -> 655350 | G34: 5 | I34: R2 | J34: =MOD(D34,25) -> 0
A35: 92-904 UAA | D35: 100 | E35: =SUM(F34+1) -> 655351 | F35: =SUM(E35+D35-1) -> 655450 | G35: 5 | I35: R2 | J35: =MOD(D35,25) -> 0
A36: 92-905 Anchorage City Hall | D36: 100 | E36: =SUM(F35+1) -> 655451 | F36: =SUM(E36+D36-1) -> 655550 | G36: 5 | I36: R2 | J36: =MOD(D36,25) -> 0
A37: 92-907 Cook Inlet Tribal Council | D37: 50 | E37: =SUM(F36+1) -> 655551 | F37: =SUM(E37+D37-1) -> 655600 | G37: 5 | I37: R2 | J37: =MOD(D37,25) -> 0
A39: MAT-SU
A40: 95-900 Mat-Su Elections Office | D40: 25 | E40: =SUM(F37+1) -> 655601 | F40: =SUM(E40+D40-1) -> 655625 | G40: 5 | I40: R5 | J40: =MOD(D40,25) -> 0
A42: FAIRBANKS
A43: 93-900 Fairbanks Elections Office | D43: 50 | E43: =SUM(F40+1) -> 655626 | F43: =SUM(E43+D43-1) -> 655675 | G43: 5 | I43: R3 | J43: =MOD(D43,25) -> 0
A44: 93-901 UAF | D44: 25 | E44: =SUM(F43+1) -> 655676 | F44: =SUM(E44+D44-1) -> 655700 | G44: 5 | I44: R3 | J44: =MOD(D44,25) -> 0
A46: JUNEAU
A47: 91-900 Juneau Elections Office | D47: 25 | E47: =SUM(F44+1) -> 655701 | F47: =SUM(E47+D47-1) -> 655725 | G47: 5 | I47: R1 | J47: =MOD(D47,25) -> 0
A48: 91-902 Juneau Downtown | D48: 25 | E48: =SUM(F47+1) -> 655726 | F48: =SUM(E48+D48-1) -> 655750 | G48: 5 | I48: R1 | J48: =MOD(D48,25) -> 0
A51: NOME
A52: 94-900 Nome Elections Office | D52: 25 | E52: =SUM(F48+1) -> 655751 | F52: =SUM(E52+D52-1) -> 655775 | G52: 25 | H52: 100 | I52: R4 | J52: =MOD(D52,25) -> 0
A53: 94-901 Prudhoe Bay Station | D53: 25 | E53: =SUM(F52+1) -> 655776 | F53: =SUM(E53+D53-1) -> 655800 | G53: 25 | I53: R4 | J53: =MOD(D53,25) -> 0
A54: 38-959 Platinum | D54: 100 | E54: =SUM(F53+1) -> 655801 | F54: =SUM(E54+D54-1) -> 655900 | G54: 5 | I54: R4 | J54: =MOD(D54,25) -> 0
A55: 38-960 Oscarville | D55: 100 | E55: =SUM(F54+1) -> 655901 | F55: =SUM(E55+D55-1) -> 656000 | G55: 5 | I55: R4 | J55: =MOD(D55,25) -> 0
A56: 38-962 Nunapitchuk | D56: 100 | E56: =SUM(F55+1) -> 656001 | F56: =SUM(E56+D56-1) -> 656100 | G56: 5 | I56: R4 | J56: =MOD(D56,25) -> 0
A57: 38-963 Quinhagak | D57: 100 | E57: =SUM(F56+1) -> 656101 | F57: =SUM(E57+D57-1) -> 656200 | G57: 5 | I57: R4 | J57: =MOD(D57,25) -> 0
A58: 38-964 Chefornak | D58: 100 | E58: =SUM(F57+1) -> 656201 | F58: =SUM(E58+D58-1) -> 656300 | G58: 5 | I58: R4 | J58: =MOD(D58,25) -> 0
A59: 38-967 Akiachak | D59: 100 | E59: =SUM(F58+1) -> 656301 | F59: =SUM(E59+D59-1) -> 656400 | G59: 5 | I59: R4 | J59: =MOD(D59,25) -> 0
A60: 38-969 Newtok | D60: 100 | E60: =SUM(F59+1) -> 656401 | F60: =SUM(E60+D60-1) -> 656500 | G60: 5 | I60: R4 | J60: =MOD(D60,25) -> 0
A61: 38-971 Kipnuk | D61: 100 | E61: =SUM(F60+1) -> 656501 | F61: =SUM(E61+D61-1) -> 656600 | G61: 5 | I61: R4 | J61: =MOD(D61,25) -> 0
