Workbook

Sheet Totals
A1: ALASKA 2024 GENERAL ELECTION TOTAL BALLOT ORDER, ALL DISTRICTS
B2: Ballot ID# | D2: Totals | E2: Checksum | F2: Difference | G2: Pad Checksums
B3: 1001 | C3: Federal Only | D3: ='Federal Only'!B6 -> 100 | E3: ='Federal Only'!B9 -> 100 | F3: =E3-D3 -> 0 | G3: ='Federal Only'!H9 -> 0
C4: Absentee | D4: ='Abs By Mail'!C49 -> 60050 | E4: ='Abs By Mail'!D51 -> 60050 | F4: =E4-D4 -> 0 | G4: ='Abs By Mail'!H49 -> 0
B5: 1000 | C5: HD1-JD1 | D5: ='HD1-JD1'!D46 -> 15100 | E5: ='HD1-JD1'!D49 -> 15100 | F5: =E5-D5 -> 0 | G5: ='HD1-JD1'!J46 -> 0
B6: 1011 | C6: HD2-JD1 | D6: ='HD2-JD1'!D64 -> 17950 | E6: ='HD2-JD1'!D67 -> 17950 | F6: =E6-D6 -> 0 | G6: ='HD2-JD1'!J64 -> 0
B7: 1012 | C7: HD3-JD1 | D7: ='HD3-JD1'!D44 -> 19625 | E7: ='HD3-JD1'!D47 -> 19625 | F7: =E7-D7 -> 0 | G7: ='HD3-JD1'!J44 -> 0
B8: 1013 | C8: HD4-JD1 | D8: ='HD4-JD1'!D38 -> 16650 | E8: ='HD4-JD1'!D41 -> 16650 | F8: =E8-D8 -> 0 | G8: ='HD4-JD1'!J38 -> 0
B9: 1014 | C9: HD5-JD3 | D9: ='HD5-JD3'!D51 -> 15875 | E9: ='HD5-JD3'!D54 -> 15875 | F9: =E9-D9 -> 0 | G9: ='HD5-JD3'!J51 -> 0
B10: 1016 | C10: HD6-JD3 | D10: ='HD6-JD3'!D44 -> 20200 | E10: ='HD6-JD3'!D46 -> 20200 | F10: =E10-D10 -> 0 | G10: ='HD6-JD3'!J44 -> 0
B11: 1017 | C11: HD7-JD3 | D11: ='HD7-JD3'!D40 -> 17450 | E11: ='HD7-JD3'!D42 -> 17450 | F11: =E11-D11 -> 0 | G11: ='HD7-JD3'!J11 -> 0
B12: 1018 | C12: HD8-JD3 | D12: ='HD8-JD3'!D45 -> 17425 | E12: ='HD8-JD3'!D47 -> 17425 | F12: =E12-D12 -> 0 | G12: ='HD8-JD3'!J45 -> 0
B13: 1019 | C13: HD9-JD3 | D13: ='HD9-JD3'!D40 -> 15725 | E13: ='HD9-JD3'!D43 -> 15725 | F13: =E13-D13 -> 0 | G13: ='HD9-JD3'!J40 -> 0
B14: 1020 | C14: HD10-JD3 | D14: ='HD10-JD3'!D36 -> 13650 | E14: ='HD10-JD3'!D39 -> 13650 | F14: =E14-D14 -> 0 | G14: ='HD10-JD3'!J36 -> 0
B15: 1021 | C15: HD11-JD3 | D15: ='HD11-JD3'!D37 -> 14575 | E15: ='HD11-JD3'!D40 -> 14575 | F15: =E15-D15 -> 0 | G15: ='HD11-JD3'!J37 -> 0
B16: 1022 | C16: HD12-JD3 | D16: ='HD12-JD3'!D36 -> 14375 | E16: ='HD12-JD3'!D39 -> 14375 | F16: =E16-D16 -> 0 | G16: ='HD12-JD3'!J36 -> 0
B17: 1023 | C17: HD13-JD3 | D17: ='HD13-JD3'!D35 -> 14325 | E17: ='HD13-JD3'!D38 -> 14325 | F17: =E17-D17 -> 0 | G17: ='HD13-JD3'!J35 -> 0
B18: 1024 | C18: HD14-JD3 | D18: ='HD14-JD3'!D37 -> 13875 | E18: ='HD14-JD3'!D40 -> 13875 | F18: =E18-D18 -> 0 | G18: ='HD14-JD3'!J37 -> 0
B19: 1025 | C19: HD15-JD3 | D19: ='HD15-JD3'!D36 -> 14575 | E19: ='HD15-JD3'!D39 -> 14575 | F19: =E19-D19 -> 0 | G19: ='HD15-JD3'!J36 -> 0
B20: 1026 | C20: HD16-JD3 | D20: ='HD16-JD3'!D37 -> 14675 | E20: ='HD16-JD3'!D40 -> 14675 | F20: =E20-D20 -> 0 | G20: ='HD16-JD3'!J37 -> 0
B21: 1027 | C21: HD17-JD3 | D21: ='HD17-JD3'!D37 -> 14375 | E21: ='HD17-JD3'!D40 -> 14375 | F21: =E21-D21 -> 0 | G21: ='HD17-JD3'!J37 -> 0
B22: 1028 | C22: HD18-JD3 | D22: ='HD18-JD3'!D35 -> 9675 | E22: ='HD18-JD3'!D38 -> 9675 | F22: =E22-D22 -> 0 | G22: ='HD18-JD3'!J35 -> 0
B23: 1029 | C23: HD19-JD3 | D23: ='HD19-JD3'!D35 -> 12725 | E23: ='HD19-JD3'!D38 -> 12725 | F23: =E23-D23 -> 0 | G23: ='HD19-JD3'!J35 -> 0
B24: 1030 | C24: HD20-JD3 | D24: ='HD20-JD3'!D35 -> 13500 | E24: ='HD20-JD3'!D38 -> 13500 | F24: =E24-D24 -> 0 | G24: ='HD20-JD3'!J35 -> 0
B25: 1031 | C25: HD21-JD3 | D25: ='HD21-JD3'!D35 -> 14425 | E25: ='HD21-JD3'!D38 -> 14425 | F25: =E25-D25 -> 0 | G25: ='HD21-JD3'!J35 -> 0
B26: 1032 | C26: HD22-JD3 | D26: ='HD22-JD3'!D34 -> 13325 | E26: ='HD22-JD3'!D37 -> 13325 | F26: =E26-D26 -> 0 | G26: ='HD22-JD3'!J34 -> 0
B27: 1033 | C27: HD23-JD3 | D27: ='HD23-JD3'!D37 -> 16275 | E27: ='HD23-JD3'!D40 -> 16275 | F27: =E27-D27 -> 0 | G27: ='HD23-JD3'!J37 -> 0
B28: 1034 | C28: HD24-JD3 | D28: ='HD24-JD3'!D38 -> 15675 | E28: ='HD24-JD3'!D41 -> 15675 | F28: =E28-D28 -> 0 | G28: ='HD24-JD3'!J38 -> 0
B29: 1035 | C29: HD25-JD3 | D29: ='HD25-JD3'!D38 -> 17300 | E29: ='HD25-JD3'!D41 -> 17300 | F29: =E29-D29 -> 0 | G29: ='HD25-JD3'!J38 -> 0
B30: 1036 | C30: HD26-JD3 | D30: ='HD26-JD3'!D38 -> 16725 | E30: ='HD26-JD3'!D41 -> 16725 | F30: =E30-D30 -> 0 | G30: ='HD26-JD3'!J38 -> 0
B31: 1037 | C31: HD27-JD3 | D31: ='HD27-JD3'!D36 -> 18650 | E31: ='HD27-JD3'!D39 -> 18650 | F31: =E31-D31 -> 0 | G31: ='HD27-JD3'!J36 -> 0
B32: 1038 | C32: HD28-JD3 | D32: ='HD28-JD3'!D38 -> 16600 | E32: ='HD28-JD3'!D41 -> 16600 | F32: =E32-D32 -> 0 | G32: ='HD28-JD3'!J38 -> 0
B33: 1039 | C33: HD29-JD3 | D33: ='HD29-JD3'!D41 -> 17100 | E33: ='HD29-JD3'!D44 -> 17100 | F33: =E33-D33 -> 0 | G33: ='HD29-JD3'!J41 -> 0
B34: 1041 | C34: HD30-JD3 | D34: ='HD30-JD3'!D42 -> 16925 | E34: ='HD30-JD3'!D45 -> 16925 | F34: =E34-D34 -> 0 | G34: ='HD30-JD3'!J42 -> 0
B35: 1040 | C35: HD30-JD4 | D35: ='HD30-JD4'!D36 -> 2125 | E35: ='HD30-JD4'!D39 -> 2125 | F35: =E35-D35 -> 0 | G35: ='HD30-JD4'!J36 -> 0
B36: 1042 | C36: HD31-JD4 | D36: ='HD31-JD4'!D34 -> 15200 | E36: ='HD31-JD4'!D37 -> 15200 | F36: =E36-D36 -> 0 | G36: ='HD31-JD4'!J34 -> 0
B37: 1043 | C37: HD32-JD4 | D37: ='HD32-JD4'!D34 -> 12350 | E37: ='HD32-JD4'!D37 -> 12350 | F37: =E37-D37 -> 0 | G37: ='HD32-JD4'!J34 -> 0
B38: 1044 | C38: HD33-JD4 | D38: ='HD33-JD4'!D36 -> 17825 | E38: ='HD33-JD4'!D39 -> 17825 | F38: =E38-D38 -> 0 | G38: ='HD33-JD4'!J36 -> 0
B39: 1045 | C39: HD34-JD4 | D39: ='HD34-JD4'!D38 -> 19000 | E39: ='HD34-JD4'!D40 -> 19000 | F39: =E39-D39 -> 0 | G39: ='HD34-JD4'!J38 -> 0
B40: 1046 | C40: HD35-JD4 | D40: ='HD35-JD4'!D38 -> 17275 | E40: ='HD35-JD4'!D39 -> 17275 | F40: =E40-D40 -> 0 | G40: ='HD35-JD4'!J38 -> 0
...

Sheet Test Deck Order
B1: ALASKA 2024 GENERAL ELECTION TEST DECK ORDER
A2: Ballot ID# | C2: Director's Office Test Deck Reverse Order | D2: Region I Test Deck Straight Order | E2: Region II Test Deck Straight Order | F2: Region III Test Deck Straight Order | G2: Region IV Test Deck Straight Order | H2: Region V Test Deck Straight Order
A3: =Totals!B5 -> 1000 | B3: HD1-JD1 | C3: 2 | D3: 4 | E3: 2 | F3: 1 | G3: 1 | H3: 1
A4: =Totals!B6 -> 1011 | B4: HD2-JD1 | C4: 2 | D4: 4 | E4: 2 | F4: 1 | G4: 1 | H4: 1
A5: =Totals!B7 -> 1012 | B5: HD3-JD1 | C5: 2 | D5: 4 | E5: 2 | F5: 1 | G5: 1 | H5: 1
A6: =Totals!B8 -> 1013 | B6: HD4-JD1 | C6: 2 | D6: 4 | E6: 2 | F6: 1 | G6: 1 | H6: 1
A7: =Totals!B9 -> 1014 | B7: HD5-JD3 | C7: 2 | D7: 4 | E7: 2 | F7: 1 | G7: 1 | H7: 1
A8: =Totals!B10 -> 1016 | B8: HD6-JD3 | C8: 2 | D8: 4 | E8: 2 | F8: 1 | G8: 1 | H8: 1
A9: =Totals!B11 -> 1017 | B9: HD7-JD3 | C9: 2 | D9: 1 | E9: 2 | F9: 1 | G9: 1 | H9: 4
A10: =Totals!B12 -> 1018 | B10: HD8-JD3 | C10: 2 | D10: 1 | E10: 2 | F10: 1 | G10: 1 | H10: 4
A11: =Totals!B13 -> 1019 | B11: HD9-JD3 | C11: 2 | D11: 1 | E11: 4 | F11: 1 | G11: 1 | H11: 1
A12: =Totals!B14 -> 1020 | B12: HD10-JD3 | C12: 2 | D12: 1 | E12: 4 | F12: 1 | G12: 1 | H12: 1
A13: =Totals!B15 -> 1021 | B13: HD11-JD3 | C13: 2 | D13: 1 | E13: 4 | F13: 1 | G13: 1 | H13: 1
A14: =Totals!B16 -> 1022 | B14: HD12-JD3 | C14: 2 | D14: 1 | E14: 4 | F14: 1 | G14: 1 | H14: 1
... A46: =Totals!B48 -> 1071 | B46: HD40-JD2 | C46: 2 | D46: 1 | E46: 2 | F46: 1 | G46: 3 | H46: 1
A47: =Totals!B3 -> 1001 | B47: Fed Overseas | C47: 2 | E47: 4
B48: Total Regions | C48: =SUM(C3:C47) -> 90 | D48: =SUM(D3:D47) -> 62 | E48: =SUM(E3:E47) -> 124 | F48: =SUM(F3:F47) -> 65 | G48: =SUM(G3:G47) -> 56 | H48: =SUM(H3:H47) -> 71
B49: Total Order | I49: =SUM(C48:H48) -> 468

Sheet Federal Only
A1: ALASKA 2024 GENERAL ELECTION FEDERAL ONLY BALLOTS
F2: BALLOT ID# | H2: =Totals!B3 -> 1001
B4: # | C4: Numbers | E4: Sample | F4: Fascimile
A5: CARD - SEQUENCE | B5: Ballots | C5: FROM | D5: TO | E5: Ballots | F5: Ballots | G5: Delivery | H5: Checksum
A6: Federal Ballot Only | B6: 100 | C6: 1 | D6: =SUM(C6+B6-1) -> 100 | G6: AP | H6: =MOD(B6,25) -> 0
F7: 400 | G7: R2
A9: Checksum: Sequence End - Start: | B9: =D6-C6+1 -> 100 | H9: =SUM(H6:H8) -> 0

Sheet Abs By Mail
B1: ALASKA 2024 GENERAL ELECTION BALLOT ORDER ABSENTEE BY MAIL
D2: Numbers
A3: BALLOT ID# | B3: CARD - SEQUENCE | C3: # Ballots | D3: FROM | E3: TO | F3: Delivery | G3: # Registered | H3: Checksum
A4: =Totals!B5 -> 1000 | B4: HD1-JD1 | C4: 1150 | D4: =SUM('Federal Only'!D6)+1 -> 101 | E4: =SUM(C4+D4-1) -> 1250 | F4: AP | G4: ='HD1-JD1'!B15 -> 15252 | H4: =MOD(C4,25) -> 0
A5: =Totals!B6 -> 1011 | B5: HD2-JD1 | C5: 1500 | D5: =SUM(E4+1) -> 1251 | E5: =SUM(D5+C5-1) -> 2750 | F5: AP | G5: ='HD2-JD1'!B20 -> 16002 | H5: =MOD(C5,25) -> 0
A6: =Totals!B7 -> 1012 | B6: HD3-JD1 | C6: 1700 | D6: =SUM(E5+1) -> 2751 | E6: =SUM(D6+C6-1) -> 4450 | F6: AP | G6: ='HD3-JD1'!B15 -> 16915 | H6: =MOD(C6,25) -> 0
A7: =Totals!B8 -> 1013 | B7: HD4-JD1 | C7: 1750 | D7: =SUM(E6+1) -> 4451 | E7: =SUM(D7+C7-1) -> 6200 | F7: AP | G7: ='HD4-JD1'!B13 -> 15259 | H7: =MOD(C7,25) -> 0
A8: =Totals!B9 -> 1014 | B8: HD5-JD3 | C8: 1000 | D8: =SUM(E7+1) -> 6201 | E8: =SUM(D8+C8-1) -> 7200 | F8: AP | G8: ='HD5-JD3'!B17 -> 14102 | H8: =MOD(C8,25) -> 0
A9: =Totals!B10 -> 1016 | B9: HD6-JD3 | C9: 2500 | D9: =SUM(E8+1) -> 7201 | E9: =SUM(D9+C9-1) -> 9700 | F9: AP | G9: ='HD6-JD3'!B14 -> 18292 | H9: =MOD(C9,25) -> 0
A10: =Totals!B11 -> 1017 | B10: HD7-JD3 | C10: 1700 | D10: =SUM(E9+1) -> 9701 | E10: =SUM(D10+C10-1) -> 11400 | F10: AP | G10: ='HD7-JD3'!B11 -> 16894 | H10: =MOD(C10,25) -> 0
A11: =Totals!B12 -> 1018 | B11: HD8-JD3 | C11: 2100 | D11: =SUM(E10+1) -> 11401 | E11: =SUM(D11+C11-1) -> 13500 | F11: AP | G11: ='HD8-JD3'!B16 -> 17361 | H11: =MOD(C11,25) -> 0
A12: =Totals!B13 -> 1019 | B12: HD9-JD3 | C12: 3350 | D12: =SUM(E11+1) -> 13501 | E12: =SUM(D12+C12-1) -> 16850 | F12: AP | G12: ='HD9-JD3'!B14 -> 16315 | H12: =MOD(C12,25) -> 0
A13: =Totals!B14 -> 1020 | B13: HD10-JD3 | C13: 2100 | D13: =SUM(E12+1) -> 16851 | E13: =SUM(D13+C13-1) -> 18950 | F13: AP | G13: ='HD10-JD3'!B11 -> 15282 | H13: =MOD(C13,25) -> 0
A14: =Totals!B15 -> 1021 | B14: HD11-JD3 | C14: 2550 | D14: =SUM(E13+1) -> 18951 | E14: =SUM(D14+C14-1) -> 21500 | F14: AP | G14: ='HD11-JD3'!B12 -> 15325 | H14: =MOD(C14,25) -> 0
A15: =Totals!B16 -> 1022 | B15: HD12-JD3 | C15: 1850 | D15: =SUM(E14+1) -> 21501 | E15: =SUM(D15+C15-1) -> 23350 | F15: AP | G15: ='HD12-JD3'!B11 -> 15287 | H15: =MOD(C15,25) -> 0
A16: =Totals!B17 -> 1023 | B16: HD13-JD3 | C16: 1500 | D16: =SUM(E15+1) -> 23351 | E16: =SUM(D16+C16-1) -> 24850 | F16: AP | G16: ='HD13-JD3'!B10 -> 15426 | H16: =MOD(C16,25) -> 0
A17: =Totals!B18 -> 1024 | B17: HD14-JD3 | C17: 1850 | D17: =SUM(E16+1) -> 24851 | E17: =SUM(D17+C17-1) -> 26700 | F17: AP | G17: ='HD14-JD3'!B12 -> 14771 | H17: =MOD(C17,25) -> 0
A18: =Totals!B19 -> 1025 | B18: HD15-JD3 | C18: 2250 | D18: =SUM(E17+1) -> 26701 | E18: =SUM(D18+C18-1) -> 28950 | F18: AP | G18: ='HD15-JD3'!B11 -> 15618 | H18: =MOD(C18,25) -> 0
A19: =Totals!B20 -> 1026 | B19: HD16-JD3 | C19: 2350 | D19: =SUM(E18+1) -> 28951 | E19: =SUM(D19+C19-1) -> 31300 | F19: AP | G19: ='HD16-JD3'!B12 -> 15885 | H19: =MOD(C19,25) -> 0
A20: =Totals!B21 -> 1027 | B20: HD17-JD3 | C20: 2100 | D20: =SUM(E19+1) -> 31301 | E20: =SUM(D20+C20-1) -> 33400 | F20: AP | G20: ='HD17-JD3'!B12 -> 15184 | H20: =MOD(C20,25) -> 0
A21: =Totals!B22 -> 1028 | B21: HD18-JD3 | C21: 700 | D21: =SUM(E20+1) -> 33401 | E21: =SUM(D21+C21-1) -> 34100 | F21: AP | G21: ='HD18-JD3'!B10 -> 12104 | H21: =MOD(C21,25) -> 0
A22: =Totals!B23 -> 1029 | B22: HD19-JD3 | C22: 1050 | D22: =SUM(E21+1) -> 34101 | E22: =SUM(D22+C22-1) -> 35150 | F22: AP | G22: ='HD19-JD3'!B10 -> 13467 | H22: =MOD(C22,25) -> 0
A23: =Totals!B24 -> 1030 | B23: HD20-JD3 | C23: 1600 | D23: =SUM(E22+1) -> 35151 | E23: =SUM(D23+C23-1) -> 36750 | F23: AP | G23: ='HD20-JD3'!B10 -> 14364 | H23: =MOD(C23,25) -> 0
A24: =Totals!B25 -> 1031 | B24: HD21-JD3 | C24: 2250 | D24: =SUM(E23+1) -> 36751 | E24: =SUM(D24+C24-1) -> 39000 | F24: AP | G24: ='HD21-JD3'!B10 -> 15933 | H24: =MOD(C24,25) -> 0
A25: =Totals!B26 -> 1032 | B25: HD22-JD3 | C25: 1000 | D25: =SUM(E24+1) -> 39001 | E25: =SUM(D25+C25-1) -> 40000 | F25: AP | G25: ='HD22-JD3'!B9 -> 14600 | H25: =MOD(C25,25) -> 0
A26: =Totals!B27 -> 1033 | B26: HD23-JD3 | C26: 2300 | D26: =SUM(E25+1) -> 40001 | E26: =SUM(D26+C26-1) -> 42300 | F26: AP | G26: ='HD23-JD3'!B11 -> 16793 | H26: =MOD(C26,25) -> 0
A27: =Totals!B28 -> 1034 | B27: HD24-JD3 | C27: 1850 | D27: =SUM(E26+1) -> 42301 | E27: =SUM(D27+C27-1) -> 44150 | F27: AP | G27: ='HD24-JD3'!B12 -> 16036 | H27: =MOD(C27,25) -> 0
A28: =Totals!B29 -> 1035 | B28: HD25-JD3 | C28: 1450 | D28: =SUM(E27+1) -> 44151 | E28: =SUM(D28+C28-1) -> 45600 | F28: AP | G28: ='HD25-JD3'!B12 -> 16789 | H28: =MOD(C28,25) -> 0
A29: =Totals!B30 -> 1036 | B29: HD26-JD3 | C29: 1150 | D29: =SUM(E28+1) -> 45601 | E29: =SUM(D29+C29-1) -> 46750 | F29: AP | G29: ='HD26-JD3'!B12 -> 16315 | H29: =MOD(C29,25) -> 0
A30: =Totals!B31 -> 1037 | B30: HD27-JD3 | C30: 1100 | D30: =SUM(E29+1) -> 46751 | E30: =SUM(D30+C30-1) -> 47850 | F30: AP | G30: ='HD27-JD3'!B10 -> 16588 | H30: =MOD(C30,25) -> 0
A31: =Totals!B32 -> 1038 | B31: HD28-JD3 | C31: 1250 | D31: =SUM(E30+1) -> 47851 | E31: =SUM(D31+C31-1) -> 49100 | F31: AP | G31: ='HD28-JD3'!B12 -> 16272 | H31: =MOD(C31,25) -> 0
A32: =Totals!B33 -> 1039 | B32: HD29-JD3 | C32: 1500 | D32: =SUM(E31+1) -> 49101 | E32: =SUM(D32+C32-1) -> 50600 | F32: AP | G32: ='HD29-JD3'!B14 -> 16746 | H32: =MOD(C32,25) -> 0
A33: =Totals!B34 -> 1041 | B33: HD30-JD3 | C33: 1500 | D33: =SUM(E32+1) -> 50601 | E33: =SUM(D33+C33-1) -> 52100 | F33: AP | G33: ='HD30-JD3'!B13 -> 15521 | H33: =MOD(C33,25) -> 0
A34: =Totals!B35 -> 1040 | B34: HD30-JD4 | C34: 350 | D34: =SUM(E33+1) -> 52101 | E34: =SUM(D34+C34-1) -> 52450 | F34: AP | G34: ='HD30-JD4'!B9 -> 1827 | H34: =MOD(C34,25) -> 0
A35: =Totals!B36 -> 1042 | B35: HD31-JD4 | C35: 1000 | D35: =SUM(E34+1) -> 52451 | E35: =SUM(D35+C35-1) -> 53450 | F35: AP | G35: ='HD31-JD4'!B9 -> 14466 | H35: =MOD(C35,25) -> 0
A36: =Totals!B37 -> 1043 | B36: HD32-JD4 | C36: 550 | D36: =SUM(E35+1) -> 53451 | E36: =SUM(D36+C36-1) -> 54000 | F36: AP | G36: ='HD32-JD4'!B9 -> 11528 | H36: =MOD(C36,25) -> 0
A37: =Totals!B38 -> 1044 | B37: HD33-JD4 | C37: 900 | D37: =SUM(E36+1) -> 54001 | E37: =SUM(D37+C37-1) -> 54900 | F37: AP | G37: ='HD33-JD4'!B11 -> 16472 | H37: =MOD(C37,25) -> 0
A38: =Totals!B39 -> 1045 | B38: HD34-JD4 | C38: 1400 | D38: =SUM(E37+1) -> 54901 | E38: =SUM(D38+C38-1) -> 56300 | F38: AP | G38: ='HD34-JD4'!B13 -> 16091 | H38: =MOD(C38,25) -> 0
A39: =Totals!B40 -> 1046 | B39: HD35-JD4 | C39: 1400 | D39: =SUM(E38+1) -> 56301 | E39: =SUM(D39+C39-1) -> 57700 | F39: AP | G39: ='HD35-JD4'!B13 -> 15796 | H39: =MOD(C39,25) -> 0
A40: =Totals!B41 -> 1048 | B40: HD36-JD3 | C40: 500 | D40: =SUM(E39+1) -> 57701 | E40: =SUM(D40+C40-1) -> 58200 | F40: AP | G40: ='HD36-JD4'!B39 -> 13449 | H40: =MOD(C40,25) -> 0
...

Sheet HD1-JD1
H1: BALLOT ID# | J1: =Totals!B5 -> 1000
B3: # REGIS- | D3: # | E3: Numbers | G3: Sample | H3: Fascimile
A4: DISTRICT / PRECINCT | B4: TERED | D4: Ballots | E4: FROM | F4: TO | G4: Ballots | H4: Ballots | I4: Delivery | J4: Check
A5: 01-600 Ketchikan No. 1 | B5: 2285 | C5: =SUM(B5*0.8) -> 1828 | D5: =MROUND(C5, 25) -> 1825 | E5: =SUM('Abs By Mail'!E47,1) -> 60151 | F5: =SUM(E5+D5-1) -> 61975 | G5: 25 | I5: R1 | J5: =MOD(D5,25) -> 0
A6: 01-610 Ketchikan No. 2 | B6: 2587 | C6: =SUM(B6*0.8) -> 2069.6 | D6: =MROUND(C6, 25) -> 2075 | E6: =SUM(F5+1) -> 61976 | F6: =SUM(E6+D6-1) -> 64050 | G6: 25 | I6: R1 | J6: =MOD(D6,25) -> 0
A7: 01-620 Ketchikan No. 3 | B7: 1769 | C7: =SUM(B7*0.8) -> 1415.2 | D7: =MROUND(C7, 25) -> 1425 | E7: =SUM(F6+1) -> 64051 | F7: =SUM(E7+D7-1) -> 65475 | G7: 25 | I7: R1 | J7: =MOD(D7,25) -> 0
A8: 01-640 North Tongass No. 1 | B8: 1107 | C8: =SUM(B8*0.8) -> 885.6 | D8: =MROUND(C8, 25) -> 875 | E8: =SUM(F7+1) -> 65476 | F8: =SUM(E8+D8-1) -> 66350 | G8: 25 | I8: R1 | J8: =MOD(D8,25) -> 0
A9: 01-650 North Tongass No. 2 | B9: 1898 | C9: =SUM(B9*0.8) -> 1518.4 | D9: =MROUND(C9, 25) -> 1525 | E9: =SUM(F8+1) -> 66351 | F9: =SUM(E9+D9-1) -> 67875 | G9: 25 | I9: R1 | J9: =MOD(D9,25) -> 0
A10: 01-660 Saxman | B10: 308 | C10: =SUM(B10*0.8) -> 246.4 | D10: =MROUND(C10, 25) -> 250 | E10: =SUM(F9+1) -> 67876 | F10: =SUM(E10+D10-1) -> 68125 | G10: 25 | I10: R1 | J10: =MOD(D10,25) -> 0
A11: 01-670 South Tongass | B11: 1993 | C11: =SUM(B11*0.8) -> 1594.4 | D11: =MROUND(C11, 25) -> 1600 | E11: =SUM(F10+1) -> 68126 | F11: =SUM(E11+D11-1) -> 69725 | G11: 25 | I11: R1 | J11: =MOD(D11,25) -> 0
A12: 01-675 Coffman Cove | B12: 329 | C12: =SUM(B12*0.8) -> 263.2 | D12: =MROUND(C12, 25) -> 275 | E12: =SUM(F11+1) -> 69726 | F12: =SUM(E12+D12-1) -> 70000 | G12: 25 | I12: R1 | J12: =MOD(D12,25) -> 0
A13: 01-680 Metlakatla | B13: 1035 | C13: =SUM(B13*0.8) -> 828 | D13: =MROUND(C13, 25) -> 825 | E13: =SUM(F12+1) -> 70001 | F13: =SUM(E13+D13-1) -> 70825 | G13: 25 | I13: R1 | J13: =MOD(D13,25) -> 0
A14: 01-690 Wrangell | B14: 1941 | C14: =SUM(B14*0.8) -> 1552.8 | D14: =MROUND(C14, 25) -> 1550 | E14: =SUM(F13+1) -> 70826 | F14: =SUM(E14+D14-1) -> 72375 | G14: 25 | I14: R1 | J14: =MOD(D14,25) -> 0
A15: TOTAL PRECINCT BALLOTS HD1-JD1 | B15: =SUM(B5:B14) -> 15252 | D15: =SUM(D5:D14) -> 12225
A17: ABSENTEE OFFICIALS & STATIONS:
A18: ANCHORAGE
A19: 92-900 Anchorage Elections Office | D19: 100 | E19: =SUM(F14+1) -> 72376 | F19: =SUM(E19+D19-1) -> 72475 | G19: 10 | I19: R2 | J19: =MOD(D19,25) -> 0
A20: 92-902 Anchorage Airport | D20: 25 | E20: =SUM(F19+1) -> 72476 | F20: =SUM(E20+D20-1) -> 72500 | G20: 5 | I20: R2 | J20: =MOD(D20,25) -> 0
A21: 92-904 UAA | D21: 50 | E21: =SUM(F20+1) -> 72501 | F21: =SUM(E21+D21-1) -> 72550 | G21: 5 | I21: R2 | J21: =MOD(D21,25) -> 0
A22: 92-905 Anchorage City Hall | D22: 50 | E22: =SUM(F21+1) -> 72551 | F22: =SUM(E22+D22-1) -> 72600 | G22: 5 | I22: R2 | J22: =MOD(D22,25) -> 0
A23: 92-907 Cook Inlet Tribal Council | D23: 25 | E23: =SUM(F22+1) -> 72601 | F23: =SUM(E23+D23-1) -> 72625 | G23: 5 | I23: R2 | J23: =MOD(D23,25) -> 0
A25: MAT-SU
A26: 95-900 Mat-Su Elections Office | D26: 25 | E26: =SUM(F23+1) -> 72626 | F26: =SUM(E26+D26-1) -> 72650 | G26: 5 | I26: R5 | J26: =MOD(D26,25) -> 0
A28: FAIRBANKS
A29: 93-900 Fairbanks Elections Office | D29: 50 | E29: =SUM(F26+1) -> 72651 | F29: =SUM(E29+D29-1) -> 72700 | G29: 5 | I29: R3 | J29: =MOD(D29,25) -> 0
A30: 93-901 UAF | D30: 25 | E30: =SUM(F29+1) -> 72701 | F30: =SUM(E30+D30-1) -> 72725 | G30: 5 | I30: R3 | J30: =MOD(D30,25) -> 0
A32: JUNEAU
A33: 91-900 Juneau Elections Office | D33: 100 | E33: =SUM(F30+1) -> 72726 | F33: =SUM(E33+D33-1) -> 72825 | G33: 5 | H33: 175 | I33: R1 | J33: =MOD(D33,25) -> 0
A34: 91-902 Juneau Downtown | D34: 75 | E34: =SUM(F33+1) -> 72826 | F34: =SUM(E34+D34-1) -> 72900 | G34: 5 | I34: R1 | J34: =MOD(D34,25) -> 0
A35: 01-920 Coffman Cove AVO | D35: 50 | E35: =SUM(F34+1) -> 72901 | F35: =SUM(E35+D35-1) -> 72950 | G35: 5 | I35: R1 | J35: =MOD(D35,25) -> 0
A36: 01-922 Hyder AVO | D36: 50 | E36: =SUM(F35+1) -> 72951 | F36: =SUM(E36+D36-1) -> 73000 | G36: 5 | I36: R1 | J36: =MOD(D36,25) -> 0
A37: 01-924 Ketchikan AVO | D37: 1600 | E37: =SUM(F36+1) -> 73001 | F37: =SUM(E37+D37-1) -> 74600 | G37: 100 | I37: R1 | J37: =MOD(D37,25) -> 0
A38: 01-926 Metlakatla AVO | D38: 75 | E38: =SUM(F37+1) -> 74601 | F38: =SUM(E38+D38-1) -> 74675 | G38: 10 | I38: R1 | J38: =MOD(D38,25) -> 0
A39: 01-928 Whale Pass AVO | D39: 100 | E39: =SUM(F38+1) -> 74676 | F39: =SUM(E39+D39-1) -> 74775 | G39: 5 | I39: R1 | J39: =MOD(D39,25) -> 0
A40: 01-930 Wrangell AVO | D40: 425 | E40: =SUM(F39+1) -> 74776 | F40: =SUM(E40+D40-1) -> 75200 | G40: 50 | I40: R1 | J40: =MOD(D40,25) -> 0
A42: NOME
A43: 94-900 Nome Elections Office | D43: 25 | E43: =SUM(F40+1) -> 75201 | F43: =SUM(E43+D43-1) -> 75225 | G43: 5 | I43: R4 | J43: =MOD(D43,25) -> 0
A44: 94-901 Prudhoe Bay Station | D44: 25 | E44: =SUM(F43+1) -> 75226 | F44: =SUM(E44+D44-1) -> 75250 | G44: 5 | I44: R4 | J44: =MOD(D44,25) -> 0
A45: TOTAL ABSENTEE BALLOTS HD1-JD1 | D45: =SUM(D19:D44) -> 2875
A46: TOTAL HD1-JD1 BALLOTS | D46: =D15+D45 -> 15100 | G46: =SUM(G5:G44) -> 490 | H46: =SUM(H5:H45) -> 175 | J46: =SUM(J5:J45) -> 0
...

Sheet HD2-JD1
H1: BALLOT ID# | J1: =Totals!B6 -> 1011
B3: # REGIS- | D3: # | E3: Numbers | G3: Sample | H3: Fascimile
A4: DISTRICT / PRECINCT | B4: TERED | D4: Ballots | E4: FROM | F4: TO | G4: Ballots | H4: Ballots | I4: Delivery | J4: Check
A5: 02-700 Angoon | B5: 305 | C5: =SUM(B5*0.8) -> 244 | D5: 275 | E5: =SUM('HD1-JD1'!F44)+1 -> 75251 | F5: =SUM(E5+D5-1) -> 75525 | G5: 25 | I5: R1 | J5: =MOD(D5,25) -> 0
A6: 02-705 Craig | B6: 1198 | C6: =SUM(B6*0.8) -> 958.4 | D6: 800 | E6: =SUM(F5+1) -> 75526 | F6: =SUM(E6+D6-1) -> 76325 | G6: 25 | I6: R1 | J6: =MOD(D6,25) -> 0
A7: 02-720 Hoonah | B7: 683 | C7: =SUM(B7*0.8) -> 546.4 | D7: =MROUND(C7, 25) -> 550 | E7: =SUM(F6+1) -> 76326 | F7: =SUM(E7+D7-1) -> 76875 | G7: 25 | I7: R1 | J7: =MOD(D7,25) -> 0
A8: 02-725 Hydaburg | B8: 281 | C8: =SUM(B8*0.8) -> 224.8 | D8: =MROUND(C8, 25) -> 225 | E8: =SUM(F7+1) -> 76876 | F8: =SUM(E8+D8-1) -> 77100 | G8: 25 | I8: R1 | J8: =MOD(D8,25) -> 0
A9: 02-730 Kake | B9: 350 | C9: =SUM(B9*0.8) -> 280 | D9: =MROUND(C9, 25) -> 275 | E9: =SUM(F8+1) -> 77101 | F9: =SUM(E9+D9-1) -> 77375 | G9: 25 | I9: R1 | J9: =MOD(D9,25) -> 0
A10: 02-735 Kasaan | B10: 57 | C10: =SUM(B10*0.8) -> 45.6 | D10: =MROUND(C10, 25) -> 50 | E10: =SUM(F9+1) -> 77376 | F10: =SUM(E10+D10-1) -> 77425 | G10: 10 | I10: R1 | J10: =MOD(D10,25) -> 0
A11: 02-740 Klawock | B11: 1324 | C11: =SUM(B11*0.8) -> 1059.2 | D11: =MROUND(C11, 25) -> 1050 | E11: =SUM(F10+1) -> 77426 | F11: =SUM(E11+D11-1) -> 78475 | G11: 25 | I11: R1 | J11: =MOD(D11,25) -> 0
A12: 02-750 Pelican-Elfin Cove | B12: 151 | C12: =SUM(B12*0.8) -> 120.8 | D12: =MROUND(C12, 25) -> 125 | E12: =SUM(F11+1) -> 78476 | F12: =SUM(E12+D12-1) -> 78600 | G12: 10 | I12: R1 | J12: =MOD(D12,25) -> 0
A13: 02-755 Petersburg-Kupreanof | B13: 3011 | C13: =SUM(B13*0.8) -> 2408.8 | D13: =MROUND(C13, 25) -> 2400 | E13: =SUM(F12+1) -> 78601 | F13: =SUM(E13+D13-1) -> 81000 | G13: 50 | I13: R1 | J13: =MOD(D13,25) -> 0
A14: 02-760 Port Alexander | B14: 47 | C14: =SUM(B14*0.8) -> 37.6 | D14: =MROUND(C14, 25) -> 50 | E14: =SUM(F13+1) -> 81001 | F14: =SUM(E14+D14-1) -> 81050 | G14: 10 | I14: R1 | J14: =MOD(D14,25) -> 0
A15: 02-765 Sitka No. 1 | B15: 3618 | C15: =SUM(B15*0.8) -> 2894.4 | D15: =MROUND(C15, 25) -> 2900 | E15: =SUM(F14+1) -> 81051 | F15: =SUM(E15+D15-1) -> 83950 | G15: 75 | I15: R1 | J15: =MOD(D15,25) -> 0
A16: 02-770 Sitka No. 2 | B16: 3803 | C16: =SUM(B16*0.8) -> 3042.4 | D16: =MROUND(C16, 25) -> 3050 | E16: =SUM(F15+1) -> 83951 | F16: =SUM(E16+D16-1) -> 87000 | G16: 75 | I16: R1 | J16: =MOD(D16,25) -> 0
A17: 02-775 Tenakee Springs | B17: 124 | C17: =SUM(B17*0.8) -> 99.2 | D17: =MROUND(C17, 25) -> 100 | E17: =SUM(F16+1) -> 87001 | F17: =SUM(E17+D17-1) -> 87100 | G17: 25 | I17: R1 | J17: =MOD(D17,25) -> 0
A18: 02-780 Thorne Bay | B18: 554 | C18: =SUM(B18*0.8) -> 443.2 | D18: =MROUND(C18, 25) -> 450 | E18: =SUM(F17+1) -> 87101 | F18: =SUM(E18+D18-1) -> 87550 | G18: 25 | I18: R1 | J18: =MOD(D18,25) -> 0
A19: 02-785 Yakutat | B19: 496 | C19: =SUM(B19*0.8) -> 396.8 | D19: =MROUND(C19, 25) -> 400 | E19: =SUM(F18+1) -> 87551 | F19: =SUM(E19+D19-1) -> 87950 | G19: 25 | I19: R1 | J19: =MOD(D19,25) -> 0
A20: TOTAL PRECINCT BALLOTS HD2-JD1 | B20: =SUM(B5:B19) -> 16002 | D20: =SUM(D5:D19) -> 12700
A22: ABSENTEE OFFICIALS & STATIONS:
A23: ANCHORAGE
A24: 92-900 Anchorage Elections Office | D24: 100 | E24: =SUM(F19+1) -> 87951 | F24: =SUM(E24+D24-1) -> 88050 | G24: 10 | I24: R2 | J24: =MOD(D24,25) -> 0
A25: 92-902 Anchorage Airport | D25: 25 | E25: =SUM(F24+1) -> 88051 | F25: =SUM(E25+D25-1) -> 88075 | G25: 5 | I25: R2 | J25: =MOD(D25,25) -> 0
A26: 92-904 UAA | D26: 50 | E26: =SUM(F25+1) -> 88076 | F26: =SUM(E26+D26-1) -> 88125 | G26: 5 | I26: R2 | J26: =MOD(D26,25) -> 0
A27: 92-905 Anchorage City Hall | D27: 50 | E27: =SUM(F26+1) -> 88126 | F27: =SUM(E27+D27-1) -> 88175 | G27: 5 | I27: R2 | J27: =MOD(D27,25) -> 0
A28: 92-907 Cook Inlet Tribal Council | D28: 25 | E28: =SUM(F27+1) -> 88176 | F28: =SUM(E28+D28-1) -> 88200 | G28: 5 | I28: R2 | J28: =MOD(D28,25) -> 0
A30: MAT-SU
A31: 95-900 Mat-Su Elections Office | D31: 25 | E31: =SUM(F28+1) -> 88201 | F31: =SUM(E31+D31-1) -> 88225 | G31: 5 | I31: R5 | J31: =MOD(D31,25) -> 0
A33: FAIRBANKS
A34: 93-900 Fairbanks Elections Office | D34: 50 | E34: =SUM(F31+1) -> 88226 | F34: =SUM(E34+D34-1) -> 88275 | G34: 5 | I34: R3 | J34: =MOD(D34,25) -> 0
A35: 93-901 UAF | D35: 25 | E35: =SUM(F34+1) -> 88276 | F35: =SUM(E35+D35-1) -> 88300 | G35: 5 | I35: R3 | J35: =MOD(D35,25) -> 0
A37: JUNEAU
A38: 91-900 Juneau Elections Office | D38: 150 | E38: =SUM(F35+1) -> 88301 | F38: =SUM(E38+D38-1) -> 88450 | G38: 25 | H38: 175 | I38: R1 | J38: =MOD(D38,25) -> 0
A39: 91-902 Juneau Downtown | D39: 150 | E39: =SUM(F38+1) -> 88451 | F39: =SUM(E39+D39-1) -> 88600 | G39: 25 | I39: R1 | J39: =MOD(D39,25) -> 0
A40: 02-932 Angoon AVO | D40: 75 | E40: =SUM(F39+1) -> 88601 | F40: =SUM(E40+D40-1) -> 88675 | G40: 25 | I40: R1 | J40: =MOD(D40,25) -> 0
A41: 02-934 Craig AVO | D41: 150 | E41: =SUM(F40+1) -> 88676 | F41: =SUM(E41+D41-1) -> 88825 | G41: 25 | I41: R1 | J41: =MOD(D41,25) -> 0
A42: 02-936 Elfin Cove AVO | D42: 50 | E42: =SUM(F41+1) -> 88826 | F42: =SUM(E42+D42-1) -> 88875 | G42: 10 | I42: R1 | J42: =MOD(D42,25) -> 0
A43: 02-938 Hollis AVO | D43: 100 | E43: =SUM(F42+1) -> 88876 | F43: =SUM(E43+D43-1) -> 88975 | G43: 15 | I43: R1 | J43: =MOD(D43,25) -> 0
A44: 02-940 Hoonah AVO | D44: 100 | E44: =SUM(F43+1) -> 88976 | F44: =SUM(E44+D44-1) -> 89075 | G44: 25 | I44: R1 | J44: =MOD(D44,25) -> 0
A45: 02-942 Hydaburg AVO | D45: 50 | E45: =SUM(F44+1) -> 89076 | F45: =SUM(E45+D45-1) -> 89125 | G45: 15 | I45: R1 | J45: =MOD(D45,25) -> 0
...

Sheet HD3-JD1
H1: BALLOT ID# | J1: =Totals!B7 -> 1012
B3: # REGIS- | D3: # | E3: Numbers | G3: Sample | H3: Fascimile
A4: DISTRICT / PRECINCT | B4: TERED | D4: Ballots | E4: FROM | F4: TO | G4: Ballots | H4: Ballots | I4: Delivery | J4: Check
A5: 03-300 Auke Bay | B5: 2050 | C5: =SUM(B5*0.8) -> 1640 | D5: =MROUND(C5, 25) -> 1650 | E5: =SUM('HD2-JD1'!F62,1) -> 93201 | F5: =SUM(E5+D5-1) -> 94850 | G5: 75 | I5: R1 | J5: =MOD(D5,25) -> 0
A6: 03-305 Lynn Canal | B6: 1397 | C6: =SUM(B6*0.8) -> 1117.6 | D6: =MROUND(C6, 25) -> 1125 | E6: =SUM(F5+1) -> 94851 | F6: =SUM(E6+D6-1) -> 95975 | G6: 75 | I6: R1 | J6: =MOD(D6,25) -> 0
A7: 03-310 Melvin Park | B7: 2308 | C7: =SUM(B7*0.8) -> 1846.4 | D7: =MROUND(C7, 25) -> 1850 | E7: =SUM(F6+1) -> 95976 | F7: =SUM(E7+D7-1) -> 97825 | G7: 75 | I7: R1 | J7: =MOD(D7,25) -> 0
A8: 03-315 Mendenhall Glacier | B8: 3353 | C8: =SUM(B8*0.8) -> 2682.4 | D8: =MROUND(C8, 25) -> 2675 | E8: =SUM(F7+1) -> 97826 | F8: =SUM(E8+D8-1) -> 100500 | G8: 75 | I8: R1 | J8: =MOD(D8,25) -> 0
A9: 03-320 Thunder Mountain | B9: 3534 | C9: =SUM(B9*0.8) -> 2827.2 | D9: =MROUND(C9, 25) -> 2825 | E9: =SUM(F8+1) -> 100501 | F9: =SUM(E9+D9-1) -> 103325 | G9: 75 | I9: R1 | J9: =MOD(D9,25) -> 0
A10: 03-325 Gustavus | B10: 574 | C10: =SUM(B10*0.8) -> 459.2 | D10: =MROUND(C10, 25) -> 450 | E10: =SUM(F9+1) -> 103326 | F10: =SUM(E10+D10-1) -> 103775 | G10: 50 | I10: R1 | J10: =MOD(D10,25) -> 0
A11: 03-330 Haines No. 1 | B11: 2123 | C11: =SUM(B11*0.8) -> 1698.4 | D11: =MROUND(C11, 25) -> 1700 | E11: =SUM(F10+1) -> 103776 | F11: =SUM(E11+D11-1) -> 105475 | G11: 50 | I11: R1 | J11: =MOD(D11,25) -> 0
A12: 03-335 Haines No. 2 | B12: 311 | C12: =SUM(B12*0.8) -> 248.8 | D12: =MROUND(C12, 25) -> 250 | E12: =SUM(F11+1) -> 105476 | F12: =SUM(E12+D12-1) -> 105725 | G12: 25 | I12: R1 | J12: =MOD(D12,25) -> 0
A13: 03-340 Klukwan | B13: 72 | C13: =SUM(B13*0.8) -> 57.6 | D13: 75 | E13: =SUM(F12+1) -> 105726 | F13: =SUM(E13+D13-1) -> 105800 | G13: 25 | I13: R1 | J13: =MOD(D13,25) -> 0
A14: 03-345 Skagway | B14: 1193 | C14: =SUM(B14*0.8) -> 954.4 | D14: =MROUND(C14, 25) -> 950 | E14: =SUM(F13+1) -> 105801 | F14: =SUM(E14+D14-1) -> 106750 | G14: 50 | I14: R1 | J14: =MOD(D14,25) -> 0
A15: TOTAL PRECINCT BALLOTS HD3-JD1 | B15: =SUM(B5:B14) -> 16915 | D15: =SUM(D5:D14) -> 13550
A17: ABSENTEE OFFICIALS & STATIONS:
A18: ANCHORAGE
A19: 92-900 Anchorage Elections Office | D19: 100 | E19: =SUM(F14+1) -> 106751 | F19: =SUM(E19+D19-1) -> 106850 | G19: 10 | I19: R2 | J19: =MOD(D19,25) -> 0
A20: 92-902 Anchorage Airport | D20: 25 | E20: =SUM(F19+1) -> 106851 | F20: =SUM(E20+D20-1) -> 106875 | G20: 5 | I20: R2 | J20: =MOD(D20,25) -> 0
A21: 92-904 UAA | D21: 50 | E21: =SUM(F20+1) -> 106876 | F21: =SUM(E21+D21-1) -> 106925 | G21: 5 | I21: R2 | J21: =MOD(D21,25) -> 0
A22: 92-905 Anchorage City Hall | D22: 50 | E22: =SUM(F21+1) -> 106926 | F22: =SUM(E22+D22-1) -> 106975 | G22: 5 | I22: R2 | J22: =MOD(D22,25) -> 0
A23: 92-907 Cook Inlet Tribal Council | D23: 25 | E23: =SUM(F22+1) -> 106976 | F23: =SUM(E23+D23-1) -> 107000 | G23: 5 | I23: R2 | J23: =MOD(D23,25) -> 0
A25: MAT-SU
A26: 95-900 Mat-Su Elections Office | D26: 25 | E26: =SUM(F23+1) -> 107001 | F26: =SUM(E26+D26-1) -> 107025 | G26: 5 | I26: R5 | J26: =MOD(D26,25) -> 0
A28: FAIRBANKS
A29: 93-900 Fairbanks Elections Office | D29: 50 | E29: =SUM(F26+1) -> 107026 | F29: =SUM(E29+D29-1) -> 107075 | G29: 5 | I29: R3 | J29: =MOD(D29,25) -> 0
A30: 93-901 UAF | D30: 25 | E30: =SUM(F29+1) -> 107076 | F30: =SUM(E30+D30-1) -> 107100 | G30: 5 | I30: R3 | J30: =MOD(D30,25) -> 0
A32: JUNEAU
A33: 91-900 Juneau Elections Office | D33: 3500 | E33: =SUM(F30+1) -> 107101 | F33: =SUM(E33+D33-1) -> 110600 | G33: 75 | H33: 225 | I33: R1 | J33: =MOD(D33,25) -> 0
A34: 91-902 Juneau Downtown | D34: 1000 | E34: =SUM(F33+1) -> 110601 | F34: =SUM(E34+D34-1) -> 111600 | G34: 75 | I34: R1 | J34: =MOD(D34,25) -> 0
A35: 03-968 Gustavus AVO | D35: 150 | E35: =SUM(F34+1) -> 111601 | F35: =SUM(E35+D35-1) -> 111750 | G35: 50 | I35: R1 | J35: =MOD(D35,25) -> 0
A36: 03-970 Skagway AVO | D36: 325 | E36: =SUM(F35+1) -> 111751 | F36: =SUM(E36+D36-1) -> 112075 | G36: 25 | I36: R1 | J36: =MOD(D36,25) -> 0
A37: 03-972 Haines AVO | D37: 600 | E37: =SUM(F36+1) -> 112076 | F37: =SUM(E37+D37-1) -> 112675 | G37: 25 | I37: R1 | J37: =MOD(D37,25) -> 0
A38: 03-974 Klukwan AVO | D38: 100 | E38: =SUM(F37+1) -> 112676 | F38: =SUM(E38+D38-1) -> 112775 | G38: 25 | I38: R1 | J38: =MOD(D38,25) -> 0
A40: NOME
A41: 94-900 Nome Elections Office | D41: 25 | E41: =SUM(F38+1) -> 112776 | F41: =SUM(E41+D41-1) -> 112800 | G41: 5 | I41: R4 | J41: =MOD(D41,25) -> 0
A42: 94-901 Prudhoe Bay Station | D42: 25 | E42: =SUM(F41+1) -> 112801 | F42: =SUM(E42+D42-1) -> 112825 | G42: 5 | I42: R4 | J42: =MOD(D42,25) -> 0
A43: TOTAL ABSENTEE BALLOTS HD3-JD1 | D43: =SUM(D19:D42) -> 6075
A44: TOTAL HD3-JD1 BALLOTS | D44: =D15+D43 -> 19625 | G44: =SUM(G5:G42) -> 905 | H44: =SUM(H5:H43) -> 225 | J44: =SUM(J5:J43) -> 0
A47: Checksum: Sequence End - Start: | D47: =F42-E5+1 -> 19625

Sheet HD4-JD1
H1: BALLOT ID# | J1: =Totals!B8 -> 1013
B3: # REGIS- | D3: # | E3: Numbers | G3: Sample | H3: Fascimile
A4: DISTRICT / PRECINCT | B4: TERED | D4: Ballots | E4: FROM | F4: TO | G4: Ballots | H4: Ballots | I4: Delivery | J4: Check
A5: 04-100 Douglas | B5: 1773 | C5: =SUM(B5*0.8) -> 1418.4 | D5: =MROUND(C5, 25) -> 1425 | E5: =SUM('HD3-JD1'!F42)+1 -> 112826 | F5: =SUM(E5+D5-1) -> 114250 | G5: 50 | I5: R1 | J5: =MOD(D5,25) -> 0
A6: 04-105 Juneau Airport Area | B6: 1566 | C6: =SUM(B6*0.8) -> 1252.8 | D6: =MROUND(C6, 25) -> 1250 | E6: =SUM(F5+1) -> 114251 | F6: =SUM(E6+D6-1) -> 115500 | G6: 50 | I6: R1 | J6: =MOD(D6,25) -> 0
A7: 04-110 Juneau No. 1 | B7: 2340 | C7: =SUM(B7*0.8) -> 1872 | D7: =MROUND(C7, 25) -> 1875 | E7: =SUM(F6+1) -> 115501 | F7: =SUM(E7+D7-1) -> 117375 | G7: 50 | I7: R1 | J7: =MOD(D7,25) -> 0
A8: 04-115 Juneau No. 2 | B8: 2328 | C8: =SUM(B8*0.8) -> 1862.4 | D8: =MROUND(C8, 25) -> 1850 | E8: =SUM(F7+1) -> 117376 | F8: =SUM(E8+D8-1) -> 119225 | G8: 50 | I8: R1 | J8: =MOD(D8,25) -> 0
A9: 04-120 Juneau No. 3 | B9: 1085 | C9: =SUM(B9*0.8) -> 868 | D9: =MROUND(C9, 25) -> 875 | E9: =SUM(F8+1) -> 119226 | F9: =SUM(E9+D9-1) -> 120100 | G9: 50 | I9: R1 | J9: =MOD(D9,25) -> 0
A10: 04-125 Lemon Creek | B10: 2471 | C10: =SUM(B10*0.8) -> 1976.8 | D10: =MROUND(C10, 25) -> 1975 | E10: =SUM(F9+1) -> 120101 | F10: =SUM(E10+D10-1) -> 122075 | G10: 50 | I10: R1 | J10: =MOD(D10,25) -> 0
A11: 04-130 Glacier Valley Area | B11: 2210 | C11: =SUM(B11*0.8) -> 1768 | D11: =MROUND(C11, 25) -> 1775 | E11: =SUM(F10+1) -> 122076 | F11: =SUM(E11+D11-1) -> 123850 | G11: 50 | I11: R1 | J11: =MOD(D11,25) -> 0
A12: 04-135 North Douglas | B12: 1486 | C12: =SUM(B12*0.8) -> 1188.8 | D12: =MROUND(C12, 25) -> 1200 | E12: =SUM(F11+1) -> 123851 | F12: =SUM(E12+D12-1) -> 125050 | G12: 50 | I12: R1 | J12: =MOD(D12,25) -> 0
A13: TOTAL PRECINCT BALLOTS HD4-JD1 | B13: =SUM(B5:B12) -> 15259 | D13: =SUM(D5:D12) -> 12225
A15: ABSENTEE OFFICIALS & STATIONS:
A16: ANCHORAGE
A17: 92-900 Anchorage Elections Office | D17: 100 | E17: =SUM(F12+1) -> 125051 | F17: =SUM(E17+D17-1) -> 125150 | G17: 10 | I17: R2 | J17: =MOD(D17,25) -> 0
A18: 92-902 Anchorage Airport | D18: 50 | E18: =SUM(F17+1) -> 125151 | F18: =SUM(E18+D18-1) -> 125200 | G18: 5 | I18: R2 | J18: =MOD(D18,25) -> 0
A19: 92-904 UAA | D19: 50 | E19: =SUM(F18+1) -> 125201 | F19: =SUM(E19+D19-1) -> 125250 | G19: 5 | I19: R2 | J19: =MOD(D19,25) -> 0
A20: 92-905 Anchorage City Hall | D20: 50 | E20: =SUM(F19+1) -> 125251 | F20: =SUM(E20+D20-1) -> 125300 | G20: 5 | I20: R2 | J20: =MOD(D20,25) -> 0
A21: 92-907 Cook Inlet Tribal Council | D21: 25 | E21: =SUM(F20+1) -> 125301 | F21: =SUM(E21+D21-1) -> 125325 | G21: 5 | I21: R2 | J21: =MOD(D21,25) -> 0
A23: MAT-SU
A24: 95-900 Mat-Su Elections Office | D24: 25 | E24: =SUM(F21+1) -> 125326 | F24: =SUM(E24+D24-1) -> 125350 | G24: 5 | I24: R5 | J24: =MOD(D24,25) -> 0
A26: FAIRBANKS
A27: 93-900 Fairbanks Elections Office | D27: 50 | E27: =SUM(F24+1) -> 125351 | F27: =SUM(E27+D27-1) -> 125400 | G27: 5 | I27: R3 | J27: =MOD(D27,25) -> 0
A28: 93-901 UAF | D28: 25 | E28: =SUM(F27+1) -> 125401 | F28: =SUM(E28+D28-1) -> 125425 | G28: 5 | I28: R3 | J28: =MOD(D28,25) -> 0
A30: JUNEAU
A31: 91-900 Juneau Elections Office | D31: 2000 | E31: =SUM(F28+1) -> 125426 | F31: =SUM(E31+D31-1) -> 127425 | G31: 25 | H31: 200 | I31: R1 | J31: =MOD(D31,25) -> 0
A32: 91-902 Juneau Downtown | D32: 2000 | E32: =SUM(F31+1) -> 127426 | F32: =SUM(E32+D32-1) -> 129425 | G32: 25 | I32: R1 | J32: =MOD(D32,25) -> 0
A34: NOME
A35: 94-900 Nome Elections Office | D35: 25 | E35: =SUM(F32+1) -> 129426 | F35: =SUM(E35+D35-1) -> 129450 | G35: 5 | I35: R4 | J35: =MOD(D35,25) -> 0
A36: 94-901 Prudhoe Bay Station | D36: 25 | E36: =SUM(F35+1) -> 129451 | F36: =SUM(E36+D36-1) -> 129475 | G36: 5 | I36: R4 | J36: =MOD(D36,25) -> 0
A37: TOTAL ABSENTEE BALLOTS HD4-JD1 | D37: =SUM(D17:D36) -> 4425
A38: TOTAL HD4-JD1 BALLOTS | D38: =D13+D37 -> 16650 | G38: =SUM(G5:G37) -> 505 | H38: =SUM(H5:H37) -> 200 | J38: =SUM(J5:J37) -> 0
A41: Checksum: Sequence End - Start: | D41: =F36-E5+1 -> 16650

Sheet HD5-JD3
H1: BALLOT ID# | J1: =Totals!B9 -> 1014
B3: # REGIS- | D3: # | E3: Numbers | G3: Sample | H3: Fascimile
A4: DISTRICT / PRECINCT | B4: TERED | D4: Ballots | E4: FROM | F4: TO | G4: Ballots | H4: Ballots | I4: Delivery | J4: Check
A5: 05-800 Chiniak | B5: 134 | C5: =SUM(B5*0.8) -> 107.2 | D5: =MROUND(C5, 25) -> 100 | E5: =SUM('HD4-JD1'!F36,1) -> 129476 | F5: =SUM(E5+D5-1) -> 129575 | G5: 25 | I5: R1 | J5: =MOD(D5,25) -> 0
A6: 05-810 Flats | B6: 1807 | C6: =SUM(B6*0.8) -> 1445.6 | D6: =MROUND(C6, 25) -> 1450 | E6: =SUM(F5+1) -> 129576 | F6: =SUM(E6+D6-1) -> 131025 | G6: 75 | I6: R1 | J6: =MOD(D6,25) -> 0
A7: 05-815 Kodiak Island South | B7: 164 | C7: =SUM(B7*0.8) -> 131.2 | D7: =MROUND(C7, 25) -> 125 | E7: =SUM(F6+1) -> 131026 | F7: =SUM(E7+D7-1) -> 131150 | G7: 25 | I7: R1 | J7: =MOD(D7,25) -> 0
A8: 05-820 Kodiak No. 1 | B8: 2032 | C8: =SUM(B8*0.8) -> 1625.6 | D8: =MROUND(C8, 25) -> 1625 | E8: =SUM(F7+1) -> 131151 | F8: =SUM(E8+D8-1) -> 132775 | G8: 25 | I8: R1 | J8: =MOD(D8,25) -> 0
A9: 05-825 Kodiak No. 2 | B9: 2005 | C9: =SUM(B9*0.8) -> 1604 | D9: =MROUND(C9, 25) -> 1600 | E9: =SUM(F8+1) -> 132776 | F9: =SUM(E9+D9-1) -> 134375 | G9: 25 | I9: R1 | J9: =MOD(D9,25) -> 0
A10: 05-830 Mission Road | B10: 3571 | C10: =SUM(B10*0.8) -> 2856.8 | D10: =MROUND(C10, 25) -> 2850 | E10: =SUM(F9+1) -> 134376 | F10: =SUM(E10+D10-1) -> 137225 | G10: 50 | I10: R1 | J10: =MOD(D10,25) -> 0
A11: 05-835 Old Harbor | B11: 119 | C11: =SUM(B11*0.8) -> 95.2 | D11: =MROUND(C11, 25) -> 100 | E11: =SUM(F10+1) -> 137226 | F11: =SUM(E11+D11-1) -> 137325 | G11: 10 | I11: R1 | J11: =MOD(D11,25) -> 0
A12: 05-840 Ouzinke | B12: 137 | C12: =SUM(B12*0.8) -> 109.6 | D12: =MROUND(C12, 25) -> 100 | E12: =SUM(F11+1) -> 137326 | F12: =SUM(E12+D12-1) -> 137425 | G12: 10 | I12: R1 | J12: =MOD(D12,25) -> 0
A13: 05-845 Port Lions | B13: 173 | C13: =SUM(B13*0.8) -> 138.4 | D13: =MROUND(C13, 25) -> 150 | E13: =SUM(F12+1) -> 137426 | F13: =SUM(E13+D13-1) -> 137575 | G13: 50 | I13: R1 | J13: =MOD(D13,25) -> 0
A14: 05-860 Cordova | B14: 1999 | C14: =SUM(B14*0.8) -> 1599.2 | D14: =MROUND(C14, 25) -> 1600 | E14: =SUM(F13+1) -> 137576 | F14: =SUM(E14+D14-1) -> 139175 | G14: 75 | I14: R1 | J14: =MOD(D14,25) -> 0
A15: 05-865 Seward-Lowell Point | B15: 1848 | C15: =SUM(B15*0.8) -> 1478.4 | D15: =MROUND(C15, 25) -> 1475 | E15: =SUM(F14+1) -> 139176 | F15: =SUM(E15+D15-1) -> 140650 | G15: 75 | I15: R6 | J15: =MOD(D15,25) -> 0
A16: 05-870 Tatitlek | B16: 113 | C16: =SUM(B16*0.8) -> 90.4 | D16: =MROUND(C16, 25) -> 100 | E16: =SUM(F15+1) -> 140651 | F16: =SUM(E16+D16-1) -> 140750 | G16: 25 | I16: R1 | J16: =MOD(D16,25) -> 0
A17: TOTAL PRECINCT BALLOTS HD5-JD3 | B17: =SUM(B5:B16) -> 14102 | D17: =SUM(D5:D16) -> 11275
A19: ABSENTEE OFFICIALS & STATIONS:
A20: ANCHORAGE
A21: 92-900 Anchorage Elections Office | D21: 200 | E21: =SUM(F16+1) -> 140751 | F21: =SUM(E21+D21-1) -> 140950 | G21: 10 | I21: R2 | J21: =MOD(D21,25) -> 0
A22: 92-902 Anchorage Airport | D22: 50 | E22: =SUM(F21+1) -> 140951 | F22: =SUM(E22+D22-1) -> 141000 | G22: 5 | I22: R2 | J22: =MOD(D22,25) -> 0
A23: 92-904 UAA | D23: 100 | E23: =SUM(F22+1) -> 141001 | F23: =SUM(E23+D23-1) -> 141100 | G23: 5 | I23: R2 | J23: =MOD(D23,25) -> 0
A24: 92-905 Anchorage City Hall | D24: 100 | E24: =SUM(F23+1) -> 141101 | F24: =SUM(E24+D24-1) -> 141200 | G24: 5 | I24: R2 | J24: =MOD(D24,25) -> 0
A25: 92-907 Cook Inlet Tribal Council | D25: 50 | E25: =SUM(F24+1) -> 141201 | F25: =SUM(E25+D25-1) -> 141250 | G25: 5 | I25: R2 | J25: =MOD(D25,25) -> 0
A27: MAT-SU
A28: 95-900 Mat-Su Elections Office | D28: 25 | E28: =SUM(F25+1) -> 141251 | F28: =SUM(E28+D28-1) -> 141275 | G28: 5 | I28: R5 | J28: =MOD(D28,25) -> 0
A29: 95-901 Soldotna | D29: 500 | E29: =SUM(F28+1) -> 141276 | F29: =SUM(E29+D29-1) -> 141775 | G29: 25 | I29: R6 | J29: =MOD(D29,25) -> 0
A30: 95-902 Kenai City | D30: 300 | E30: =SUM(F29+1) -> 141776 | F30: =SUM(E30+D30-1) -> 142075 | G30: 25 | I30: R6 | J30: =MOD(D30,25) -> 0
A32: FAIRBANKS
A33: 93-900 Fairbanks Elections Office | D33: 50 | E33: =SUM(F30+1) -> 142076 | F33: =SUM(E33+D33-1) -> 142125 | G33: 5 | I33: R3 | J33: =MOD(D33,25) -> 0
A34: 93-901 UAF | D34: 25 | E34: =SUM(F33+1) -> 142126 | F34: =SUM(E34+D34-1) -> 142150 | G34: 5 | I34: R3 | J34: =MOD(D34,25) -> 0
A36: JUNEAU
A37: 91-900 Juneau Elections Office | D37: 50 | E37: =SUM(F34+1) -> 142151 | F37: =SUM(E37+D37-1) -> 142200 | G37: 25 | H37: 150 | I37: R1 | J37: =MOD(D37,25) -> 0
A38: 91-902 Juneau Downtown | D38: 50 | E38: =SUM(F37+1) -> 142201 | F38: =SUM(E38+D38-1) -> 142250 | G38: 25 | I38: R1 | J38: =MOD(D38,25) -> 0
A39: 91-905 Seward AVO/AVM | D39: 800 | E39: =SUM(F38+1) -> 142251 | F39: =SUM(E39+D39-1) -> 143050 | G39: 25 | I39: R1 | J39: =MOD(D39,25) -> 0
A40: 91-906 Homer Early Vote | D40: 150 | E40: =SUM(F39+1) -> 143051 | F40: =SUM(E40+D40-1) -> 143200 | G40: 25 | I40: R1 | J40: =MOD(D40,25) -> 0
A41: 05-976 Cordova AVO | D41: 800 | E41: =SUM(F40+1) -> 143201 | F41: =SUM(E41+D41-1) -> 144000 | G41: 50 | I41: R1 | J41: =MOD(D41,25) -> 0
A42: 05-978 Kodiak AVO | D42: 1025 | E42: =SUM(F41+1) -> 144001 | F42: =SUM(E42+D42-1) -> 145025 | G42: 50 | I42: R1 | J42: =MOD(D42,25) -> 0
A43: 05-980 Larsen Bay AVO | D43: 75 | E43: =SUM(F42+1) -> 145026 | F43: =SUM(E43+D43-1) -> 145100 | G43: 25 | I43: R1 | J43: =MOD(D43,25) -> 0
A44: 05-982 Ouzinkie AVO | D44: 75 | E44: =SUM(F43+1) -> 145101 | F44: =SUM(E44+D44-1) -> 145175 | G44: 25 | I44: R1 | J44: =MOD(D44,25) -> 0
A45: 05-984 Port Lions AVO | D45: 125 | E45: =SUM(F44+1) -> 145176 | F45: =SUM(E45+D45-1) -> 145300 | G45: 25 | I45: R1 | J45: =MOD(D45,25) -> 0
...

Sheet HD6-JD3
H1: BALLOT ID# | J1: =Totals!B10 -> 1016
B3: # REGIS- | D3: # | E3: Numbers | G3: Sample | H3: Fascimile
A4: DISTRICT / PRECINCT | B4: TERED | D4: Ballots | E4: FROM | F4: TO | G4: Ballots | H4: Ballots | I4: Delivery | J4: Check
A5: 06-200 Anchor Point | B5: 2528 | C5: =SUM(B5*0.8) -> 2022.4 | D5: =MROUND(C5, 25) -> 2025 | E5: =SUM('HD5-JD3'!F49,1) -> 145351 | F5: =SUM(E5+D5-1) -> 147375 | G5: 50 | I5: R6 | J5: =MOD(D5,25) -> 0
A6: 06-210 Diamond Ridge | B6: 1408 | C6: =SUM(B6*0.8) -> 1126.4 | D6: =MROUND(C6, 25) -> 1125 | E6: =SUM(F5+1) -> 147376 | F6: =SUM(E6+D6-1) -> 148500 | G6: 50 | I6: R6 | J6: =MOD(D6,25) -> 0
A7: 06-220 Fox River | B7: 992 | C7: =SUM(B7*0.8) -> 793.6 | D7: =MROUND(C7, 25) -> 800 | E7: =SUM(F6+1) -> 148501 | F7: =SUM(E7+D7-1) -> 149300 | G7: 75 | I7: R6 | J7: =MOD(D7,25) -> 0
A8: 06-230 Homer No. 1 | B8: 2932 | C8: =SUM(B8*0.8) -> 2345.6 | D8: =MROUND(C8, 25) -> 2350 | E8: =SUM(F7+1) -> 149301 | F8: =SUM(E8+D8-1) -> 151650 | G8: 75 | I8: R6 | J8: =MOD(D8,25) -> 0
A9: 06-240 Homer No. 2 | B9: 2445 | C9: =SUM(B9*0.8) -> 1956 | D9: =MROUND(C9, 25) -> 1950 | E9: =SUM(F8+1) -> 151651 | F9: =SUM(E9+D9-1) -> 153600 | G9: 50 | I9: R6 | J9: =MOD(D9,25) -> 0
A10: 06-250 Kachemak-Fritz Creek | B10: 2195 | C10: =SUM(B10*0.8) -> 1756 | D10: =MROUND(C10, 25) -> 1750 | E10: =SUM(F9+1) -> 153601 | F10: =SUM(E10+D10-1) -> 155350 | G10: 25 | I10: R6 | J10: =MOD(D10,25) -> 0
A11: 06-260 Kasilof | B11: 3581 | C11: =SUM(B11*0.8) -> 2864.8 | D11: =MROUND(C11, 25) -> 2875 | E11: =SUM(F10+1) -> 155351 | F11: =SUM(E11+D11-1) -> 158225 | G11: 75 | I11: R6 | J11: =MOD(D11,25) -> 0
A12: 06-270 Ninilchik | B12: 1736 | C12: =SUM(B12*0.8) -> 1388.8 | D12: =MROUND(C12, 25) -> 1400 | E12: =SUM(F11+1) -> 158226 | F12: =SUM(E12+D12-1) -> 159625 | G12: 75 | I12: R6 | J12: =MOD(D12,25) -> 0
A13: 06-280 Seldovia-Kachemak Bay | B13: 475 | C13: =SUM(B13*0.8) -> 380 | D13: =MROUND(C13, 25) -> 375 | E13: =SUM(F12+1) -> 159626 | F13: =SUM(E13+D13-1) -> 160000 | G13: 25 | I13: R6 | J13: =MOD(D13,25) -> 0
A14: TOTAL PRECINCT BALLOTS HD6-JD3 | B14: =SUM(B5:B13) -> 18292 | D14: =SUM(D5:D13) -> 14650
A16: ABSENTEE OFFICIALS & STATIONS:
A17: ANCHORAGE
A18: 92-900 Anchorage Elections Office | D18: 200 | E18: =SUM(F13+1) -> 160001 | F18: =SUM(E18+D18-1) -> 160200 | G18: 10 | I18: R2 | J18: =MOD(D18,25) -> 0
A19: 92-902 Anchorage Airport | D19: 50 | E19: =SUM(F18+1) -> 160201 | F19: =SUM(E19+D19-1) -> 160250 | G19: 5 | I19: R2 | J19: =MOD(D19,25) -> 0
A20: 92-904 UAA | D20: 50 | E20: =SUM(F19+1) -> 160251 | F20: =SUM(E20+D20-1) -> 160300 | G20: 5 | I20: R2 | J20: =MOD(D20,25) -> 0
A21: 92-905 Anchorage City Hall | D21: 100 | E21: =SUM(F20+1) -> 160301 | F21: =SUM(E21+D21-1) -> 160400 | G21: 5 | I21: R2 | J21: =MOD(D21,25) -> 0
A22: 92-907 Cook Inlet Tribal Council | D22: 50 | E22: =SUM(F21+1) -> 160401 | F22: =SUM(E22+D22-1) -> 160450 | G22: 5 | I22: R2 | J22: =MOD(D22,25) -> 0
A24: MAT-SU
A25: 95-900 Mat-Su Elections Office | D25: 25 | E25: =SUM(F22+1) -> 160451 | F25: =SUM(E25+D25-1) -> 160475 | G25: 5 | I25: R5 | J25: =MOD(D25,25) -> 0
A26: 95-901 Soldotna | D26: 1200 | E26: =SUM(F25+1) -> 160476 | F26: =SUM(E26+D26-1) -> 161675 | G26: 50 | I26: R6 | J26: =MOD(D26,25) -> 0
A27: 95-902 Kenai City | D27: 400 | E27: =SUM(F26+1) -> 161676 | F27: =SUM(E27+D27-1) -> 162075 | G27: 50 | I27: R6 | J27: =MOD(D27,25) -> 0
A29: FAIRBANKS
A30: 93-900 Fairbanks Elections Office | D30: 50 | E30: =SUM(F27+1) -> 162076 | F30: =SUM(E30+D30-1) -> 162125 | G30: 5 | I30: R3 | J30: =MOD(D30,25) -> 0
A31: 93-901 UAF | D31: 25 | E31: =SUM(F30+1) -> 162126 | F31: =SUM(E31+D31-1) -> 162150 | G31: 5 | I31: R3 | J31: =MOD(D31,25) -> 0
A33: JUNEAU
A34: 91-900 Juneau Elections Office | D34: 75 | E34: =SUM(F31+1) -> 162151 | F34: =SUM(E34+D34-1) -> 162225 | G34: 10 | H34: 175 | I34: R1 | J34: =MOD(D34,25) -> 0
A35: 91-902 Juneau Downtown | D35: 75 | E35: =SUM(F34+1) -> 162226 | F35: =SUM(E35+D35-1) -> 162300 | G35: 10 | I35: R1 | J35: =MOD(D35,25) -> 0
A36: 91-905 Seward AVO/AVM | D36: 75 | E36: =SUM(F35+1) -> 162301 | F36: =SUM(E36+D36-1) -> 162375 | G36: 15 | I36: R1 | J36: =MOD(D36,25) -> 0
A37: 91-906 Homer Early Vote | D37: 3000 | E37: =SUM(F36+1) -> 162376 | F37: =SUM(E37+D37-1) -> 165375 | G37: 125 | I37: R1 | J37: =MOD(D37,25) -> 0
A38: 06-992 Seldovia AVO | D38: 125 | E38: =SUM(F37+1) -> 165376 | F38: =SUM(E38+D38-1) -> 165500 | G38: 15 | I38: R1 | J38: =MOD(D38,25) -> 0
A40: NOME
A41: 94-900 Nome Elections Office | D41: 25 | E41: =SUM(F38+1) -> 165501 | F41: =SUM(E41+D41-1) -> 165525 | G41: 5 | I41: R4 | J41: =MOD(D41,25) -> 0
A42: 94-901 Prudhoe Bay Station | D42: 25 | E42: =SUM(F41+1) -> 165526 | F42: =SUM(E42+D42-1) -> 165550 | G42: 5 | I42: R4 | J42: =MOD(D42,25) -> 0
A43: TOTAL ABSENTEE BALLOTS HD6-JD3 | D43: =SUM(D18:D42) -> 5550
A44: TOTAL HD6-JD3 BALLOTS | D44: =D14+D43 -> 20200 | G44: =SUM(G5:G43) -> 830 | H44: =SUM(H5:H43) -> 175 | J44: =SUM(J5:J43) -> 0
D46: =F42-E5+1 -> 20200
A47: Checksum: Sequence End - Start:

Sheet HD7-JD3
H1: BALLOT ID# | J1: =Totals!B11 -> 1017
B3: # REGIS- | D3: # | E3: Numbers | G3: Sample | H3: Fascimile
A4: DISTRICT / PRECINCT | B4: TERED | D4: Ballots | E4: FROM | F4: TO | G4: Ballots | H4: Ballots | I4: Delivery | J4: Check
A5: 07-005 Central | B5: 2845 | C5: =SUM(B5*0.8) -> 2276 | D5: =MROUND(C5, 25) -> 2275 | E5: ='HD6-JD3'!F42+1 -> 165551 | F5: =SUM(E5+D5-1) -> 167825 | G5: 25 | I5: R6 | J5: =MOD(D5,25) -> 0
A6: 07-010 K-Beach | B6: 3437 | C6: =SUM(B6*0.8) -> 2749.6 | D6: =MROUND(C6, 25) -> 2750 | E6: =SUM(F5+1) -> 167826 | F6: =SUM(E6+D6-1) -> 170575 | G6: 25 | I6: R6 | J6: =MOD(D6,25) -> 0
A7: 07-015 Kenai No. 1 | B7: 3219 | C7: =SUM(B7*0.8) -> 2575.2 | D7: =MROUND(C7, 25) -> 2575 | E7: =SUM(F6+1) -> 170576 | F7: =SUM(E7+D7-1) -> 173150 | G7: 25 | I7: R6 | J7: =MOD(D7,25) -> 0
A8: 07-020 Kenai No. 2 | B8: 1699 | C8: =SUM(B8*0.8) -> 1359.2 | D8: =MROUND(C8, 25) -> 1350 | E8: =SUM(F7+1) -> 173151 | F8: =SUM(E8+D8-1) -> 174500 | G8: 25 | I8: R6 | J8: =MOD(D8,25) -> 0
A9: 07-025 Kenai No. 3 | B9: 1526 | C9: =SUM(B9*0.8) -> 1220.8 | D9: =MROUND(C9, 25) -> 1225 | E9: =SUM(F8+1) -> 174501 | F9: =SUM(E9+D9-1) -> 175725 | G9: 25 | I9: R6 | J9: =MOD(D9,25) -> 0
A10: 07-030 Soldotna | B10: 4168 | C10: =SUM(B10*0.8) -> 3334.4 | D10: =MROUND(C10, 25) -> 3325 | E10: =SUM(F9+1) -> 175726 | F10: =SUM(E10+D10-1) -> 179050 | G10: 25 | I10: R6 | J10: =MOD(D10,25) -> 0
A11: TOTAL PRECINCT BALLOTS HD7-JD3 | B11: =SUM(B5:B10) -> 16894 | D11: =SUM(D5:D10) -> 13500 | J11: =SUM(J5:J5) -> 0
A13: ABSENTEE OFFICIALS & STATIONS:
A14: ANCHORAGE
A15: 92-900 Anchorage Elections Office | D15: 200 | E15: =SUM(F10+1) -> 179051 | F15: =SUM(E15+D15-1) -> 179250 | G15: 10 | I15: R2 | J15: =MOD(D15,25) -> 0
A16: 92-902 Anchorage Airport | D16: 50 | E16: =SUM(F15+1) -> 179251 | F16: =SUM(E16+D16-1) -> 179300 | G16: 5 | I16: R2 | J16: =MOD(D16,25) -> 0
A17: 92-904 UAA | D17: 100 | E17: =SUM(F16+1) -> 179301 | F17: =SUM(E17+D17-1) -> 179400 | G17: 5 | I17: R2 | J17: =MOD(D17,25) -> 0
A18: 92-905 Anchorage City Hall | D18: 100 | E18: =SUM(F17+1) -> 179401 | F18: =SUM(E18+D18-1) -> 179500 | G18: 5 | I18: R2 | J18: =MOD(D18,25) -> 0
A19: 92-907 Cook Inlet Tribal Council | D19: 50 | E19: =SUM(F18+1) -> 179501 | F19: =SUM(E19+D19-1) -> 179550 | G19: 5 | I19: R2 | J19: =MOD(D19,25) -> 0
A21: MAT-SU
A22: 95-900 Mat-Su Elections Office | D22: 25 | E22: =SUM(F19+1) -> 179551 | F22: =SUM(E22+D22-1) -> 179575 | G22: 5 | H22: 400 | I22: R5 | J22: =MOD(D22,25) -> 0
A23: 95-901 Soldotna | D23: 2000 | E23: =SUM(F22+1) -> 179576 | F23: =SUM(E23+D23-1) -> 181575 | G23: 50 | I23: R6 | J23: =MOD(D23,25) -> 0
A24: 95-902 Kenai City | D24: 1000 | E24: =SUM(F23+1) -> 181576 | F24: =SUM(E24+D24-1) -> 182575 | G24: 50 | I24: R6 | J24: =MOD(D24,25) -> 0
A26: FAIRBANKS
A27: 93-900 Fairbanks Elections Office | D27: 50 | E27: =SUM(F24+1) -> 182576 | F27: =SUM(E27+D27-1) -> 182625 | G27: 5 | I27: R3 | J27: =MOD(D27,25) -> 0
A28: 93-901 UAF | D28: 25 | E28: =SUM(F27+1) -> 182626 | F28: =SUM(E28+D28-1) -> 182650 | G28: 5 | I28: R3 | J28: =MOD(D28,25) -> 0
A30: JUNEAU
A31: 91-900 Juneau Elections Office | D31: 50 | E31: =SUM(F28+1) -> 182651 | F31: =SUM(E31+D31-1) -> 182700 | G31: 5 | I31: R1 | J31: =MOD(D31,25) -> 0
A32: 91-902 Juneau Downtown | D32: 50 | E32: =SUM(F31+1) -> 182701 | F32: =SUM(E32+D32-1) -> 182750 | G32: 5 | I32: R1 | J32: =MOD(D32,25) -> 0
A33: 91-905 Seward AVO/AVM | D33: 50 | E33: =SUM(F32+1) -> 182751 | F33: =SUM(E33+D33-1) -> 182800 | G33: 15 | I33: R1 | J33: =MOD(D33,25) -> 0
A34: 91-906 Homer Early Vote | D34: 150 | E34: =SUM(F33+1) -> 182801 | F34: =SUM(E34+D34-1) -> 182950 | G34: 15 | I34: R1 | J34: =MOD(D34,25) -> 0
A36: NOME
A37: 94-900 Nome Elections Office | D37: 25 | E37: =SUM(F34+1) -> 182951 | F37: =SUM(E37+D37-1) -> 182975 | G37: 5 | I37: R4 | J37: =MOD(D37,25) -> 0
A38: 94-901 Prudhoe Bay Station | D38: 25 | E38: =SUM(F37+1) -> 182976 | F38: =SUM(E38+D38-1) -> 183000 | G38: 5 | I38: R4 | J38: =MOD(D38,25) -> 0
A39: TOTAL ABSENTEE BALLOTS HD7-JD3 | D39: =SUM(D15:D38) -> 3950 | G39: =SUM(G5:G38) -> 345 | H39: =SUM(H5:H38) -> 400
A40: TOTAL HD7-JD3 BALLOTS | D40: =D11+D39 -> 17450
D42: =F38-E5+1 -> 17450
A43: Checksum: Sequence End - Start:

Sheet HD8-JD3
H1: BALLOT ID# | J1: =Totals!B12 -> 1018
B3: # REGIS- | D3: # | E3: Numbers | G3: Sample | H3: Fascimile
A4: DISTRICT / PRECINCT | B4: TERED | D4: Ballots | E4: FROM | F4: TO | G4: Ballots | H4: Ballots | I4: Delivery | J4: Check
A5: 08-035 Bear Creek | B5: 1905 | C5: =SUM(B5*0.8) -> 1524 | D5: =MROUND(C5, 25) -> 1525 | E5: ='HD7-JD3'!F38+1 -> 183001 | F5: =SUM(E5+D5-1) -> 184525 | G5: 25 | I5: R6 | J5: =MOD(D5,25) -> 0
A6: 08-040 Cooper Landing | B6: 405 | C6: =SUM(B6*0.8) -> 324 | D6: =MROUND(C6, 25) -> 325 | E6: =SUM(F5+1) -> 184526 | F6: =SUM(E6+D6-1) -> 184850 | G6: 25 | I6: R6 | J6: =MOD(D6,25) -> 0
A7: 08-045 Funny River No. 1 | B7: 1149 | C7: =SUM(B7*0.8) -> 919.2 | D7: =MROUND(C7, 25) -> 925 | E7: =SUM(F6+1) -> 184851 | F7: =SUM(E7+D7-1) -> 185775 | G7: 25 | I7: R6 | J7: =MOD(D7,25) -> 0
A8: 08-050 Funny River No. 2 | B8: 1278 | C8: =SUM(B8*0.8) -> 1022.4 | D8: =MROUND(C8, 25) -> 1025 | E8: =SUM(F7+1) -> 185776 | F8: =SUM(E8+D8-1) -> 186800 | G8: 25 | I8: R6 | J8: =MOD(D8,25) -> 0
A9: 08-055 Hope | B9: 182 | C9: =SUM(B9*0.8) -> 145.6 | D9: =MROUND(C9, 25) -> 150 | E9: =SUM(F8+1) -> 186801 | F9: =SUM(E9+D9-1) -> 186950 | G9: 25 | I9: R6 | J9: =MOD(D9,25) -> 0
A10: 08-060 Mackey Lake | B10: 2425 | C10: =SUM(B10*0.8) -> 1940 | D10: =MROUND(C10, 25) -> 1950 | E10: =SUM(F9+1) -> 186951 | F10: =SUM(E10+D10-1) -> 188900 | G10: 25 | I10: R6 | J10: =MOD(D10,25) -> 0
A11: 08-065 Moose Pass | B11: 379 | C11: =SUM(B11*0.8) -> 303.2 | D11: =MROUND(C11, 25) -> 300 | E11: =SUM(F10+1) -> 188901 | F11: =SUM(E11+D11-1) -> 189200 | G11: 25 | I11: R6 | J11: =MOD(D11,25) -> 0
A12: 08-070 Nikiski | B12: 2299 | C12: =SUM(B12*0.8) -> 1839.2 | D12: =MROUND(C12, 25) -> 1850 | E12: =SUM(F11+1) -> 189201 | F12: =SUM(E12+D12-1) -> 191050 | G12: 25 | I12: R6 | J12: =MOD(D12,25) -> 0
A13: 08-075 Salamatof | B13: 2600 | C13: =SUM(B13*0.8) -> 2080 | D13: =MROUND(C13, 25) -> 2075 | E13: =SUM(F12+1) -> 191051 | F13: =SUM(E13+D13-1) -> 193125 | G13: 25 | I13: R6 | J13: =MOD(D13,25) -> 0
A14: 08-080 Sterling No. 1 | B14: 2285 | C14: =SUM(B14*0.8) -> 1828 | D14: =MROUND(C14, 25) -> 1825 | E14: =SUM(F13+1) -> 193126 | F14: =SUM(E14+D14-1) -> 194950 | G14: 25 | I14: R6 | J14: =MOD(D14,25) -> 0
A15: 08-085 Sterling No. 2 | B15: 2454 | C15: =SUM(B15*0.8) -> 1963.2 | D15: =MROUND(C15, 25) -> 1975 | E15: =SUM(F14+1) -> 194951 | F15: =SUM(E15+D15-1) -> 196925 | G15: 25 | I15: R6 | J15: =MOD(D15,25) -> 0
A16: TOTAL PRECINCT BALLOTS HD8-JD3 | B16: =SUM(B5:B15) -> 17361 | D16: =SUM(D5:D15) -> 13925
A18: ABSENTEE OFFICIALS & STATIONS:
A19: ANCHORAGE
A20: 92-900 Anchorage Elections Office | D20: 200 | E20: =SUM(F15+1) -> 196926 | F20: =SUM(E20+D20-1) -> 197125 | G20: 10 | I20: R2 | J20: =MOD(D20,25) -> 0
A21: 92-902 Anchorage Airport | D21: 50 | E21: =SUM(F20+1) -> 197126 | F21: =SUM(E21+D21-1) -> 197175 | G21: 5 | I21: R2 | J21: =MOD(D21,25) -> 0
A22: 92-904 UAA | D22: 100 | E22: =SUM(F21+1) -> 197176 | F22: =SUM(E22+D22-1) -> 197275 | G22: 5 | I22: R2 | J22: =MOD(D22,25) -> 0
A23: 92-905 Anchorage City Hall | D23: 100 | E23: =SUM(F22+1) -> 197276 | F23: =SUM(E23+D23-1) -> 197375 | G23: 5 | I23: R2 | J23: =MOD(D23,25) -> 0
A24: 92-907 Cook Inlet Tribal Council | D24: 50 | E24: =SUM(F23+1) -> 197376 | F24: =SUM(E24+D24-1) -> 197425 | G24: 5 | I24: R2 | J24: =MOD(D24,25) -> 0
A26: MAT-SU
A27: 95-900 Mat-Su Elections Office | D27: 25 | E27: =SUM(F24+1) -> 197426 | F27: =SUM(E27+D27-1) -> 197450 | G27: 5 | H27: 300 | I27: R5 | J27: =MOD(D27,25) -> 0
A28: 95-901 Soldotna | D28: 1800 | E28: =SUM(F27+1) -> 197451 | F28: =SUM(E28+D28-1) -> 199250 | G28: 50 | I28: R6 | J28: =MOD(D28,25) -> 0
A29: 95-902 Kenai City | D29: 700 | E29: =SUM(F28+1) -> 199251 | F29: =SUM(E29+D29-1) -> 199950 | G29: 50 | I29: R6 | J29: =MOD(D29,25) -> 0
A31: FAIRBANKS
A32: 93-900 Fairbanks Elections Office | D32: 50 | E32: =SUM(F29+1) -> 199951 | F32: =SUM(E32+D32-1) -> 200000 | G32: 5 | I32: R3 | J32: =MOD(D32,25) -> 0
A33: 93-901 UAF | D33: 25 | E33: =SUM(F32+1) -> 200001 | F33: =SUM(E33+D33-1) -> 200025 | G33: 5 | I33: R3 | J33: =MOD(D33,25) -> 0
A35: JUNEAU
A36: 91-900 Juneau Elections Office | D36: 50 | E36: =SUM(F33+1) -> 200026 | F36: =SUM(E36+D36-1) -> 200075 | G36: 5 | I36: R1 | J36: =MOD(D36,25) -> 0
A37: 91-902 Juneau Downtown | D37: 50 | E37: =SUM(F36+1) -> 200076 | F37: =SUM(E37+D37-1) -> 200125 | G37: 5 | I37: R1 | J37: =MOD(D37,25) -> 0
A38: 91-905 Seward AVO/AVM | D38: 125 | E38: =SUM(F37+1) -> 200126 | F38: =SUM(E38+D38-1) -> 200250 | G38: 25 | I38: R1 | J38: =MOD(D38,25) -> 0
A39: 91-906 Homer Early Vote | D39: 125 | E39: =SUM(F38+1) -> 200251 | F39: =SUM(E39+D39-1) -> 200375 | G39: 25 | I39: R1 | J39: =MOD(D39,25) -> 0
A41: NOME
A42: 94-900 Nome Elections Office | D42: 25 | E42: =SUM(F39+1) -> 200376 | F42: =SUM(E42+D42-1) -> 200400 | G42: 5 | I42: R4 | J42: =MOD(D42,25) -> 0
A43: 94-901 Prudhoe Bay Station | D43: 25 | E43: =SUM(F42+1) -> 200401 | F43: =SUM(E43+D43-1) -> 200425 | G43: 5 | I43: R4 | J43: =MOD(D43,25) -> 0
A44: TOTAL ABSENTEE BALLOTS HD8-JD3 | D44: =SUM(D20:D43) -> 3500
A45: TOTAL HD8-JD3 BALLOTS | D45: =D16+D44 -> 17425 | G45: =SUM(G5:G44) -> 490 | H45: =SUM(H5:H44) -> 300 | J45: =SUM(J5:J44) -> 0
D47: =F43-E5+1 -> 17425
...

Sheet HD9-JD3
H1: BALLOT ID# | J1: =Totals!B13 -> 1019
B3: # REGIS- | D3: # | E3: Numbers | G3: Sample | H3: Fascimile
A4: DISTRICT / PRECINCT | B4: TERED | D4: Ballots | E4: FROM | F4: TO | G4: Ballots | H4: Ballots | I4: Delivery | J4: Check
A5: 09-105 Girdwood | B5: 1949 | C5: =SUM(B5*0.8) -> 1559.2 | D5: =MROUND(C5, 25) -> 1550 | E5: =SUM('HD8-JD3'!F43,1) -> 200426 | F5: =SUM(E5+D5-1) -> 201975 | G5: 50 | I5: R2 | J5: =MOD(D5,25) -> 0
A6: 09-110 Indian | B6: 300 | C6: =SUM(B6*0.8) -> 240 | D6: =MROUND(C6, 25) -> 250 | E6: =SUM(F5+1) -> 201976 | F6: =SUM(E6+D6-1) -> 202225 | G6: 50 | I6: R2 | J6: =MOD(D6,25) -> 0
A7: 09-115 South Anchorage No. 1 | B7: 2825 | C7: =SUM(B7*0.8) -> 2260 | D7: 2100 | E7: =SUM(F6+1) -> 202226 | F7: =SUM(E7+D7-1) -> 204325 | G7: 50 | I7: R2 | J7: =MOD(D7,25) -> 0
A8: 09-120 South Anchorage No. 2 | B8: 3290 | C8: =SUM(B8*0.8) -> 2632 | D8: 2500 | E8: =SUM(F7+1) -> 204326 | F8: =SUM(E8+D8-1) -> 206825 | G8: 50 | I8: R2 | J8: =MOD(D8,25) -> 0
A9: 09-125 South Anchorage No. 3 | B9: 2824 | C9: =SUM(B9*0.8) -> 2259.2 | D9: 2100 | E9: =SUM(F8+1) -> 206826 | F9: =SUM(E9+D9-1) -> 208925 | G9: 50 | I9: R2 | J9: =MOD(D9,25) -> 0
A10: 09-130 South Anchorage No. 4 | B10: 3086 | C10: =SUM(B10*0.8) -> 2468.8 | D10: 2300 | E10: =SUM(F9+1) -> 208926 | F10: =SUM(E10+D10-1) -> 211225 | G10: 50 | I10: R2 | J10: =MOD(D10,25) -> 0
A11: 09-135 South Anchorage No. 5 | B11: 1368 | C11: =SUM(B11*0.8) -> 1094.4 | D11: =MROUND(C11,25) -> 1100 | E11: =SUM(F10+1) -> 211226 | F11: =SUM(E11+D11-1) -> 212325 | G11: 50 | I11: R2 | J11: =MOD(D11,25) -> 0
A12: 09-140 Stuckagain Heights | B12: 425 | C12: =SUM(B12*0.8) -> 340 | D12: =MROUND(C12, 25) -> 350 | E12: =SUM(F11+1) -> 212326 | F12: =SUM(E12+D12-1) -> 212675 | G12: 50 | I12: R2 | J12: =MOD(D12,25) -> 0
A13: 09-145 Whittier | B13: 248 | C13: =SUM(B13*0.8) -> 198.4 | D13: =MROUND(C13, 25) -> 200 | E13: =SUM(F12+1) -> 212676 | F13: =SUM(E13+D13-1) -> 212875 | G13: 50 | I13: R2 | J13: =MOD(D13,25) -> 0
A14: TOTAL PRECINCT BALLOTS HD9-JD3 | B14: =SUM(B5:B13) -> 16315 | D14: =SUM(D5:D13) -> 12450
A16: ABSENTEE OFFICIALS & STATIONS:
A17: ANCHORAGE
A18: 92-900 Anchorage Elections Office | D18: 2100 | E18: =SUM(F13+1) -> 212876 | F18: =SUM(E18+D18-1) -> 214975 | G18: 50 | H18: 400 | I18: R2 | J18: =MOD(D18,25) -> 0
A19: 92-902 Anchorage Airport | D19: 75 | E19: =SUM(F18+1) -> 214976 | F19: =SUM(E19+D19-1) -> 215050 | G19: 25 | I19: R2 | J19: =MOD(D19,25) -> 0
A20: 92-904 UAA | D20: 200 | E20: =SUM(F19+1) -> 215051 | F20: =SUM(E20+D20-1) -> 215250 | G20: 25 | I20: R2 | J20: =MOD(D20,25) -> 0
A21: 92-905 Anchorage City Hall | D21: 500 | E21: =SUM(F20+1) -> 215251 | F21: =SUM(E21+D21-1) -> 215750 | G21: 25 | I21: R2 | J21: =MOD(D21,25) -> 0
A22: 92-986 City of Whittier | D22: 50 | E22: =SUM(F21+1) -> 215751 | F22: =SUM(E22+D22-1) -> 215800 | G22: 25 | I22: R2 | J22: =MOD(D22,25) -> 0
A23: 92-907 Cook Inlet Tribal Council | D23: 150 | E23: =SUM(F22+1) -> 215801 | F23: =SUM(E23+D23-1) -> 215950 | G23: 25 | I23: R2 | J23: =MOD(D23,25) -> 0
A25: MAT-SU
A26: 95-900 Mat-Su Elections Office | D26: 25 | E26: =SUM(F23+1) -> 215951 | F26: =SUM(E26+D26-1) -> 215975 | G26: 5 | I26: R5 | J26: =MOD(D26,25) -> 0
A28: FAIRBANKS
A29: 93-900 Fairbanks Elections Office | D29: 50 | E29: =SUM(F26+1) -> 215976 | F29: =SUM(E29+D29-1) -> 216025 | G29: 5 | I29: R3 | J29: =MOD(D29,25) -> 0
A30: 93-901 UAF | D30: 25 | E30: =SUM(F29+1) -> 216026 | F30: =SUM(E30+D30-1) -> 216050 | G30: 5 | I30: R3 | J30: =MOD(D30,25) -> 0
A32: JUNEAU
A33: 91-900 Juneau Elections Office | D33: 25 | E33: =SUM(F30+1) -> 216051 | F33: =SUM(E33+D33-1) -> 216075 | G33: 5 | I33: R1 | J33: =MOD(D33,25) -> 0
A34: 91-902 Juneau Downtown | D34: 25 | E34: =SUM(F33+1) -> 216076 | F34: =SUM(E34+D34-1) -> 216100 | G34: 5 | I34: R1 | J34: =MOD(D34,25) -> 0
A36: NOME
A37: 94-900 Nome Elections Office | D37: 25 | E37: =SUM(F34+1) -> 216101 | F37: =SUM(E37+D37-1) -> 216125 | G37: 5 | I37: R4 | J37: =MOD(D37,25) -> 0
A38: 94-901 Prudhoe Bay Station | D38: 25 | E38: =SUM(F37+1) -> 216126 | F38: =SUM(E38+D38-1) -> 216150 | G38: 5 | I38: R4 | J38: =MOD(D38,25) -> 0
A39: TOTAL ABSENTEE BALLOTS HD9-JD3 | D39: =SUM(D18:D38) -> 3275
A40: TOTAL HD9-JD3 BALLOTS | D40: =D14+D39 -> 15725 | G40: =SUM(G5:G39) -> 660 | H40: =SUM(H5:H39) -> 400 | J40: =SUM(J5:J39) -> 0
A43: Checksum: Sequence End - Start: | D43: =F38-E5+1 -> 15725

Sheet HD10-JD3
H1: BALLOT ID# | J1: =Totals!B14 -> 1020
B3: # REGIS- | D3: # | E3: Numbers | G3: Sample | H3: Fascimile
A4: DISTRICT / PRECINCT | B4: TERED | D4: Ballots | E4: FROM | F4: TO | G4: Ballots | H4: Ballots | I4: Delivery | J4: Check
A5: 10-150 Dimond | B5: 3456 | C5: =SUM(B5*0.8) -> 2764.8 | D5: 2000 | E5: =SUM('HD9-JD3'!F38,1) -> 216151 | F5: =SUM(E5+D5-1) -> 218150 | G5: 50 | I5: R2 | J5: =MOD(D5,25) -> 0
A6: 10-155 Oceanview No. 1 | B6: 3184 | C6: =SUM(B6*0.8) -> 2547.2 | D6: =MROUND(C6, 25) -> 2550 | E6: =SUM(F5+1) -> 218151 | F6: =SUM(E6+D6-1) -> 220700 | G6: 50 | I6: R2 | J6: =MOD(D6,25) -> 0
A7: 10-160 Oceanview No. 2 | B7: 1872 | C7: =SUM(B7*0.8) -> 1497.6 | D7: =MROUND(C7, 25) -> 1500 | E7: =SUM(F6+1) -> 220701 | F7: =SUM(E7+D7-1) -> 222200 | G7: 50 | I7: R2 | J7: =MOD(D7,25) -> 0
A8: 10-165 Oceanview No. 3 | B8: 2812 | C8: =SUM(B8*0.8) -> 2249.6 | D8: 2100 | E8: =SUM(F7+1) -> 222201 | F8: =SUM(E8+D8-1) -> 224300 | G8: 50 | I8: R2 | J8: =MOD(D8,25) -> 0
A9: 10-170 Oceanview No. 4 | B9: 1946 | C9: =SUM(B9*0.8) -> 1556.8 | D9: 1600 | E9: =SUM(F8+1) -> 224301 | F9: =SUM(E9+D9-1) -> 225900 | G9: 50 | I9: R2 | J9: =MOD(D9,25) -> 0
