Workbook

Sheet Totals
A1: ALASKA 2024 PRIMARY ELECTION BALLOT ORDER TOTAL BALLOT ORDER, ALL DISTRICTS
A2: Ballot ID# | C2: Totals | D2: Checksum | E2: Difference | G2: Pad Checksums
A3: 801 | B3: Federal Only | C3: ='Federal Only'!B6 -> 300 | D3: ='Federal Only'!C9 -> 300 | E3: =D3-C3 -> 0 | G3: ='Federal Only'!H9 -> 0 | H3: A&P
B4: Absentee | C4: ='Abs By Mail'!C44 -> 30150 | D4: ='Abs By Mail'!D47 -> 30150 | E4: =D4-C4 -> 0 | G4: 0
A5: 800 | B5: District 1 | C5: ='Dist 1'!D44 -> 12050 | D5: ='Dist 1'!D47 -> 12050 | E5: =D5-C5 -> 0 | G5: ='Dist 1'!J44 -> 0 | H5: Region I
A6: 811 | B6: District 2 | C6: ='Dist 2'!D62 -> 13800 | D6: ='Dist 2'!D65 -> 13800 | E6: =D6-C6 -> 0 | G6: ='Dist 2'!J62 -> 0
A7: 812 | B7: District 3 | C7: ='Dist 3'!D42 -> 16150 | D7: ='Dist 3'!D45 -> 16150 | E7: =D7-C7 -> 0 | G7: ='Dist 3'!J42 -> 0
A8: 813 | B8: District 4 | C8: ='Dist 4'!D36 -> 14025 | D8: ='Dist 4'!D39 -> 14025 | E8: =D8-C8 -> 0 | G8: ='Dist 4'!J36 -> 0
A9: 814 | B9: District 5 | C9: ='Dist 5'!D49 -> 11825 | D9: ='Dist 5'!D52 -> 11825 | E9: =D9-C9 -> 0 | G9: ='Dist 5'!J49 -> 0
A10: 816 | B10: District 6 | C10: ='Dist 6'!D42 -> 15475 | D10: ='Dist 6'!D45 -> 15475 | E10: =D10-C10 -> 0 | G10: ='Dist 6'!J42 -> 0
A11: 817 | B11: District 7 | C11: ='Dist 7'!D38 -> 14000 | D11: ='Dist 7'!D41 -> 14000 | E11: =D11-C11 -> 0 | G11: ='Dist 7'!J38 -> 0 | H11: RV MS
A12: 818 | B12: District 8 | C12: ='Dist 8'!D43 -> 13975 | D12: ='Dist 8'!D46 -> 13975 | E12: =D12-C12 -> 0 | G12: ='Dist 8'!J43 -> 0
A13: 819 | B13: District 9 | C13: ='Dist 9'!D39 -> 13425 | D13: ='Dist 9'!D42 -> 13425 | E13: =D13-C13 -> 0 | G13: ='Dist 9'!J39 -> 0 | H13: Region II
A14: 820 | B14: District 10 | C14: ='Dist 10'!D34 -> 11825 | D14: ='Dist 10'!D37 -> 11825 | E14: =D14-C14 -> 0 | G14: ='Dist 10'!J34 -> 0
A15: 821 | B15: District 11 | C15: ='Dist 11'!D35 -> 11950 | D15: ='Dist 11'!D38 -> 11950 | E15: =D15-C15 -> 0 | G15: ='Dist 11'!J35 -> 0
A16: 822 | B16: District 12 | C16: ='Dist 12'!D34 -> 11725 | D16: ='Dist 12'!D37 -> 11725 | E16: =D16-C16 -> 0 | G16: ='Dist 12'!J34 -> 0
A17: 823 | B17: District 13 | C17: ='Dist 13'!D33 -> 11725 | D17: ='Dist 13'!D36 -> 11725 | E17: =D17-C17 -> 0 | G17: ='Dist 13'!J33 -> 0
A18: 824 | B18: District 14 | C18: ='Dist 14'!D35 -> 11275 | D18: ='Dist 14'!D38 -> 11275 | E18: =D18-C18 -> 0 | G18: ='Dist 14'!J35 -> 0
A19: 825 | B19: District 15 | C19: ='Dist 15'!D34 -> 11950 | D19: ='Dist 15'!D37 -> 11950 | E19: =D19-C19 -> 0 | G19: ='Dist 15'!J34 -> 0
A20: 826 | B20: District 16 | C20: ='Dist 16'!D35 -> 12100 | D20: ='Dist 16'!D38 -> 12100 | E20: =D20-C20 -> 0 | G20: ='Dist 16'!J35 -> 0
A21: 827 | B21: District 17 | C21: ='Dist 17'!D35 -> 12300 | D21: ='Dist 17'!D38 -> 12300 | E21: =D21-C21 -> 0 | G21: ='Dist 17'!J35 -> 0
A22: 828 | B22: District 18 | C22: ='Dist 18'!D33 -> 7225 | D22: ='Dist 18'!D36 -> 7225 | E22: =D22-C22 -> 0 | G22: ='Dist 18'!J33 -> 0
A23: 829 | B23: District 19 | C23: ='Dist 19'!D33 -> 9950 | D23: ='Dist 19'!D36 -> 9950 | E23: =D23-C23 -> 0 | G23: ='Dist 19'!J33 -> 0
A24: 830 | B24: District 20 | C24: ='Dist 20'!D33 -> 10775 | D24: ='Dist 20'!D36 -> 10775 | E24: =D24-C24 -> 0 | G24: ='Dist 20'!J33 -> 0
A25: 831 | B25: District 21 | C25: ='Dist 21'!D33 -> 11825 | D25: ='Dist 21'!D36 -> 11825 | E25: =D25-C25 -> 0 | G25: ='Dist 21'!J33 -> 0
A26: 832 | B26: District 22 | C26: ='Dist 22'!D32 -> 10475 | D26: ='Dist 22'!D35 -> 10475 | E26: =D26-C26 -> 0 | G26: ='Dist 22'!J32 -> 0
A27: 833 | B27: District 23 | C27: ='Dist 23'!D34 -> 13675 | D27: ='Dist 23'!D37 -> 13675 | E27: =D27-C27 -> 0 | G27: ='Dist 23'!J34 -> 0
A28: 834 | B28: District 24 | C28: ='Dist 24'!D35 -> 13125 | D28: ='Dist 24'!D38 -> 13125 | E28: =D28-C28 -> 0 | G28: ='Dist 24'!J35 -> 0
A29: 835 | B29: District 25 | C29: ='Dist 25'!D36 -> 14175 | D29: ='Dist 25'!D39 -> 14175 | E29: =D29-C29 -> 0 | G29: ='Dist 25'!J36 -> 0 | H29: Region V - MS
A30: 836 | B30: District 26 | C30: ='Dist 26'!D36 -> 13575 | D30: ='Dist 26'!D39 -> 13575 | E30: =D30-C30 -> 0 | G30: ='Dist 26'!J36 -> 0
A31: 837 | B31: District 27 | C31: ='Dist 27'!D34 -> 13725 | D31: ='Dist 27'!D37 -> 13725 | E31: =D31-C31 -> 0 | G31: ='Dist 27'!J34 -> 0
A32: 838 | B32: District 28 | C32: ='Dist 28'!D39 -> 13025 | D32: ='Dist 28'!D42 -> 13025 | E32: =D32-C32 -> 0 | G32: ='Dist 28'!J39 -> 0
A33: 839 | B33: District 29 | C33: ='Dist 29'!D39 -> 13550 | D33: ='Dist 29'!D42 -> 13550 | E33: =D33-C33 -> 0 | G33: ='Dist 29'!J39 -> 0
A34: 840 | B34: District 30 | C34: ='Dist 30'!D46 -> 13975 | D34: ='Dist 30'!D49 -> 13975 | E34: =D34-C34 -> 0 | G34: ='Dist 30'!J46 -> 0
A35: 841 | B35: District 31 | C35: ='Dist 31'!D32 -> 14500 | D35: ='Dist 31'!D35 -> 14500 | E35: =D35-C35 -> 0 | G35: ='Dist 31'!J32 -> 0 | H35: Region III
A36: 842 | B36: District 32 | C36: ='Dist 32'!D32 -> 9125 | D36: ='Dist 32'!D35 -> 9125 | E36: =D36-C36 -> 0 | G36: ='Dist 32'!J32 -> 0
A37: 843 | B37: District 33 | C37: ='Dist 33'!D34 -> 15200 | D37: ='Dist 33'!D37 -> 15200 | E37: =D37-C37 -> 0 | G37: ='Dist 33'!J34 -> 0
A38: 844 | B38: District 34 | C38: ='Dist 34'!D36 -> 16000 | D38: ='Dist 34'!D39 -> 16000 | E38: =D38-C38 -> 0 | G38: ='Dist 34'!J36 -> 0
A39: 845 | B39: District 35 | C39: ='Dist 35'!D36 -> 14600 | D39: ='Dist 35'!D39 -> 14600 | E39: =D39-C39 -> 0 | G39: ='Dist 35'!J36 -> 0
A40: 846 | B40: District 36 | C40: ='Dist 36'!D103 -> 15675 | D40: ='Dist 36'!D106 -> 15675 | E40: =D40-C40 -> 0 | G40: ='Dist 36'!J103 -> 0
A41: 847 | B41: District 37 | C41: ='Dist 37'!D106 -> 9050 | D41: ='Dist 37'!D109 -> 9050 | E41: =D41-C41 -> 0 | G41: ='Dist 37'!J106 -> 0 | H41: Region IV
A42: 851 | B42: District 38 | C42: ='Dist 38'!D83 -> 6925 | D42: ='Dist 38'!D86 -> 6925 | E42: =D42-C42 -> 0 | G42: ='Dist 38'!J83 -> 0
A43: 855 | B43: District 39 | C43: ='Dist 39'!D81 -> 8750 | D43: ='Dist 39'!D84 -> 8750 | E43: =D43-C43 -> 0 | G43: ='Dist 39'!J81 -> 0
A44: 860 | B44: District 40 | C44: ='Dist 40'!D67 -> 5675 | D44: ='Dist 40'!D70 -> 5675 | E44: =D44-C44 -> 0 | G44: ='Dist 40'!J67 -> 0
B45: Total | C45: =SUM(C3:C44) -> 524600 | D45: =SUM(D3:D44) -> 524600 | E45: =D45-C45 -> 0

Sheet Test Deck Order
B1: ALASKA 2024 PRIMARY ELECTION BALLOT ORDER TEST DECK ORDER
A2: Ballot ID# | C2: Director's Office Test Deck Straight Order | D2: Region I Test Deck Reverse Order | E2: Region II Test Deck Reverse Order | F2: Region III Test Deck Reverse Order | G2: Region IV Test Deck Reverse Order | H2: Region V Test Deck Reverse Order
A3: =Totals!A5 -> 800 | B3: District 1 | C3: 2 | D3: 3 | E3: 3 | F3: 1 | G3: 1 | H3: 1 | I3: Region I
A4: =Totals!A6 -> 811 | B4: District 2 | C4: 2 | D4: 3 | E4: 3 | F4: 1 | G4: 1 | H4: 1
A5: =Totals!A7 -> 812 | B5: District 3 | C5: 2 | D5: 3 | E5: 3 | F5: 1 | G5: 1 | H5: 1
A6: =Totals!A8 -> 813 | B6: District 4 | C6: 2 | D6: 3 | E6: 3 | F6: 1 | G6: 1 | H6: 1
A7: =Totals!A9 -> 814 | B7: District 5 | C7: 2 | D7: 3 | E7: 3 | F7: 1 | G7: 1 | H7: 1
A8: =Totals!A10 -> 816 | B8: District 6 | C8: 2 | D8: 3 | E8: 3 | F8: 1 | G8: 1 | H8: 1
A9: =Totals!A11 -> 817 | B9: District 7 | C9: 2 | D9: 3 | E9: 3 | F9: 1 | G9: 1 | H9: 3 | I9: RV
A10: =Totals!A12 -> 818 | B10: District 8 | C10: 2 | D10: 3 | E10: 3 | F10: 1 | G10: 1 | H10: 3
A11: =Totals!A13 -> 819 | B11: District 9 | C11: 2 | D11: 1 | E11: 3 | F11: 1 | G11: 1 | H11: 1 | I11: Region II
A12: =Totals!A14 -> 820 | B12: District 10 | C12: 2 | D12: 1 | E12: 3 | F12: 1 | G12: 1 | H12: 1
A13: =Totals!A15 -> 821 | B13: District 11 | C13: 2 | D13: 1 | E13: 3 | F13: 1 | G13: 1 | H13: 1
A14: =Totals!A16 -> 822 | B14: District 12 | C14: 2 | D14: 1 | E14: 3 | F14: 1 | G14: 1 | H14: 1
A15: =Totals!A17 -> 823 | B15: District 13 | C15: 2 | D15: 1 | E15: 3 | F15: 1 | G15: 1 | H15: 1
A16: =Totals!A18 -> 824 | B16: District 14 | C16: 2 | D16: 1 | E16: 3 | F16: 1 | G16: 1 | H16: 1
A17: =Totals!A19 -> 825 | B17: District 15 | C17: 2 | D17: 1 | E17: 3 | F17: 1 | G17: 1 | H17: 1
A18: =Totals!A20 -> 826 | B18: District 16 | C18: 2 | D18: 1 | E18: 3 | F18: 1 | G18: 1 | H18: 1
A19: =Totals!A21 -> 827 | B19: District 17 | C19: 2 | D19: 1 | E19: 3 | F19: 1 | G19: 1 | H19: 1
A20: =Totals!A22 -> 828 | B20: District 18 | C20: 2 | D20: 1 | E20: 3 | F20: 1 | G20: 1 | H20: 1
A21: =Totals!A23 -> 829 | B21: District 19 | C21: 2 | D21: 1 | E21: 3 | F21: 1 | G21: 1 | H21: 1
A22: =Totals!A24 -> 830 | B22: District 20 | C22: 2 | D22: 1 | E22: 3 | F22: 1 | G22: 1 | H22: 1
A23: =Totals!A25 -> 831 | B23: District 21 | C23: 2 | D23: 1 | E23: 3 | F23: 1 | G23: 1 | H23: 1
... A26: =Totals!A28 -> 834 | B26: District 24 | C26: 2 | D26: 1 | E26: 3 | F26: 1 | G26: 1 | H26: 1
A27: =Totals!A29 -> 835 | B27: District 25 | C27: 2 | D27: 1 | E27: 3 | F27: 1 | G27: 1 | H27: 3 | I27: Region V - MS
A28: =Totals!A30 -> 836 | B28: District 26 | C28: 2 | D28: 1 | E28: 3 | F28: 1 | G28: 1 | H28: 3
A29: =Totals!A31 -> 837 | B29: District 27 | C29: 2 | D29: 1 | E29: 3 | F29: 1 | G29: 1 | H29: 3
A30: =Totals!A32 -> 838 | B30: District 28 | C30: 2 | D30: 1 | E30: 3 | F30: 1 | G30: 1 | H30: 3
A31: =Totals!A33 -> 839 | B31: District 29 | C31: 2 | D31: 1 | E31: 3 | F31: 1 | G31: 1 | H31: 3
A32: =Totals!A34 -> 840 | B32: District 30 | C32: 2 | D32: 1 | E32: 3 | F32: 1 | G32: 1 | H32: 3
A33: =Totals!A35 -> 841 | B33: District 31 | C33: 2 | D33: 1 | E33: 3 | F33: 1 | G33: 1 | H33: 1 | I33: Region III
A34: =Totals!A36 -> 842 | B34: District 32 | C34: 2 | D34: 1 | E34: 3 | F34: 1 | G34: 1 | H34: 1
A35: =Totals!A37 -> 843 | B35: District 33 | C35: 2 | D35: 1 | E35: 3 | F35: 1 | G35: 1 | H35: 1
A36: =Totals!A38 -> 844 | B36: District 34 | C36: 2 | D36: 1 | E36: 3 | F36: 1 | G36: 1 | H36: 1
A37: =Totals!A39 -> 845 | B37: District 35 | C37: 2 | D37: 1 | E37: 3 | F37: 1 | G37: 1 | H37: 1
A38: =Totals!A40 -> 846 | B38: District 36 | C38: 2 | D38: 1 | E38: 3 | F38: 1 | G38: 1 | H38: 1
A39: =Totals!A41 -> 847 | B39: District 37 | C39: 2 | D39: 3 | E39: 3 | F39: 1 | G39: 1 | H39: 1 | I39: Region IV
A40: =Totals!A42 -> 851 | B40: District 38 | C40: 2 | D40: 1 | E40: 3 | F40: 1 | G40: 1 | H40: 1
A41: =Totals!A43 -> 855 | B41: District 39 | C41: 2 | D41: 1 | E41: 3 | F41: 1 | G41: 1 | H41: 1
A42: =Totals!A44 -> 860 | B42: District 40 | C42: 2 | D42: 1 | E42: 3 | F42: 1 | G42: 1 | H42: 1
A43: =Totals!A3 -> 801 | B43: Fed Overseas | C43: 2 | D43: 1 | E43: 3 | F43: 1 | G43: 1 | H43: 1 | I43: RII
B44: Total Regions | C44: =SUM(C3:C43) -> 82 | D44: =SUM(D3:D43) -> 59 | E44: =SUM(E3:E43) -> 123 | F44: =SUM(F3:F43) -> 41 | G44: =SUM(G3:G43) -> 41 | H44: =SUM(H3:H43) -> 57
B45: Total Order | I45: =SUM(C44:H44) -> 403

Sheet Federal Only
A1: ALASKA 2024 PRIMARY ELECTION BALLOT ORDER FEDERAL ONLY BALLOTS
F2: Ballot ID# | G2: =Totals!A3 -> 801
C4: Numbers | E4: Sample | F4: Fascimile
A5: CARD - SEQUENCE | B5: # Ballots | C5: FROM | D5: TO | E5: Ballots | F5: Ballots | G5: Delivery
A6: Federal Ballot Only | B6: 300 | C6: 1 | D6: =SUM(C6+B6-1) -> 300 | E6: 0 | G6: AP | H6: =MOD(B6,25) -> 0
F7: 100 | G7: RII
A9: Checksum: Sequence End - Start: | C9: =D6-C6+1 -> 300 | H9: =SUM(H6:H8) -> 0

Sheet Abs By Mail
B1: ALASKA 2024 PRIMARY ELECTION BALLOT ORDER ABSENTEE BY MAIL
D2: Numbers | F2: Sample | G2: Fascimile | I2: Registered
A3: Ballot ID# | B3: CARD - SEQUENCE | C3: # Ballots | D3: FROM | E3: TO | F3: Ballots | G3: Ballots | H3: Delivery | I3: Voters
A4: =Totals!A5 -> 800 | B4: House District 1 | C4: 500 | D4: =SUM('Federal Only'!D6)+1 -> 301 | E4: =SUM(C4+D4-1) -> 800 | H4: AP | I4: ='Dist 1'!B15 -> 15029 | J4: Region I
A5: =Totals!A6 -> 811 | B5: House District 2 | C5: 700 | D5: =SUM(E4+1) -> 801 | E5: =SUM(D5+C5-1) -> 1500 | H5: AP | I5: ='Dist 2'!B20 -> 15877
A6: =Totals!A7 -> 812 | B6: House District 3 | C6: 750 | D6: =SUM(E5+1) -> 1501 | E6: =SUM(D6+C6-1) -> 2250 | H6: AP | I6: ='Dist 3'!B15 -> 16643
A7: =Totals!A8 -> 813 | B7: House District 4 | C7: 850 | D7: =SUM(E6+1) -> 2251 | E7: =SUM(D7+C7-1) -> 3100 | H7: AP | I7: ='Dist 4'!B13 -> 15030
A8: =Totals!A9 -> 814 | B8: House District 5 | C8: 450 | D8: =SUM(E7+1) -> 3101 | E8: =SUM(D8+C8-1) -> 3550 | H8: AP | I8: ='Dist 5'!B17 -> 13928
A9: =Totals!A10 -> 816 | B9: House District 6 | C9: 1100 | D9: =SUM(E8+1) -> 3551 | E9: =SUM(D9+C9-1) -> 4650 | H9: AP | I9: ='Dist 6'!B14 -> 18012
A10: =Totals!A11 -> 817 | B10: House District 7 | C10: 850 | D10: =SUM(E9+1) -> 4651 | E10: =SUM(D10+C10-1) -> 5500 | H10: AP | I10: ='Dist 7'!B11 -> 16524 | J10: RV
A11: =Totals!A12 -> 818 | B11: House District 8 | C11: 900 | D11: =SUM(E10+1) -> 5501 | E11: =SUM(D11+C11-1) -> 6400 | H11: AP | I11: ='Dist 8'!B16 -> 16997
A12: =Totals!A13 -> 819 | B12: House District 9 | C12: 1800 | D12: =SUM(E11+1) -> 6401 | E12: =SUM(D12+C12-1) -> 8200 | H12: AP | I12: ='Dist 9'!B14 -> 16287 | J12: Region III
A13: =Totals!A14 -> 820 | B13: House District 10 | C13: 1200 | D13: =SUM(E12+1) -> 8201 | E13: =SUM(D13+C13-1) -> 9400 | H13: AP | I13: ='Dist 10'!B11 -> 14942
A14: =Totals!A15 -> 821 | B14: House District 11 | C14: 1350 | D14: =SUM(E13+1) -> 9401 | E14: =SUM(D14+C14-1) -> 10750 | H14: AP | I14: ='Dist 11'!B12 -> 15126
A15: =Totals!A16 -> 822 | B15: House District 12 | C15: 950 | D15: =SUM(E14+1) -> 10751 | E15: =SUM(D15+C15-1) -> 11700 | H15: AP | I15: ='Dist 12'!B11 -> 15061
A16: =Totals!A17 -> 823 | B16: House District 13 | C16: 750 | D16: =SUM(E15+1) -> 11701 | E16: =SUM(D16+C16-1) -> 12450 | H16: AP | I16: ='Dist 13'!B10 -> 15258
A17: =Totals!A18 -> 824 | B17: House District 14 | C17: 950 | D17: =SUM(E16+1) -> 12451 | E17: =SUM(D17+C17-1) -> 13400 | H17: AP | I17: ='Dist 14'!B12 -> 14529
A18: =Totals!A19 -> 825 | B18: House District 15 | C18: 1200 | D18: =SUM(E17+1) -> 13401 | E18: =SUM(D18+C18-1) -> 14600 | H18: AP | I18: ='Dist 15'!B11 -> 15351
A19: =Totals!A20 -> 826 | B19: House District 16 | C19: 1200 | D19: =SUM(E18+1) -> 14601 | E19: =SUM(D19+C19-1) -> 15800 | H19: AP | I19: ='Dist 16'!B12 -> 15594
A20: =Totals!A21 -> 827 | B20: House District 17 | C20: 1100 | D20: =SUM(E19+1) -> 15801 | E20: =SUM(D20+C20-1) -> 16900 | H20: AP | I20: ='Dist 17'!B12 -> 14843
A21: =Totals!A22 -> 828 | B21: House District 18 | C21: 350 | D21: =SUM(E20+1) -> 16901 | E21: =SUM(D21+C21-1) -> 17250 | H21: AP | I21: ='Dist 18'!B10 -> 11767
A22: =Totals!A23 -> 829 | B22: House District 19 | C22: 450 | D22: =SUM(E21+1) -> 17251 | E22: =SUM(D22+C22-1) -> 17700 | H22: AP | I22: ='Dist 19'!B10 -> 13171
A23: =Totals!A24 -> 830 | B23: House District 20 | C23: 850 | D23: =SUM(E22+1) -> 17701 | E23: =SUM(D23+C23-1) -> 18550 | H23: AP | I23: ='Dist 20'!B10 -> 14073
A24: =Totals!A25 -> 831 | B24: House District 21 | C24: 1250 | D24: =SUM(E23+1) -> 18551 | E24: =SUM(D24+C24-1) -> 19800 | H24: AP | I24: ='Dist 21'!B10 -> 15553
A25: =Totals!A26 -> 832 | B25: House District 22 | C25: 500 | D25: =SUM(E24+1) -> 19801 | E25: =SUM(D25+C25-1) -> 20300 | H25: AP | I25: ='Dist 22'!B9 -> 14259
A26: =Totals!A27 -> 833 | B26: House District 23 | C26: 1350 | D26: =SUM(E25+1) -> 20301 | E26: =SUM(D26+C26-1) -> 21650 | H26: AP | I26: ='Dist 23'!B11 -> 16542
A27: =Totals!A28 -> 834 | B27: House District 24 | C27: 1050 | D27: =SUM(E26+1) -> 21651 | E27: =SUM(D27+C27-1) -> 22700 | H27: AP | I27: ='Dist 24'!B12 -> 15775
A28: =Totals!A29 -> 835 | B28: House District 25 | C28: 750 | D28: =SUM(E27+1) -> 22701 | E28: =SUM(D28+C28-1) -> 23450 | H28: AP | I28: ='Dist 25'!B12 -> 16477 | J28: Region V - MS
A29: =Totals!A30 -> 836 | B29: House District 26 | C29: 600 | D29: =SUM(E28+1) -> 23451 | E29: =SUM(D29+C29-1) -> 24050 | H29: AP | I29: ='Dist 26'!B12 -> 15895
A30: =Totals!A31 -> 837 | B30: House District 27 | C30: 500 | D30: =SUM(E29+1) -> 24051 | E30: =SUM(D30+C30-1) -> 24550 | H30: AP | I30: ='Dist 27'!B10 -> 16147
A31: =Totals!A32 -> 838 | B31: House District 28 | C31: 650 | D31: =SUM(E30+1) -> 24551 | E31: =SUM(D31+C31-1) -> 25200 | H31: AP | I31: ='Dist 28'!B12 -> 15918
A32: =Totals!A33 -> 839 | B32: House District 29 | C32: 700 | D32: =SUM(E31+1) -> 25201 | E32: =SUM(D32+C32-1) -> 25900 | H32: AP | I32: ='Dist 29'!B14 -> 16504
A33: =Totals!A34 -> 840 | B33: House District 30 | C33: 750 | D33: =SUM(E32+1) -> 25901 | E33: =SUM(D33+C33-1) -> 26650 | H33: AP | I33: ='Dist 30'!B17 -> 16988
A34: =Totals!A35 -> 841 | B34: House District 31 | C34: 450 | D34: =SUM(E33+1) -> 26651 | E34: =SUM(D34+C34-1) -> 27100 | H34: AP | I34: ='Dist 31'!B9 -> 14159 | J34: Region III
A35: =Totals!A36 -> 842 | B35: House District 32 | C35: 250 | D35: =SUM(E34+1) -> 27101 | E35: =SUM(D35+C35-1) -> 27350 | H35: AP | I35: ='Dist 32'!B9 -> 11172
A36: =Totals!A37 -> 843 | B36: House District 33 | C36: 400 | D36: =SUM(E35+1) -> 27351 | E36: =SUM(D36+C36-1) -> 27750 | H36: AP | I36: ='Dist 33'!B11 -> 16047
A37: =Totals!A38 -> 844 | B37: House District 34 | C37: 750 | D37: =SUM(E36+1) -> 27751 | E37: =SUM(D37+C37-1) -> 28500 | H37: AP | I37: ='Dist 34'!B13 -> 15810
A38: =Totals!A39 -> 845 | B38: House District 35 | C38: 600 | D38: =SUM(E37+1) -> 28501 | E38: =SUM(D38+C38-1) -> 29100 | H38: AP | I38: ='Dist 35'!B13 -> 15646
A39: =Totals!A40 -> 846 | B39: House District 36 | C39: 800 | D39: =SUM(E38+1) -> 29101 | E39: =SUM(D39+C39-1) -> 29900 | H39: AP | I39: ='Dist 36'!B45 -> 15969
A40: =Totals!A41 -> 847 | B40: House District 37 | C40: 250 | D40: =SUM(E39+1) -> 29901 | E40: =SUM(D40+C40-1) -> 30150 | H40: AP | I40: ='Dist 37'!B40 -> 10033 | J40: Region IV
A41: =Totals!A42 -> 851 | B41: House District 38 | C41: 100 | D41: =SUM(E40+1) -> 30151 | E41: =SUM(D41+C41-1) -> 30250 | H41: AP | I41: ='Dist 38'!B29 -> 10756
A42: =Totals!A43 -> 855 | B42: House District 39 | C42: 100 | D42: =SUM(E41+1) -> 30251 | E42: =SUM(D42+C42-1) -> 30350 | H42: AP | I42: ='Dist 39'!B33 -> 10440
A43: =Totals!A44 -> 860 | B43: House District 40 | C43: 100 | D43: =SUM(E42+1) -> 30351 | E43: =SUM(D43+C43-1) -> 30450 | H43: AP | I43: ='Dist 40'!B25 -> 9094
B44: TOTAL ABSENTEE BY MAIL | C44: =SUM(C4:C43) -> 30150 | G44: =SUM(G4:G43) -> 0 | I44: =SUM(I4:I43) -> 593226
B47: Checksum: Sequence End - Start: | D47: =E43-D4+1 -> 30150

Sheet Dist 1
H1: BALLOT ID# | J1: =Totals!A5 -> 800
B3: # REGIS- | D3: # | E3: Numbers | G3: Sample | H3: Fascimile
A4: DISTRICT / PRECINCT | B4: TERED | D4: Ballots | E4: FROM | F4: TO | G4: Ballots | H4: Ballots | I4: Delivery | J4: Checksum
A5: 01-600 Ketchikan No. 1 | B5: 2243 | C5: =SUM(B5*0.65) -> 1457.95 | D5: =MROUND(C5, 25) -> 1450 | E5: =SUM('Abs By Mail'!E43,1) -> 30451 | F5: =SUM(E5+D5-1) -> 31900 | G5: 25 | I5: R1 | J5: =MOD(D5,25) -> 0
A6: 01-610 Ketchikan No. 2 | B6: 2510 | C6: =SUM(B6*0.65) -> 1631.5 | D6: =MROUND(C6, 25) -> 1625 | E6: =SUM(F5+1) -> 31901 | F6: =SUM(E6+D6-1) -> 33525 | G6: 25 | I6: R1 | J6: =MOD(D6,25) -> 0
A7: 01-620 Ketchikan No. 3 | B7: 1778 | C7: =SUM(B7*0.65) -> 1155.7 | D7: =MROUND(C7, 25) -> 1150 | E7: =SUM(F6+1) -> 33526 | F7: =SUM(E7+D7-1) -> 34675 | G7: 25 | I7: R1 | J7: =MOD(D7,25) -> 0
A8: 01-640 North Tongass No. 1 | B8: 1091 | C8: =SUM(B8*0.65) -> 709.15 | D8: =MROUND(C8, 25) -> 700 | E8: =SUM(F7+1) -> 34676 | F8: =SUM(E8+D8-1) -> 35375 | G8: 25 | I8: R1 | J8: =MOD(D8,25) -> 0
A9: 01-650 North Tongass No. 2 | B9: 1867 | C9: =SUM(B9*0.65) -> 1213.55 | D9: =MROUND(C9, 25) -> 1225 | E9: =SUM(F8+1) -> 35376 | F9: =SUM(E9+D9-1) -> 36600 | G9: 25 | I9: R1 | J9: =MOD(D9,25) -> 0
A10: 01-660 Saxman | B10: 308 | C10: =SUM(B10*0.65) -> 200.2 | D10: =MROUND(C10, 25) -> 200 | E10: =SUM(F9+1) -> 36601 | F10: =SUM(E10+D10-1) -> 36800 | G10: 25 | I10: R1 | J10: =MOD(D10,25) -> 0
A11: 01-670 South Tongass | B11: 1970 | C11: =SUM(B11*0.65) -> 1280.5 | D11: =MROUND(C11, 25) -> 1275 | E11: =SUM(F10+1) -> 36801 | F11: =SUM(E11+D11-1) -> 38075 | G11: 25 | I11: R1 | J11: 0
A12: 01-675 Coffman Cove | B12: 321 | C12: =SUM(B12*0.65) -> 208.65 | D12: =MROUND(C12, 25) -> 200 | E12: =SUM(F11+1) -> 38076 | F12: =SUM(E12+D12-1) -> 38275 | G12: 25 | I12: R1 | J12: =MOD(D12,25) -> 0
A13: 01-680 Metlakatla | B13: 1020 | C13: =SUM(B13*0.65) -> 663 | D13: =MROUND(C13, 25) -> 675 | E13: =SUM(F12+1) -> 38276 | F13: =SUM(E13+D13-1) -> 38950 | G13: 25 | I13: R1 | J13: =MOD(D13,25) -> 0
A14: 01-690 Wrangell | B14: 1921 | C14: =SUM(B14*0.65) -> 1248.65 | D14: =MROUND(C14, 25) -> 1250 | E14: =SUM(F13+1) -> 38951 | F14: =SUM(E14+D14-1) -> 40200 | G14: 25 | I14: R1 | J14: =MOD(D14,25) -> 0
A15: TOTAL PRECINCT BALLOTS DIST. 1 | B15: =SUM(B5:B14) -> 15029 | D15: =SUM(D5:D14) -> 9750
A17: ABSENTEE OFFICIALS & STATIONS:
A18: ANCHORAGE
A19: 92-900 Anchorage Elections Office | D19: 100 | E19: =SUM(F14+1) -> 40201 | F19: =SUM(E19+D19-1) -> 40300 | G19: 10 | I19: R2 | J19: =MOD(D19,25) -> 0
A20: 92-902 Anchorage Airport | D20: 25 | E20: =SUM(F19+1) -> 40301 | F20: =SUM(E20+D20-1) -> 40325 | G20: 5 | I20: R2 | J20: =MOD(D20,25) -> 0
A21: 92-905 Downtown Anchorage | D21: 50 | E21: =SUM(F20+1) -> 40326 | F21: =SUM(E21+D21-1) -> 40375 | G21: 5 | I21: R2 | J21: =MOD(D21,25) -> 0
A23: MAT-SU
A24: 95-900 Mat-Su Elections Office | D24: 25 | E24: =SUM(F21+1) -> 40376 | F24: =SUM(E24+D24-1) -> 40400 | G24: 5 | I24: R5 | J24: =MOD(D24,25) -> 0
A26: FAIRBANKS
A27: 93-900 Fairbanks Elections Office | D27: 25 | E27: =SUM(F24+1) -> 40401 | F27: =SUM(E27+D27-1) -> 40425 | G27: 5 | I27: R3 | J27: =MOD(D27,25) -> 0
A29: JUNEAU
A30: 91-900 Juneau Elections Office | D30: 100 | E30: =SUM(F27+1) -> 40426 | F30: =SUM(E30+D30-1) -> 40525 | G30: 25 | H30: 125 | I30: R1 | J30: =MOD(D30,25) -> 0
A31: 91-902 Juneau Downtown | D31: 100 | E31: =SUM(F30+1) -> 40526 | F31: =SUM(E31+D31-1) -> 40625 | G31: 25 | I31: R1 | J31: =MOD(D31,25) -> 0
A32: 01-920 Coffman Cove AVO | D32: 50 | E32: =SUM(F31+1) -> 40626 | F32: =SUM(E32+D32-1) -> 40675 | G32: 5 | I32: R1 | J32: =MOD(D32,25) -> 0
A33: 01-922 Hyder AVO | D33: 50 | E33: =SUM(F32+1) -> 40676 | F33: =SUM(E33+D33-1) -> 40725 | G33: 5 | I33: R1 | J33: =MOD(D33,25) -> 0
A34: 01-924 Ketchikan AVO | D34: 1200 | E34: =SUM(F33+1) -> 40726 | F34: =SUM(E34+D34-1) -> 41925 | G34: 25 | I34: R1 | J34: =MOD(D34,25) -> 0
A35: 01-926 Metlakatla AVO | D35: 75 | E35: =SUM(F34+1) -> 41926 | F35: =SUM(E35+D35-1) -> 42000 | G35: 15 | I35: R1 | J35: =MOD(D35,25) -> 0
A36: 01-928 Whale Pass AVO | D36: 100 | E36: =SUM(F35+1) -> 42001 | F36: =SUM(E36+D36-1) -> 42100 | G36: 5 | I36: R1 | J36: =MOD(D36,25) -> 0
A37: 01-930 Wrangell AVO | D37: 350 | E37: =SUM(F36+1) -> 42101 | F37: =SUM(E37+D37-1) -> 42450 | G37: 25 | I37: R1 | J37: =MOD(D37,25) -> 0
A39: NOME
A40: 94-900 Nome Elections Office | D40: 25 | E40: =SUM(F37+1) -> 42451 | F40: =SUM(E40+D40-1) -> 42475 | G40: 5 | I40: R4 | J40: =MOD(D40,25) -> 0
A41: 94-901 Prudhoe Bay Station | D41: 25 | E41: =SUM(F40+1) -> 42476 | F41: =SUM(E41+D41-1) -> 42500 | G41: 5 | I41: R4 | J41: =MOD(D41,25) -> 0
A42: TOTAL ABSENTEE BALLOTS - DIST. 1 | D42: =SUM(D19:D41) -> 2300
A44: TOTAL DISTRICT 1 BALLOTS | D44: =D15+D42 -> 12050 | G44: =SUM(G5:G41) -> 420 | H44: =SUM(H5:H41) -> 125 | J44: =SUM(J5:J41) -> 0
A47: Checksum: Sequence End - Start: | D47: =F41-E5+1 -> 12050

Sheet Dist 2
H1: BALLOT ID# | J1: =Totals!A6 -> 811
B3: # REGIS- | D3: # | E3: Numbers | G3: Sample | H3: Fascimile
A4: DISTRICT / PRECINCT | B4: TERED | D4: Ballots | E4: FROM | F4: TO | G4: Ballots | H4: Ballots | I4: Delivery | J4: Checksum
A5: 02-700 Angoon | B5: 308 | C5: =SUM(B5*0.65) -> 200.2 | D5: =MROUND(C5, 25) -> 200 | E5: =SUM('Dist 1'!F41,1) -> 42501 | F5: =SUM(E5+D5-1) -> 42700 | G5: 25 | I5: R1 | J5: =MOD(D5,25) -> 0
A6: 02-705 Craig | B6: 1179 | C6: =SUM(B6*0.65) -> 766.35 | D6: =MROUND(C6, 25) -> 775 | E6: =SUM(F5+1) -> 42701 | F6: =SUM(E6+D6-1) -> 43475 | G6: 25 | I6: R1 | J6: =MOD(D6,25) -> 0
A7: 02-720 Hoonah | B7: 692 | C7: =SUM(B7*0.65) -> 449.8 | D7: =MROUND(C7, 25) -> 450 | E7: =SUM(F6+1) -> 43476 | F7: =SUM(E7+D7-1) -> 43925 | G7: 25 | I7: R1 | J7: =MOD(D7,25) -> 0
A8: 02-725 Hydaburg | B8: 280 | C8: =SUM(B8*0.65) -> 182 | D8: =MROUND(C8, 25) -> 175 | E8: =SUM(F7+1) -> 43926 | F8: =SUM(E8+D8-1) -> 44100 | G8: 25 | I8: R1 | J8: =MOD(D8,25) -> 0
A9: 02-730 Kake | B9: 356 | C9: =SUM(B9*0.65) -> 231.4 | D9: =MROUND(C9, 25) -> 225 | E9: =SUM(F8+1) -> 44101 | F9: =SUM(E9+D9-1) -> 44325 | G9: 25 | I9: R1 | J9: =MOD(D9,25) -> 0
A10: 02-735 Kasaan | B10: 58 | C10: =SUM(B10*0.65) -> 37.7 | D10: =MROUND(C10, 25) -> 50 | E10: =SUM(F9+1) -> 44326 | F10: =SUM(E10+D10-1) -> 44375 | G10: 25 | I10: R1 | J10: =MOD(D10,25) -> 0
A11: 02-740 Klawock | B11: 1303 | C11: =SUM(B11*0.65) -> 846.95 | D11: =MROUND(C11, 25) -> 850 | E11: =SUM(F10+1) -> 44376 | F11: =SUM(E11+D11-1) -> 45225 | G11: 25 | I11: R1 | J11: =MOD(D11,25) -> 0
A12: 02-750 Pelican-Elfin Cove | B12: 150 | C12: =SUM(B12*0.65) -> 97.5 | D12: 75 | E12: =SUM(F11+1) -> 45226 | F12: =SUM(E12+D12-1) -> 45300 | G12: 25 | I12: R1 | J12: =MOD(D12,25) -> 0
A13: 02-755 Petersburg-Kupreanof | B13: 2990 | C13: =SUM(B13*0.65) -> 1943.5 | D13: =MROUND(C13, 25) -> 1950 | E13: =SUM(F12+1) -> 45301 | F13: =SUM(E13+D13-1) -> 47250 | G13: 25 | I13: R1 | J13: =MOD(D13,25) -> 0
A14: 02-760 Port Alexander | B14: 46 | C14: =SUM(B14*0.65) -> 29.9 | D14: 50 | E14: =SUM(F13+1) -> 47251 | F14: =SUM(E14+D14-1) -> 47300 | G14: 25 | I14: R1 | J14: =MOD(D14,25) -> 0
A15: 02-765 Sitka No. 1 | B15: 3612 | C15: =SUM(B15*0.65) -> 2347.8 | D15: =MROUND(C15, 25) -> 2350 | E15: =SUM(F14+1) -> 47301 | F15: =SUM(E15+D15-1) -> 49650 | G15: 25 | I15: R1 | J15: =MOD(D15,25) -> 0
A16: 02-770 Sitka No. 2 | B16: 3731 | C16: =SUM(B16*0.65) -> 2425.15 | D16: =MROUND(C16, 25) -> 2425 | E16: =SUM(F15+1) -> 49651 | F16: =SUM(E16+D16-1) -> 52075 | G16: 25 | I16: R1 | J16: =MOD(D16,25) -> 0
A17: 02-775 Tenakee Springs | B17: 123 | C17: =SUM(B17*0.65) -> 79.95 | D17: 100 | E17: =SUM(F16+1) -> 52076 | F17: =SUM(E17+D17-1) -> 52175 | G17: 25 | I17: R1 | J17: =MOD(D17,25) -> 0
A18: 02-780 Thorne Bay | B18: 545 | C18: =SUM(B18*0.65) -> 354.25 | D18: =MROUND(C18, 25) -> 350 | E18: =SUM(F17+1) -> 52176 | F18: =SUM(E18+D18-1) -> 52525 | G18: 25 | I18: R1 | J18: =MOD(D18,25) -> 0
A19: 02-785 Yakutat | B19: 504 | C19: =SUM(B19*0.65) -> 327.6 | D19: =MROUND(C19, 25) -> 325 | E19: =SUM(F18+1) -> 52526 | F19: =SUM(E19+D19-1) -> 52850 | G19: 25 | I19: R1 | J19: 0
A20: TOTAL PRECINCT BALLOTS DIST. 2 | B20: =SUM(B5:B19) -> 15877 | D20: =SUM(D5:D19) -> 10350
A22: ABSENTEE OFFICIALS & STATIONS:
A23: ANCHORAGE
A24: 92-900 Anchorage Elections Office | D24: 100 | E24: =SUM(F19+1) -> 52851 | F24: =SUM(E24+D24-1) -> 52950 | G24: 10 | I24: R2 | J24: =MOD(D24,25) -> 0
A25: 92-902 Anchorage Airport | D25: 25 | E25: =SUM(F24+1) -> 52951 | F25: =SUM(E25+D25-1) -> 52975 | G25: 5 | I25: R2 | J25: =MOD(D25,25) -> 0
A26: 92-905 Downtown Anchorage | D26: 50 | E26: =SUM(F25+1) -> 52976 | F26: =SUM(E26+D26-1) -> 53025 | G26: 5 | I26: R2 | J26: =MOD(D26,25) -> 0
A28: MAT-SU
A29: 95-900 Mat-Su Elections Office | D29: 25 | E29: =SUM(F26+1) -> 53026 | F29: =SUM(E29+D29-1) -> 53050 | G29: 5 | I29: R5 | J29: =MOD(D29,25) -> 0
A31: FAIRBANKS
A32: 93-900 Fairbanks Elections Office | D32: 25 | E32: =SUM(F29+1) -> 53051 | F32: =SUM(E32+D32-1) -> 53075 | G32: 5 | I32: R3 | J32: =MOD(D32,25) -> 0
A34: JUNEAU
A35: 91-900 Juneau Elections Office | D35: 150 | E35: =SUM(F32+1) -> 53076 | F35: =SUM(E35+D35-1) -> 53225 | G35: 25 | H35: 125 | I35: R1 | J35: =MOD(D35,25) -> 0
A36: 91-902 Juneau Downtown | D36: 75 | E36: =SUM(F35+1) -> 53226 | F36: =SUM(E36+D36-1) -> 53300 | G36: 25 | I36: R1 | J36: =MOD(D36,25) -> 0
A37: 02-932 Angoon AVO | D37: 100 | E37: =SUM(F36+1) -> 53301 | F37: =SUM(E37+D37-1) -> 53400 | G37: 5 | I37: R1 | J37: =MOD(D37,25) -> 0
A38: 02-934 Craig AVO | D38: 225 | E38: =SUM(F37+1) -> 53401 | F38: =SUM(E38+D38-1) -> 53625 | G38: 5 | I38: R1 | J38: =MOD(D38,25) -> 0
A39: 02-936 Elfin Cove AVO | D39: 50 | E39: =SUM(F38+1) -> 53626 | F39: =SUM(E39+D39-1) -> 53675 | G39: 5 | I39: R1 | J39: =MOD(D39,25) -> 0
A40: 02-938 Hollis AVO | D40: 100 | E40: =SUM(F39+1) -> 53676 | F40: =SUM(E40+D40-1) -> 53775 | G40: 5 | I40: R1 | J40: =MOD(D40,25) -> 0
A41: 02-940 Hoonah AVO | D41: 100 | E41: =SUM(F40+1) -> 53776 | F41: =SUM(E41+D41-1) -> 53875 | G41: 5 | I41: R1 | J41: =MOD(D41,25) -> 0
A42: 02-942 Hydaburg AVO | D42: 50 | E42: =SUM(F41+1) -> 53876 | F42: =SUM(E42+D42-1) -> 53925 | G42: 5 | I42: R1 | J42: =MOD(D42,25) -> 0
A43: 02-944 Kake AVO | D43: 75 | E43: =SUM(F42+1) -> 53926 | F43: =SUM(E43+D43-1) -> 54000 | G43: 5 | I43: R1 | J43: =MOD(D43,25) -> 0
A44: 02-946 Kasaan AVO | D44: 50 | E44: =SUM(F43+1) -> 54001 | F44: =SUM(E44+D44-1) -> 54050 | G44: 5 | I44: R1 | J44: =MOD(D44,25) -> 0
A45: 02-948 Klawock AVO | D45: 75 | E45: =SUM(F44+1) -> 54051 | F45: =SUM(E45+D45-1) -> 54125 | G45: 5 | I45: R1 | J45: =MOD(D45,25) -> 0
A46: 02-950 Naukati AVO | D46: 75 | E46: =SUM(F45+1) -> 54126 | F46: =SUM(E46+D46-1) -> 54200 | G46: 5 | I46: R1 | J46: =MOD(D46,25) -> 0
A47: 02-952 Pelican AVO | D47: 50 | E47: =SUM(F46+1) -> 54201 | F47: =SUM(E47+D47-1) -> 54250 | G47: 5 | I47: R1 | J47: =MOD(D47,25) -> 0
... A55: 02-966 Yakutat AVO | D55: 75 | E55: =SUM(F54+1) -> 56176 | F55: =SUM(E55+D55-1) -> 56250 | G55: 10 | I55: R1 | J55: =MOD(D55,25) -> 0
A57: NOME
A58: 94-900 Nome Elections Office | D58: 25 | E58: =SUM(F55+1) -> 56251 | F58: =SUM(E58+D58-1) -> 56275 | G58: 5 | I58: R4 | J58: =MOD(D58,25) -> 0
A59: 94-901 Prudhoe Bay Station | D59: 25 | E59: =SUM(F58+1) -> 56276 | F59: =SUM(E59+D59-1) -> 56300 | G59: 5 | I59: R4 | J59: =MOD(D59,25) -> 0
A60: TOTAL ABSENTEE BALLOTS - DIST. 2 | D60: =SUM(D24:D59) -> 3450
A62: TOTAL DISTRICT 2 BALLOTS | D62: =D20+D60 -> 13800 | G62: =SUM(G5:G59) -> 665 | H62: =SUM(H5:H59) -> 125 | J62: =SUM(J5:J59) -> 0
A65: Checksum: Sequence End - Start: | D65: =F59-E5+1 -> 13800

Sheet Dist 3
H1: BALLOT ID# | J1: =Totals!A7 -> 812
B3: # REGIS- | D3: # | E3: Numbers | G3: Sample | H3: Fascimile
A4: DISTRICT / PRECINCT | B4: TERED | D4: Ballots | E4: FROM | F4: TO | G4: Ballots | H4: Ballots | I4: Delivery | J4: Checksum
A5: 03-300 Auke Bay | B5: 2033 | C5: =SUM(B5*0.65) -> 1321.45 | D5: =MROUND(C5, 25) -> 1325 | E5: =SUM('Dist 2'!F59,1) -> 56301 | F5: =SUM(E5+D5-1) -> 57625 | G5: 25 | I5: R1 | J5: =MOD(D5,25) -> 0
A6: 03-305 Lynn Canal | B6: 1385 | C6: =SUM(B6*0.65) -> 900.25 | D6: =MROUND(C6, 25) -> 900 | E6: =SUM(F5+1) -> 57626 | F6: =SUM(E6+D6-1) -> 58525 | G6: 25 | I6: R1 | J6: =MOD(D6,25) -> 0
A7: 03-310 Melvin Park | B7: 2269 | C7: =SUM(B7*0.65) -> 1474.85 | D7: =MROUND(C7, 25) -> 1475 | E7: =SUM(F6+1) -> 58526 | F7: =SUM(E7+D7-1) -> 60000 | G7: 25 | I7: R1 | J7: =MOD(D7,25) -> 0
A8: 03-315 Mendenhall Glacier | B8: 3292 | C8: =SUM(B8*0.65) -> 2139.8 | D8: =MROUND(C8, 25) -> 2150 | E8: =SUM(F7+1) -> 60001 | F8: =SUM(E8+D8-1) -> 62150 | G8: 25 | I8: R1 | J8: =MOD(D8,25) -> 0
A9: 03-320 Thunder Mountain | B9: 3458 | C9: =SUM(B9*0.65) -> 2247.7 | D9: =MROUND(C9, 25) -> 2250 | E9: =SUM(F8+1) -> 62151 | F9: =SUM(E9+D9-1) -> 64400 | G9: 25 | I9: R1 | J9: =MOD(D9,25) -> 0
A10: 03-325 Gustavus | B10: 573 | C10: =SUM(B10*0.65) -> 372.45 | D10: =MROUND(C10, 25) -> 375 | E10: =SUM(F9+1) -> 64401 | F10: =SUM(E10+D10-1) -> 64775 | G10: 25 | I10: R1 | J10: 0
A11: 03-330 Haines No. 1 | B11: 2090 | C11: =SUM(B11*0.65) -> 1358.5 | D11: =MROUND(C11, 25) -> 1350 | E11: =SUM(F10+1) -> 64776 | F11: =SUM(E11+D11-1) -> 66125 | G11: 25 | I11: R1 | J11: 0
A12: 03-335 Haines No. 2 | B12: 309 | C12: =SUM(B12*0.65) -> 200.85 | D12: =MROUND(C12, 25) -> 200 | E12: =SUM(F11+1) -> 66126 | F12: =SUM(E12+D12-1) -> 66325 | G12: 25 | I12: R1 | J12: 0
A13: 03-340 Klukwan | B13: 69 | C13: =SUM(B13*0.65) -> 44.85 | D13: 75 | E13: =SUM(F12+1) -> 66326 | F13: =SUM(E13+D13-1) -> 66400 | G13: 25 | I13: R1 | J13: 0
A14: 03-345 Skagway | B14: 1165 | C14: =SUM(B14*0.65) -> 757.25 | D14: =MROUND(C14, 25) -> 750 | E14: =SUM(F13+1) -> 66401 | F14: =SUM(E14+D14-1) -> 67150 | G14: 25 | I14: R1 | J14: =MOD(D14,25) -> 0
A15: TOTAL PRECINCT BALLOTS DIST. 3 | B15: =SUM(B5:B14) -> 16643 | D15: =SUM(D5:D14) -> 10850
A17: ABSENTEE OFFICIALS & STATIONS:
A18: ANCHORAGE
A19: 92-900 Anchorage Elections Office | D19: 100 | E19: =SUM(F14+1) -> 67151 | F19: =SUM(E19+D19-1) -> 67250 | G19: 10 | I19: R2 | J19: =MOD(D19,25) -> 0
A20: 92-902 Anchorage Airport | D20: 25 | E20: =SUM(F19+1) -> 67251 | F20: =SUM(E20+D20-1) -> 67275 | G20: 5 | I20: R2 | J20: =MOD(D20,25) -> 0
A21: 92-905 Downtown Anchorage | D21: 50 | E21: =SUM(F20+1) -> 67276 | F21: =SUM(E21+D21-1) -> 67325 | G21: 5 | I21: R2 | J21: =MOD(D21,25) -> 0
A23: MAT-SU
A24: 95-900 Mat-Su Elections Office | D24: 25 | E24: =SUM(F21+1) -> 67326 | F24: =SUM(E24+D24-1) -> 67350 | G24: 5 | I24: R5 | J24: =MOD(D24,25) -> 0
A26: FAIRBANKS
A27: 93-900 Fairbanks Elections Office | D27: 25 | E27: =SUM(F24+1) -> 67351 | F27: =SUM(E27+D27-1) -> 67375 | G27: 5 | I27: R3 | J27: =MOD(D27,25) -> 0
A29: JUNEAU
A30: 91-900 Juneau Elections Office | D30: 2000 | E30: =SUM(F27+1) -> 67376 | F30: =SUM(E30+D30-1) -> 69375 | G30: 100 | H30: 200 | I30: R1 | J30: =MOD(D30,25) -> 0
A31: 91-902 Juneau Downtown | D31: 2000 | E31: =SUM(F30+1) -> 69376 | F31: =SUM(E31+D31-1) -> 71375 | G31: 100 | I31: R1 | J31: =MOD(D31,25) -> 0
A32: 03-968 Gustavus AVO | D32: 250 | E32: =SUM(F31+1) -> 71376 | F32: =SUM(E32+D32-1) -> 71625 | G32: 25 | J32: =MOD(D32,25) -> 0
A33: 03-970 Skagway AVO | D33: 350 | E33: =SUM(F32+1) -> 71626 | F33: =SUM(E33+D33-1) -> 71975 | G33: 25 | I33: R1 | J33: =MOD(D33,25) -> 0
A34: 03-972 Haines AVO | D34: 350 | E34: =SUM(F33+1) -> 71976 | F34: =SUM(E34+D34-1) -> 72325 | G34: 25 | I34: R1 | J34: =MOD(D34,25) -> 0
A35: 03-974 Klukwan AVO | D35: 75 | E35: =SUM(F34+1) -> 72326 | F35: =SUM(E35+D35-1) -> 72400 | G35: 10 | I35: R1 | J35: =MOD(D35,25) -> 0
A37: NOME
A38: 94-900 Nome Elections Office | D38: 25 | E38: =SUM(F35+1) -> 72401 | F38: =SUM(E38+D38-1) -> 72425 | G38: 5 | I38: R4 | J38: =MOD(D38,25) -> 0
A39: 94-901 Prudhoe Bay Station | D39: 25 | E39: =SUM(F38+1) -> 72426 | F39: =SUM(E39+D39-1) -> 72450 | G39: 5 | I39: R4 | J39: =MOD(D39,25) -> 0
A40: TOTAL ABSENTEE BALLOTS - DIST. 3 | D40: =SUM(D19:D39) -> 5300
A42: TOTAL DISTRICT 3 BALLOTS | D42: =D15+D40 -> 16150 | G42: =SUM(G5:G39) -> 575 | H42: =SUM(H5:H39) -> 200 | J42: =SUM(J5:J39) -> 0
A45: Checksum: Sequence End - Start: | D45: =F39-E5+1 -> 16150

Sheet Dist 4
H1: BALLOT ID# | J1: =Totals!A8 -> 813
B3: # REGIS- | D3: # | E3: Numbers | G3: Sample | H3: Fascimile
A4: DISTRICT / PRECINCT | B4: TERED | D4: Ballots | E4: FROM | F4: TO | G4: Ballots | H4: Ballots | I4: Delivery | J4: Checksum
A5: 04-100 Douglas | B5: 1731 | C5: =SUM(B5*0.65) -> 1125.15 | D5: =MROUND(C5, 25) -> 1125 | E5: =SUM('Dist 3'!F39,1) -> 72451 | F5: =SUM(E5+D5-1) -> 73575 | G5: 25 | I5: R1 | J5: =MOD(D5,25) -> 0
A6: 04-105 Juneau Airport Area | B6: 1533 | C6: =SUM(B6*0.65) -> 996.45 | D6: =MROUND(C6, 25) -> 1000 | E6: =SUM(F5+1) -> 73576 | F6: =SUM(E6+D6-1) -> 74575 | G6: 25 | I6: R1 | J6: =MOD(D6,25) -> 0
A7: 04-110 Juneau No. 1 | B7: 2322 | C7: =SUM(B7*0.65) -> 1509.3 | D7: =MROUND(C7, 25) -> 1500 | E7: =SUM(F6+1) -> 74576 | F7: =SUM(E7+D7-1) -> 76075 | G7: 25 | I7: R1 | J7: =MOD(D7,25) -> 0
A8: 04-115 Juneau No. 2 | B8: 2334 | C8: =SUM(B8*0.65) -> 1517.1 | D8: =MROUND(C8, 25) -> 1525 | E8: =SUM(F7+1) -> 76076 | F8: =SUM(E8+D8-1) -> 77600 | G8: 25 | I8: R1 | J8: =MOD(D8,25) -> 0
A9: 04-120 Juneau No. 3 | B9: 1091 | C9: =SUM(B9*0.65) -> 709.15 | D9: =MROUND(C9, 25) -> 700 | E9: =SUM(F8+1) -> 77601 | F9: =SUM(E9+D9-1) -> 78300 | G9: 25 | I9: R1 | J9: =MOD(D9,25) -> 0
A10: 04-125 Lemon Creek | B10: 2403 | C10: =SUM(B10*0.65) -> 1561.95 | D10: =MROUND(C10, 25) -> 1550 | E10: =SUM(F9+1) -> 78301 | F10: =SUM(E10+D10-1) -> 79850 | G10: 25 | I10: R1 | J10: =MOD(D10,25) -> 0
A11: 04-130 Glacier Valley Area | B11: 2155 | C11: =SUM(B11*0.65) -> 1400.75 | D11: =MROUND(C11, 25) -> 1400 | E11: =SUM(F10+1) -> 79851 | F11: =SUM(E11+D11-1) -> 81250 | G11: 25 | I11: R1 | J11: =MOD(D11,25) -> 0
A12: 04-135 North Douglas | B12: 1461 | C12: =SUM(B12*0.65) -> 949.65 | D12: =MROUND(C12, 25) -> 950 | E12: =SUM(F11+1) -> 81251 | F12: =SUM(E12+D12-1) -> 82200 | G12: 25 | I12: R1 | J12: =MOD(D12,25) -> 0
A13: TOTAL PRECINCT BALLOTS DIST. 4 | B13: =SUM(B5:B12) -> 15030 | D13: =SUM(D5:D12) -> 9750
A15: ABSENTEE OFFICIALS & STATIONS:
A16: ANCHORAGE
A17: 92-900 Anchorage Elections Office | D17: 100 | E17: =SUM(F12+1) -> 82201 | F17: =SUM(E17+D17-1) -> 82300 | G17: 10 | I17: R2 | J17: =MOD(D17,25) -> 0
A18: 92-902 Anchorage Airport | D18: 25 | E18: =SUM(F17+1) -> 82301 | F18: =SUM(E18+D18-1) -> 82325 | G18: 5 | I18: R2 | J18: =MOD(D18,25) -> 0
A19: 92-905 Downtown Anchorage | D19: 50 | E19: =SUM(F18+1) -> 82326 | F19: =SUM(E19+D19-1) -> 82375 | G19: 5 | I19: R2 | J19: =MOD(D19,25) -> 0
A21: MAT-SU
A22: 95-900 Mat-Su Elections Office | D22: 25 | E22: =SUM(F19+1) -> 82376 | F22: =SUM(E22+D22-1) -> 82400 | G22: 5 | I22: R5 | J22: =MOD(D22,25) -> 0
A24: FAIRBANKS
A25: 93-900 Fairbanks Elections Office | D25: 25 | E25: =SUM(F22+1) -> 82401 | F25: =SUM(E25+D25-1) -> 82425 | G25: 5 | I25: R3 | J25: =MOD(D25,25) -> 0
A27: JUNEAU
A28: 91-900 Juneau Elections Office | D28: 2000 | E28: =SUM(F25+1) -> 82426 | F28: =SUM(E28+D28-1) -> 84425 | G28: 100 | H28: 200 | I28: R1 | J28: =MOD(D28,25) -> 0
A29: 91-902 Juneau Downtown | D29: 2000 | E29: =SUM(F28+1) -> 84426 | F29: =SUM(E29+D29-1) -> 86425 | G29: 100 | I29: R1 | J29: =MOD(D29,25) -> 0
A31: NOME
A32: 94-900 Nome Elections Office | D32: 25 | E32: =SUM(F29+1) -> 86426 | F32: =SUM(E32+D32-1) -> 86450 | G32: 5 | I32: R4 | J32: =MOD(D32,25) -> 0
A33: 94-901 Prudhoe Bay Station | D33: 25 | E33: =SUM(F32+1) -> 86451 | F33: =SUM(E33+D33-1) -> 86475 | G33: 5 | I33: R4 | J33: =MOD(D33,25) -> 0
A34: TOTAL ABSENTEE BALLOTS - DIST. 4 | D34: =SUM(D16:D33) -> 4275
A36: TOTAL DISTRICT 4 BALLOTS | D36: =D13+D34 -> 14025 | G36: =SUM(G5:G34) -> 440 | H36: =SUM(H5:H34) -> 200 | J36: =SUM(J5:J34) -> 0
A39: Checksum: Sequence End - Start: | D39: =F33-E5+1 -> 14025

Sheet Dist 5
H1: BALLOT ID# | J1: =Totals!A9 -> 814
B3: # REGIS- | D3: # | E3: Numbers | G3: Sample | H3: Fascimile
A4: DISTRICT / PRECINCT | B4: TERED | D4: Ballots | E4: FROM | F4: TO | G4: Ballots | H4: Ballots | I4: Delivery | J4: Checksum
A5: 05-800 Chiniak | B5: 135 | C5: =SUM(B5*0.65) -> 87.75 | D5: =MROUND(C5, 25) -> 100 | E5: =SUM('Dist 4'!F33+1) -> 86476 | F5: =SUM(E5+D5-1) -> 86575 | G5: 25 | I5: R1 | J5: =MOD(D5,25) -> 0
A6: 05-810 Flats | B6: 1782 | C6: =SUM(B6*0.65) -> 1158.3 | D6: =MROUND(C6, 25) -> 1150 | E6: =SUM(F5+1) -> 86576 | F6: =SUM(E6+D6-1) -> 87725 | G6: 25 | I6: R1 | J6: =MOD(D6,25) -> 0
A7: 05-815 Kodiak Island South | B7: 159 | C7: =SUM(B7*0.65) -> 103.35 | D7: 75 | E7: =SUM(F6+1) -> 87726 | F7: =SUM(E7+D7-1) -> 87800 | G7: 25 | I7: R1 | J7: =MOD(D7,25) -> 0
A8: 05-820 Kodiak No. 1 | B8: 1951 | C8: =SUM(B8*0.65) -> 1268.15 | D8: =MROUND(C8, 25) -> 1275 | E8: =SUM(F7+1) -> 87801 | F8: =SUM(E8+D8-1) -> 89075 | G8: 25 | I8: R1 | J8: =MOD(D8,25) -> 0
A9: 05-825 Kodiak No. 2 | B9: 1983 | C9: =SUM(B9*0.65) -> 1288.95 | D9: =MROUND(C9, 25) -> 1300 | E9: =SUM(F8+1) -> 89076 | F9: =SUM(E9+D9-1) -> 90375 | G9: 25 | I9: R1 | J9: =MOD(D9,25) -> 0
A10: 05-830 Mission Road | B10: 3514 | C10: =SUM(B10*0.65) -> 2284.1 | D10: =MROUND(C10, 25) -> 2275 | E10: =SUM(F9+1) -> 90376 | F10: =SUM(E10+D10-1) -> 92650 | G10: 25 | I10: R1 | J10: =MOD(D10,25) -> 0
A11: 05-835 Old Harbor | B11: 125 | C11: =SUM(B11*0.65) -> 81.25 | D11: =MROUND(C11, 25) -> 75 | E11: =SUM(F10+1) -> 92651 | F11: =SUM(E11+D11-1) -> 92725 | G11: 25 | I11: R1 | J11: =MOD(D11,25) -> 0
A12: 05-840 Ouzinke | B12: 140 | C12: =SUM(B12*0.65) -> 91 | D12: =MROUND(C12, 25) -> 100 | E12: =SUM(F11+1) -> 92726 | F12: =SUM(E12+D12-1) -> 92825 | G12: 25 | I12: R1 | J12: =MOD(D12,25) -> 0
A13: 05-845 Port Lions | B13: 174 | C13: =SUM(B13*0.65) -> 113.1 | D13: =MROUND(C13, 25) -> 125 | E13: =SUM(F12+1) -> 92826 | F13: =SUM(E13+D13-1) -> 92950 | G13: 25 | I13: R1 | J13: =MOD(D13,25) -> 0
A14: 05-860 Cordova | B14: 1987 | C14: =SUM(B14*0.65) -> 1291.55 | D14: =MROUND(C14, 25) -> 1300 | E14: =SUM(F13+1) -> 92951 | F14: =SUM(E14+D14-1) -> 94250 | G14: 25 | I14: R1 | J14: =MOD(D14,25) -> 0
A15: 05-865 Seward-Lowell Point | B15: 1861 | C15: =SUM(B15*0.65) -> 1209.65 | D15: =MROUND(C15, 25) -> 1200 | E15: =SUM(F14+1) -> 94251 | F15: =SUM(E15+D15-1) -> 95450 | G15: 25 | I15: R6 | J15: =MOD(D15,25) -> 0
A16: 05-870 Tatitlek | B16: 117 | C16: =SUM(B16*0.65) -> 76.05 | D16: =MROUND(C16, 25) -> 75 | E16: =SUM(F15+1) -> 95451 | F16: =SUM(E16+D16-1) -> 95525 | G16: 25 | I16: R1 | J16: =MOD(D16,25) -> 0
A17: TOTAL PRECINCT BALLOTS DIST. 5 | B17: =SUM(B5:B16) -> 13928 | D17: =SUM(D5:D16) -> 9050
A19: ABSENTEE OFFICIALS & STATIONS:
A20: ANCHORAGE
A21: 92-900 Anchorage Elections Office | D21: 100 | E21: =SUM(F16+1) -> 95526 | F21: =SUM(E21+D21-1) -> 95625 | G21: 10 | I21: R2 | J21: =MOD(D21,25) -> 0
A22: 92-902 Anchorage Airport | D22: 25 | E22: =SUM(F21+1) -> 95626 | F22: =SUM(E22+D22-1) -> 95650 | G22: 5 | I22: R2 | J22: =MOD(D22,25) -> 0
A23: 92-905 Downtown Anchorage | D23: 50 | E23: =SUM(F22+1) -> 95651 | F23: =SUM(E23+D23-1) -> 95700 | G23: 5 | I23: R2 | J23: =MOD(D23,25) -> 0
A25: MAT-SU
A26: 95-900 Mat-Su Elections Office | D26: 25 | E26: =SUM(F23+1) -> 95701 | F26: =SUM(E26+D26-1) -> 95725 | G26: 5 | I26: R5 | J26: =MOD(D26,25) -> 0
A27: 95-901 Soldotna | D27: 250 | E27: =SUM(F26+1) -> 95726 | F27: =SUM(E27+D27-1) -> 95975 | G27: 10 | I27: R6 | J27: 0
A28: 95-902 Kenai City | D28: 50 | E28: =SUM(F27+1) -> 95976 | F28: =SUM(E28+D28-1) -> 96025 | G28: 10 | I28: R6 | J28: 0
A30: FAIRBANKS
A31: 93-900 Fairbanks Elections Office | D31: 25 | E31: =SUM(F28+1) -> 96026 | F31: =SUM(E31+D31-1) -> 96050 | G31: 5 | I31: R3 | J31: =MOD(D31,25) -> 0
A33: JUNEAU
A34: 91-900 Juneau Elections Office | D34: 150 | E34: =SUM(F31+1) -> 96051 | F34: =SUM(E34+D34-1) -> 96200 | G34: 25 | H34: 175 | I34: R1 | J34: =MOD(D34,25) -> 0
A35: 91-902 Juneau Downtown | D35: 100 | E35: =SUM(F34+1) -> 96201 | F35: =SUM(E35+D35-1) -> 96300 | G35: 25 | I35: R1 | J35: =MOD(D35,25) -> 0
A36: 91-905 Seward AVO/AVM | D36: 300 | E36: =SUM(F35+1) -> 96301 | F36: =SUM(E36+D36-1) -> 96600 | G36: 25 | I36: R1 | J36: =MOD(D36,25) -> 0
A37: 91-906 Homer Early Vote | D37: 150 | E37: =SUM(F36+1) -> 96601 | F37: =SUM(E37+D37-1) -> 96750 | G37: 25 | I37: R1 | J37: =MOD(D37,25) -> 0
A38: 05-976 Cordova AVO | D38: 500 | E38: =SUM(F37+1) -> 96751 | F38: =SUM(E38+D38-1) -> 97250 | G38: 25 | I38: R1 | J38: =MOD(D38,25) -> 0
A39: 05-978 Kodiak AVO | D39: 750 | E39: =SUM(F38+1) -> 97251 | F39: =SUM(E39+D39-1) -> 98000 | G39: 25 | I39: R1 | J39: =MOD(D39,25) -> 0
A40: 05-980 Larsen Bay AVO | D40: 125 | E40: =SUM(F39+1) -> 98001 | F40: =SUM(E40+D40-1) -> 98125 | G40: 10 | I40: R1 | J40: =MOD(D40,25) -> 0
A41: 05-982 Ouzinkie AVO | D41: 50 | E41: =SUM(F40+1) -> 98126 | F41: =SUM(E41+D41-1) -> 98175 | G41: 10 | I41: R1 | J41: =MOD(D41,25) -> 0
A42: 05-984 Port Lions AVO | D42: 50 | E42: =SUM(F41+1) -> 98176 | F42: =SUM(E42+D42-1) -> 98225 | G42: 10 | I42: R1 | J42: =MOD(D42,25) -> 0
A44: NOME
A45: 94-900 Nome Elections Office | D45: 25 | E45: =SUM(F42+1) -> 98226 | F45: =SUM(E45+D45-1) -> 98250 | G45: 5 | I45: R4 | J45: =MOD(D45,25) -> 0
A46: 94-901 Prudhoe Bay Station | D46: 50 | E46: =SUM(F45+1) -> 98251 | F46: =SUM(E46+D46-1) -> 98300 | G46: 5 | I46: R4 | J46: =MOD(D46,25) -> 0
A47: TOTAL ABSENTEE BALLOTS - DIST. 5 | D47: =SUM(D21:D46) -> 2775
A49: TOTAL DISTRICT 5 BALLOTS | D49: =D17+D47 -> 11825 | G49: =SUM(G5:G47) -> 540 | H49: =SUM(H5:H47) -> 175 | J49: =SUM(J5:J47) -> 0
A52: Checksum: Sequence End - Start: | D52: =F46-E5+1 -> 11825

Sheet Dist 6
H1: BALLOT ID# | J1: =Totals!A10 -> 816
B3: # REGIS- | D3: # | E3: Numbers | G3: Sample | H3: Fascimile
A4: DISTRICT / PRECINCT | B4: TERED | D4: Ballots | E4: FROM | F4: TO | G4: Ballots | H4: Ballots | I4: Delivery | J4: Checksum
A5: 06-200 Anchor Point | B5: 2455 | C5: =SUM(B5*0.65) -> 1595.75 | D5: =MROUND(C5, 25) -> 1600 | E5: =SUM('Dist 5'!F46+1) -> 98301 | F5: =SUM(E5+D5-1) -> 99900 | G5: 25 | I5: R6 | J5: =MOD(D5,25) -> 0
A6: 06-210 Diamond Ridge | B6: 1381 | C6: =SUM(B6*0.65) -> 897.65 | D6: =MROUND(C6, 25) -> 900 | E6: =F5+1 -> 99901 | F6: =SUM(E6+D6-1) -> 100800 | G6: 25 | I6: R6 | J6: =MOD(D6,25) -> 0
A7: 06-220 Fox River | B7: 973 | C7: =SUM(B7*0.65) -> 632.45 | D7: =MROUND(C7, 25) -> 625 | E7: =F6+1 -> 100801 | F7: =SUM(E7+D7-1) -> 101425 | G7: 25 | I7: R6 | J7: =MOD(D7,25) -> 0
A8: 06-230 Homer No. 1 | B8: 2908 | C8: =SUM(B8*0.65) -> 1890.2 | D8: =MROUND(C8, 25) -> 1900 | E8: =F7+1 -> 101426 | F8: =SUM(E8+D8-1) -> 103325 | G8: 25 | I8: R6 | J8: =MOD(D8,25) -> 0
A9: 06-240 Homer No. 2 | B9: 2414 | C9: =SUM(B9*0.65) -> 1569.1 | D9: =MROUND(C9, 25) -> 1575 | E9: =F8+1 -> 103326 | F9: =SUM(E9+D9-1) -> 104900 | G9: 25 | I9: R6 | J9: =MOD(D9,25) -> 0
A10: 06-250 Kachemak-Fritz Creek | B10: 2144 | C10: =SUM(B10*0.65) -> 1393.6 | D10: 1500 | E10: =F9+1 -> 104901 | F10: =SUM(E10+D10-1) -> 106400 | G10: 25 | I10: R6 | J10: =MOD(D10,25) -> 0
A11: 06-260 Kasilof | B11: 3534 | C11: =SUM(B11*0.65) -> 2297.1 | D11: =MROUND(C11, 25) -> 2300 | E11: =F10+1 -> 106401 | F11: =SUM(E11+D11-1) -> 108700 | G11: 25 | I11: R6 | J11: =MOD(D11,25) -> 0
A12: 06-270 Ninilchik | B12: 1713 | C12: =SUM(B12*0.65) -> 1113.45 | D12: =MROUND(C12, 25) -> 1125 | E12: =F11+1 -> 108701 | F12: =SUM(E12+D12-1) -> 109825 | G12: 25 | I12: R6 | J12: =MOD(D12,25) -> 0
A13: 06-280 Seldovia-Kachemak Bay | B13: 490 | C13: =SUM(B13*0.65) -> 318.5 | D13: =MROUND(C13, 25) -> 325 | E13: =F12+1 -> 109826 | F13: =SUM(E13+D13-1) -> 110150 | G13: 25 | I13: R6 | J13: 0
A14: TOTAL PRECINCT BALLOTS DIST. 6 | B14: =SUM(B5:B13) -> 18012 | D14: =SUM(D5:D13) -> 11850
A16: ABSENTEE OFFICIALS & STATIONS:
A17: ANCHORAGE
A18: 92-900 Anchorage Elections Office | D18: 100 | E18: =SUM(F13+1) -> 110151 | F18: =SUM(E18+D18-1) -> 110250 | G18: 10 | I18: R2 | J18: =MOD(D18,25) -> 0
A19: 92-902 Anchorage Airport | D19: 25 | E19: =SUM(F18+1) -> 110251 | F19: =SUM(E19+D19-1) -> 110275 | G19: 5 | I19: R2 | J19: =MOD(D19,25) -> 0
A20: 92-905 Downtown Anchorage | D20: 50 | E20: =SUM(F19+1) -> 110276 | F20: =SUM(E20+D20-1) -> 110325 | G20: 5 | I20: R2 | J20: =MOD(D20,25) -> 0
A22: MAT-SU
A23: 95-900 Mat-Su Elections Office | D23: 25 | E23: =SUM(F20+1) -> 110326 | F23: =SUM(E23+D23-1) -> 110350 | G23: 5 | I23: R5 | J23: =MOD(D23,25) -> 0
A24: 95-901 Soldotna | D24: 900 | E24: =SUM(F23+1) -> 110351 | F24: =SUM(E24+D24-1) -> 111250 | G24: 25 | I24: R6 | J24: 0
A25: 95-902 Kenai City | D25: 250 | E25: =SUM(F24+1) -> 111251 | F25: =SUM(E25+D25-1) -> 111500 | G25: 25 | I25: R6 | J25: 0
A27: FAIRBANKS
A28: 93-900 Fairbanks Elections Office | D28: 25 | E28: =SUM(F25+1) -> 111501 | F28: =SUM(E28+D28-1) -> 111525 | G28: 5 | I28: R3 | J28: =MOD(D28,25) -> 0
A30: JUNEAU
A31: 91-900 Juneau Elections Office | D31: 75 | E31: =SUM(F28+1) -> 111526 | F31: =SUM(E31+D31-1) -> 111600 | G31: 25 | H31: 175 | I31: R1 | J31: =MOD(D31,25) -> 0
A32: 91-902 Juneau Downtown | D32: 50 | E32: =SUM(F31+1) -> 111601 | F32: =SUM(E32+D32-1) -> 111650 | G32: 25 | I32: R1 | J32: =MOD(D32,25) -> 0
A33: 91-905 Seward AVO/AVM | D33: 150 | E33: =SUM(F32+1) -> 111651 | F33: =SUM(E33+D33-1) -> 111800 | G33: 25 | I33: R1 | J33: =MOD(D33,25) -> 0
A34: 91-906 Homer Early Vote | D34: 1800 | E34: =SUM(F33+1) -> 111801 | F34: =SUM(E34+D34-1) -> 113600 | G34: 50 | I34: R1 | J34: =MOD(D34,25) -> 0
A35: 06-992 Seldovia AVO | D35: 100 | E35: =SUM(F34+1) -> 113601 | F35: =SUM(E35+D35-1) -> 113700 | G35: 15 | I35: R1 | J35: =MOD(D35,25) -> 0
A37: NOME
A38: 94-900 Nome Elections Office | D38: 25 | E38: =SUM(F35+1) -> 113701 | F38: =SUM(E38+D38-1) -> 113725 | G38: 5 | I38: R4 | J38: =MOD(D38,25) -> 0
A39: 94-901 Prudhoe Bay Station | D39: 50 | E39: =SUM(F38+1) -> 113726 | F39: =SUM(E39+D39-1) -> 113775 | G39: 5 | I39: R4 | J39: =MOD(D39,25) -> 0
A40: TOTAL ABSENTEE BALLOTS - DIST. 6 | D40: =SUM(D18:D39) -> 3625
A42: TOTAL DISTRICT 6 BALLOTS | D42: =D14+D40 -> 15475 | G42: =SUM(G5:G39) -> 455 | H42: =SUM(H5:H39) -> 175 | J42: =SUM(J5:J39) -> 0
A45: Checksum: Sequence End - Start: | D45: =F39-E5+1 -> 15475

Sheet Dist 7
H1: BALLOT ID# | J1: =Totals!A11 -> 817
B3: # REGIS- | D3: # | E3: Numbers | G3: Sample | H3: Fascimile
A4: DISTRICT / PRECINCT | B4: TERED | D4: Ballots | E4: FROM | F4: TO | G4: Ballots | H4: Ballots | I4: Delivery | J4: Checksum
A5: 07-005 Central | B5: 2798 | C5: =SUM(B5*0.65) -> 1818.7 | D5: =MROUND(C5, 25) -> 1825 | E5: =SUM('Dist 6'!F39,1) -> 113776 | F5: =SUM(E5+D5-1) -> 115600 | G5: 10 | I5: R6 | J5: =MOD(D5,25) -> 0
A6: 07-010 K-Beach | B6: 3357 | C6: =SUM(B6*0.65) -> 2182.05 | D6: =MROUND(C6, 25) -> 2175 | E6: =SUM(F5+1) -> 115601 | F6: =SUM(E6+D6-1) -> 117775 | G6: 10 | I6: R6 | J6: =MOD(D6,25) -> 0
A7: 07-015 Kenai No. 1 | B7: 3114 | C7: =SUM(B7*0.65) -> 2024.1 | D7: =MROUND(C7, 25) -> 2025 | E7: =SUM(F6+1) -> 117776 | F7: =SUM(E7+D7-1) -> 119800 | G7: 10 | I7: R6 | J7: =MOD(D7,25) -> 0
A8: 07-020 Kenai No. 2 | B8: 1676 | C8: =SUM(B8*0.65) -> 1089.4 | D8: =MROUND(C8, 25) -> 1100 | E8: =SUM(F7+1) -> 119801 | F8: =SUM(E8+D8-1) -> 120900 | G8: 10 | I8: R6 | J8: =MOD(D8,25) -> 0
A9: 07-025 Kenai No. 3 | B9: 1500 | C9: =SUM(B9*0.65) -> 975 | D9: =MROUND(C9, 25) -> 975 | E9: =SUM(F8+1) -> 120901 | F9: =SUM(E9+D9-1) -> 121875 | G9: 10 | I9: R6 | J9: =MOD(D9,25) -> 0
A10: 07-030 Soldotna | B10: 4079 | C10: =SUM(B10*0.65) -> 2651.35 | D10: =MROUND(C10, 25) -> 2650 | E10: =SUM(F9+1) -> 121876 | F10: =SUM(E10+D10-1) -> 124525 | G10: 10 | I10: R6 | J10: =MOD(D10,25) -> 0
A11: TOTAL PRECINCT BALLOTS DIST. 7 | B11: =SUM(B5:B10) -> 16524 | D11: =SUM(D5:D10) -> 10750
A13: ABSENTEE OFFICIALS & STATIONS:
A14: ANCHORAGE
A15: 92-900 Anchorage Elections Office | D15: 100 | E15: =SUM(F10+1) -> 124526 | F15: =SUM(E15+D15-1) -> 124625 | G15: 10 | I15: R2 | J15: =MOD(D15,25) -> 0
A16: 92-902 Anchorage Airport | D16: 25 | E16: =SUM(F15+1) -> 124626 | F16: =SUM(E16+D16-1) -> 124650 | G16: 5 | I16: R2 | J16: =MOD(D16,25) -> 0
A17: 92-905 Downtown Anchorage | D17: 50 | E17: =SUM(F16+1) -> 124651 | F17: =SUM(E17+D17-1) -> 124700 | G17: 5 | I17: R2 | J17: =MOD(D17,25) -> 0
A19: MAT-SU
A20: 95-900 Mat-Su Elections Office | D20: 25 | E20: =SUM(F17+1) -> 124701 | F20: =SUM(E20+D20-1) -> 124725 | G20: 5 | H20: 200 | I20: R5 | J20: =MOD(D20,25) -> 0
A21: 95-901 Soldotna | D21: 1800 | E21: =SUM(F20+1) -> 124726 | F21: =SUM(E21+D21-1) -> 126525 | G21: 5 | I21: R6 | J21: =MOD(D21,25) -> 0
A22: 95-902 Kenai City | D22: 850 | E22: =SUM(F21+1) -> 126526 | F22: =SUM(E22+D22-1) -> 127375 | G22: 5 | I22: R6 | J22: =MOD(D22,25) -> 0
A24: FAIRBANKS
A25: 93-900 Fairbanks Elections Office | D25: 25 | E25: =SUM(F22+1) -> 127376 | F25: =SUM(E25+D25-1) -> 127400 | G25: 5 | I25: R3 | J25: =MOD(D25,25) -> 0
A27: JUNEAU
A28: 91-900 Juneau Elections Office | D28: 50 | E28: =SUM(F25+1) -> 127401 | F28: =SUM(E28+D28-1) -> 127450 | G28: 25 | I28: R1 | J28: =MOD(D28,25) -> 0
A29: 91-902 Juneau Downtown | D29: 50 | E29: =SUM(F28+1) -> 127451 | F29: =SUM(E29+D29-1) -> 127500 | G29: 25 | I29: R1 | J29: =MOD(D29,25) -> 0
A30: 91-905 Seward AVO/AVM | D30: 50 | E30: =SUM(F29+1) -> 127501 | F30: =SUM(E30+D30-1) -> 127550 | G30: 10 | I30: R1 | J30: =MOD(D30,25) -> 0
A31: 91-906 Homer Early Vote | D31: 150 | E31: =SUM(F30+1) -> 127551 | F31: =SUM(E31+D31-1) -> 127700 | G31: 10 | I31: R1 | J31: =MOD(D31,25) -> 0
A33: NOME
A34: 94-900 Nome Elections Office | D34: 25 | E34: =SUM(F31+1) -> 127701 | F34: =SUM(E34+D34-1) -> 127725 | G34: 5 | I34: R4 | J34: =MOD(D34,25) -> 0
A35: 94-901 Prudhoe Bay Station | D35: 50 | E35: =SUM(F34+1) -> 127726 | F35: =SUM(E35+D35-1) -> 127775 | G35: 5 | I35: R4 | J35: =MOD(D35,25) -> 0
A36: TOTAL ABSENTEE BALLOTS - DIST. 7 | D36: =SUM(D15:D35) -> 3250
A38: TOTAL DISTRICT 37BALLOTS | D38: =D11+D36 -> 14000 | G38: =SUM(G5:G35) -> 180 | H38: =SUM(H5:H35) -> 200 | J38: =SUM(J5:J35) -> 0
A41: Checksum: Sequence End - Start: | D41: =F35-E5+1 -> 14000

Sheet Dist 8
H1: BALLOT ID# | J1: =Totals!A12 -> 818
B3: # REGIS- | D3: # | E3: Numbers | G3: Sample | H3: Fascimile
A4: DISTRICT / PRECINCT | B4: TERED | D4: Ballots | E4: FROM | F4: TO | G4: Ballots | H4: Ballots | I4: Delivery | J4: Checksum
A5: 08-035 Bear Creek | B5: 1873 | C5: =SUM(B5*0.65) -> 1217.45 | D5: =MROUND(C5, 25) -> 1225 | E5: =SUM('Dist 7'!F35,1) -> 127776 | F5: =SUM(E5+D5-1) -> 129000 | G5: 10 | I5: R6 | J5: =MOD(D5,25) -> 0
A6: 08-040 Cooper Landing | B6: 400 | C6: =SUM(B6*0.65) -> 260 | D6: =MROUND(C6, 25) -> 250 | E6: =SUM(F5+1) -> 129001 | F6: =SUM(E6+D6-1) -> 129250 | G6: 10 | I6: R6 | J6: =MOD(D6,25) -> 0
A7: 08-045 Funny River No. 1 | B7: 1150 | C7: =SUM(B7*0.65) -> 747.5 | D7: =MROUND(C7, 25) -> 750 | E7: =SUM(F6+1) -> 129251 | F7: =SUM(E7+D7-1) -> 130000 | G7: 10 | I7: R6 | J7: =MOD(D7,25) -> 0
A8: 08-050 Funny River No. 2 | B8: 1259 | C8: =SUM(B8*0.65) -> 818.35 | D8: =MROUND(C8, 25) -> 825 | E8: =SUM(F7+1) -> 130001 | F8: =SUM(E8+D8-1) -> 130825 | G8: 10 | I8: R6 | J8: =MOD(D8,25) -> 0
A9: 08-055 Hope | B9: 178 | C9: =SUM(B9*0.65) -> 115.7 | D9: =MROUND(C9, 25) -> 125 | E9: =SUM(F8+1) -> 130826 | F9: =SUM(E9+D9-1) -> 130950 | G9: 10 | I9: R6 | J9: =MOD(D9,25) -> 0
A10: 08-060 Mackey Lake | B10: 2370 | C10: =SUM(B10*0.65) -> 1540.5 | D10: =MROUND(C10, 25) -> 1550 | E10: =SUM(F9+1) -> 130951 | F10: =SUM(E10+D10-1) -> 132500 | G10: 10 | I10: R6 | J10: =MOD(D10,25) -> 0
A11: 08-065 Moose Pass | B11: 380 | C11: =SUM(B11*0.65) -> 247 | D11: =MROUND(C11, 25) -> 250 | E11: =SUM(F10+1) -> 132501 | F11: =SUM(E11+D11-1) -> 132750 | G11: 10 | I11: R6 | J11: =MOD(D11,25) -> 0
A12: 08-070 Nikiski | B12: 2233 | C12: =SUM(B12*0.65) -> 1451.45 | D12: =MROUND(C12, 25) -> 1450 | E12: =SUM(F11+1) -> 132751 | F12: =SUM(E12+D12-1) -> 134200 | G12: 10 | I12: R6 | J12: =MOD(D12,25) -> 0
A13: 08-075 Salamatof | B13: 2521 | C13: =SUM(B13*0.65) -> 1638.65 | D13: =MROUND(C13, 25) -> 1650 | E13: =SUM(F12+1) -> 134201 | F13: =SUM(E13+D13-1) -> 135850 | G13: 10 | I13: R6 | J13: =MOD(D13,25) -> 0
A14: 08-080 Sterling No. 1 | B14: 2254 | C14: =SUM(B14*0.65) -> 1465.1 | D14: =MROUND(C14, 25) -> 1475 | E14: =SUM(F13+1) -> 135851 | F14: =SUM(E14+D14-1) -> 137325 | G14: 10 | I14: R6 | J14: =MOD(D14,25) -> 0
A15: 08-085 Sterling No. 2 | B15: 2379 | C15: =SUM(B15*0.65) -> 1546.35 | D15: =MROUND(C15, 25) -> 1550 | E15: =SUM(F14+1) -> 137326 | F15: =SUM(E15+D15-1) -> 138875 | G15: 10 | I15: R6 | J15: 0
A16: TOTAL PRECINCT BALLOTS DIST. 8 | B16: =SUM(B5:B15) -> 16997 | D16: =SUM(D5:D15) -> 11100
A18: ABSENTEE OFFICIALS & STATIONS:
A19: ANCHORAGE
A20: 92-900 Anchorage Elections Office | D20: 100 | E20: =SUM(F15+1) -> 138876 | F20: =SUM(E20+D20-1) -> 138975 | G20: 10 | I20: R2 | J20: =MOD(D20,25) -> 0
A21: 92-902 Anchorage Airport | D21: 25 | E21: =SUM(F20+1) -> 138976 | F21: =SUM(E21+D21-1) -> 139000 | G21: 5 | I21: R2 | J21: =MOD(D21,25) -> 0
A22: 92-905 Downtown Anchorage | D22: 50 | E22: =SUM(F21+1) -> 139001 | F22: =SUM(E22+D22-1) -> 139050 | G22: 5 | I22: R2 | J22: =MOD(D22,25) -> 0
A24: MAT-SU
A25: 95-900 Mat-Su Elections Office | D25: 25 | E25: =SUM(F22+1) -> 139051 | F25: =SUM(E25+D25-1) -> 139075 | G25: 5 | H25: 200 | I25: R5 | J25: =MOD(D25,25) -> 0
A26: 95-901 Soldotna | D26: 1700 | E26: =SUM(F25+1) -> 139076 | F26: =SUM(E26+D26-1) -> 140775 | G26: 50 | I26: R6 | J26: =MOD(D26,25) -> 0
A27: 95-902 Kenai City | D27: 550 | E27: =SUM(F26+1) -> 140776 | F27: =SUM(E27+D27-1) -> 141325 | G27: 50 | I27: R6 | J27: =MOD(D27,25) -> 0
A29: FAIRBANKS
A30: 93-900 Fairbanks Elections Office | D30: 25 | E30: =SUM(F27+1) -> 141326 | F30: =SUM(E30+D30-1) -> 141350 | G30: 5 | I30: R3 | J30: =MOD(D30,25) -> 0
A32: JUNEAU
A33: 91-900 Juneau Elections Office | D33: 50 | E33: =SUM(F30+1) -> 141351 | F33: =SUM(E33+D33-1) -> 141400 | G33: 10 | I33: R1 | J33: =MOD(D33,25) -> 0
A34: 91-902 Juneau Downtown | D34: 50 | E34: =SUM(F33+1) -> 141401 | F34: =SUM(E34+D34-1) -> 141450 | G34: 10 | I34: R1 | J34: =MOD(D34,25) -> 0
A35: 91-905 Seward AVO/AVM | D35: 75 | E35: =SUM(F34+1) -> 141451 | F35: =SUM(E35+D35-1) -> 141525 | G35: 10 | I35: R1 | J35: =MOD(D35,25) -> 0
A36: 91-906 Homer Early Vote | D36: 150 | E36: =SUM(F35+1) -> 141526 | F36: =SUM(E36+D36-1) -> 141675 | G36: 10 | I36: R1 | J36: =MOD(D36,25) -> 0
A38: NOME
A39: 94-900 Nome Elections Office | D39: 25 | E39: =SUM(F36+1) -> 141676 | F39: =SUM(E39+D39-1) -> 141700 | G39: 5 | I39: R4 | J39: =MOD(D39,25) -> 0
A40: 94-901 Prudhoe Bay Station | D40: 50 | E40: =SUM(F39+1) -> 141701 | F40: =SUM(E40+D40-1) -> 141750 | G40: 5 | I40: R4 | J40: =MOD(D40,25) -> 0
A41: TOTAL ABSENTEE BALLOTS - DIST. 8 | D41: =SUM(D20:D40) -> 2875
A43: TOTAL DISTRICT 8 BALLOTS | D43: =D16+D41 -> 13975 | G43: =SUM(G5:G40) -> 290 | H43: =SUM(H5:H40) -> 200 | J43: =SUM(J5:J40) -> 0
A46: Checksum: Sequence End - Start: | D46: =F40-E5+1 -> 13975

Sheet Dist 9
H1: BALLOT ID# | J1: =Totals!A13 -> 819
B3: # REGIS- | D3: # | E3: Numbers | G3: Sample | H3: Fascimile
A4: DISTRICT / PRECINCT | B4: TERED | D4: Ballots | E4: FROM | F4: TO | G4: Ballots | H4: Ballots | I4: Delivery | J4: Checksum
A5: 09-105 Girdwood | B5: 1964 | C5: =SUM(B5*0.65) -> 1276.6 | D5: =MROUND(C5, 25) -> 1275 | E5: =SUM('Dist 8'!F40,1) -> 141751 | F5: =SUM(E5+D5-1) -> 143025 | G5: 10 | I5: R2 | J5: =MOD(D5,25) -> 0
A6: 09-110 Indian | B6: 303 | C6: =SUM(B6*0.65) -> 196.95 | D6: =MROUND(C6, 25) -> 200 | E6: =SUM(F5+1) -> 143026 | F6: =SUM(E6+D6-1) -> 143225 | G6: 10 | I6: R2 | J6: =MOD(D6,25) -> 0
A7: 09-115 South Anchorage No. 1 | B7: 2816 | C7: =SUM(B7*0.65) -> 1830.4 | D7: =MROUND(C7, 25) -> 1825 | E7: =SUM(F6+1) -> 143226 | F7: =SUM(E7+D7-1) -> 145050 | G7: 10 | I7: R2 | J7: =MOD(D7,25) -> 0
A8: 09-120 South Anchorage No. 2 | B8: 3291 | C8: =SUM(B8*0.65) -> 2139.15 | D8: =MROUND(C8, 25) -> 2150 | E8: =SUM(F7+1) -> 145051 | F8: =SUM(E8+D8-1) -> 147200 | G8: 10 | I8: R2 | J8: =MOD(D8,25) -> 0
A9: 09-125 South Anchorage No. 3 | B9: 2832 | C9: =SUM(B9*0.65) -> 1840.8 | D9: =MROUND(C9, 25) -> 1850 | E9: =SUM(F8+1) -> 147201 | F9: =SUM(E9+D9-1) -> 149050 | G9: 10 | I9: R2 | J9: =MOD(D9,25) -> 0
A10: 09-130 South Anchorage No. 4 | B10: 3048 | C10: =SUM(B10*0.65) -> 1981.2 | D10: =MROUND(C10, 25) -> 1975 | E10: =SUM(F9+1) -> 149051 | F10: =SUM(E10+D10-1) -> 151025 | G10: 10 | I10: R2 | J10: =MOD(D10,25) -> 0
A11: 09-135 South Anchorage No. 5 | B11: 1349 | C11: =SUM(B11*0.65) -> 876.85 | D11: =MROUND(C11, 25) -> 875 | E11: =SUM(F10+1) -> 151026 | F11: =SUM(E11+D11-1) -> 151900 | G11: 10 | I11: R2 | J11: =MOD(D11,25) -> 0
A12: 09-140 Stuckagain Heights | B12: 430 | C12: =SUM(B12*0.65) -> 279.5 | D12: =MROUND(C12, 25) -> 275 | E12: =SUM(F11+1) -> 151901 | F12: =SUM(E12+D12-1) -> 152175 | G12: 10 | I12: R2 | J12: =MOD(D12,25) -> 0
A13: 09-145 Whittier | B13: 254 | C13: =SUM(B13*0.65) -> 165.1 | D13: =MROUND(C13, 25) -> 175 | E13: =SUM(F12+1) -> 152176 | F13: =SUM(E13+D13-1) -> 152350 | G13: 10 | I13: R2 | J13: =MOD(D13,25) -> 0
A14: TOTAL PRECINCT BALLOTS DIST 9 | B14: =SUM(B5:B13) -> 16287 | D14: =SUM(D5:D13) -> 10600
A17: ABSENTEE OFFICIALS & STATIONS:
A18: ANCHORAGE
A19: 92-900 Anchorage Elections Office | D19: 2000 | E19: =SUM(F13+1) -> 152351 | F19: =SUM(E19+D19-1) -> 154350 | G19: 15 | H19: 350 | I19: R2 | J19: =MOD(D19,25) -> 0
A20: 92-902 Anchorage Airport | D20: 50 | E20: =SUM(F19+1) -> 154351 | F20: =SUM(E20+D20-1) -> 154400 | G20: 5 | I20: R2 | J20: =MOD(D20,25) -> 0
A21: 92-905 Downtown Anchorage | D21: 500 | E21: =SUM(F20+1) -> 154401 | F21: =SUM(E21+D21-1) -> 154900 | G21: 5 | I21: R2 | J21: =MOD(D21,25) -> 0
A22: 09-986 Whittier AVO | D22: 50 | E22: =SUM(F21+1) -> 154901 | F22: =SUM(E22+D22-1) -> 154950 | G22: 5 | I22: R2 | J22: =MOD(D22,25) -> 0
A24: MAT-SU
A25: 95-900 Mat-Su Elections Office | D25: 25 | E25: =SUM(F22+1) -> 154951 | F25: =SUM(E25+D25-1) -> 154975 | G25: 5 | I25: R5 | J25: =MOD(D25,25) -> 0
A27: FAIRBANKS
A28: 93-900 Fairbanks Elections Office | D28: 25 | E28: =SUM(F25+1) -> 154976 | F28: =SUM(E28+D28-1) -> 155000 | G28: 5 | I28: R3 | J28: =MOD(D28,25) -> 0
A30: JUNEAU
A31: 91-900 Juneau Elections Office | D31: 50 | E31: =SUM(F28+1) -> 155001 | F31: =SUM(E31+D31-1) -> 155050 | G31: 10 | I31: R1 | J31: =MOD(D31,25) -> 0
A32: 91-902 Juneau Downtown | D32: 50 | E32: =SUM(F31+1) -> 155051 | F32: =SUM(E32+D32-1) -> 155100 | G32: 10 | I32: R1 | J32: =MOD(D32,25) -> 0
A34: NOME
A35: 94-900 Nome Elections Office | D35: 25 | E35: =SUM(F32+1) -> 155101 | F35: =SUM(E35+D35-1) -> 155125 | G35: 5 | I35: R4 | J35: =MOD(D35,25) -> 0
A36: 94-901 Prudhoe Bay Station | D36: 50 | E36: =SUM(F35+1) -> 155126 | F36: =SUM(E36+D36-1) -> 155175 | G36: 5 | I36: R4 | J36: =MOD(D36,25) -> 0
A37: TOTAL ABSENTEE BALLOTS DIST 9 | D37: =SUM(D18:D36) -> 2825
A39: TOTAL DISTRICT 9 BALLOTS | D39: =D14+D37 -> 13425 | G39: =SUM(G5:G36) -> 160 | H39: =SUM(H5:H36) -> 350 | J39: =SUM(J5:J36) -> 0
A42: Checksum: Sequence End - Start: | D42: =F36-E5+1 -> 13425

Sheet Dist 10
H1: BALLOT ID# | J1: =Totals!A14 -> 820
B3: # REGIS- | D3: # | E3: Numbers | G3: Sample | H3: Fascimile
A4: DISTRICT / PRECINCT | B4: TERED | D4: Ballots | E4: FROM | F4: TO | G4: Ballots | H4: Ballots | I4: Delivery | J4: Checksum
A5: 10-150 Dimond | B5: 3374 | C5: =SUM(B5*0.65) -> 2193.1 | D5: =MROUND(C5, 25) -> 2200 | E5: =SUM('Dist 9'!F36,1) -> 155176 | F5: =SUM(E5+D5-1) -> 157375 | G5: 10 | I5: R2 | J5: =MOD(D5,25) -> 0
A6: 10-155 Oceanview No. 1 | B6: 3107 | C6: =SUM(B6*0.65) -> 2019.55 | D6: =MROUND(C6, 25) -> 2025 | E6: =SUM(F5+1) -> 157376 | F6: =SUM(E6+D6-1) -> 159400 | G6: 10 | I6: R2 | J6: =MOD(D6,25) -> 0
A7: 10-160 Oceanview No. 2 | B7: 1828 | C7: =SUM(B7*0.65) -> 1188.2 | D7: =MROUND(C7, 25) -> 1200 | E7: =SUM(F6+1) -> 159401 | F7: =SUM(E7+D7-1) -> 160600 | G7: 10 | I7: R2 | J7: =MOD(D7,25) -> 0
A8: 10-165 Oceanview No. 3 | B8: 2755 | C8: =SUM(B8*0.65) -> 1790.75 | D8: =MROUND(C8, 25) -> 1800 | E8: =SUM(F7+1) -> 160601 | F8: =SUM(E8+D8-1) -> 162400 | G8: 10 | I8: R2 | J8: =MOD(D8,25) -> 0
A9: 10-170 Oceanview No. 4 | B9: 1927 | C9: =SUM(B9*0.65) -> 1252.55 | D9: =MROUND(C9, 25) -> 1250 | E9: =SUM(F8+1) -> 162401 | F9: =SUM(E9+D9-1) -> 163650 | G9: 10 | I9: R2 | J9: =MOD(D9,25) -> 0
A10: 10-175 Oceanview No. 5 | B10: 1951 | C10: =SUM(B10*0.65) -> 1268.15 | D10: =MROUND(C10, 25) -> 1275 | E10: =SUM(F9+1) -> 163651 | F10: =SUM(E10+D10-1) -> 164925 | G10: 10 | I10: R2 | J10: =MOD(D10,25) -> 0
A11: TOTAL PRECINCT BALLOTS DIST. 10 | B11: =SUM(B5:B10) -> 14942 | D11: =SUM(D5:D10) -> 9750
A13: ABSENTEE OFFICIALS & STATIONS:
A14: ANCHORAGE
A15: 92-900 Anchorage Elections Office | D15: 1400 | E15: =SUM(F10+1) -> 164926 | F15: =SUM(E15+D15-1) -> 166325 | G15: 15 | H15: 250 | I15: R2 | J15: =MOD(D15,25) -> 0
A16: 92-902 Anchorage Airport | D16: 50 | E16: =SUM(F15+1) -> 166326 | F16: =SUM(E16+D16-1) -> 166375 | G16: 5 | I16: R2 | J16: =MOD(D16,25) -> 0
A17: 92-905 Downtown Anchorage | D17: 400 | E17: =SUM(F16+1) -> 166376 | F17: =SUM(E17+D17-1) -> 166775 | G17: 5 | I17: R2 | J17: =MOD(D17,25) -> 0
A19: MAT-SU
A20: 95-900 Mat-Su Elections Office | D20: 25 | E20: =SUM(F17+1) -> 166776 | F20: =SUM(E20+D20-1) -> 166800 | G20: 5 | I20: R5 | J20: =MOD(D20,25) -> 0
A22: FAIRBANKS
A23: 93-900 Fairbanks Elections Office | D23: 25 | E23: =SUM(F20+1) -> 166801 | F23: =SUM(E23+D23-1) -> 166825 | G23: 5 | I23: R3 | J23: =MOD(D23,25) -> 0
A25: JUNEAU
A26: 91-900 Juneau Elections Office | D26: 50 | E26: =SUM(F23+1) -> 166826 | F26: =SUM(E26+D26-1) -> 166875 | G26: 10 | I26: R1 | J26: =MOD(D26,25) -> 0
A27: 91-902 Juneau Downtown | D27: 50 | E27: =SUM(F26+1) -> 166876 | F27: =SUM(E27+D27-1) -> 166925 | G27: 10 | I27: R1 | J27: =MOD(D27,25) -> 0
A29: NOME
A30: 94-900 Nome Elections Office | D30: 25 | E30: =SUM(F27+1) -> 166926 | F30: =SUM(E30+D30-1) -> 166950 | G30: 5 | I30: R4 | J30: =MOD(D30,25) -> 0
A31: 94-901 Prudhoe Bay Station | D31: 50 | E31: =SUM(F30+1) -> 166951 | F31: =SUM(E31+D31-1) -> 167000 | G31: 5 | I31: R4 | J31: =MOD(D31,25) -> 0
A32: TOTAL ABSENTEE BALLOTS - DIST. 10 | D32: =SUM(D15:D31) -> 2075
A34: TOTAL DISTRICT 10 BALLOTS | D34: =D11+D32 -> 11825 | G34: =SUM(G5:G31) -> 125 | H34: =SUM(H5:H31) -> 250 | J34: =SUM(J5:J31) -> 0
A37: Checksum: Sequence End - Start: | D37: =F31-E5+1 -> 11825

Sheet Dist 11
H1: BALLOT ID# | J1: =Totals!A15 -> 821
B3: # REGIS- | D3: # | E3: Numbers | G3: Sample | H3: Fascimile
A4: DISTRICT / PRECINCT | B4: TERED | D4: Ballots | E4: FROM | F4: TO | G4: Ballots | H4: Ballots | I4: Delivery | J4: Checksum
A5: 11-205 Hillside No. 1 | B5: 2350 | C5: =SUM(B5*0.65) -> 1527.5 | D5: =MROUND(C5, 25) -> 1525 | E5: =SUM('Dist 10'!F31,1) -> 167001 | F5: =SUM(E5+D5-1) -> 168525 | G5: 10 | I5: R2 | J5: =MOD(D5,25) -> 0
A6: 11-210 Hillside No. 2 | B6: 3732 | C6: =SUM(B6*0.65) -> 2425.8 | D6: =MROUND(C6, 25) -> 2425 | E6: =SUM(F5+1) -> 168526 | F6: =SUM(E6+D6-1) -> 170950 | G6: 10 | I6: R2 | J6: =MOD(D6,25) -> 0
A7: 11-215 Hillside No. 3 | B7: 1552 | C7: =SUM(B7*0.65) -> 1008.8 | D7: =MROUND(C7, 25) -> 1000 | E7: =SUM(F6+1) -> 170951 | F7: =SUM(E7+D7-1) -> 171950 | G7: 10 | I7: R2 | J7: =MOD(D7,25) -> 0
A8: 11-220 Hillside No. 4 | B8: 1957 | C8: =SUM(B8*0.65) -> 1272.05 | D8: =MROUND(C8, 25) -> 1275 | E8: =SUM(F7+1) -> 171951 | F8: =SUM(E8+D8-1) -> 173225 | G8: 10 | I8: R2 | J8: =MOD(D8,25) -> 0
A9: 11-225 Hillside No. 5 | B9: 1634 | C9: =SUM(B9*0.65) -> 1062.1 | D9: =MROUND(C9, 25) -> 1050 | E9: =SUM(F8+1) -> 173226 | F9: =SUM(E9+D9-1) -> 174275 | G9: 10 | I9: R2 | J9: =MOD(D9,25) -> 0
A10: 11-230 Hillside No. 6 | B10: 2214 | C10: =SUM(B10*0.65) -> 1439.1 | D10: =MROUND(C10, 25) -> 1450 | E10: =SUM(F9+1) -> 174276 | F10: =SUM(E10+D10-1) -> 175725 | G10: 10 | I10: R2 | J10: =MOD(D10,25) -> 0
A11: 11-235 Hillside No. 7 | B11: 1687 | C11: =SUM(B11*0.65) -> 1096.55 | D11: =MROUND(C11, 25) -> 1100 | E11: =SUM(F10+1) -> 175726 | F11: =SUM(E11+D11-1) -> 176825 | G11: 10 | I11: R2 | J11: =MOD(D11,25) -> 0
A12: TOTAL PRECINCT BALLOTS DIST. 11 | B12: =SUM(B5:B11) -> 15126 | D12: =SUM(D5:D11) -> 9825
A14: ABSENTEE OFFICIALS & STATIONS:
A15: ANCHORAGE
A16: 92-900 Anchorage Elections Office | D16: 1400 | E16: =SUM(F11+1) -> 176826 | F16: =SUM(E16+D16-1) -> 178225 | G16: 15 | H16: 300 | I16: R2 | J16: =MOD(D16,25) -> 0
A17: 92-902 Anchorage Airport | D17: 50 | E17: =SUM(F16+1) -> 178226 | F17: =SUM(E17+D17-1) -> 178275 | G17: 5 | I17: R2 | J17: =MOD(D17,25) -> 0
A18: 92-905 Downtown Anchorage | D18: 500 | E18: =SUM(F17+1) -> 178276 | F18: =SUM(E18+D18-1) -> 178775 | G18: 5 | I18: R2 | J18: =MOD(D18,25) -> 0
A20: MAT-SU
A21: 95-900 Mat-Su Elections Office | D21: 25 | E21: =SUM(F18+1) -> 178776 | F21: =SUM(E21+D21-1) -> 178800 | G21: 5 | I21: R5 | J21: =MOD(D21,25) -> 0
A23: FAIRBANKS
A24: 93-900 Fairbanks Elections Office | D24: 25 | E24: =SUM(F21+1) -> 178801 | F24: =SUM(E24+D24-1) -> 178825 | G24: 5 | I24: R3 | J24: =MOD(D24,25) -> 0
A26: JUNEAU
A27: 91-900 Juneau Elections Office | D27: 25 | E27: =SUM(F24+1) -> 178826 | F27: =SUM(E27+D27-1) -> 178850 | G27: 10 | I27: R1 | J27: =MOD(D27,25) -> 0
A28: 91-902 Juneau Downtown | D28: 25 | E28: =SUM(F27+1) -> 178851 | F28: =SUM(E28+D28-1) -> 178875 | G28: 10 | I28: R1 | J28: =MOD(D28,25) -> 0
A30: NOME
A31: 94-900 Nome Elections Office | D31: 25 | E31: =SUM(F28+1) -> 178876 | F31: =SUM(E31+D31-1) -> 178900 | G31: 5 | I31: R4 | J31: =MOD(D31,25) -> 0
A32: 94-901 Prudhoe Bay Station | D32: 50 | E32: =SUM(F31+1) -> 178901 | F32: =SUM(E32+D32-1) -> 178950 | G32: 5 | I32: R4 | J32: =MOD(D32,25) -> 0
A33: TOTAL ABSENTEE BALLOTS - DIST. 11 | D33: =SUM(D16:D32) -> 2125
A35: TOTAL DISTRICT 11 BALLOTS | D35: =D12+D33 -> 11950 | G35: =SUM(G5:G32) -> 135 | H35: =SUM(H5:H32) -> 300 | J35: =SUM(J5:J32) -> 0
A38: Checksum: Sequence End - Start: | D38: =F32-E5+1 -> 11950

Sheet Dist 12
H1: BALLOT ID# | J1: =Totals!A16 -> 822
B3: # REGIS- | D3: # | E3: Numbers | G3: Sample | H3: Fascimile
A4: DISTRICT / PRECINCT | B4: TERED | D4: Ballots | E4: FROM | F4: TO | G4: Ballots | H4: Ballots | I4: Delivery | J4: Checksum
A5: 12-250 Southeast Anchorage No. 1 | B5: 3298 | C5: =SUM(B5*0.65) -> 2143.7 | D5: =MROUND(C5, 25) -> 2150 | E5: =SUM('Dist 11'!F32,1) -> 178951 | F5: =SUM(E5+D5-1) -> 181100 | G5: 10 | I5: R2 | J5: =MOD(D5,25) -> 0
A6: 12-255 Southeast Anchorage No. 2 | B6: 1611 | C6: =SUM(B6*0.65) -> 1047.15 | D6: =MROUND(C6, 25) -> 1050 | E6: =SUM(F5+1) -> 181101 | F6: =SUM(E6+D6-1) -> 182150 | G6: 10 | I6: R2 | J6: =MOD(D6,25) -> 0
A7: 12-260 Southeast Anchorage No. 3 | B7: 2584 | C7: =SUM(B7*0.65) -> 1679.6 | D7: =MROUND(C7, 25) -> 1675 | E7: =SUM(F6+1) -> 182151 | F7: =SUM(E7+D7-1) -> 183825 | G7: 10 | I7: R2 | J7: =MOD(D7,25) -> 0
A8: 12-265 Southeast Anchorage No. 4 | B8: 2150 | C8: =SUM(B8*0.65) -> 1397.5 | D8: =MROUND(C8, 25) -> 1400 | E8: =SUM(F7+1) -> 183826 | F8: =SUM(E8+D8-1) -> 185225 | G8: 10 | I8: R2 | J8: =MOD(D8,25) -> 0
A9: 12-270 Southeast Anchorage No. 5 | B9: 3225 | C9: =SUM(B9*0.65) -> 2096.25 | D9: =MROUND(C9, 25) -> 2100 | E9: =SUM(F8+1) -> 185226 | F9: =SUM(E9+D9-1) -> 187325 | G9: 10 | I9: R2 | J9: =MOD(D9,25) -> 0
A10: 12-275 Southeast Anchorage No. 6 | B10: 2193 | C10: =SUM(B10*0.65) -> 1425.45 | D10: =MROUND(C10, 25) -> 1425 | E10: =SUM(F9+1) -> 187326 | F10: =SUM(E10+D10-1) -> 188750 | G10: 10 | I10: R2 | J10: =MOD(D10,25) -> 0
A11: TOTAL PRECINCT BALLOTS DIST. 12 | B11: =SUM(B5:B10) -> 15061 | D11: =SUM(D5:D10) -> 9800
A13: ABSENTEE OFFICIALS & STATIONS:
A14: ANCHORAGE
A15: 92-900 Anchorage Elections Office | D15: 1300 | E15: =SUM(F10+1) -> 188751 | F15: =SUM(E15+D15-1) -> 190050 | G15: 15 | H15: 250 | I15: R2 | J15: =MOD(D15,25) -> 0
A16: 92-902 Anchorage Airport | D16: 50 | E16: =SUM(F15+1) -> 190051 | F16: =SUM(E16+D16-1) -> 190100 | G16: 5 | I16: R2 | J16: =MOD(D16,25) -> 0
A17: 92-905 Downtown Anchorage | D17: 400 | E17: =SUM(F16+1) -> 190101 | F17: =SUM(E17+D17-1) -> 190500 | G17: 5 | I17: R2 | J17: =MOD(D17,25) -> 0
A19: MAT-SU
A20: 95-900 Mat-Su Elections Office | D20: 25 | E20: =SUM(F17+1) -> 190501 | F20: =SUM(E20+D20-1) -> 190525 | G20: 5 | I20: R5 | J20: =MOD(D20,25) -> 0
A22: FAIRBANKS
A23: 93-900 Fairbanks Elections Office | D23: 25 | E23: =SUM(F20+1) -> 190526 | F23: =SUM(E23+D23-1) -> 190550 | G23: 5 | I23: R3 | J23: =MOD(D23,25) -> 0
A25: JUNEAU
A26: 91-900 Juneau Elections Office | D26: 25 | E26: =SUM(F23+1) -> 190551 | F26: =SUM(E26+D26-1) -> 190575 | G26: 10 | I26: R1 | J26: =MOD(D26,25) -> 0
A27: 91-902 Juneau Downtown | D27: 25 | E27: =SUM(F26+1) -> 190576 | F27: =SUM(E27+D27-1) -> 190600 | G27: 10 | I27: R1 | J27: =MOD(D27,25) -> 0
A29: NOME
A30: 94-900 Nome Elections Office | D30: 25 | E30: =SUM(F27+1) -> 190601 | F30: =SUM(E30+D30-1) -> 190625 | G30: 5 | I30: R4 | J30: =MOD(D30,25) -> 0
A31: 94-901 Prudhoe Bay Station | D31: 50 | E31: =SUM(F30+1) -> 190626 | F31: =SUM(E31+D31-1) -> 190675 | G31: 5 | I31: R4 | J31: =MOD(D31,25) -> 0
A32: TOTAL ABSENTEE BALLOTS - DIST. 12 | D32: =SUM(D15:D31) -> 1925
A34: TOTAL DISTRICT 12 BALLOTS | D34: =D11+D32 -> 11725 | G34: =SUM(G5:G31) -> 125 | H34: =SUM(H5:H31) -> 250 | J34: =SUM(J5:J31) -> 0
A37: Checksum: Sequence End - Start: | D37: =F31-E5+1 -> 11725

Sheet Dist 13
H1: BALLOT ID# | J1: =Totals!A17 -> 823
B3: # REGIS- | D3: # | E3: Numbers | G3: Sample | H3: Fascimile
A4: DISTRICT / PRECINCT | B4: TERED | D4: Ballots | E4: FROM | F4: TO | G4: Ballots | H4: Ballots | I4: Delivery | J4: Checksum
A5: 13-305 South Midtown No. 1 | B5: 663 | C5: =SUM(B5*0.65) -> 430.95 | D5: =MROUND(C5, 25) -> 425 | E5: =SUM('Dist 12'!F31,1) -> 190676 | F5: =SUM(E5+D5-1) -> 191100 | G5: 10 | I5: R2 | J5: =MOD(D5,25) -> 0
A6: 13-310 South Midtown No. 2 | B6: 3565 | C6: =SUM(B6*0.65) -> 2317.25 | D6: =MROUND(C6, 25) -> 2325 | E6: =SUM(F5+1) -> 191101 | F6: =SUM(E6+D6-1) -> 193425 | G6: 10 | I6: R2 | J6: =MOD(D6,25) -> 0
A7: 13-315 South Midtown No. 3 | B7: 3598 | C7: =SUM(B7*0.65) -> 2338.7 | D7: =MROUND(C7, 25) -> 2350 | E7: =SUM(F6+1) -> 193426 | F7: =SUM(E7+D7-1) -> 195775 | G7: 10 | I7: R2 | J7: =MOD(D7,25) -> 0
A8: 13-320 South Midtown No. 4 | B8: 3779 | C8: =SUM(B8*0.65) -> 2456.35 | D8: =MROUND(C8, 25) -> 2450 | E8: =SUM(F7+1) -> 195776 | F8: =SUM(E8+D8-1) -> 198225 | G8: 10 | I8: R2 | J8: =MOD(D8,25) -> 0
A9: 13-325 South Midtown No. 5 | B9: 3653 | C9: =SUM(B9*0.65) -> 2374.45 | D9: =MROUND(C9, 25) -> 2375 | E9: =SUM(F8+1) -> 198226 | F9: =SUM(E9+D9-1) -> 200600 | G9: 10 | I9: R2
A10: TOTAL PRECINCT BALLOTS DIST. 13 | B10: =SUM(B3:B9) -> 15258 | D10: =SUM(D5:D9) -> 9925
A12: ABSENTEE OFFICIALS & STATIONS:
A13: ANCHORAGE
A14: 92-900 Anchorage Elections Office | D14: 1200 | E14: =SUM(F9+1) -> 200601 | F14: =SUM(E14+D14-1) -> 201800 | G14: 15 | H14: 250 | I14: R2 | J14: =MOD(D14,25) -> 0
A15: 92-902 Anchorage Airport | D15: 50 | E15: =SUM(F14+1) -> 201801 | F15: =SUM(E15+D15-1) -> 201850 | G15: 5 | I15: R2 | J15: =MOD(D15,25) -> 0
A16: 92-905 Downtown Anchorage | D16: 400 | E16: =SUM(F15+1) -> 201851 | F16: =SUM(E16+D16-1) -> 202250 | G16: 5 | I16: R2 | J16: =MOD(D16,25) -> 0
A18: MAT-SU
A19: 95-900 Mat-Su Elections Office | D19: 25 | E19: =SUM(F16+1) -> 202251 | F19: =SUM(E19+D19-1) -> 202275 | G19: 5 | I19: R5 | J19: =MOD(D19,25) -> 0
A21: FAIRBANKS
A22: 93-900 Fairbanks Elections Office | D22: 25 | E22: =SUM(F19+1) -> 202276 | F22: =SUM(E22+D22-1) -> 202300 | G22: 5 | I22: R3 | J22: =MOD(D22,25) -> 0
A24: JUNEAU
A25: 91-900 Juneau Elections Office | D25: 25 | E25: =SUM(F22+1) -> 202301 | F25: =SUM(E25+D25-1) -> 202325 | G25: 10 | I25: R1 | J25: =MOD(D25,25) -> 0
A26: 91-902 Juneau Downtown | D26: 25 | E26: =SUM(F25+1) -> 202326 | F26: =SUM(E26+D26-1) -> 202350 | G26: 10 | I26: R1 | J26: =MOD(D26,25) -> 0
A28: NOME
A29: 94-900 Nome Elections Office | D29: 25 | E29: =SUM(F26+1) -> 202351 | F29: =SUM(E29+D29-1) -> 202375 | G29: 5 | I29: R4 | J29: =MOD(D29,25) -> 0
A30: 94-901 Prudhoe Bay Station | D30: 25 | E30: =SUM(F29+1) -> 202376 | F30: =SUM(E30+D30-1) -> 202400 | G30: 5 | I30: R4 | J30: =MOD(D30,25) -> 0
A31: TOTAL ABSENTEE BALLOTS - DIST. 13 | D31: =SUM(D14:D30) -> 1800
A33: TOTAL DISTRICT 13 BALLOTS | D33: =D10+D31 -> 11725 | G33: =SUM(G5:G30) -> 115 | H33: =SUM(H5:H30) -> 250 | J33: =SUM(J5:J30) -> 0
A36: Checksum: Sequence End - Start: | D36: =F30-E5+1 -> 11725

Sheet Dist 14
H1: BALLOT ID# | J1: =Totals!A18 -> 824
B3: # REGIS- | D3: # | E3: Numbers | G3: Sample | H3: Fascimile
A4: DISTRICT / PRECINCT | B4: TERED | D4: Ballots | E4: FROM | F4: TO | G4: Ballots | H4: Ballots | I4: Delivery | J4: Checksum
A5: 14-350 North Midtown No. 1 | B5: 1148 | C5: =SUM(B5*0.65) -> 746.2 | D5: =MROUND(C5, 25) -> 750 | E5: =SUM('Dist 13'!F30+1) -> 202401 | F5: =SUM(E5+D5-1) -> 203150 | G5: 10 | I5: R2 | J5: =MOD(D5,25) -> 0
A6: 14-355 North Midtown No. 2 | B6: 1366 | C6: =SUM(B6*0.65) -> 887.9 | D6: =MROUND(C6, 25) -> 900 | E6: =SUM(F5+1) -> 203151 | F6: =SUM(E6+D6-1) -> 204050 | G6: 10 | I6: R2 | J6: =MOD(D6,25) -> 0
A7: 14-360 North Midtown No. 3 | B7: 1065 | C7: =SUM(B7*0.65) -> 692.25 | D7: =MROUND(C7, 25) -> 700 | E7: =SUM(F6+1) -> 204051 | F7: =SUM(E7+D7-1) -> 204750 | G7: 10 | I7: R2 | J7: =MOD(D7,25) -> 0
A8: 14-365 North Midtown No. 4 | B8: 3071 | C8: =SUM(B8*0.65) -> 1996.15 | D8: =MROUND(C8, 25) -> 2000 | E8: =SUM(F7+1) -> 204751 | F8: =SUM(E8+D8-1) -> 206750 | G8: 10 | I8: R2 | J8: =MOD(D8,25) -> 0
A9: 14-370 North Midtown No. 5 | B9: 3006 | C9: =SUM(B9*0.65) -> 1953.9 | D9: =MROUND(C9, 25) -> 1950 | E9: =SUM(F8+1) -> 206751 | F9: =SUM(E9+D9-1) -> 208700 | G9: 10 | I9: R2 | J9: =MOD(D9,25) -> 0
A10: 14-375 North Midtown No. 6 | B10: 2115 | C10: =SUM(B10*0.65) -> 1374.75 | D10: =MROUND(C10, 25) -> 1375 | E10: =SUM(F9+1) -> 208701 | F10: =SUM(E10+D10-1) -> 210075 | G10: 10 | I10: R2 | J10: =MOD(D10,25) -> 0
A11: 14-380 North Midtown No. 7 | B11: 2758 | C11: =SUM(B11*0.65) -> 1792.7 | D11: =MROUND(C11, 25) -> 1800 | E11: =SUM(F10+1) -> 210076 | F11: =SUM(E11+D11-1) -> 211875 | G11: 10 | I11: R2 | J11: =MOD(D11,25) -> 0
A12: TOTAL PRECINCT BALLOTS DIST. 14 | B12: =SUM(B5:B11) -> 14529 | D12: =SUM(D5:D11) -> 9475
A14: ABSENTEE OFFICIALS & STATIONS:
A15: ANCHORAGE
A16: 92-900 Anchorage Elections Office | D16: 1200 | E16: =SUM(F11+1) -> 211876 | F16: =SUM(E16+D16-1) -> 213075 | G16: 15 | H16: 250 | I16: R2 | J16: =MOD(D16,25) -> 0
A17: 92-902 Anchorage Airport | D17: 50 | E17: =SUM(F16+1) -> 213076 | F17: =SUM(E17+D17-1) -> 213125 | G17: 5 | I17: R2 | J17: =MOD(D17,25) -> 0
A18: 92-905 Downtown Anchorage | D18: 400 | E18: =SUM(F17+1) -> 213126 | F18: =SUM(E18+D18-1) -> 213525 | G18: 5 | I18: R2 | J18: =MOD(D18,25) -> 0
A20: MAT-SU
A21: 95-900 Mat-Su Elections Office | D21: 25 | E21: =SUM(F18+1) -> 213526 | F21: =SUM(E21+D21-1) -> 213550 | G21: 5 | I21: R5 | J21: =MOD(D21,25) -> 0
A23: FAIRBANKS
A24: 93-900 Fairbanks Elections Office | D24: 25 | E24: =SUM(F21+1) -> 213551 | F24: =SUM(E24+D24-1) -> 213575 | G24: 5 | I24: R3 | J24: =MOD(D24,25) -> 0
A26: JUNEAU
A27: 91-900 Juneau Elections Office | D27: 25 | E27: =SUM(F24+1) -> 213576 | F27: =SUM(E27+D27-1) -> 213600 | G27: 10 | I27: R1 | J27: =MOD(D27,25) -> 0
A28: 91-902 Juneau Downtown | D28: 25 | E28: =SUM(F27+1) -> 213601 | F28: =SUM(E28+D28-1) -> 213625 | G28: 10 | I28: R1 | J28: =MOD(D28,25) -> 0
A30: NOME
A31: 94-900 Nome Elections Office | D31: 25 | E31: =SUM(F28+1) -> 213626 | F31: =SUM(E31+D31-1) -> 213650 | G31: 5 | I31: R4 | J31: =MOD(D31,25) -> 0
A32: 94-901 Prudhoe Bay Station | D32: 25 | E32: =SUM(F31+1) -> 213651 | F32: =SUM(E32+D32-1) -> 213675 | G32: 5 | I32: R4 | J32: =MOD(D32,25) -> 0
A33: TOTAL ABSENTEE BALLOTS - DIST. 14 | D33: =SUM(D16:D32) -> 1800
A35: TOTAL DISTRICT 14 BALLOTS | D35: =D12+D33 -> 11275 | G35: =SUM(G5:G32) -> 135 | H35: =SUM(H5:H32) -> 250 | J35: =SUM(J5:J32) -> 0
A38: Checksum: Sequence End - Start: | D38: =F32-E5+1 -> 11275

Sheet Dist 15
H1: BALLOT ID# | J1: =Totals!A19 -> 825
B3: # REGIS- | D3: # | E3: Numbers | G3: Sample | H3: Fascimile
A4: DISTRICT / PRECINCT | B4: TERED | D4: Ballots | E4: FROM | F4: TO | G4: Ballots | H4: Ballots | I4: Delivery | J4: Checksum
A5: 15-405 Southwest Anchorage No. 1 | B5: 1834 | C5: =SUM(B5*0.65) -> 1192.1 | D5: =MROUND(C5, 25) -> 1200 | E5: =SUM('Dist 14'!F32+1) -> 213676 | F5: =SUM(E5+D5-1) -> 214875 | G5: 10 | I5: R2 | J5: =MOD(D5,25) -> 0
A6: 15-410 Southwest Anchorage No. 2 | B6: 2343 | C6: =SUM(B6*0.65) -> 1522.95 | D6: =MROUND(C6, 25) -> 1525 | E6: =SUM(F5+1) -> 214876 | F6: =SUM(E6+D6-1) -> 216400 | G6: 10 | I6: R2 | J6: =MOD(D6,25) -> 0
A7: 15-415 Southwest Anchorage No. 3 | B7: 2681 | C7: =SUM(B7*0.65) -> 1742.65 | D7: =MROUND(C7, 25) -> 1750 | E7: =SUM(F6+1) -> 216401 | F7: =SUM(E7+D7-1) -> 218150 | G7: 10 | I7: R2 | J7: =MOD(D7,25) -> 0
A8: 15-420 Southwest Anchorage No. 4 | B8: 2701 | C8: =SUM(B8*0.65) -> 1755.65 | D8: =MROUND(C8, 25) -> 1750 | E8: =SUM(F7+1) -> 218151 | F8: =SUM(E8+D8-1) -> 219900 | G8: 10 | I8: R2 | J8: =MOD(D8,25) -> 0
A9: 15-425 Southwest Anchorage No. 5 | B9: 2446 | C9: =SUM(B9*0.65) -> 1589.9 | D9: =MROUND(C9, 25) -> 1600 | E9: =SUM(F8+1) -> 219901 | F9: =SUM(E9+D9-1) -> 221500 | G9: 10 | I9: R2 | J9: =MOD(D9,25) -> 0
A10: 15-430 Southwest Anchorage No. 6 | B10: 3346 | C10: =SUM(B10*0.65) -> 2174.9 | D10: =MROUND(C10, 25) -> 2175 | E10: =SUM(F9+1) -> 221501 | F10: =SUM(E10+D10-1) -> 223675 | G10: 10 | I10: R2 | J10: =MOD(D10,25) -> 0
A11: TOTAL PRECINCT BALLOTS DIST. 15 | B11: =SUM(B5:B10) -> 15351 | D11: =SUM(D5:D10) -> 10000
A13: ABSENTEE OFFICIALS & STATIONS:
A14: ANCHORAGE
A15: 92-900 Anchorage Elections Office | D15: 1200 | E15: =SUM(F10+1) -> 223676 | F15: =SUM(E15+D15-1) -> 224875 | G15: 15 | H15: 250 | I15: R2 | J15: =MOD(D15,25) -> 0
A16: 92-902 Anchorage Airport | D16: 50 | E16: =SUM(F15+1) -> 224876 | F16: =SUM(E16+D16-1) -> 224925 | G16: 5 | I16: R2 | J16: =MOD(D16,25) -> 0
A17: 92-905 Downtown Anchorage | D17: 500 | E17: =SUM(F16+1) -> 224926 | F17: =SUM(E17+D17-1) -> 225425 | G17: 5 | I17: R2 | J17: =MOD(D17,25) -> 0
A19: MAT-SU
A20: 95-900 Mat-Su Elections Office | D20: 25 | E20: =SUM(F17+1) -> 225426 | F20: =SUM(E20+D20-1) -> 225450 | G20: 5 | I20: R5 | J20: =MOD(D20,25) -> 0
A22: FAIRBANKS
A23: 93-900 Fairbanks Elections Office | D23: 25 | E23: =SUM(F20+1) -> 225451 | F23: =SUM(E23+D23-1) -> 225475 | G23: 5 | I23: R3 | J23: =MOD(D23,25) -> 0
A25: JUNEAU
A26: 91-900 Juneau Elections Office | D26: 50 | E26: =SUM(F23+1) -> 225476 | F26: =SUM(E26+D26-1) -> 225525 | G26: 10 | I26: R1 | J26: =MOD(D26,25) -> 0
A27: 91-902 Juneau Downtown | D27: 50 | E27: =SUM(F26+1) -> 225526 | F27: =SUM(E27+D27-1) -> 225575 | G27: 10 | I27: R1 | J27: =MOD(D27,25) -> 0
A29: NOME
A30: 94-900 Nome Elections Office | D30: 25 | E30: =SUM(F27+1) -> 225576 | F30: =SUM(E30+D30-1) -> 225600 | G30: 5 | I30: R4 | J30: =MOD(D30,25) -> 0
A31: 94-901 Prudhoe Bay Station | D31: 25 | E31: =SUM(F30+1) -> 225601 | F31: =SUM(E31+D31-1) -> 225625 | G31: 5 | I31: R4 | J31: =MOD(D31,25) -> 0
A32: TOTAL ABSENTEE BALLOTS - DIST. 15 | D32: =SUM(D15:D31) -> 1950
A34: TOTAL DISTRICT 15 BALLOTS | D34: =D11+D32 -> 11950 | G34: =SUM(G5:G31) -> 125 | H34: =SUM(H5:H31) -> 250 | J34: =SUM(J5:J31) -> 0
A37: Checksum: Sequence End - Start: | D37: =F31-E5+1 -> 11950

Sheet Dist 16
H1: BALLOT ID# | J1: =Totals!A20 -> 826
B3: # REGIS- | D3: # | E3: Numbers | G3: Sample | H3: Fascimile
A4: DISTRICT / PRECINCT | B4: TERED | D4: Ballots | E4: FROM | F4: TO | G4: Ballots | H4: Ballots | I4: Delivery | J4: Checksum
A5: 16-450 West Anchorage No. 1 | B5: 1833 | C5: =SUM(B5*0.65) -> 1191.45 | D5: =MROUND(C5, 25) -> 1200 | E5: =SUM('Dist 15'!F31,1) -> 225626 | F5: =SUM(E5+D5-1) -> 226825 | G5: 10 | I5: R2 | J5: =MOD(D5,25) -> 0
A6: 16-455 West Anchorage No. 2 | B6: 2250 | C6: =SUM(B6*0.65) -> 1462.5 | D6: =MROUND(C6, 25) -> 1475 | E6: =SUM(F5+1) -> 226826 | F6: =SUM(E6+D6-1) -> 228300 | G6: 10 | I6: R2 | J6: =MOD(D6,25) -> 0
A7: 16-460 West Anchorage No. 3 | B7: 3352 | C7: =SUM(B7*0.65) -> 2178.8 | D7: =MROUND(C7, 25) -> 2175 | E7: =SUM(F6+1) -> 228301 | F7: =SUM(E7+D7-1) -> 230475 | G7: 10 | I7: R2 | J7: =MOD(D7,25) -> 0
A8: 16-465 West Anchorage No. 4 | B8: 1857 | C8: =SUM(B8*0.65) -> 1207.05 | D8: =MROUND(C8, 25) -> 1200 | E8: =SUM(F7+1) -> 230476 | F8: =SUM(E8+D8-1) -> 231675 | G8: 10 | I8: R2 | J8: =MOD(D8,25) -> 0
A9: 16-470 West Anchorage No. 5 | B9: 2514 | C9: =SUM(B9*0.65) -> 1634.1 | D9: =MROUND(C9, 25) -> 1625 | E9: =SUM(F8+1) -> 231676 | F9: =SUM(E9+D9-1) -> 233300 | G9: 10 | I9: R2 | J9: =MOD(D9,25) -> 0
A10: 16-475 West Anchorage No. 6 | B10: 1977 | C10: =SUM(B10*0.65) -> 1285.05 | D10: =MROUND(C10, 25) -> 1275 | E10: =SUM(F9+1) -> 233301 | F10: =SUM(E10+D10-1) -> 234575 | G10: 10 | I10: R2 | J10: =MOD(D10,25) -> 0
A11: 16-480 West Anchorage No. 7 | B11: 1811 | C11: =SUM(B11*0.65) -> 1177.15 | D11: =MROUND(C11, 25) -> 1175 | E11: =SUM(F10+1) -> 234576 | F11: =SUM(E11+D11-1) -> 235750 | G11: 10 | I11: R2 | J11: =MOD(D11,25) -> 0
A12: TOTAL PRECINCT BALLOTS DIST. 16 | B12: =SUM(B5:B11) -> 15594 | D12: =SUM(D5:D11) -> 10125
A14: ABSENTEE OFFICIALS & STATIONS:
A15: ANCHORAGE
A16: 92-900 Anchorage Elections Office | D16: 1200 | E16: =SUM(F11+1) -> 235751 | F16: =SUM(E16+D16-1) -> 236950 | G16: 15 | H16: 250 | I16: R2 | J16: =MOD(D16,25) -> 0
A17: 92-902 Anchorage Airport | D17: 50 | E17: =SUM(F16+1) -> 236951 | F17: =SUM(E17+D17-1) -> 237000 | G17: 5 | I17: R2 | J17: =MOD(D17,25) -> 0
A18: 92-905 Downtown Anchorage | D18: 500 | E18: =SUM(F17+1) -> 237001 | F18: =SUM(E18+D18-1) -> 237500 | G18: 5 | I18: R2 | J18: =MOD(D18,25) -> 0
A20: MAT-SU
A21: 95-900 Mat-Su Elections Office | D21: 25 | E21: =SUM(F18+1) -> 237501 | F21: =SUM(E21+D21-1) -> 237525 | G21: 5 | I21: R5 | J21: =MOD(D21,25) -> 0
A23: FAIRBANKS
A24: 93-900 Fairbanks Elections Office | D24: 25 | E24: =SUM(F21+1) -> 237526 | F24: =SUM(E24+D24-1) -> 237550 | G24: 5 | I24: R3 | J24: =MOD(D24,25) -> 0
A26: JUNEAU
A27: 91-900 Juneau Elections Office | D27: 50 | E27: =SUM(F24+1) -> 237551 | F27: =SUM(E27+D27-1) -> 237600 | G27: 10 | I27: R1 | J27: =MOD(D27,25) -> 0
A28: 91-902 Juneau Downtown | D28: 50 | E28: =SUM(F27+1) -> 237601 | F28: =SUM(E28+D28-1) -> 237650 | G28: 10 | I28: R1 | J28: =MOD(D28,25) -> 0
A30: NOME
A31: 94-900 Nome Elections Office | D31: 25 | E31: =SUM(F28+1) -> 237651 | F31: =SUM(E31+D31-1) -> 237675 | G31: 5 | I31: R4 | J31: =MOD(D31,25) -> 0
A32: 94-901 Prudhoe Bay Station | D32: 50 | E32: =SUM(F31+1) -> 237676 | F32: =SUM(E32+D32-1) -> 237725 | G32: 5 | I32: R4 | J32: =MOD(D32,25) -> 0
A33: TOTAL ABSENTEE BALLOTS - DIST. 16 | D33: =SUM(D16:D32) -> 1975
A35: TOTAL DISTRICT 16 BALLOTS | D35: =D12+D33 -> 12100 | G35: =SUM(G5:G32) -> 135 | H35: =SUM(H5:H32) -> 250 | J35: =SUM(J5:J32) -> 0
A38: Checksum: Sequence End - Start: | D38: =F32-E5+1 -> 12100

Sheet Dist 17
H1: BALLOT ID# | J1: =Totals!A21 -> 827
B3: # REGIS- | D3: # | E3: Numbers | G3: Sample | H3: Fascimile
A4: DISTRICT / PRECINCT | B4: TERED | D4: Ballots | E4: FROM | F4: TO | G4: Ballots | H4: Ballots | I4: Delivery | J4: Checksum
A5: 17-505 Downtown Anchorage No. 1 | B5: 1753 | C5: =SUM(B5*0.65) -> 1139.45 | D5: =MROUND(C5, 25) -> 1150 | E5: =SUM('Dist 16'!F32,1) -> 237726 | F5: =SUM(E5+D5-1) -> 238875 | G5: 10 | I5: R2 | J5: =MOD(D5,25) -> 0
A6: 17-510 Downtown Anchorage No. 2 | B6: 1755 | C6: =SUM(B6*0.65) -> 1140.75 | D6: =MROUND(C6, 25) -> 1150 | E6: =SUM(F5+1) -> 238876 | F6: =SUM(E6+D6-1) -> 240025 | G6: 10 | I6: R2 | J6: =MOD(D6,25) -> 0
A7: 17-515 Downtown Anchorage No. 3 | B7: 989 | C7: =SUM(B7*0.65) -> 642.85 | D7: =MROUND(C7, 25) -> 650 | E7: =SUM(F6+1) -> 240026 | F7: =SUM(E7+D7-1) -> 240675 | G7: 10 | I7: R2 | J7: =MOD(D7,25) -> 0
A8: 17-520 Downtown Anchorage No. 4 | B8: 2957 | C8: =SUM(B8*0.65) -> 1922.05 | D8: =MROUND(C8, 25) -> 1925 | E8: =SUM(F7+1) -> 240676 | F8: =SUM(E8+D8-1) -> 242600 | G8: 10 | I8: R2 | J8: =MOD(D8,25) -> 0
A9: 17-525 Downtown Anchorage No. 5 | B9: 2796 | C9: =SUM(B9*0.65) -> 1817.4 | D9: =MROUND(C9, 25) -> 1825 | E9: =SUM(F8+1) -> 242601 | F9: =SUM(E9+D9-1) -> 244425 | G9: 10 | I9: R2 | J9: =MOD(D9,25) -> 0
A10: 17-530 Downtown Anchorage No. 6 | B10: 1827 | C10: =SUM(B10*0.65) -> 1187.55 | D10: =MROUND(C10, 25) -> 1200 | E10: =SUM(F9+1) -> 244426 | F10: =SUM(E10+D10-1) -> 245625 | G10: 10 | I10: R2 | J10: =MOD(D10,25) -> 0
A11: 17-535 Downtown Anchorage No. 7 | B11: 2766 | C11: =SUM(B11*0.65) -> 1797.9 | D11: =MROUND(C11, 25) -> 1800 | E11: =SUM(F10+1) -> 245626 | F11: =SUM(E11+D11-1) -> 247425 | G11: 10 | I11: R2 | J11: =MOD(D11,25) -> 0
A12: TOTAL PRECINCT BALLOTS DIST. 17 | B12: =SUM(B5:B11) -> 14843 | D12: =SUM(D5:D11) -> 9700
A14: ABSENTEE OFFICIALS & STATIONS:
A15: ANCHORAGE
A16: 92-900 Anchorage Elections Office | D16: 1400 | E16: =SUM(F11+1) -> 247426 | F16: =SUM(E16+D16-1) -> 248825 | G16: 15 | H16: 250 | I16: R2 | J16: =MOD(D16,25) -> 0
A17: 92-902 Anchorage Airport | D17: 50 | E17: =SUM(F16+1) -> 248826 | F17: =SUM(E17+D17-1) -> 248875 | G17: 5 | I17: R2 | J17: =MOD(D17,25) -> 0
A18: 92-905 Downtown Anchorage | D18: 1000 | E18: =SUM(F17+1) -> 248876 | F18: =SUM(E18+D18-1) -> 249875 | G18: 5 | I18: R2 | J18: =MOD(D18,25) -> 0
A20: MAT-SU
A21: 95-900 Mat-Su Elections Office | D21: 25 | E21: =SUM(F18+1) -> 249876 | F21: =SUM(E21+D21-1) -> 249900 | G21: 5 | I21: R5 | J21: =MOD(D21,25) -> 0
A23: FAIRBANKS
A24: 93-900 Fairbanks Elections Office | D24: 25 | E24: =SUM(F21+1) -> 249901 | F24: =SUM(E24+D24-1) -> 249925 | G24: 5 | I24: R3 | J24: =MOD(D24,25) -> 0
A26: JUNEAU
A27: 91-900 Juneau Elections Office | D27: 25 | E27: =SUM(F24+1) -> 249926 | F27: =SUM(E27+D27-1) -> 249950 | G27: 10 | I27: R1 | J27: =MOD(D27,25) -> 0
A28: 91-902 Juneau Downtown | D28: 25 | E28: =SUM(F27+1) -> 249951 | F28: =SUM(E28+D28-1) -> 249975 | G28: 10 | I28: R1 | J28: =MOD(D28,25) -> 0
A30: NOME
A31: 94-900 Nome Elections Office | D31: 25 | E31: =SUM(F28+1) -> 249976 | F31: =SUM(E31+D31-1) -> 250000 | G31: 5 | I31: R4 | J31: =MOD(D31,25) -> 0
A32: 94-901 Prudhoe Bay Station | D32: 25 | E32: =SUM(F31+1) -> 250001 | F32: =SUM(E32+D32-1) -> 250025 | G32: 5 | I32: R4 | J32: =MOD(D32,25) -> 0
A33: TOTAL ABSENTEE BALLOTS - DIST. 17 | D33: =SUM(D16:D32) -> 2600
A35: TOTAL DISTRICT 17 BALLOTS | D35: =D12+D33 -> 12300 | G35: =SUM(G5:G32) -> 135 | H35: =SUM(H5:H32) -> 250 | J35: =SUM(J5:J32) -> 0
A38: Checksum: Sequence End - Start: | D38: =F32-E5+1 -> 12300

Sheet Dist 18
H1: BALLOT ID# | J1: =Totals!A22 -> 828
B3: # REGIS- | D3: # | E3: Numbers | G3: Sample | H3: Fascimile
A4: DISTRICT / PRECINCT | B4: TERED | D4: Ballots | E4: FROM | F4: TO | G4: Ballots | H4: Ballots | I4: Delivery | J4: Checksum
A5: 18-550 Government Hill | B5: 1574 | C5: =SUM(B5*0.65) -> 1023.1 | D5: =MROUND(C5, 25) -> 1025 | E5: =SUM('Dist 17'!F32,1) -> 250026 | F5: =SUM(E5+D5-1) -> 251050 | G5: 10 | I5: R2 | J5: =MOD(D5,25) -> 0
A6: 18-555 JBER No.1 | B6: 7290 | C6: =SUM(B6*0.65) -> 4738.5 | D6: 1700 | E6: =SUM(F5+1) -> 251051 | F6: =SUM(E6+D6-1) -> 252750 | G6: 10 | I6: R2 | J6: =MOD(D6,25) -> 0
A7: 18-556 JBER No.2 | C7: =SUM(B7*0.65) -> 0 | D7: 1000 | E7: =SUM(F6+1) -> 252751 | F7: =SUM(E7+D7-1) -> 253750 | G7: 10 | I7: R2 | J7: =MOD(D7,25) -> 0
A8: 18-560 North Muldoon | B8: 1912 | C8: =SUM(B8*0.65) -> 1242.8 | D8: =MROUND(C8, 25) -> 1250 | E8: =SUM(F7+1) -> 253751 | F8: =SUM(E8+D8-1) -> 255000 | G8: 10 | I8: R2 | J8: =MOD(D8,25) -> 0
A9: 18-565 Ship Creek | B9: 991 | C9: =SUM(B9*0.65) -> 644.15 | D9: =MROUND(C9, 25) -> 650 | E9: =SUM(F8+1) -> 255001 | F9: =SUM(E9+D9-1) -> 255650 | G9: 10 | I9: R2 | J9: =MOD(D9,25) -> 0
A10: TOTAL PRECINCT BALLOTS DIST. 18 | B10: =SUM(B5:B9) -> 11767 | D10: =SUM(D5:D9) -> 5625
A12: ABSENTEE OFFICIALS & STATIONS:
A13: ANCHORAGE
A14: 92-900 Anchorage Elections Office | D14: 1000 | E14: =SUM(F9+1) -> 255651 | F14: =SUM(E14+D14-1) -> 256650 | G14: 15 | H14: 300 | I14: R2 | J14: =MOD(D14,25) -> 0
A15: 92-902 Anchorage Airport | D15: 50 | E15: =SUM(F14+1) -> 256651 | F15: =SUM(E15+D15-1) -> 256700 | G15: 5 | I15: R2 | J15: =MOD(D15,25) -> 0
A16: 92-905 Downtown Anchorage | D16: 400 | E16: =SUM(F15+1) -> 256701 | F16: =SUM(E16+D16-1) -> 257100 | G16: 5 | I16: R2 | J16: =MOD(D16,25) -> 0
A18: MAT-SU
A19: 95-900 Mat-Su Elections Office | D19: 25 | E19: =SUM(F16+1) -> 257101 | F19: =SUM(E19+D19-1) -> 257125 | G19: 5 | I19: R5 | J19: =MOD(D19,25) -> 0
A21: FAIRBANKS
A22: 93-900 Fairbanks Elections Office | D22: 25 | E22: =SUM(F19+1) -> 257126 | F22: =SUM(E22+D22-1) -> 257150 | G22: 5 | I22: R3 | J22: =MOD(D22,25) -> 0
A24: JUNEAU
A25: 91-900 Juneau Elections Office | D25: 25 | E25: =SUM(F22+1) -> 257151 | F25: =SUM(E25+D25-1) -> 257175 | G25: 10 | I25: R1 | J25: =MOD(D25,25) -> 0
A26: 91-902 Juneau Downtown | D26: 25 | E26: =SUM(F25+1) -> 257176 | F26: =SUM(E26+D26-1) -> 257200 | G26: 10 | I26: R1 | J26: =MOD(D26,25) -> 0
A28: NOME
A29: 94-900 Nome Elections Office | D29: 25 | E29: =SUM(F26+1) -> 257201 | F29: =SUM(E29+D29-1) -> 257225 | G29: 5 | I29: R4 | J29: =MOD(D29,25) -> 0
A30: 94-901 Prudhoe Bay Station | D30: 25 | E30: =SUM(F29+1) -> 257226 | F30: =SUM(E30+D30-1) -> 257250 | G30: 5 | I30: R4 | J30: =MOD(D30,25) -> 0
A31: TOTAL ABSENTEE BALLOTS - DIST. 18 | D31: =SUM(D14:D30) -> 1600
A33: TOTAL DISTRICT 18 BALLOTS | D33: =D10+D31 -> 7225 | G33: =SUM(G5:G30) -> 115 | H33: =SUM(H5:H30) -> 300 | J33: =SUM(J5:J30) -> 0
A36: Checksum: Sequence End - Start: | D36: =F30-E5+1 -> 7225

Sheet Dist 19
H1: BALLOT ID# | J1: =Totals!A23 -> 829
B3: # REGIS- | D3: # | E3: Numbers | G3: Sample | H3: Fascimile
A4: DISTRICT / PRECINCT | B4: TERED | D4: Ballots | E4: FROM | F4: TO | G4: Ballots | H4: Ballots | I4: Delivery | J4: Checksum
A5: 19-605 Airport Heights No. 1 | B5: 2283 | C5: =SUM(B5*0.65) -> 1483.95 | D5: =MROUND(C5, 25) -> 1475 | E5: =SUM('Dist 18'!F30,1) -> 257251 | F5: =SUM(E5+D5-1) -> 258725 | G5: 10 | I5: R2 | J5: =MOD(D5,25) -> 0
A6: 19-610 Airport Heights No. 2 | B6: 3875 | C6: =SUM(B6*0.65) -> 2518.75 | D6: =MROUND(C6, 25) -> 2525 | E6: =SUM(F5+1) -> 258726 | F6: =SUM(E6+D6-1) -> 261250 | G6: 10 | I6: R2 | J6: =MOD(D6,25) -> 0
A7: 19-615 Mountainview No. 1 | B7: 1957 | C7: =SUM(B7*0.65) -> 1272.05 | D7: =MROUND(C7, 25) -> 1275 | E7: =SUM(F6+1) -> 261251 | F7: =SUM(E7+D7-1) -> 262525 | G7: 10 | I7: R2 | J7: =MOD(D7,25) -> 0
A8: 19-620 Mountainview No. 2 | B8: 2540 | C8: =SUM(B8*0.65) -> 1651 | D8: =MROUND(C8, 25) -> 1650 | E8: =SUM(F7+1) -> 262526 | F8: =SUM(E8+D8-1) -> 264175 | G8: 10 | I8: R2 | J8: =MOD(D8,25) -> 0
A9: 19-625 South Mountainview | B9: 2516 | C9: =SUM(B9*0.65) -> 1635.4 | D9: =MROUND(C9, 25) -> 1625 | E9: =SUM(F8+1) -> 264176 | F9: =SUM(E9+D9-1) -> 265800 | G9: 10 | I9: R2 | J9: =MOD(D9,25) -> 0
A10: TOTAL PRECINCT BALLOTS DIST. 19 | B10: =SUM(B5:B9) -> 13171 | D10: =SUM(D5:D9) -> 8550
A12: ABSENTEE OFFICIALS & STATIONS:
A13: ANCHORAGE
A14: 92-900 Anchorage Elections Office | D14: 800 | E14: =SUM(F9+1) -> 265801 | F14: =SUM(E14+D14-1) -> 266600 | G14: 15 | H14: 250 | I14: R2 | J14: =MOD(D14,25) -> 0
A15: 92-902 Anchorage Airport | D15: 50 | E15: =SUM(F14+1) -> 266601 | F15: =SUM(E15+D15-1) -> 266650 | G15: 5 | I15: R2 | J15: =MOD(D15,25) -> 0
A16: 92-905 Downtown Anchorage | D16: 400 | E16: =SUM(F15+1) -> 266651 | F16: =SUM(E16+D16-1) -> 267050 | G16: 5 | I16: R2 | J16: =MOD(D16,25) -> 0
A18: MAT-SU
A19: 95-900 Mat-Su Elections Office | D19: 25 | E19: =SUM(F16+1) -> 267051 | F19: =SUM(E19+D19-1) -> 267075 | G19: 5 | I19: R5 | J19: =MOD(D19,25) -> 0
A21: FAIRBANKS
A22: 93-900 Fairbanks Elections Office | D22: 25 | E22: =SUM(F19+1) -> 267076 | F22: =SUM(E22+D22-1) -> 267100 | G22: 5 | I22: R3 | J22: =MOD(D22,25) -> 0
A24: JUNEAU
A25: 91-900 Juneau Elections Office | D25: 25 | E25: =SUM(F22+1) -> 267101 | F25: =SUM(E25+D25-1) -> 267125 | G25: 10 | I25: R1 | J25: =MOD(D25,25) -> 0
A26: 91-902 Juneau Downtown | D26: 25 | E26: =SUM(F25+1) -> 267126 | F26: =SUM(E26+D26-1) -> 267150 | G26: 10 | I26: R1 | J26: =MOD(D26,25) -> 0
A28: NOME
A29: 94-900 Nome Elections Office | D29: 25 | E29: =SUM(F26+1) -> 267151 | F29: =SUM(E29+D29-1) -> 267175 | G29: 5 | I29: R4 | J29: =MOD(D29,25) -> 0
A30: 94-901 Prudhoe Bay Station | D30: 25 | E30: =SUM(F29+1) -> 267176 | F30: =SUM(E30+D30-1) -> 267200 | G30: 5 | I30: R4 | J30: =MOD(D30,25) -> 0
A31: TOTAL ABSENTEE BALLOTS - DIST. 19 | D31: =SUM(D14:D30) -> 1400
A33: TOTAL DISTRICT 19 BALLOTS | D33: =D10+D31 -> 9950 | G33: =SUM(G5:G31) -> 115 | H33: =SUM(H5:H31) -> 250 | J33: =SUM(J5:J31) -> 0
A36: Checksum: Sequence End - Start: | D36: =F30-E5+1 -> 9950

Sheet Dist 20
H1: BALLOT ID# | J1: =Totals!A24 -> 830
B3: # REGIS- | D3: # | E3: Numbers | G3: Sample | H3: Fascimile
A4: DISTRICT / PRECINCT | B4: TERED | D4: Ballots | E4: FROM | F4: TO | G4: Ballots | H4: Ballots | I4: Delivery | J4: Checksum
A5: 20-650 University No. 1 | B5: 1048 | C5: =SUM(B5*0.65) -> 681.2 | D5: =MROUND(C5, 25) -> 675 | E5: =SUM('Dist 19'!F30,1) -> 267201 | F5: =SUM(E5+D5-1) -> 267875 | G5: 10 | I5: R2 | J5: =MOD(D5,25) -> 0
A6: 20-655 University No. 2 | B6: 3836 | C6: =SUM(B6*0.65) -> 2493.4 | D6: =MROUND(C6, 25) -> 2500 | E6: =SUM(F5+1) -> 267876 | F6: =SUM(E6+D6-1) -> 270375 | G6: 10 | I6: R2 | J6: =MOD(D6,25) -> 0
A7: 20-660 University No. 3 | B7: 3010 | C7: =SUM(B7*0.65) -> 1956.5 | D7: =MROUND(C7, 25) -> 1950 | E7: =SUM(F6+1) -> 270376 | F7: =SUM(E7+D7-1) -> 272325 | G7: 10 | I7: R2 | J7: =MOD(D7,25) -> 0
A8: 20-665 University No. 4 | B8: 1552 | C8: =SUM(B8*0.65) -> 1008.8 | D8: =MROUND(C8, 25) -> 1000 | E8: =SUM(F7+1) -> 272326 | F8: =SUM(E8+D8-1) -> 273325 | G8: 10 | I8: R2 | J8: =MOD(D8,25) -> 0
A9: 20-670 University No. 5 | B9: 4627 | C9: =SUM(B9*0.65) -> 3007.55 | D9: =MROUND(C9, 25) -> 3000 | E9: =SUM(F8+1) -> 273326 | F9: =SUM(E9+D9-1) -> 276325 | G9: 10 | I9: R2 | J9: =MOD(D9,25) -> 0
A10: TOTAL PRECINCT BALLOTS DIST. 20 | B10: =SUM(B5:B9) -> 14073 | D10: =SUM(D5:D9) -> 9125
A12: ABSENTEE OFFICIALS & STATIONS:
A13: ANCHORAGE
A14: 92-900 Anchorage Elections Office | D14: 1000 | E14: =SUM(F9+1) -> 276326 | F14: =SUM(E14+D14-1) -> 277325 | G14: 15 | H14: 250 | I14: R2 | J14: =MOD(D14,25) -> 0
A15: 92-902 Anchorage Airport | D15: 50 | E15: =SUM(F14+1) -> 277326 | F15: =SUM(E15+D15-1) -> 277375 | G15: 5 | I15: R2 | J15: =MOD(D15,25) -> 0
A16: 92-905 Downtown Anchorage | D16: 400 | E16: =SUM(F15+1) -> 277376 | F16: =SUM(E16+D16-1) -> 277775 | G16: 5 | I16: R2 | J16: =MOD(D16,25) -> 0
A18: MAT-SU
A19: 95-900 Mat-Su Elections Office | D19: 25 | E19: =SUM(F16+1) -> 277776 | F19: =SUM(E19+D19-1) -> 277800 | G19: 5 | I19: R5 | J19: =MOD(D19,25) -> 0
A21: FAIRBANKS
A22: 93-900 Fairbanks Elections Office | D22: 25 | E22: =SUM(F19+1) -> 277801 | F22: =SUM(E22+D22-1) -> 277825 | G22: 5 | I22: R3 | J22: =MOD(D22,25) -> 0
A24: JUNEAU
A25: 91-900 Juneau Elections Office | D25: 50 | E25: =SUM(F22+1) -> 277826 | F25: =SUM(E25+D25-1) -> 277875 | G25: 10 | I25: R1 | J25: =MOD(D25,25) -> 0
A26: 91-902 Juneau Downtown | D26: 50 | E26: =SUM(F25+1) -> 277876 | F26: =SUM(E26+D26-1) -> 277925 | G26: 10 | I26: R1 | J26: =MOD(D26,25) -> 0
A28: NOME
A29: 94-900 Nome Elections Office | D29: 25 | E29: =SUM(F26+1) -> 277926 | F29: =SUM(E29+D29-1) -> 277950 | G29: 5 | I29: R4 | J29: =MOD(D29,25) -> 0
A30: 94-901 Prudhoe Bay Station | D30: 25 | E30: =SUM(F29+1) -> 277951 | F30: =SUM(E30+D30-1) -> 277975 | G30: 5 | I30: R4 | J30: =MOD(D30,25) -> 0
A31: TOTAL ABSENTEE BALLOTS - DIST. 20 | D31: =SUM(D14:D30) -> 1650
A33: TOTAL DISTRICT 20 BALLOTS | D33: =D10+D31 -> 10775 | G33: =SUM(G5:G30) -> 115 | H33: =SUM(H5:H30) -> 250 | J33: =SUM(J5:J30) -> 0
A36: Checksum: Sequence End - Start: | D36: =F30-E5+1 -> 10775

Sheet Dist 21
H1: BALLOT ID# | J1: =Totals!A25 -> 831
B3: # REGIS- | D3: # | E3: Numbers | G3: Sample | H3: Fascimile
A4: DISTRICT / PRECINCT | B4: TERED | D4: Ballots | E4: FROM | F4: TO | G4: Ballots | H4: Ballots | I4: Delivery | J4: Checksum
A5: 21-705 East Anchorage No. 1 | B5: 2220 | C5: =SUM(B5*0.65) -> 1443 | D5: =MROUND(C5, 25) -> 1450 | E5: =SUM('Dist 20'!F30,1) -> 277976 | F5: =SUM(E5+D5-1) -> 279425 | G5: 10 | I5: R2 | J5: =MOD(D5,25) -> 0
A6: 21-710 East Anchorage No. 2 | B6: 2961 | C6: =SUM(B6*0.65) -> 1924.65 | D6: =MROUND(C6, 25) -> 1925 | E6: =SUM(F5+1) -> 279426 | F6: =SUM(E6+D6-1) -> 281350 | G6: 10 | I6: R2 | J6: =MOD(D6,25) -> 0
A7: 21-715 East Anchorage No. 3 | B7: 4086 | C7: =SUM(B7*0.65) -> 2655.9 | D7: =MROUND(C7, 25) -> 2650 | E7: =SUM(F6+1) -> 281351 | F7: =SUM(E7+D7-1) -> 284000 | G7: 10 | I7: R2 | J7: =MOD(D7,25) -> 0
A8: 21-720 East Anchorage No. 4 | B8: 2631 | C8: =SUM(B8*0.65) -> 1710.15 | D8: =MROUND(C8, 25) -> 1700 | E8: =SUM(F7+1) -> 284001 | F8: =SUM(E8+D8-1) -> 285700 | G8: 10 | I8: R2 | J8: =MOD(D8,25) -> 0
A9: 21-725 East Anchorage No. 5 | B9: 3655 | C9: =SUM(B9*0.65) -> 2375.75 | D9: =MROUND(C9, 25) -> 2375 | E9: =SUM(F8+1) -> 285701 | F9: =SUM(E9+D9-1) -> 288075 | G9: 10 | I9: R2 | J9: =MOD(D9,25) -> 0
A10: TOTAL PRECINCT BALLOTS DIST. 21 | B10: =SUM(B5:B9) -> 15553 | D10: =SUM(D5:D9) -> 10100
A12: ABSENTEE OFFICIALS & STATIONS:
A13: ANCHORAGE
A14: 92-900 Anchorage Elections Office | D14: 1100 | E14: =SUM(F9+1) -> 288076 | F14: =SUM(E14+D14-1) -> 289175 | G14: 15 | H14: 250 | I14: R2 | J14: =MOD(D16,25) -> 0
A15: 92-902 Anchorage Airport | D15: 50 | E15: =SUM(F14+1) -> 289176 | F15: =SUM(E15+D15-1) -> 289225 | G15: 5 | I15: R2 | J15: =MOD(D17,25) -> 0
A16: 92-905 Downtown Anchorage | D16: 400 | E16: =SUM(F15+1) -> 289226 | F16: =SUM(E16+D16-1) -> 289625 | G16: 5 | I16: R2 | J16: =MOD(D18,25) -> 0
A18: MAT-SU
A19: 95-900 Mat-Su Elections Office | D19: 25 | E19: =SUM(F16+1) -> 289626 | F19: =SUM(E19+D19-1) -> 289650 | G19: 5 | I19: R5 | J19: =MOD(D19,25) -> 0
A21: FAIRBANKS
A22: 93-900 Fairbanks Elections Office | D22: 25 | E22: =SUM(F19+1) -> 289651 | F22: =SUM(E22+D22-1) -> 289675 | G22: 5 | I22: R3 | J22: =MOD(D22,25) -> 0
A24: JUNEAU
A25: 91-900 Juneau Elections Office | D25: 25 | E25: =SUM(F22+1) -> 289676 | F25: =SUM(E25+D25-1) -> 289700 | G25: 10 | I25: R1 | J25: =MOD(D25,25) -> 0
A26: 91-902 Juneau Downtown | D26: 25 | E26: =SUM(F25+1) -> 289701 | F26: =SUM(E26+D26-1) -> 289725 | G26: 10 | I26: R1 | J26: =MOD(D26,25) -> 0
A28: NOME
A29: 94-900 Nome Elections Office | D29: 25 | E29: =SUM(F26+1) -> 289726 | F29: =SUM(E29+D29-1) -> 289750 | G29: 5 | I29: R4 | J29: =MOD(D29,25) -> 0
A30: 94-901 Prudhoe Bay Station | D30: 50 | E30: =SUM(F29+1) -> 289751 | F30: =SUM(E30+D30-1) -> 289800 | G30: 5 | I30: R4 | J30: =MOD(D30,25) -> 0
A31: TOTAL ABSENTEE BALLOTS - DIST. 21 | D31: =SUM(D13:D30) -> 1725
A33: TOTAL DISTRICT 21 BALLOTS | D33: =D10+D31 -> 11825 | G33: =SUM(G5:G30) -> 115 | H33: =SUM(H5:H30) -> 250 | J33: =SUM(J5:J30) -> 0
A36: Checksum: Sequence End - Start: | D36: =F30-E5+1 -> 11825

Sheet Dist 22
H1: BALLOT ID# | J1: =Totals!A26 -> 832
B3: # REGIS- | D3: # | E3: Numbers | G3: Sample | H3: Fascimile
A4: DISTRICT / PRECINCT | B4: TERED | D4: Ballots | E4: FROM | F4: TO | G4: Ballots | H4: Ballots | I4: Delivery | J4: Checksum
A5: 22-750 Northeast Anchorage No. 1 | B5: 3697 | C5: =SUM(B5*0.65) -> 2403.05 | D5: =MROUND(C5, 25) -> 2400 | E5: =SUM('Dist 21'!F30,1) -> 289801 | F5: =SUM(E5+D5-1) -> 292200 | G5: 10 | I5: R2 | J5: =MOD(D5,25) -> 0
A6: 22-755 Northeast Anchorage No. 2 | B6: 3896 | C6: =SUM(B6*0.65) -> 2532.4 | D6: =MROUND(C6, 25) -> 2525 | E6: =SUM(F5+1) -> 292201 | F6: =SUM(E6+D6-1) -> 294725 | G6: 10 | I6: R2 | J6: =MOD(D6,25) -> 0
A7: 22-760 Northeast Anchorage No. 3 | B7: 3903 | C7: =SUM(B7*0.65) -> 2536.95 | D7: =MROUND(C7, 25) -> 2525 | E7: =SUM(F6+1) -> 294726 | F7: =SUM(E7+D7-1) -> 297250 | G7: 10 | I7: R2 | J7: =MOD(D7,25) -> 0
A8: 22-765 Northeast Anchorage No. 4 | B8: 2763 | C8: =SUM(B8*0.65) -> 1795.95 | D8: =MROUND(C8, 25) -> 1800 | E8: =SUM(F7+1) -> 297251 | F8: =SUM(E8+D8-1) -> 299050 | G8: 10 | I8: R2 | J8: =MOD(D8,25) -> 0
A9: TOTAL PRECINCT BALLOTS DIST. 22 | B9: =SUM(B5:B8) -> 14259 | D9: =SUM(D5:D8) -> 9250
A11: ABSENTEE OFFICIALS & STATIONS:
A12: ANCHORAGE
A13: 92-900 Anchorage Elections Office | D13: 600 | E13: =SUM(F8+1) -> 299051 | F13: =SUM(E13+D13-1) -> 299650 | G13: 15 | H13: 250 | I13: R2 | J13: =MOD(D13,25) -> 0
A14: 92-902 Anchorage Airport | D14: 50 | E14: =SUM(F13+1) -> 299651 | F14: =SUM(E14+D14-1) -> 299700 | G14: 5 | I14: R2 | J14: =MOD(D14,25) -> 0
A15: 92-905 Downtown Anchorage | D15: 400 | E15: =SUM(F14+1) -> 299701 | F15: =SUM(E15+D15-1) -> 300100 | G15: 5 | I15: R2 | J15: =MOD(D15,25) -> 0
A17: MAT-SU
A18: 95-900 Mat-Su Elections Office | D18: 25 | E18: =SUM(F15+1) -> 300101 | F18: =SUM(E18+D18-1) -> 300125 | G18: 5 | I18: R5 | J18: =MOD(D18,25) -> 0
A20: FAIRBANKS
A21: 93-900 Fairbanks Elections Office | D21: 25 | E21: =SUM(F18+1) -> 300126 | F21: =SUM(E21+D21-1) -> 300150 | G21: 5 | I21: R3 | J21: =MOD(D21,25) -> 0
A23: JUNEAU
A24: 91-900 Juneau Elections Office | D24: 25 | E24: =SUM(F21+1) -> 300151 | F24: =SUM(E24+D24-1) -> 300175 | G24: 10 | I24: R1 | J24: =MOD(D24,25) -> 0
A25: 91-902 Juneau Downtown | D25: 25 | E25: =SUM(F24+1) -> 300176 | F25: =SUM(E25+D25-1) -> 300200 | G25: 10 | I25: R1 | J25: =MOD(D25,25) -> 0
A27: NOME
A28: 94-900 Nome Elections Office | D28: 25 | E28: =SUM(F25+1) -> 300201 | F28: =SUM(E28+D28-1) -> 300225 | G28: 5 | I28: R4 | J28: =MOD(D28,25) -> 0
A29: 94-901 Prudhoe Bay Station | D29: 50 | E29: =SUM(F28+1) -> 300226 | F29: =SUM(E29+D29-1) -> 300275 | G29: 5 | I29: R4 | J29: =MOD(D29,25) -> 0
A30: TOTAL ABSENTEE BALLOTS - DIST. 22 | D30: =SUM(D13:D29) -> 1225
A32: TOTAL DISTRICT 22 BALLOTS | D32: =D9+D30 -> 10475 | G32: =SUM(G5:G30) -> 105 | H32: =SUM(H5:H30) -> 250 | J32: =SUM(J5:J30) -> 0
A35: Checksum: Sequence End - Start: | D35: =F29-E5+1 -> 10475

Sheet Dist 23
H1: BALLOT ID# | J1: =Totals!A27 -> 833
B3: # REGIS- | D3: # | E3: Numbers | G3: Sample | H3: Fascimile
A4: DISTRICT / PRECINCT | B4: TERED | D4: Ballots | E4: FROM | F4: TO | G4: Ballots | H4: Ballots | I4: Delivery | J4: Checksum
A5: 23-805 Chugach Park No. 1 | B5: 4342 | C5: =SUM(B5*0.65) -> 2822.3 | D5: =MROUND(C5, 25) -> 2825 | E5: =SUM('Dist 22'!F29,1) -> 300276 | F5: =SUM(E5+D5-1) -> 303100 | G5: 10 | I5: R2 | J5: =MOD(D5,25) -> 0
A6: 23-810 Eagle River No. 1 | B6: 2704 | C6: =SUM(B6*0.65) -> 1757.6 | D6: =MROUND(C6, 25) -> 1750 | E6: =SUM(F5+1) -> 303101 | F6: =SUM(E6+D6-1) -> 304850 | G6: 10 | I6: R2 | J6: =MOD(D6,25) -> 0
A7: 23-815 Eagle River No. 2 | B7: 2961 | C7: =SUM(B7*0.65) -> 1924.65 | D7: =MROUND(C7, 25) -> 1925 | E7: =SUM(F6+1) -> 304851 | F7: =SUM(E7+D7-1) -> 306775 | G7: 10 | I7: R2 | J7: =MOD(D7,25) -> 0
A8: 23-820 Hiland | B8: 2715 | C8: =SUM(B8*0.65) -> 1764.75 | D8: =MROUND(C8, 25) -> 1775 | E8: =SUM(F7+1) -> 306776 | F8: =SUM(E8+D8-1) -> 308550 | G8: 10 | I8: R2 | J8: =MOD(D8,25) -> 0
A9: 23-825 Meadow Creek No. 1 | B9: 2497 | C9: =SUM(B9*0.65) -> 1623.05 | D9: =MROUND(C9, 25) -> 1625 | E9: =SUM(F8+1) -> 308551 | F9: =SUM(E9+D9-1) -> 310175 | G9: 10 | I9: R2 | J9: =MOD(D9,25) -> 0
A10: 23-830 Meadow Creek No. 2 | B10: 1323 | C10: =SUM(B10*0.65) -> 859.95 | D10: =MROUND(C10, 25) -> 850 | E10: =SUM(F9+1) -> 310176 | F10: =SUM(E10+D10-1) -> 311025 | G10: 10 | I10: R2 | J10: =MOD(D10,25) -> 0
A11: TOTAL PRECINCT BALLOTS DIST. 23 | B11: =SUM(B5:B10) -> 16542 | D11: =SUM(D5:D10) -> 10750
A13: ABSENTEE OFFICIALS & STATIONS:
A14: ANCHORAGE
A15: 92-900 Anchorage Elections Office | D15: 400 | E15: =SUM(F10+1) -> 311026 | F15: =SUM(E15+D15-1) -> 311425 | G15: 15 | H15: 300 | I15: R2 | J15: =MOD(D15,25) -> 0
A16: 92-902 Anchorage Airport | D16: 50 | E16: =SUM(F15+1) -> 311426 | F16: =SUM(E16+D16-1) -> 311475 | G16: 5 | I16: R2 | J16: =MOD(D16,25) -> 0
A17: 92-905 Downtown Anchorage | D17: 300 | E17: =SUM(F16+1) -> 311476 | F17: =SUM(E17+D17-1) -> 311775 | G17: 5 | I17: R2 | J17: =MOD(D17,25) -> 0
A18: 92-906 Eagle River / Chugiak | D18: 2000 | E18: =SUM(F17+1) -> 311776 | F18: =SUM(E18+D18-1) -> 313775 | G18: 10 | I18: R2 | J18: =MOD(D18,25) -> 0
A19: MAT-SU
A20: 95-900 Mat-Su Elections Office | D20: 25 | E20: =SUM(F18+1) -> 313776 | F20: =SUM(E20+D20-1) -> 313800 | G20: 5 | I20: R5 | J20: =MOD(D20,25) -> 0
A22: FAIRBANKS
A23: 93-900 Fairbanks Elections Office | D23: 25 | E23: =SUM(F20+1) -> 313801 | F23: =SUM(E23+D23-1) -> 313825 | G23: 5 | I23: R3 | J23: =MOD(D23,25) -> 0
A25: JUNEAU
A26: 91-900 Juneau Elections Office | D26: 25 | E26: =SUM(F23+1) -> 313826 | F26: =SUM(E26+D26-1) -> 313850 | G26: 10 | I26: R1 | J26: =MOD(D26,25) -> 0
A27: 91-902 Juneau Downtown | D27: 25 | E27: =SUM(F26+1) -> 313851 | F27: =SUM(E27+D27-1) -> 313875 | G27: 10 | I27: R1 | J27: =MOD(D27,25) -> 0
A29: NOME
A30: 94-900 Nome Elections Office | D30: 25 | E30: =SUM(F27+1) -> 313876 | F30: =SUM(E30+D30-1) -> 313900 | G30: 5 | I30: R4 | J30: =MOD(D30,25) -> 0
A31: 94-901 Prudhoe Bay Station | D31: 50 | E31: =SUM(F30+1) -> 313901 | F31: =SUM(E31+D31-1) -> 313950 | G31: 5 | I31: R4 | J31: =MOD(D31,25) -> 0
A32: TOTAL ABSENTEE BALLOTS - DIST. 23 | D32: =SUM(D15:D31) -> 2925
A34: TOTAL DISTRICT 23 BALLOTS | D34: =D11+D32 -> 13675 | G34: =SUM(G5:G32) -> 135 | H34: =SUM(H5:H32) -> 300 | J34: =SUM(J5:J32) -> 0
A37: Checksum: Sequence End - Start: | D37: =F31-E5+1 -> 13675

Sheet Dist 24
H1: BALLOT ID# | J1: =Totals!A28 -> 834
B3: # REGIS- | D3: # | E3: Numbers | G3: Sample | H3: Fascimile
A4: DISTRICT / PRECINCT | B4: TERED | D4: Ballots | E4: FROM | F4: TO | G4: Ballots | H4: Ballots | I4: Delivery | J4: Checksum
A5: 24-850 Chugach Park No. 2 | B5: 2462 | C5: =SUM(B5*0.65) -> 1600.3 | D5: =MROUND(C5, 25) -> 1600 | E5: =SUM('Dist 23'!F31,1) -> 313951 | F5: =SUM(E5+D5-1) -> 315550 | G5: 10 | I5: R2 | J5: =MOD(D5,25) -> 0
A6: 24-855 Chugiak | B6: 1119 | C6: =SUM(B6*0.65) -> 727.35 | D6: =MROUND(C6, 25) -> 725 | E6: =SUM(F5+1) -> 315551 | F6: =SUM(E6+D6-1) -> 316275 | G6: 10 | I6: R2 | J6: =MOD(D6,25) -> 0
A7: 24-860 Eagle River No. 3 | B7: 2865 | C7: =SUM(B7*0.65) -> 1862.25 | D7: =MROUND(C7, 25) -> 1850 | E7: =SUM(F6+1) -> 316276 | F7: =SUM(E7+D7-1) -> 318125 | G7: 10 | I7: R2 | J7: =MOD(D7,25) -> 0
A8: 24-865 Eklutna | B8: 2088 | C8: =SUM(B8*0.65) -> 1357.2 | D8: =MROUND(C8, 25) -> 1350 | E8: =SUM(F7+1) -> 318126 | F8: =SUM(E8+D8-1) -> 319475 | G8: 10 | I8: R2 | J8: =MOD(D8,25) -> 0
A9: 24-870 Fire Lake | B9: 2766 | C9: =SUM(B9*0.65) -> 1797.9 | D9: =MROUND(C9, 25) -> 1800 | E9: =SUM(F8+1) -> 319476 | F9: =SUM(E9+D9-1) -> 321275 | G9: 10 | I9: R2 | J9: =MOD(D9,25) -> 0
A10: 24-875 Peters Creek No. 1 | B10: 2781 | C10: =SUM(B10*0.65) -> 1807.65 | D10: =MROUND(C10, 25) -> 1800 | E10: =SUM(F9+1) -> 321276 | F10: =SUM(E10+D10-1) -> 323075 | G10: 10 | I10: R2 | J10: 0
A11: 24-880 Peters Creek No. 2 | B11: 1694 | C11: =SUM(B11*0.65) -> 1101.1 | D11: =MROUND(C11, 25) -> 1100 | E11: =SUM(F10+1) -> 323076 | F11: =SUM(E11+D11-1) -> 324175 | G11: 10 | I11: R2 | J11: =MOD(D11,25) -> 0
A12: TOTAL PRECINCT BALLOTS DIST. 24 | B12: =SUM(B5:B11) -> 15775 | D12: =SUM(D5:D11) -> 10225
A14: ABSENTEE OFFICIALS & STATIONS:
A15: ANCHORAGE
A16: 92-900 Anchorage Elections Office | D16: 400 | E16: =SUM(F11+1) -> 324176 | F16: =SUM(E16+D16-1) -> 324575 | G16: 15 | H16: 300 | I16: R2 | J16: =MOD(D16,25) -> 0
A17: 92-902 Anchorage Airport | D17: 25 | E17: =SUM(F16+1) -> 324576 | F17: =SUM(E17+D17-1) -> 324600 | G17: 5 | I17: R2 | J17: =MOD(D17,25) -> 0
A18: 92-905 Downtown Anchorage | D18: 300 | E18: =SUM(F17+1) -> 324601 | F18: =SUM(E18+D18-1) -> 324900 | G18: 5 | I18: R2 | J18: =MOD(D18,25) -> 0
A19: 92-906 Eagle River/Chugiak | D19: 2000 | E19: =SUM(F18+1) -> 324901 | F19: =SUM(E19+D19-1) -> 326900 | G19: 5 | I19: R2 | J19: =MOD(D19,25) -> 0
A20: MAT-SU
A21: 95-900 Mat-Su Elections Office | D21: 25 | E21: =SUM(F19+1) -> 326901 | F21: =SUM(E21+D21-1) -> 326925 | G21: 5 | I21: R5 | J21: =MOD(D21,25) -> 0
A23: FAIRBANKS
A24: 93-900 Fairbanks Elections Office | D24: 25 | E24: =SUM(F21+1) -> 326926 | F24: =SUM(E24+D24-1) -> 326950 | G24: 5 | I24: R3 | J24: =MOD(D24,25) -> 0
A26: JUNEAU
A27: 91-900 Juneau Elections Office | D27: 25 | E27: =SUM(F24+1) -> 326951 | F27: =SUM(E27+D27-1) -> 326975 | G27: 10 | I27: R1 | J27: =MOD(D27,25) -> 0
A28: 91-902 Juneau Downtown | D28: 25 | E28: =SUM(F27+1) -> 326976 | F28: =SUM(E28+D28-1) -> 327000 | G28: 10 | I28: R1 | J28: =MOD(D28,25) -> 0
A30: NOME
A31: 94-900 Nome Elections Office | D31: 25 | E31: =SUM(F28+1) -> 327001 | F31: =SUM(E31+D31-1) -> 327025 | G31: 5 | I31: R4 | J31: =MOD(D31,25) -> 0
A32: 94-901 Prudhoe Bay Station | D32: 50 | E32: =SUM(F31+1) -> 327026 | F32: =SUM(E32+D32-1) -> 327075 | G32: 5 | I32: R4 | J32: =MOD(D32,25) -> 0
A33: TOTAL ABSENTEE BALLOTS - DIST. 24 | D33: =SUM(D16:D32) -> 2900
A35: TOTAL DISTRICT 24 BALLOTS | D35: =D12+D33 -> 13125 | G35: =SUM(G5:G33) -> 140 | H35: =SUM(H5:H33) -> 300 | J35: =SUM(J5:J33) -> 0
A38: Checksum: Sequence End - Start: | D38: =F32-E5+1 -> 13125

Sheet Dist 25
H1: BALLOT ID# | J1: =Totals!A29 -> 835
B3: # REGIS- | D3: # | E3: Numbers | G3: Sample | H3: Fascimile
A4: DISTRICT / PRECINCT | B4: TERED | D4: Ballots | E4: FROM | F4: TO | G4: Ballots | H4: Ballots | I4: Delivery | J4: Checksum
A5: 25-305 Butte | B5: 3398 | C5: =SUM(B5*0.65) -> 2208.7 | D5: =MROUND(C5, 25) -> 2200 | E5: =SUM('Dist 24'!F32,1) -> 327076 | F5: =SUM(E5+D5-1) -> 329275 | G5: 10 | I5: R5 | J5: =MOD(D5,25) -> 0
A6: 25-310 Greater Palmer | B6: 1835 | C6: =SUM(B6*0.65) -> 1192.75 | D6: =MROUND(C6, 25) -> 1200 | E6: =SUM(F5+1) -> 329276 | F6: =SUM(E6+D6-1) -> 330475 | G6: 10 | I6: R5 | J6: =MOD(D6,25) -> 0
A7: 25-315 Lazy Mountain | B7: 1966 | C7: =SUM(B7*0.65) -> 1277.9 | D7: =MROUND(C7, 25) -> 1275 | E7: =SUM(F6+1) -> 330476 | F7: =SUM(E7+D7-1) -> 331750 | G7: 10 | I7: R5 | J7: =MOD(D7,25) -> 0
A8: 25-320 Palmer City No. 1 | B8: 2601 | C8: =SUM(B8*0.65) -> 1690.65 | D8: =MROUND(C8, 25) -> 1700 | E8: =SUM(F7+1) -> 331751 | F8: =SUM(E8+D8-1) -> 333450 | G8: 10 | I8: R5 | J8: =MOD(D8,25) -> 0
A9: 25-325 Palmer City No. 2 | B9: 2370 | C9: =SUM(B9*0.65) -> 1540.5 | D9: =MROUND(C9, 25) -> 1550 | E9: =SUM(F8+1) -> 333451 | F9: =SUM(E9+D9-1) -> 335000 | G9: 10 | I9: R5 | J9: =MOD(D9,25) -> 0
A10: 25-330 Springer Loop | B10: 2108 | C10: =SUM(B10*0.65) -> 1370.2 | D10: =MROUND(C10, 25) -> 1375 | E10: =SUM(F9+1) -> 335001 | F10: =SUM(E10+D10-1) -> 336375 | G10: 10 | I10: R5 | J10: =MOD(D10,25) -> 0
A11: 25-335 Walby | B11: 2199 | C11: =SUM(B11*0.65) -> 1429.35 | D11: =MROUND(C11, 25) -> 1425 | E11: =SUM(F10+1) -> 336376 | F11: =SUM(E11+D11-1) -> 337800 | G11: 10 | I11: R5 | J11: =MOD(D11,25) -> 0
A12: TOTAL PRECINCT BALLOTS DIST. 25 | B12: =SUM(B5:B11) -> 16477 | D12: =SUM(D5:D11) -> 10725
A14: ABSENTEE OFFICIALS & STATIONS:
A15: ANCHORAGE
A16: 92-900 Anchorage Elections Office | D16: 200 | E16: =SUM(F11+1) -> 337801 | F16: =SUM(E16+D16-1) -> 338000 | G16: 10 | I16: R2 | J16: =MOD(D16,25) -> 0
A17: 92-902 Anchorage Airport | D17: 50 | E17: =SUM(F16+1) -> 338001 | F17: =SUM(E17+D17-1) -> 338050 | G17: 5 | I17: R2 | J17: =MOD(D17,25) -> 0
A18: 92-905 Downtown Anchorage | D18: 100 | E18: =SUM(F17+1) -> 338051 | F18: =SUM(E18+D18-1) -> 338150 | G18: 5 | I18: R2 | J18: =MOD(D18,25) -> 0
A20: MAT-SU
A21: 95-900 Mat-Su Elections Office | D21: 950 | E21: =SUM(F18+1) -> 338151 | F21: =SUM(E21+D21-1) -> 339100 | G21: 25 | H21: 200 | I21: R5 | J21: =MOD(D21,25) -> 0
A22: 95-903 Mat-Su AVO | D22: 2000 | E22: =SUM(F21+1) -> 339101 | F22: =SUM(E22+D22-1) -> 341100 | G22: 25 | I22: R5 | J22: =MOD(D22,25) -> 0
A24: FAIRBANKS
A25: 93-900 Fairbanks Elections Office | D25: 25 | E25: =SUM(F22+1) -> 341101 | F25: =SUM(E25+D25-1) -> 341125 | G25: 5 | I25: R3 | J25: =MOD(D25,25) -> 0
A27: JUNEAU
A28: 91-900 Juneau Elections Office | D28: 25 | E28: =SUM(F25+1) -> 341126 | F28: =SUM(E28+D28-1) -> 341150 | G28: 10 | I28: R1 | J28: =MOD(D28,25) -> 0
A29: 91-902 Juneau Downtown | D29: 25 | E29: =SUM(F28+1) -> 341151 | F29: =SUM(E29+D29-1) -> 341175 | G29: 10 | I29: R1 | J29: =MOD(D29,25) -> 0
A31: NOME
A32: 94-900 Nome Elections Office | D32: 25 | E32: =SUM(F29+1) -> 341176 | F32: =SUM(E32+D32-1) -> 341200 | G32: 5 | I32: R4 | J32: =MOD(D32,25) -> 0
A33: 94-901 Prudhoe Bay Station | D33: 50 | E33: =SUM(F32+1) -> 341201 | F33: =SUM(E33+D33-1) -> 341250 | G33: 5 | I33: R4 | J33: =MOD(D33,25) -> 0
A34: TOTAL ABSENTEE BALLOTS - DIST. 25 | D34: =SUM(D16:D33) -> 3450
A36: TOTAL DISTRICT 25 BALLOTS | D36: =D12+D34 -> 14175 | G36: =SUM(G5:G34) -> 175 | H36: =SUM(H5:H34) -> 200 | J36: =SUM(J5:J34) -> 0
A39: Checksum: Sequence End - Start: | D39: =F33-E5+1 -> 14175

Sheet Dist 26
H1: BALLOT ID# | J1: =Totals!A30 -> 836
B3: # REGIS- | D3: # | E3: Numbers | G3: Sample | H3: Fascimile
A4: DISTRICT / PRECINCT | B4: TERED | D4: Ballots | E4: FROM | F4: TO | G4: Ballots | H4: Ballots | I4: Delivery | J4: Checksum
A5: 26-350 Fairview No. 1 | B5: 1814 | C5: =SUM(B5*0.65) -> 1179.1 | D5: =MROUND(C5, 25) -> 1175 | E5: =SUM('Dist 25'!F33,1) -> 341251 | F5: =SUM(E5+D5-1) -> 342425 | G5: 10 | I5: R5 | J5: =MOD(D5,25) -> 0
A6: 26-355 Fairview No. 2 | B6: 1223 | C6: =SUM(B6*0.65) -> 794.95 | D6: =MROUND(C6, 25) -> 800 | E6: =SUM(F5+1) -> 342426 | F6: =SUM(E6+D6-1) -> 343225 | G6: 10 | I6: R5 | J6: =MOD(D6,25) -> 0
A7: 26-360 Knik Goose Bay No. 1 | B7: 3854 | C7: =SUM(B7*0.65) -> 2505.1 | D7: =MROUND(C7, 25) -> 2500 | E7: =SUM(F6+1) -> 343226 | F7: =SUM(E7+D7-1) -> 345725 | G7: 10 | I7: R5 | J7: =MOD(D7,25) -> 0
A8: 26-365 Knik Goose Bay No. 2 | B8: 2513 | C8: =SUM(B8*0.65) -> 1633.45 | D8: =MROUND(C8, 25) -> 1625 | E8: =SUM(F7+1) -> 345726 | F8: =SUM(E8+D8-1) -> 347350 | G8: 10 | I8: R5 | J8: =MOD(D8,25) -> 0
A9: 26-370 Knik Goose Bay No. 3 | B9: 1673 | C9: =SUM(B9*0.65) -> 1087.45 | D9: =MROUND(C9, 25) -> 1075 | E9: =SUM(F8+1) -> 347351 | F9: =SUM(E9+D9-1) -> 348425 | G9: 10 | I9: R5 | J9: =MOD(D9,25) -> 0
A10: 26-375 Mat-Su Campus | B10: 1899 | C10: =SUM(B10*0.65) -> 1234.35 | D10: =MROUND(C10, 25) -> 1225 | E10: =SUM(F9+1) -> 348426 | F10: =SUM(E10+D10-1) -> 349650 | G10: 10 | I10: R5 | J10: =MOD(D10,25) -> 0
A11: 26-380 Snowshoe | B11: 2919 | C11: =SUM(B11*0.65) -> 1897.35 | D11: =MROUND(C11, 25) -> 1900 | E11: =SUM(F10+1) -> 349651 | F11: =SUM(E11+D11-1) -> 351550 | G11: 10 | I11: R5 | J11: =MOD(D11,25) -> 0
A12: TOTAL PRECINCT BALLOTS DIST. 26 | B12: =SUM(B5:B11) -> 15895 | D12: =SUM(D5:D11) -> 10300
A14: ABSENTEE OFFICIALS & STATIONS:
A15: ANCHORAGE
A16: 92-900 Anchorage Elections Office | D16: 200 | E16: =SUM(F11+1) -> 351551 | F16: =SUM(E16+D16-1) -> 351750 | G16: 10 | I16: R2 | J16: =MOD(D16,25) -> 0
A17: 92-902 Anchorage Airport | D17: 25 | E17: =SUM(F16+1) -> 351751 | F17: =SUM(E17+D17-1) -> 351775 | G17: 5 | I17: R2 | J17: =MOD(D17,25) -> 0
A18: 92-905 Downtown Anchorage | D18: 100 | E18: =SUM(F17+1) -> 351776 | F18: =SUM(E18+D18-1) -> 351875 | G18: 5 | I18: R2 | J18: =MOD(D18,25) -> 0
A20: MAT-SU
A21: 95-900 Mat-Su Elections Office | D21: 2000 | E21: =SUM(F18+1) -> 351876 | F21: =SUM(E21+D21-1) -> 353875 | G21: 50 | H21: 200 | I21: R5 | J21: =MOD(D21,25) -> 0
A22: 95-903 Mat-Su AVO | D22: 800 | E22: =SUM(F21+1) -> 353876 | F22: =SUM(E22+D22-1) -> 354675 | G22: 50 | I22: R5 | J22: =MOD(D22,25) -> 0
A24: FAIRBANKS
A25: 93-900 Fairbanks Elections Office | D25: 25 | E25: =SUM(F22+1) -> 354676 | F25: =SUM(E25+D25-1) -> 354700 | G25: 5 | I25: R3 | J25: =MOD(D25,25) -> 0
A27: JUNEAU
A28: 91-900 Juneau Elections Office | D28: 25 | E28: =SUM(F25+1) -> 354701 | F28: =SUM(E28+D28-1) -> 354725 | G28: 10 | I28: R1 | J28: =MOD(D28,25) -> 0
A29: 91-902 Juneau Downtown | D29: 25 | E29: =SUM(F28+1) -> 354726 | F29: =SUM(E29+D29-1) -> 354750 | G29: 10 | I29: R1 | J29: =MOD(D29,25) -> 0
A31: NOME
A32: 94-900 Nome Elections Office | D32: 25 | E32: =SUM(F29+1) -> 354751 | F32: =SUM(E32+D32-1) -> 354775 | G32: 5 | I32: R4 | J32: =MOD(D32,25) -> 0
A33: 94-901 Prudhoe Bay Station | D33: 50 | E33: =SUM(F32+1) -> 354776 | F33: =SUM(E33+D33-1) -> 354825 | G33: 5 | I33: R4 | J33: =MOD(D33,25) -> 0
A34: TOTAL ABSENTEE BALLOTS - DIST. 26 | D34: =SUM(D16:D33) -> 3275
A36: TOTAL DISTRICT 26 BALLOTS | D36: =D12+D34 -> 13575 | G36: =SUM(G5:G34) -> 225 | H36: =SUM(H5:H34) -> 200 | J36: =SUM(J5:J34) -> 0
A39: Checksum: Sequence End - Start: | D39: =F33-E5+1 -> 13575

Sheet Dist 27
H1: BALLOT ID# | J1: =Totals!A31 -> 837
B3: # REGIS- | D3: # | E3: Numbers | G3: Sample | H3: Fascimile
A4: DISTRICT / PRECINCT | B4: TERED | D4: Ballots | E4: FROM | F4: TO | G4: Ballots | H4: Ballots | I4: Delivery | J4: Checksum
A5: 27-405 Foothills | B5: 2386 | C5: =SUM(B5*0.65) -> 1550.9 | D5: =MROUND(C5, 25) -> 1550 | E5: =SUM('Dist 26'!F33,1) -> 354826 | F5: =SUM(E5+D5-1) -> 356375 | G5: 10 | I5: R5 | J5: =MOD(D5,25) -> 0
A6: 27-410 Meadow Lakes No. 1 | B6: 3535 | C6: =SUM(B6*0.65) -> 2297.75 | D6: =MROUND(C6, 25) -> 2300 | E6: =SUM(F5+1) -> 356376 | F6: =SUM(E6+D6-1) -> 358675 | G6: 10 | I6: R5 | J6: =MOD(D6,25) -> 0
A7: 27-415 Meadow Lakes No. 2 | B7: 2568 | C7: =SUM(B7*0.65) -> 1669.2 | D7: =MROUND(C7, 25) -> 1675 | E7: =SUM(F6+1) -> 358676 | F7: =SUM(E7+D7-1) -> 360350 | G7: 10 | I7: R5 | J7: =MOD(D7,25) -> 0
A8: 27-420 Wasilla No. 1 | B8: 3513 | C8: =SUM(B8*0.65) -> 2283.45 | D8: =MROUND(C8, 25) -> 2275 | E8: =SUM(F7+1) -> 360351 | F8: =SUM(E8+D8-1) -> 362625 | G8: 10 | I8: R5 | J8: =MOD(D8,25) -> 0
A9: 27-425 Wasilla No. 2 | B9: 4145 | C9: =SUM(B9*0.65) -> 2694.25 | D9: =MROUND(C9, 25) -> 2700 | E9: =SUM(F8+1) -> 362626 | F9: =SUM(E9+D9-1) -> 365325 | G9: 10 | I9: R5 | J9: =MOD(D9,25) -> 0
A10: TOTAL PRECINCT BALLOTS DIST. 27 | B10: =SUM(B5:B9) -> 16147 | D10: =SUM(D5:D9) -> 10500
A12: ABSENTEE OFFICIALS & STATIONS:
A13: ANCHORAGE
A14: 92-900 Anchorage Elections Office | D14: 200 | E14: =SUM(F9+1) -> 365326 | F14: =SUM(E14+D14-1) -> 365525 | G14: 10 | I14: R2 | J14: =MOD(D14,25) -> 0
A15: 92-902 Anchorage Airport | D15: 25 | E15: =SUM(F14+1) -> 365526 | F15: =SUM(E15+D15-1) -> 365550 | G15: 5 | I15: R2 | J15: =MOD(D15,25) -> 0
A16: 92-905 Downtown Anchorage | D16: 100 | E16: =SUM(F15+1) -> 365551 | F16: =SUM(E16+D16-1) -> 365650 | G16: 5 | I16: R2 | J16: =MOD(D16,25) -> 0
A18: MAT-SU
A19: 95-900 Mat-Su Elections Office | D19: 2500 | E19: =SUM(F16+1) -> 365651 | F19: =SUM(E19+D19-1) -> 368150 | G19: 25 | H19: 200 | I19: R5 | J19: =MOD(D19,25) -> 0
A20: 95-903 Mat-Su AVO | D20: 250 | E20: =SUM(F19+1) -> 368151 | F20: =SUM(E20+D20-1) -> 368400 | G20: 25 | I20: R5 | J20: =MOD(D20,25) -> 0
A22: FAIRBANKS
A23: 93-900 Fairbanks Elections Office | D23: 25 | E23: =SUM(F20+1) -> 368401 | F23: =SUM(E23+D23-1) -> 368425 | G23: 5 | I23: R3 | J23: =MOD(D23,25) -> 0
A25: JUNEAU
A26: 91-900 Juneau Elections Office | D26: 25 | E26: =SUM(F23+1) -> 368426 | F26: =SUM(E26+D26-1) -> 368450 | G26: 10 | I26: R1 | J26: =MOD(D26,25) -> 0
A27: 91-902 Juneau Downtown | D27: 25 | E27: =SUM(F26+1) -> 368451 | F27: =SUM(E27+D27-1) -> 368475 | G27: 10 | I27: R1 | J27: =MOD(D27,25) -> 0
A29: NOME
A30: 94-900 Nome Elections Office | D30: 25 | E30: =SUM(F27+1) -> 368476 | F30: =SUM(E30+D30-1) -> 368500 | G30: 5 | I30: R4 | J30: =MOD(D30,25) -> 0
A31: 94-901 Prudhoe Bay Station | D31: 50 | E31: =SUM(F30+1) -> 368501 | F31: =SUM(E31+D31-1) -> 368550 | G31: 5 | I31: R4 | J31: =MOD(D31,25) -> 0
A32: TOTAL ABSENTEE BALLOTS - DIST. 27 | D32: =SUM(D14:D31) -> 3225
A34: TOTAL DISTRICT 27 BALLOTS | D34: =D10+D32 -> 13725 | G34: =SUM(G5:G32) -> 155 | H34: =SUM(H5:H32) -> 200 | J34: =SUM(J5:J32) -> 0
A37: Checksum: Sequence End - Start: | D37: =F31-E5+1 -> 13725

Sheet Dist 28
H1: BALLOT ID# | J1: =Totals!A32 -> 838
B3: # REGIS- | D3: # | E3: Numbers | G3: Sample | H3: Fascimile
A4: DISTRICT / PRECINCT | B4: TERED | D4: Ballots | E4: FROM | F4: TO | G4: Ballots | H4: Ballots | I4: Delivery | J4: Checksum
A5: 28-450 Lakes No. 1 | B5: 1966 | C5: =SUM(B5*0.65) -> 1277.9 | D5: =MROUND(C5, 25) -> 1275 | E5: =SUM('Dist 27'!F31,1) -> 368551 | F5: =SUM(E5+D5-1) -> 369825 | G5: 10 | I5: R5 | J5: =MOD(D5,25) -> 0
A6: 28-455 Lakes No. 2 | B6: 1341 | C6: =SUM(B6*0.65) -> 871.65 | D6: =MROUND(C6, 25) -> 875 | E6: =SUM(F5+1) -> 369826 | F6: =SUM(E6+D6-1) -> 370700 | G6: 10 | I6: R5 | J6: =MOD(D6,25) -> 0
A7: 28-460 Seldon No. 1 | B7: 2902 | C7: =SUM(B7*0.65) -> 1886.3 | D7: =MROUND(C7, 25) -> 1875 | E7: =SUM(F6+1) -> 370701 | F7: =SUM(E7+D7-1) -> 372575 | G7: 10 | I7: R5 | J7: =MOD(D7,25) -> 0
A8: 28-465 Seldon No. 2 | B8: 3985 | C8: =SUM(B8*0.65) -> 2590.25 | D8: =MROUND(C8, 25) -> 2600 | E8: =SUM(F7+1) -> 372576 | F8: =SUM(E8+D8-1) -> 375175 | G8: 10 | I8: R5 | J8: =MOD(D8,25) -> 0
A9: 28-470 Seward Meridian | B9: 1270 | C9: =SUM(B9*0.65) -> 825.5 | D9: =MROUND(C9, 25) -> 825 | E9: =SUM(F8+1) -> 375176 | F9: =SUM(E9+D9-1) -> 376000 | G9: 10 | I9: R5 | J9: =MOD(D9,25) -> 0
A10: 28-475 Trunk | B10: 2585 | C10: =SUM(B10*0.65) -> 1680.25 | D10: =MROUND(C10, 25) -> 1675 | E10: =SUM(F9+1) -> 376001 | F10: =SUM(E10+D10-1) -> 377675 | G10: 10 | I10: R5 | J10: =MOD(D10,25) -> 0
A11: 28-480 Wasilla Lake | B11: 1869 | C11: =SUM(B11*0.65) -> 1214.85 | D11: =MROUND(C11, 25) -> 1225 | E11: =SUM(F10+1) -> 377676 | F11: =SUM(E11+D11-1) -> 378900 | G11: 10 | I11: R5 | J11: =MOD(D11,25) -> 0
A12: TOTAL PRECINCT BALLOTS DIST. 28 | B12: =SUM(B5:B11) -> 15918 | D12: =SUM(D5:D11) -> 10350
A14: ABSENTEE OFFICIALS & STATIONS:
A15: ANCHORAGE
A16: 92-900 Anchorage Elections Office | D16: 200 | E16: =SUM(F11+1) -> 378901 | F16: =SUM(E16+D16-1) -> 379100 | G16: 10 | I16: R2 | J16: =MOD(D16,25) -> 0
A17: 92-902 Anchorage Airport | D17: 25 | E17: =SUM(F16+1) -> 379101 | F17: =SUM(E17+D17-1) -> 379125 | G17: 5 | I17: R2 | J17: =MOD(D17,25) -> 0
A18: 92-905 Downtown Anchorage | D18: 100 | E18: =SUM(F17+1) -> 379126 | F18: =SUM(E18+D18-1) -> 379225 | G18: 5 | I18: R2 | J18: =MOD(D18,25) -> 0
A20: MAT-SU
A21: 95-900 Mat-Su Elections Office | D21: 1200 | E21: =SUM(F18+1) -> 379226 | F21: =SUM(E21+D21-1) -> 380425 | G21: 25 | H21: 200 | I21: R5 | J21: =MOD(D21,25) -> 0
A22: 95-903 Mat-Su AVO | D22: 1000 | E22: =SUM(F21+1) -> 380426 | F22: =SUM(E22+D22-1) -> 381425 | G22: 25 | I22: R5 | J22: =MOD(D22,25) -> 0
A23: 10-981 Houston | E23: =SUM(F22+1) -> 381426 | F23: =SUM(E23+D23-1) -> 381425 | I23: R5 | J23: =MOD(D23,25) -> 0
A24: 10-983 Talkeetna | E24: =SUM(F23+1) -> 381426 | F24: =SUM(E24+D24-1) -> 381425 | I24: R5 | J24: =MOD(D24,25) -> 0
A25: 10-984 Trapper Creek | E25: =SUM(F24+1) -> 381426 | F25: =SUM(E25+D25-1) -> 381425 | I25: R5 | J25: =MOD(D25,25) -> 0
A27: FAIRBANKS
A28: 93-900 Fairbanks Elections Office | D28: 25 | E28: =SUM(F25+1) -> 381426 | F28: =SUM(E28+D28-1) -> 381450 | G28: 5 | I28: R3 | J28: =MOD(D28,25) -> 0
A30: JUNEAU
A31: 91-900 Juneau Elections Office | D31: 25 | E31: =SUM(F28+1) -> 381451 | F31: =SUM(E31+D31-1) -> 381475 | G31: 10 | I31: R1 | J31: =MOD(D31,25) -> 0
A32: 91-902 Juneau Downtown | D32: 25 | E32: =SUM(F31+1) -> 381476 | F32: =SUM(E32+D32-1) -> 381500 | G32: 10 | I32: R1 | J32: =MOD(D32,25) -> 0
A34: NOME
A35: 94-900 Nome Elections Office | D35: 25 | E35: =SUM(F32+1) -> 381501 | F35: =SUM(E35+D35-1) -> 381525 | G35: 5 | I35: R4 | J35: =MOD(D35,25) -> 0
A36: 94-901 Prudhoe Bay Station | D36: 50 | E36: =SUM(F35+1) -> 381526 | F36: =SUM(E36+D36-1) -> 381575 | G36: 5 | I36: R4 | J36: =MOD(D36,25) -> 0
A37: TOTAL ABSENTEE BALLOTS - DIST. 28 | D37: =SUM(D16:D36) -> 2675
A39: TOTAL DISTRICT 28 BALLOTS | D39: =D12+D37 -> 13025 | G39: =SUM(G5:G37) -> 175 | H39: =SUM(H5:H37) -> 200 | J39: =SUM(J5:J37) -> 0
A42: Checksum: Sequence End - Start: | D42: =F36-E5+1 -> 13025

Sheet Dist 29
H1: BALLOT ID# | J1: =Totals!A33 -> 839
B3: # REGIS- | D3: # | E3: Numbers | G3: Sample | H3: Fascimile
A4: DISTRICT / PRECINCT | B4: TERED | D4: Ballots | E4: FROM | F4: TO | G4: Ballots | H4: Ballots | I4: Delivery | J4: Checksum
A5: 29-505 Farm Loop | B5: 2996 | C5: =SUM(B5*0.65) -> 1947.4 | D5: =MROUND(C5, 25) -> 1950 | E5: =SUM('Dist 28'!F36,1) -> 381576 | F5: =SUM(E5+D5-1) -> 383525 | G5: 10 | I5: R5 | J5: =MOD(D5,25) -> 0
A6: 29-510 Fishhook | B6: 4194 | C6: =SUM(B6*0.65) -> 2726.1 | D6: =MROUND(C6, 25) -> 2725 | E6: =F5+1 -> 383526 | F6: =SUM(E6+D6-1) -> 386250 | G6: 10 | I6: R5 | J6: =MOD(D6,25) -> 0
A7: 29-515 Kings Lake | B7: 2979 | C7: =SUM(B7*0.65) -> 1936.35 | D7: =MROUND(C7, 25) -> 1925 | E7: =SUM(F6+1) -> 386251 | F7: =SUM(E7+D7-1) -> 388175 | G7: 10 | I7: R5 | J7: =MOD(D7,25) -> 0
A8: 29-520 Lakes No. 3 | B8: 1534 | C8: =SUM(B8*0.65) -> 997.1 | D8: =MROUND(C8, 25) -> 1000 | E8: =SUM(F7+1) -> 388176 | F8: =SUM(E8+D8-1) -> 389175 | G8: 10 | I8: R5 | J8: =MOD(D8,25) -> 0
A9: 29-525 Sheep Mountain | B9: 405 | C9: =SUM(B9*0.65) -> 263.25 | D9: =MROUND(C9, 25) -> 275 | E9: =SUM(F8+1) -> 389176 | F9: =SUM(E9+D9-1) -> 389450 | G9: 10 | I9: R5 | J9: =MOD(D9,25) -> 0
A10: 29-530 Sutton | B10: 1202 | C10: =SUM(B10*0.65) -> 781.3 | D10: =MROUND(C10, 25) -> 775 | E10: =SUM(F9+1) -> 389451 | F10: =SUM(E10+D10-1) -> 390225 | G10: 10 | I10: R5 | J10: =MOD(D10,25) -> 0
A11: 29-535 Valdez No. 1 | B11: 1175 | C11: =SUM(B11*0.65) -> 763.75 | D11: =MROUND(C11, 25) -> 775 | E11: =SUM(F10+1) -> 390226 | F11: =SUM(E11+D11-1) -> 391000 | G11: 10 | I11: R5 | J11: =MOD(D11,25) -> 0
A12: 29-540 Valdez No. 2 | B12: 813 | C12: =SUM(B12*0.65) -> 528.45 | D12: =MROUND(C12, 25) -> 525 | E12: =SUM(F11+1) -> 391001 | F12: =SUM(E12+D12-1) -> 391525 | G12: 10 | I12: R5 | J12: =MOD(D12,25) -> 0
A13: 29-545 Valdez No. 3 | B13: 1206 | C13: =SUM(B13*0.65) -> 783.9 | D13: =MROUND(C13, 25) -> 775 | E13: =SUM(F12+1) -> 391526 | F13: =SUM(E13+D13-1) -> 392300 | G13: 10 | I13: R5 | J13: =MOD(D13,25) -> 0
A14: TOTAL PRECINCT BALLOTS DIST. 29 | B14: =SUM(B5:B13) -> 16504 | D14: =SUM(D5:D13) -> 10725
A16: ABSENTEE OFFICIALS & STATIONS:
A17: ANCHORAGE
A18: 92-900 Anchorage Elections Office | D18: 100 | E18: =SUM(F13+1) -> 392301 | F18: =SUM(E18+D18-1) -> 392400 | G18: 10 | I18: R2 | J18: =MOD(D18,25) -> 0
A19: 92-902 Anchorage Airport | D19: 25 | E19: =SUM(F18+1) -> 392401 | F19: =SUM(E19+D19-1) -> 392425 | G19: 5 | I19: R2 | J19: =MOD(D19,25) -> 0
A20: 92-905 Anchorage City Hall | D20: 50 | E20: =SUM(F19+1) -> 392426 | F20: =SUM(E20+D20-1) -> 392475 | G20: 5 | I20: R2 | J20: =MOD(D20,25) -> 0
A22: MAT-SU
A23: 95-900 Mat-Su Elections Office | D23: 1000 | E23: =SUM(F20+1) -> 392476 | F23: =SUM(E23+D23-1) -> 393475 | G23: 25 | H23: 200 | I23: R5 | J23: =MOD(D23,25) -> 0
A24: 95-903 Mat-Su AVO | D24: 1000 | E24: =SUM(F23+1) -> 393476 | F24: =SUM(E24+D24-1) -> 394475 | G24: 25 | I24: R5 | J24: =MOD(D24,25) -> 0
A25: 29-981 Valdez | D25: 500 | E25: =SUM(F24+1) -> 394476 | F25: =SUM(E25+D25-1) -> 394975 | G25: 50 | I25: R5 | J25: =MOD(D25,25) -> 0
A27: FAIRBANKS
A28: 93-900 Fairbanks Elections Office | D28: 25 | E28: =SUM(F25+1) -> 394976 | F28: =SUM(E28+D28-1) -> 395000 | G28: 5 | I28: R3 | J28: =MOD(D28,25) -> 0
A30: JUNEAU
A31: 91-900 Juneau Elections Office | D31: 25 | E31: =SUM(F28+1) -> 395001 | F31: =SUM(E31+D31-1) -> 395025 | G31: 10 | I31: R1 | J31: =MOD(D31,25) -> 0
A32: 91-902 Juneau Downtown | D32: 25 | E32: =SUM(F31+1) -> 395026 | F32: =SUM(E32+D32-1) -> 395050 | G32: 10 | I32: R1 | J32: =MOD(D32,25) -> 0
A34: NOME
A35: 94-900 Nome Elections Office | D35: 25 | E35: =SUM(F32+1) -> 395051 | F35: =SUM(E35+D35-1) -> 395075 | G35: 5 | I35: R4 | J35: =MOD(D35,25) -> 0
A36: 94-901 Prudhoe Bay Station | D36: 50 | E36: =SUM(F35+1) -> 395076 | F36: =SUM(E36+D36-1) -> 395125 | G36: 5 | I36: R4 | J36: =MOD(D36,25) -> 0
A37: TOTAL ABSENTEE BALLOTS - DIST. 29 | D37: =SUM(D18:D36) -> 2825
A39: TOTAL DISTRICT 29 BALLOTS | D39: =D14+D37 -> 13550 | G39: =SUM(G5:G37) -> 245 | H39: =SUM(H5:H37) -> 200 | J39: =SUM(J5:J37) -> 0
A42: Checksum: Sequence End - Start: | D42: =F36-E5+1 -> 13550

Sheet Dist 30
H1: BALLOT ID# | J1: =Totals!A34 -> 840
B3: # REGIS- | D3: # | E3: Numbers | G3: Sample | H3: Fascimile
A4: DISTRICT / PRECINCT | B4: TERED | D4: Ballots | E4: FROM | F4: TO | G4: Ballots | H4: Ballots | I4: Delivery | J4: Checksum
A5: 30-550 Anderson/Clear | B5: 406 | C5: =SUM(B5*0.65) -> 263.9 | D5: =MROUND(C5, 25) -> 275 | E5: =SUM('Dist 29'!F36,1) -> 395126 | F5: =SUM(E5+D5-1) -> 395400 | G5: 10 | I5: R5 | J5: =MOD(D5,25) -> 0
A6: 30-555 Big Lake | B6: 3610 | C6: =SUM(B6*0.65) -> 2346.5 | D6: =MROUND(C6, 25) -> 2350 | E6: =SUM(F5+1) -> 395401 | F6: =SUM(E6+D6-1) -> 397750 | G6: 10 | I6: R5 | J6: =MOD(D6,25) -> 0
A7: 30-560 Cantwell | B7: 204 | C7: =SUM(B7*0.65) -> 132.6 | D7: =MROUND(C7, 25) -> 125 | E7: =SUM(F6+1) -> 397751 | F7: =SUM(E7+D7-1) -> 397875 | G7: 10 | I7: R5 | J7: =MOD(D7,25) -> 0
A8: 30-565 Denali Park | B8: 295 | C8: =SUM(B8*0.65) -> 191.75 | D8: =MROUND(C8, 25) -> 200 | E8: =SUM(F7+1) -> 397876 | F8: =SUM(E8+D8-1) -> 398075 | G8: 10 | I8: R5 | J8: =MOD(D8,25) -> 0
A9: 30-570 East Schrock | B9: 292 | C9: =SUM(B9*0.65) -> 189.8 | D9: =MROUND(C9, 25) -> 200 | E9: =SUM(F8+1) -> 398076 | F9: =SUM(E9+D9-1) -> 398275 | G9: 10 | I9: R5 | J9: 0
A10: 30-575 Healy | B10: 909 | C10: =SUM(B10*0.65) -> 590.85 | D10: =MROUND(C10, 25) -> 600 | E10: =SUM(F9+1) -> 398276 | F10: =SUM(E10+D10-1) -> 398875 | G10: 10 | I10: R5 | J10: 0
A11: 30-580 Houston | B11: 1864 | C11: =SUM(B11*0.65) -> 1211.6 | D11: =MROUND(C11, 25) -> 1200 | E11: =SUM(F10+1) -> 398876 | F11: =SUM(E11+D11-1) -> 400075 | G11: 10 | I11: R5 | J11: =MOD(D11,25) -> 0
A12: 30-585 Knik Goose Bay No. 4 | B12: 3666 | C12: =SUM(B12*0.65) -> 2382.9 | D12: =MROUND(C12, 25) -> 2375 | E12: =SUM(F11+1) -> 400076 | F12: =SUM(E12+D12-1) -> 402450 | G12: 10 | I12: R5 | J12: 0
A13: 30-590 Trapper Creek | B13: 661 | C13: =SUM(B13*0.65) -> 429.65 | D13: =MROUND(C13, 25) -> 425 | E13: =SUM(F12+1) -> 402451 | F13: =SUM(E13+D13-1) -> 402875 | G13: 10 | I13: R5 | J13: 0
A14: 30-595 Susitna | B14: 1553 | C14: =SUM(B14*0.65) -> 1009.45 | D14: =MROUND(C14, 25) -> 1000 | E14: =SUM(F13+1) -> 402876 | F14: =SUM(E14+D14-1) -> 403875 | G14: 10 | I14: R5 | J14: 0
A15: 30-600 Talkeetna | B15: 1212 | C15: =SUM(B15*0.65) -> 787.8 | D15: =MROUND(C15, 25) -> 800 | E15: =SUM(F14+1) -> 403876 | F15: =SUM(E15+D15-1) -> 404675 | G15: 10 | I15: R5 | J15: 0
A16: 30-605 Willow | B16: 2316 | C16: =SUM(B16*0.65) -> 1505.4 | D16: =MROUND(C16, 25) -> 1500 | E16: =SUM(F15+1) -> 404676 | F16: =SUM(E16+D16-1) -> 406175 | G16: 10 | I16: R5 | J16: =MOD(D16,25) -> 0
A17: TOTAL PRECINCT BALLOTS DIST. 30 | B17: =SUM(B5:B16) -> 16988 | D17: =SUM(D5:D16) -> 11050
A19: ABSENTEE OFFICIALS & STATIONS:
A20: ANCHORAGE
A21: 92-900 Anchorage Elections Office | D21: 100 | E21: =SUM(F16+1) -> 406176 | F21: =SUM(E21+D21-1) -> 406275 | G21: 10 | I21: R2 | J21: =MOD(D21,25) -> 0
A22: 92-902 Anchorage Airport | D22: 25 | E22: =SUM(F21+1) -> 406276 | F22: =SUM(E22+D22-1) -> 406300 | G22: 5 | I22: R2 | J22: =MOD(D22,25) -> 0
A23: 92-905 Anchorage City Hall | D23: 50 | E23: =SUM(F22+1) -> 406301 | F23: =SUM(E23+D23-1) -> 406350 | G23: 5 | I23: R2 | J23: =MOD(D23,25) -> 0
A25: MAT-SU
A26: 95-900 Mat-Su Elections Office | D26: 1500 | E26: =SUM(F23+1) -> 406351 | F26: =SUM(E26+D26-1) -> 407850 | G26: 5 | H26: 200 | I26: R5 | J26: =MOD(D26,25) -> 0
A27: 95-903 MatSu Borough | D27: 150 | E27: =SUM(F26+1) -> 407851 | F27: =SUM(E27+D27-1) -> 408000 | G27: 25 | I27: R5 | J27: =MOD(D27,25) -> 0
A28: 30-982 Cantwell | D28: 75 | E28: =SUM(F27+1) -> 408001 | F28: =SUM(E28+D28-1) -> 408075 | G28: 25 | I28: R5 | J28: =MOD(D28,25) -> 0
A29: 30-983 Denali Borough | D29: 200 | E29: =SUM(F28+1) -> 408076 | F29: =SUM(E29+D29-1) -> 408275 | G29: 25 | I29: R5 | J29: =MOD(D29,25) -> 0
A30: 30-984 Houston | D30: 300 | E30: =SUM(F29+1) -> 408276 | F30: =SUM(E30+D30-1) -> 408575 | G30: 25 | I30: R5 | J30: =MOD(D30,25) -> 0
A31: 30-985 Talkeetna | D31: 250 | E31: =SUM(F30+1) -> 408576 | F31: =SUM(E31+D31-1) -> 408825 | G31: 25 | I31: R5 | J31: =MOD(D31,25) -> 0
A32: 30-986 Trapper Creek | D32: 100 | E32: =SUM(F31+1) -> 408826 | F32: =SUM(E32+D32-1) -> 408925 | G32: 25 | I32: R5 | J32: =MOD(D32,25) -> 0
A34: FAIRBANKS
A35: 93-900 Fairbanks Elections Office | D35: 25 | E35: =SUM(F32+1) -> 408926 | F35: =SUM(E35+D35-1) -> 408950 | G35: 5 | I35: R3 | J35: =MOD(D35,25) -> 0
A37: JUNEAU
A38: 91-900 Juneau Elections Office | D38: 25 | E38: =SUM(F35+1) -> 408951 | F38: =SUM(E38+D38-1) -> 408975 | G38: 10 | I38: R1 | J38: =MOD(D38,25) -> 0
A39: 91-902 Juneau Downtown | D39: 25 | E39: =SUM(F38+1) -> 408976 | F39: =SUM(E39+D39-1) -> 409000 | G39: 10 | I39: R1 | J39: =MOD(D39,25) -> 0
A41: NOME
A42: 94-900 Nome Elections Office | D42: 25 | E42: =SUM(F39+1) -> 409001 | F42: =SUM(E42+D42-1) -> 409025 | G42: 5 | I42: R4 | J42: =MOD(D42,25) -> 0
A43: 94-901 Prudhoe Bay | D43: 75 | E43: =SUM(F42+1) -> 409026 | F43: =SUM(E43+D43-1) -> 409100 | G43: 5 | I43: R4 | J43: =MOD(D43,25) -> 0
A44: TOTAL ABSENTEE BALLOTS - DIST. 30 | D44: =SUM(D21:D43) -> 2925
A46: TOTAL DISTRICT 30 BALLOTS | D46: =D17+D44 -> 13975 | G46: =SUM(G5:G44) -> 330 | H46: =SUM(H5:H44) -> 200 | J46: =SUM(J5:J44) -> 0
A49: Checksum: Sequence End - Start: | D49: =F43-E5+1 -> 13975

Sheet Dist 31
H1: BALLOT ID# | J1: =Totals!A35 -> 841
B3: # REGIS- | D3: # | E3: Numbers | G3: Sample | H3: Fascimile
A4: DISTRICT / PRECINCT | B4: TERED | D4: Ballots | E4: FROM | F4: TO | G4: Ballots | H4: Ballots | I4: Delivery | J4: Checksum
A5: 31-446 Aurora | B5: 3171 | C5: =SUM(B5*0.65) -> 2061.15 | D5: 2800 | E5: ='Dist 30'!F43+1 -> 409101 | F5: =SUM(E5+D5-1) -> 411900 | G5: 25 | H5: 0 | I5: R3 | J5: =MOD(D5,25) -> 0
A6: 31-455 Fairbanks No. 1 | B6: 3831 | C6: =SUM(B6*0.65) -> 2490.15 | D6: 3300 | E6: =F5+1 -> 411901 | F6: =SUM(E6+D6-1) -> 415200 | G6: 25 | H6: 0 | I6: R3 | J6: =MOD(D6,25) -> 0
A7: 31-480 Fairbanks No. 2 | B7: 3190 | C7: =SUM(B7*0.65) -> 2073.5 | D7: 2775 | E7: =F6+1 -> 415201 | F7: =SUM(E7+D7-1) -> 417975 | G7: 25 | H7: 0 | I7: R3 | J7: =MOD(D7,25) -> 0
A8: 31-485 Fairbanks No. 3 | B8: 3967 | C8: =SUM(B8*0.65) -> 2578.55 | D8: 3300 | E8: =F7+1 -> 417976 | F8: =SUM(E8+D8-1) -> 421275 | G8: 25 | H8: 0 | I8: R3 | J8: =MOD(D8,25) -> 0
A9: TOTAL PRECINCT BALLOTS DIST. 31 | B9: =SUM(B5:B8) -> 14159 | D9: =SUM(D5:D8) -> 12175 | G9: =SUM(G5:G8) -> 100 | H9: =SUM(H5:H8) -> 0
A11: ABSENTEE OFFICIALS & STATIONS:
A12: ANCHORAGE
A13: 92-900 Anchorage Elections Office | D13: 100 | E13: =F8+1 -> 421276 | F13: =SUM(E13+D13-1) -> 421375 | G13: 10 | I13: R2 | J13: =MOD(D13,25) -> 0
A14: 92-902 Anchorage Airport | D14: 25 | E14: =SUM(F13+1) -> 421376 | F14: =SUM(E14+D14-1) -> 421400 | G14: 5 | I14: R2 | J14: =MOD(D14,25) -> 0
A15: 92-905 Anchorage City Hall | D15: 50 | E15: =SUM(F14+1) -> 421401 | F15: =SUM(E15+D15-1) -> 421450 | G15: 5 | I15: R2 | J15: =MOD(D15,25) -> 0
A17: MAT-SU
A18: 95-900 Mat-Su Elections Office | D18: 25 | E18: =SUM(F15+1) -> 421451 | F18: =SUM(E18+D18-1) -> 421475 | G18: 5 | I18: R5 | J18: =MOD(D18,25) -> 0
A20: FAIRBANKS
A21: 93-900 Fairbanks Elections Office | D21: 2000 | E21: =SUM(F18+1) -> 421476 | F21: =SUM(E21+D21-1) -> 423475 | G21: 100 | H21: 200 | I21: R3 | J21: =MOD(D21,25) -> 0
A23: JUNEAU
A24: 91-900 Juneau Elections Office | D24: 25 | E24: =SUM(F21+1) -> 423476 | F24: =SUM(E24+D24-1) -> 423500 | G24: 10 | I24: R1 | J24: =MOD(D24,25) -> 0
A25: 91-902 Juneau Downtown | D25: 25 | E25: =SUM(F24+1) -> 423501 | F25: =SUM(E25+D25-1) -> 423525 | G25: 10 | I25: R1 | J25: =MOD(D25,25) -> 0
A27: NOME
A28: 94-900 Nome Elections Office | D28: 25 | E28: =SUM(F25+1) -> 423526 | F28: =SUM(E28+D28-1) -> 423550 | G28: 5 | I28: R4 | J28: =MOD(D28,25) -> 0
A29: 94-901 Prudhoe Bay Station | D29: 50 | E29: =SUM(F28+1) -> 423551 | F29: =SUM(E29+D29-1) -> 423600 | G29: 5 | I29: R4 | J29: =MOD(D29,25) -> 0
A30: TOTAL ABSENTEE BALLOTS - DIST. 31 | D30: =SUM(D13:D29) -> 2325
A32: TOTAL DISTRICT 31 BALLOTS | D32: =D9+D30 -> 14500 | G32: =SUM(G5:G29) -> 355 | H32: =SUM(H5:H30) -> 200 | J32: =SUM(J5:J30) -> 0
A35: Checksum: Sequence End - Start: | D35: =F29-E5+1 -> 14500

Sheet Dist 32
H1: BALLOT ID# | J1: =Totals!A36 -> 842
B3: # REGIS- | D3: # | E3: Numbers | G3: Sample | H3: Fascimile
A4: DISTRICT / PRECINCT | B4: TERED | D4: Ballots | E4: FROM | F4: TO | G4: Ballots | H4: Ballots | I4: Delivery | J4: Checksum
A5: 32-355 Fairbanks No. 4 | B5: 2760 | C5: =SUM(B5*0.65) -> 1794 | D5: 2300 | E5: =SUM('Dist 31'!F29,1) -> 423601 | F5: =SUM(E5+D5-1) -> 425900 | G5: 25 | I5: R3 | J5: =MOD(D5,25) -> 0
A6: 32-365 Fairbanks No. 5 | B6: 1866 | C6: =SUM(B6*0.65) -> 1212.9 | D6: 1500 | E6: =SUM(F5+1) -> 425901 | F6: =SUM(E6+D6-1) -> 427400 | G6: 25 | I6: R3 | J6: =MOD(D6,25) -> 0
A7: 32-375 Fort Wainwright | B7: 3029 | C7: =SUM(B7*0.65) -> 1968.85 | D7: 1000 | E7: =SUM(F6+1) -> 427401 | F7: =SUM(E7+D7-1) -> 428400 | G7: 25 | I7: R3 | J7: =MOD(D7,25) -> 0
A8: 32-385 Badger No. 2 | B8: 3517 | C8: =SUM(B8*0.65) -> 2286.05 | D8: 3000 | E8: =SUM(F7+1) -> 428401 | F8: =SUM(E8+D8-1) -> 431400 | G8: 25 | I8: R3 | J8: =MOD(D8,25) -> 0
A9: TOTAL PRECINCT BALLOTS DIST.32 | B9: =SUM(B5:B8) -> 11172 | D9: =SUM(D5:D8) -> 7800 | G9: =SUM(G5:G8) -> 100 | H9: =SUM(H5:H8) -> 0
A11: ABSENTEE OFFICIALS & STATIONS:
A12: ANCHORAGE
A13: 92-900 Anchorage Elections Office | D13: 100 | E13: =SUM(F8+1) -> 431401 | F13: =SUM(E13+D13-1) -> 431500 | G13: 10 | I13: R2 | J13: =MOD(D13,25) -> 0
A14: 92-902 Anchorage Airport | D14: 25 | E14: =SUM(F13+1) -> 431501 | F14: =SUM(E14+D14-1) -> 431525 | G14: 5 | I14: R2 | J14: =MOD(D14,25) -> 0
A15: 92-905 Anchorage City Hall | D15: 50 | E15: =SUM(F14+1) -> 431526 | F15: =SUM(E15+D15-1) -> 431575 | G15: 5 | I15: R2 | J15: =MOD(D15,25) -> 0
A17: MAT-SU
A18: 95-900 Mat-Su Elections Office | D18: 25 | E18: =SUM(F15+1) -> 431576 | F18: =SUM(E18+D18-1) -> 431600 | G18: 5 | I18: R5 | J18: =MOD(D18,25) -> 0
A20: FAIRBANKS
A21: 93-900 Fairbanks Elections Office | D21: 1000 | E21: =SUM(F18+1) -> 431601 | F21: =SUM(E21+D21-1) -> 432600 | G21: 100 | H21: 200 | I21: R3 | J21: =MOD(D21,25) -> 0
A23: JUNEAU
A24: 91-900 Juneau Elections Office | D24: 25 | E24: =SUM(F21+1) -> 432601 | F24: =SUM(E24+D24-1) -> 432625 | G24: 10 | I24: R1 | J24: =MOD(D24,25) -> 0
A25: 91-902 Juneau Downtown | D25: 25 | E25: =SUM(F24+1) -> 432626 | F25: =SUM(E25+D25-1) -> 432650 | G25: 10 | I25: R1 | J25: =MOD(D25,25) -> 0
A27: NOME
A28: 94-900 Nome Elections Office | D28: 25 | E28: =SUM(F25+1) -> 432651 | F28: =SUM(E28+D28-1) -> 432675 | G28: 5 | I28: R4 | J28: =MOD(D28,25) -> 0
A29: 94-901 Prudhoe Bay Station | D29: 50 | E29: =SUM(F28+1) -> 432676 | F29: =SUM(E29+D29-1) -> 432725 | G29: 5 | I29: R4 | J29: =MOD(D29,25) -> 0
A30: TOTAL ABSENTEE BALLOTS - DIST. 32 | D30: =SUM(D13:D29) -> 1325
A32: TOTAL DISTRICT 32 BALLOTS | D32: =D9+D30 -> 9125 | G32: =SUM(G5:G29) -> 355 | H32: =SUM(H5:H30) -> 200 | J32: =SUM(J5:J30) -> 0
A35: Checksum: Sequence End - Start: | D35: =F29-E5+1 -> 9125

Sheet Dist 33
H1: BALLOT ID# | J1: =Totals!A37 -> 843
B3: # REGIS- | D3: # | E3: Numbers | G3: Sample | H3: Fascimile
A4: DISTRICT / PRECINCT | B4: TERED | D4: Ballots | E4: FROM | F4: TO | G4: Ballots | H4: Ballots | I4: Delivery | J4: Checksum
A5: 33-130 Badger No. 1 | B5: 3441 | C5: =SUM(B5*0.65) -> 2236.65 | D5: 2900 | E5: =SUM('Dist 32'!F29,1) -> 432726 | F5: =SUM(E5+D5-1) -> 435625 | G5: 25 | I5: R3 | J5: =MOD(D5,25) -> 0
A6: 33-135 Chena Lakes | B6: 3164 | C6: =SUM(B6*0.65) -> 2056.6 | D6: 2700 | E6: =SUM(F5+1) -> 435626 | F6: =SUM(E6+D6-1) -> 438325 | G6: 25 | I6: R3 | J6: =MOD(D6,25) -> 0
A7: 33-155 Moose Creek | B7: 475 | C7: =SUM(B7*0.65) -> 308.75 | D7: =MROUND(C7, 25) -> 300 | E7: =SUM(F6+1) -> 438326 | F7: =SUM(E7+D7-1) -> 438625 | G7: 25 | I7: R3 | J7: =MOD(D7,25) -> 0
A8: 33-165 Newby | B8: 3399 | C8: =SUM(B8*0.65) -> 2209.35 | D8: 2900 | E8: =SUM(F7+1) -> 438626 | F8: =SUM(E8+D8-1) -> 441525 | G8: 25 | I8: R3 | J8: =MOD(D8,25) -> 0
A9: 33-175 North Pole | B9: 2196 | C9: =SUM(B9*0.65) -> 1427.4 | D9: 1800 | E9: =SUM(F8+1) -> 441526 | F9: =SUM(E9+D9-1) -> 443325 | G9: 25 | I9: R3 | J9: =MOD(D9,25) -> 0
A10: 33-183 Plack | B10: 3372 | C10: =SUM(B10*0.65) -> 2191.8 | D10: 2800 | E10: =SUM(F9+1) -> 443326 | F10: =SUM(E10+D10-1) -> 446125 | G10: 25 | I10: R3 | J10: =MOD(D10,25) -> 0
A11: TOTAL PRECINCT BALLOTS DIST. 33 | B11: =SUM(B5:B10) -> 16047 | D11: =SUM(D5:D10) -> 13400 | G11: =SUM(G5:G10) -> 150 | H11: =SUM(H5:H10) -> 0
A13: ABSENTEE OFFICIALS & STATIONS:
A14: ANCHORAGE
A15: 92-900 Anchorage Elections Office | D15: 100 | E15: =SUM(F10+1) -> 446126 | F15: =SUM(E15+D15-1) -> 446225 | G15: 10 | I15: R2 | J15: =MOD(D15,25) -> 0
A16: 92-902 Anchorage Airport | D16: 25 | E16: =SUM(F15+1) -> 446226 | F16: =SUM(E16+D16-1) -> 446250 | G16: 5 | I16: R2 | J16: =MOD(D16,25) -> 0
A17: 92-905 Anchorage City Hall | D17: 50 | E17: =SUM(F16+1) -> 446251 | F17: =SUM(E17+D17-1) -> 446300 | G17: 5 | I17: R2 | J17: =MOD(D17,25) -> 0
A19: MAT-SU
A20: 95-900 Mat-Su Elections Office | D20: 25 | E20: =SUM(F17+1) -> 446301 | F20: =SUM(E20+D20-1) -> 446325 | G20: 5 | I20: R5 | J20: =MOD(D20,25) -> 0
A22: FAIRBANKS
A23: 93-900 Fairbanks Elections Office | D23: 1500 | E23: =SUM(F20+1) -> 446326 | F23: =SUM(E23+D23-1) -> 447825 | G23: 100 | H23: 200 | I23: R3 | J23: =MOD(D23,25) -> 0
A25: JUNEAU
A26: 91-900 Juneau Elections Office | D26: 25 | E26: =SUM(F23+1) -> 447826 | F26: =SUM(E26+D26-1) -> 447850 | G26: 10 | I26: R1 | J26: =MOD(D26,25) -> 0
A27: 91-902 Juneau Downtown | D27: 25 | E27: =SUM(F26+1) -> 447851 | F27: =SUM(E27+D27-1) -> 447875 | G27: 10 | I27: R1 | J27: =MOD(D27,25) -> 0
A29: NOME
A30: 94-900 Nome Elections Office | D30: 25 | E30: =SUM(F27+1) -> 447876 | F30: =SUM(E30+D30-1) -> 447900 | G30: 5 | I30: R4 | J30: =MOD(D30,25) -> 0
A31: 94-901 Prudhoe Bay Station | D31: 25 | E31: =SUM(F30+1) -> 447901 | F31: =SUM(E31+D31-1) -> 447925 | G31: 5 | I31: R4 | J31: =MOD(D31,25) -> 0
A32: TOTAL ABSENTEE BALLOTS - DIST. 33 | D32: =SUM(D15:D31) -> 1800
A34: TOTAL DISTRICT 33 BALLOTS | D34: =D11+D32 -> 15200 | G34: =SUM(G5:G31) -> 455 | H34: =SUM(H5:H32) -> 200 | J34: =SUM(J5:J32) -> 0
A37: Checksum: Sequence End - Start: | D37: =F31-E5+1 -> 15200

Sheet Dist 34
H1: BALLOT ID# | J1: =Totals!A38 -> 844
B3: # REGIS- | D3: # | E3: Numbers | G3: Sample | H3: Fascimile
A4: DISTRICT / PRECINCT | B4: TERED | D4: Ballots | E4: FROM | F4: TO | G4: Ballots | H4: Ballots | I4: Delivery | J4: Checksum
A5: 34-235 Eielson | B5: 2153 | C5: =SUM(B5*0.65) -> 1399.45 | D5: 1800 | E5: =SUM('Dist 33'!F31,1) -> 447926 | F5: =SUM(E5+D5-1) -> 449725 | G5: 25 | I5: R3 | J5: =MOD(D5,25) -> 0
A6: 34-238 Eielson Farm Road | B6: 158 | C6: =SUM(B6*0.65) -> 102.7 | D6: =MROUND(C6, 25) -> 100 | E6: =SUM(F5+1) -> 449726 | F6: =SUM(E6+D6-1) -> 449825 | G6: 25 | I6: R3 | J6: =MOD(D6,25) -> 0
A7: 34-240 Farmers Loop | B7: 2402 | C7: =SUM(B7*0.65) -> 1561.3 | D7: 2000 | E7: =SUM(F6+1) -> 449826 | F7: =SUM(E7+D7-1) -> 451825 | G7: 25 | I7: R3 | J7: =MOD(D7,25) -> 0
A8: 34-260 Salcha | B8: 1093 | C8: =SUM(B8*0.65) -> 710.45 | D8: 800 | E8: =SUM(F7+1) -> 451826 | F8: =SUM(E8+D8-1) -> 452625 | G8: 25 | I8: R3 | J8: =MOD(D8,25) -> 0
A9: 34-263 Steele Creek | B9: 3041 | C9: =SUM(B9*0.65) -> 1976.65 | D9: 2600 | E9: =SUM(F8+1) -> 452626 | F9: =SUM(E9+D9-1) -> 455225 | G9: 25 | I9: R3 | J9: =MOD(D9,25) -> 0
A10: 34-265 Steese | B10: 3133 | C10: =SUM(B10*0.65) -> 2036.45 | D10: 2600 | E10: =SUM(F9+1) -> 455226 | F10: =SUM(E10+D10-1) -> 457825 | G10: 25 | I10: R3 | J10: =MOD(D10,25) -> 0
A11: 34-270 Summit | B11: 2640 | C11: =SUM(B11*0.65) -> 1716 | D11: 2300 | E11: =SUM(F10+1) -> 457826 | F11: =SUM(E11+D11-1) -> 460125 | G11: 25 | I11: R3 | J11: =MOD(D11,25) -> 0
A12: 34-280 Two Rivers | B12: 1190 | C12: =SUM(B12*0.65) -> 773.5 | D12: 1000 | E12: =SUM(F11+1) -> 460126 | F12: =SUM(E12+D12-1) -> 461125 | G12: 25 | I12: R3 | J12: =MOD(D12,25) -> 0
A13: TOTAL PRECINCT BALLOTS DIST. 4 | B13: =SUM(B5:B12) -> 15810 | D13: =SUM(D5:D12) -> 13200 | G13: =SUM(G5:G12) -> 200 | H13: =SUM(H5:H12) -> 0
A15: ABSENTEE OFFICIALS & STATIONS:
A16: ANCHORAGE
A17: 92-900 Anchorage Elections Office | D17: 100 | E17: =SUM(F12+1) -> 461126 | F17: =SUM(E17+D17-1) -> 461225 | G17: 10 | I17: R2 | J17: =MOD(D17,25) -> 0
A18: 92-902 Anchorage Airport | D18: 25 | E18: =SUM(F17+1) -> 461226 | F18: =SUM(E18+D18-1) -> 461250 | G18: 5 | I18: R2 | J18: =MOD(D18,25) -> 0
A19: 92-905 Anchorage City Hall | D19: 50 | E19: =SUM(F18+1) -> 461251 | F19: =SUM(E19+D19-1) -> 461300 | G19: 5 | I19: R2 | J19: =MOD(D19,25) -> 0
A21: MAT-SU
A22: 95-900 Mat-Su Elections Office | D22: 25 | E22: =SUM(F19+1) -> 461301 | F22: =SUM(E22+D22-1) -> 461325 | G22: 5 | I22: R5 | J22: =MOD(D22,25) -> 0
A24: FAIRBANKS
A25: 93-900 Fairbanks Elections Office | D25: 2500 | E25: =SUM(F22+1) -> 461326 | F25: =SUM(E25+D25-1) -> 463825 | G25: 100 | H25: 200 | I25: R3 | J25: =MOD(D25,25) -> 0
A27: JUNEAU
A28: 91-900 Juneau Elections Office | D28: 25 | E28: =SUM(F25+1) -> 463826 | F28: =SUM(E28+D28-1) -> 463850 | G28: 10 | I28: R1 | J28: =MOD(D28,25) -> 0
A29: 91-902 Juneau Downtown | D29: 25 | E29: =SUM(F28+1) -> 463851 | F29: =SUM(E29+D29-1) -> 463875 | G29: 10 | I29: R1 | J29: =MOD(D29,25) -> 0
A31: NOME
A32: 94-900 Nome Elections Office | D32: 25 | E32: =SUM(F29+1) -> 463876 | F32: =SUM(E32+D32-1) -> 463900 | G32: 5 | I32: R4 | J32: =MOD(D32,25) -> 0
A33: 94-901 Prudhoe Bay Station | D33: 25 | E33: =SUM(F32+1) -> 463901 | F33: =SUM(E33+D33-1) -> 463925 | G33: 5 | I33: R4 | J33: =MOD(D33,25) -> 0
A34: TOTAL ABSENTEE BALLOTS - DIST. 4 | D34: =SUM(D17:D33) -> 2800
A36: TOTAL DISTRICT 4 BALLOTS | D36: =D13+D34 -> 16000 | G36: =SUM(G5:G34) -> 555 | H36: =SUM(H5:H34) -> 200 | J36: =SUM(J5:J34) -> 0
A39: Checksum: Sequence End - Start: | D39: =F33-E5+1 -> 16000

Sheet Dist 35
H1: BALLOT ID# | J1: =Totals!A39 -> 845
B3: # REGIS- | D3: # | E3: Numbers | G3: Sample | H3: Fascimile
A4: DISTRICT / PRECINCT | B4: TERED | D4: Ballots | E4: FROM | F4: TO | G4: Ballots | H4: Ballots | I4: Delivery | J4: Checksum
A5: 35-580 Airport | B5: 970 | C5: =SUM(B5*0.65) -> 630.5 | D5: 700 | E5: =SUM('Dist 34'!F33,1) -> 463926 | F5: =SUM(E5+D5-1) -> 464625 | G5: 25 | I5: R3 | J5: =MOD(D5,25) -> 0
A6: 35-582 Chena | B6: 3924 | C6: =SUM(B6*0.65) -> 2550.6 | D6: 3400 | E6: =SUM(F5+1) -> 464626 | F6: =SUM(E6+D6-1) -> 468025 | G6: 25 | I6: R3 | J6: =MOD(D6,25) -> 0
A7: 35-584 Ester | B7: 1352 | C7: =SUM(B7*0.65) -> 878.8 | D7: 1000 | E7: =SUM(F6+1) -> 468026 | F7: =SUM(E7+D7-1) -> 469025 | G7: 25 | I7: R3 | J7: =MOD(D7,25) -> 0
A8: 35-586 Geist | B8: 1752 | C8: =SUM(B8*0.65) -> 1138.8 | D8: 1500 | E8: =SUM(F7+1) -> 469026 | F8: =SUM(E8+D8-1) -> 470525 | G8: 25 | I8: R3 | J8: =MOD(D8,25) -> 0
A9: 35-587 Lakeview | B9: 527 | C9: =SUM(B9*0.65) -> 342.55 | D9: 400 | E9: =SUM(F8+1) -> 470526 | F9: =SUM(E9+D9-1) -> 470925 | G9: 25 | I9: R3 | J9: =MOD(D9,25) -> 0
A10: 35-592 Shanly | B10: 1589 | C10: =SUM(B10*0.65) -> 1032.85 | D10: 1300 | E10: =SUM(F9+1) -> 470926 | F10: =SUM(E10+D10-1) -> 472225 | G10: 25 | I10: R3 | J10: =MOD(D10,25) -> 0
A11: 35-595 University Hills | B11: 1813 | C11: =SUM(B11*0.65) -> 1178.45 | D11: 1400 | E11: =SUM(F10+1) -> 472226 | F11: =SUM(E11+D11-1) -> 473625 | G11: 25 | I11: R3 | J11: =MOD(D11,25) -> 0
A12: 35-596 University West | B12: 3719 | C12: =SUM(B12*0.65) -> 2417.35 | D12: 3100 | E12: =SUM(F11+1) -> 473626 | F12: =SUM(E12+D12-1) -> 476725 | G12: 25 | I12: R3 | J12: =MOD(D12,25) -> 0
A13: TOTAL PRECINCT BALLOTS DIST. 35 | B13: =SUM(B5:B12) -> 15646 | D13: =SUM(D5:D12) -> 12800 | G13: =SUM(G5:G12) -> 200 | H13: =SUM(H5:H12) -> 0
A15: ABSENTEE OFFICIALS & STATIONS:
A16: ANCHORAGE
A17: 92-900 Anchorage Elections Office | D17: 100 | E17: =F12+1 -> 476726 | F17: =SUM(E17+D17-1) -> 476825 | G17: 10 | I17: R2 | J17: =MOD(D17,25) -> 0
A18: 92-902 Anchorage Airport | D18: 25 | E18: =SUM(F17+1) -> 476826 | F18: =SUM(E18+D18-1) -> 476850 | G18: 5 | I18: R2 | J18: =MOD(D18,25) -> 0
A19: 92-905 Anchorage City Hall | D19: 50 | E19: =SUM(F18+1) -> 476851 | F19: =SUM(E19+D19-1) -> 476900 | G19: 5 | I19: R2 | J19: =MOD(D19,25) -> 0
A21: MAT-SU
A22: 95-900 Mat-Su Elections Office | D22: 25 | E22: =SUM(F19+1) -> 476901 | F22: =SUM(E22+D22-1) -> 476925 | G22: 5 | I22: R5 | J22: =MOD(D22,25) -> 0
A24: FAIRBANKS
A25: 93-900 Fairbanks Elections Office | D25: 1500 | E25: =SUM(F22+1) -> 476926 | F25: =SUM(E25+D25-1) -> 478425 | G25: 100 | H25: 200 | I25: R3 | J25: =MOD(D25,25) -> 0
A27: JUNEAU
A28: 91-900 Juneau Elections Office | D28: 25 | E28: =SUM(F25+1) -> 478426 | F28: =SUM(E28+D28-1) -> 478450 | G28: 10 | I28: R1 | J28: =MOD(D28,25) -> 0
A29: 91-902 Juneau Downtown | D29: 25 | E29: =SUM(F28+1) -> 478451 | F29: =SUM(E29+D29-1) -> 478475 | G29: 10 | I29: R1 | J29: =MOD(D29,25) -> 0
A31: NOME
A32: 94-900 Nome Elections Office | D32: 25 | E32: =SUM(F29+1) -> 478476 | F32: =SUM(E32+D32-1) -> 478500 | G32: 5 | I32: R4 | J32: =MOD(D32,25) -> 0
A33: 94-901 Prudhoe Bay Station | D33: 25 | E33: =SUM(F32+1) -> 478501 | F33: =SUM(E33+D33-1) -> 478525 | G33: 5 | I33: R4 | J33: =MOD(D33,25) -> 0
A34: TOTAL ABSENTEE BALLOTS - DIST. 35 | D34: =SUM(D17:D33) -> 1800
A36: TOTAL DISTRICT 35 BALLOTS | D36: =D13+D34 -> 14600 | G36: =SUM(G5:G34) -> 555 | H36: =SUM(H5:H34) -> 200 | J36: =SUM(J5:J34) -> 0
A39: Checksum: Sequence End - Start: | D39: =F33-E5+1 -> 14600

Sheet Dist 36
H1: BALLOT ID# | J1: =Totals!A40 -> 846
B3: # REGIS- | D3: # | E3: Numbers | G3: Sample | H3: Fascimile
A4: DISTRICT / PRECINCT | B4: TERED | D4: Ballots | E4: FROM | F4: TO | G4: Ballots | H4: Ballots | I4: Delivery | J4: Checksum
A5: 36-001 Goldstream No. 1 | B5: 1674 | C5: =SUM(B5*0.65) -> 1088.1 | D5: 1400 | E5: =SUM('Dist 35'!F33,1) -> 478526 | F5: =SUM(E5+D5-1) -> 479925 | G5: 25 | I5: R3 | J5: =MOD(D5,25) -> 0
A6: 36-002 Goldstream No. 2 | B6: 1586 | C6: =SUM(B6*0.65) -> 1030.9 | D6: 1300 | E6: =SUM(F5+1) -> 479926 | F6: =SUM(E6+D6-1) -> 481225 | G6: 25 | I6: R3 | J6: =MOD(D6,25) -> 0
A7: 36-010 Allakaket | B7: 110 | C7: =SUM(B7*0.65) -> 71.5 | D7: 100 | E7: =SUM(F6+1) -> 481226 | F7: =SUM(E7+D7-1) -> 481325 | G7: 25 | I7: R3 | J7: =MOD(D7,25) -> 0
A8: 36-014 Anvik | B8: 47 | C8: =SUM(B8*0.65) -> 30.55 | D8: 50 | E8: =SUM(F7+1) -> 481326 | F8: =SUM(E8+D8-1) -> 481375 | G8: 25 | I8: R3 | J8: =MOD(D8,25) -> 0
A9: 36-018 Arctic Village | B9: 109 | C9: =SUM(B9*0.65) -> 70.85 | D9: 75 | E9: =SUM(F8+1) -> 481376 | F9: =SUM(E9+D9-1) -> 481450 | G9: 25 | I9: R3 | J9: =MOD(D9,25) -> 0
A10: 36-022 Beaver | B10: 47 | C10: =SUM(B10*0.65) -> 30.55 | D10: 50 | E10: =SUM(F9+1) -> 481451 | F10: =SUM(E10+D10-1) -> 481500 | G10: 25 | I10: R3 | J10: =MOD(D10,25) -> 0
A11: 36-026 Bettles | B11: 73 | C11: =SUM(B11*0.65) -> 47.45 | D11: =MROUND(C11, 25) -> 50 | E11: =SUM(F10+1) -> 481501 | F11: =SUM(E11+D11-1) -> 481550 | G11: 25 | I11: R3 | J11: =MOD(D11,25) -> 0
A12: 36-034 Central | B12: 114 | C12: =SUM(B12*0.65) -> 74.1 | D12: 100 | E12: =SUM(F11+1) -> 481551 | F12: =SUM(E12+D12-1) -> 481650 | G12: 25 | I12: R3 | J12: =MOD(D12,25) -> 0
A13: 36-038 Chistochina | B13: 197 | C13: =SUM(B13*0.65) -> 128.05 | D13: 175 | E13: =SUM(F12+1) -> 481651 | F13: =SUM(E13+D13-1) -> 481825 | G13: 25 | I13: R3 | J13: =MOD(D13,25) -> 0
A14: 36-042 Circle | B14: 191 | C14: =SUM(B14*0.65) -> 124.15 | D14: =MROUND(C14, 25) -> 125 | E14: =SUM(F13+1) -> 481826 | F14: =SUM(E14+D14-1) -> 481950 | G14: 25 | I14: R3 | J14: =MOD(D14,25) -> 0
A15: 36-046 Copper Center | B15: 1090 | C15: =SUM(B15*0.65) -> 708.5 | D15: 900 | E15: =SUM(F14+1) -> 481951 | F15: =SUM(E15+D15-1) -> 482850 | G15: 25 | I15: R3 | J15: =MOD(D15,25) -> 0
A16: 36-050 Delta Junction | B16: 971 | C16: =SUM(B16*0.65) -> 631.15 | D16: 825 | E16: =SUM(F15+1) -> 482851 | F16: =SUM(E16+D16-1) -> 483675 | G16: 25 | I16: R3 | J16: =MOD(D16,25) -> 0
A17: 36-054 Deltana | B17: 3196 | C17: =SUM(B17*0.65) -> 2077.4 | D17: 2600 | E17: =SUM(F16+1) -> 483676 | F17: =SUM(E17+D17-1) -> 486275 | G17: 25 | I17: R3 | J17: =MOD(D17,25) -> 0
A18: 36-058 Dot Lake | B18: 109 | C18: =SUM(B18*0.65) -> 70.85 | D18: =MROUND(C18, 25) -> 75 | E18: =SUM(F17+1) -> 486276 | F18: =SUM(E18+D18-1) -> 486350 | G18: 25 | I18: R3 | J18: =MOD(D18,25) -> 0
A19: 36-062 Eagle | B19: 212 | C19: =SUM(B19*0.65) -> 137.8 | D19: 175 | E19: =SUM(F18+1) -> 486351 | F19: =SUM(E19+D19-1) -> 486525 | G19: 25 | I19: R3 | J19: =MOD(D19,25) -> 0
A20: 36-066 Fort Yukon | B20: 400 | C20: =SUM(B20*0.65) -> 260 | D20: 375 | E20: =SUM(F19+1) -> 486526 | F20: =SUM(E20+D20-1) -> 486900 | G20: 25 | I20: R3 | J20: =MOD(D20,25) -> 0
A21: 36-070 Gakona | B21: 298 | C21: =SUM(B21*0.65) -> 193.7 | D21: 250 | E21: =SUM(F20+1) -> 486901 | F21: =SUM(E21+D21-1) -> 487150 | G21: 25 | I21: R3 | J21: =MOD(D21,25) -> 0
A22: 36-074 Galena | B22: 327 | C22: =SUM(B22*0.65) -> 212.55 | D22: 250 | E22: =SUM(F21+1) -> 487151 | F22: =SUM(E22+D22-1) -> 487400 | G22: 25 | I22: R3 | J22: =MOD(D22,25) -> 0
A23: 36-078 Glennallen | B23: 519 | C23: =SUM(B23*0.65) -> 337.35 | D23: 450 | E23: =SUM(F22+1) -> 487401 | F23: =SUM(E23+D23-1) -> 487850 | G23: 25 | I23: R3 | J23: =MOD(D23,25) -> 0
A24: 36-082 Grayling | B24: 115 | C24: =SUM(B24*0.65) -> 74.75 | D24: 100 | E24: =SUM(F23+1) -> 487851 | F24: =SUM(E24+D24-1) -> 487950 | G24: 25 | I24: R3 | J24: =MOD(D24,25) -> 0
A25: 36-086 Holy Cross | B25: 114 | C25: =SUM(B25*0.65) -> 74.1 | D25: 100 | E25: =SUM(F24+1) -> 487951 | F25: =SUM(E25+D25-1) -> 488050 | G25: 25 | I25: R3 | J25: =MOD(D25,25) -> 0
A26: 36-090 Hughes | B26: 63 | C26: =SUM(B26*0.65) -> 40.95 | D26: =MROUND(C26, 25) -> 50 | E26: =SUM(F25+1) -> 488051 | F26: =SUM(E26+D26-1) -> 488100 | G26: 25 | I26: R3 | J26: =MOD(D26,25) -> 0
A27: 36-094 Huslia | B27: 179 | C27: =SUM(B27*0.65) -> 116.35 | D27: 150 | E27: =SUM(F26+1) -> 488101 | F27: =SUM(E27+D27-1) -> 488250 | G27: 25 | I27: R3 | J27: =MOD(D27,25) -> 0
A28: 36-098 Kaltag | B28: 106 | C28: =SUM(B28*0.65) -> 68.9 | D28: 100 | E28: =SUM(F27+1) -> 488251 | F28: =SUM(E28+D28-1) -> 488350 | G28: 25 | I28: R3 | J28: =MOD(D28,25) -> 0
A29: 36-102 Kenny Lake | B29: 534 | C29: =SUM(B29*0.65) -> 347.1 | D29: 450 | E29: =SUM(F28+1) -> 488351 | F29: =SUM(E29+D29-1) -> 488800 | G29: 25 | I29: R3 | J29: =MOD(D29,25) -> 0
A30: 36-106 Koyukuk | B30: 69 | C30: =SUM(B30*0.65) -> 44.85 | D30: =MROUND(C30, 25) -> 50 | E30: =SUM(F29+1) -> 488801 | F30: =SUM(E30+D30-1) -> 488850 | G30: 25 | I30: R3 | J30: =MOD(D30,25) -> 0
A31: 36-110 Manley | B31: 120 | C31: =SUM(B31*0.65) -> 78 | D31: 100 | E31: =SUM(F30+1) -> 488851 | F31: =SUM(E31+D31-1) -> 488950 | G31: 25 | I31: R3 | J31: =MOD(D31,25) -> 0
A32: 36-114 McGrath | B32: 264 | C32: =SUM(B32*0.65) -> 171.6 | D32: 225 | E32: =SUM(F31+1) -> 488951 | F32: =SUM(E32+D32-1) -> 489175 | G32: 25 | I32: R3 | J32: =MOD(D32,25) -> 0
A33: 36-118 Mentasta | B33: 90 | C33: =SUM(B33*0.65) -> 58.5 | D33: 75 | E33: =SUM(F32+1) -> 489176 | F33: =SUM(E33+D33-1) -> 489250 | G33: 25 | I33: R3 | J33: =MOD(D33,25) -> 0
A34: 36-122 Minto | B34: 118 | C34: =SUM(B34*0.65) -> 76.7 | D34: 100 | E34: =SUM(F33+1) -> 489251 | F34: =SUM(E34+D34-1) -> 489350 | G34: 25 | I34: R3 | J34: =MOD(D34,25) -> 0
A35: 36-126 Nenana | B35: 567 | C35: =SUM(B35*0.65) -> 368.55 | D35: 475 | E35: =SUM(F34+1) -> 489351 | F35: =SUM(E35+D35-1) -> 489825 | G35: 25 | I35: R3 | J35: =MOD(D35,25) -> 0
A36: 36-130 Nikolai | B36: 69 | C36: =SUM(B36*0.65) -> 44.85 | D36: =MROUND(C36, 25) -> 50 | E36: =SUM(F35+1) -> 489826 | F36: =SUM(E36+D36-1) -> 489875 | G36: 25 | I36: R3 | J36: =MOD(D36,25) -> 0
A37: 36-134 Northway | B37: 215 | C37: =SUM(B37*0.65) -> 139.75 | D37: 175 | E37: =SUM(F36+1) -> 489876 | F37: =SUM(E37+D37-1) -> 490050 | G37: 25 | I37: R3 | J37: =MOD(D37,25) -> 0
A38: 36-138 Nulato | B38: 173 | C38: =SUM(B38*0.65) -> 112.45 | D38: 150 | E38: =SUM(F37+1) -> 490051 | F38: =SUM(E38+D38-1) -> 490200 | G38: 25 | I38: R3 | J38: =MOD(D38,25) -> 0
A39: 36-142 Ruby | B39: 105 | C39: =SUM(B39*0.65) -> 68.25 | D39: =MROUND(C39, 25) -> 75 | E39: =SUM(F38+1) -> 490201 | F39: =SUM(E39+D39-1) -> 490275 | G39: 25 | I39: R3 | J39: =MOD(D39,25) -> 0
A40: 36-146 Shageluk | B40: 56 | C40: =SUM(B40*0.65) -> 36.4 | D40: 50 | E40: =SUM(F39+1) -> 490276 | F40: =SUM(E40+D40-1) -> 490325 | G40: 25 | I40: R3 | J40: =MOD(D40,25) -> 0
A41: 36-162 Tanana | B41: 155 | C41: =SUM(B41*0.65) -> 100.75 | D41: =MROUND(C41, 25) -> 100 | E41: =SUM(F40+1) -> 490326 | F41: =SUM(E41+D41-1) -> 490425 | G41: 25 | I41: R3 | J41: =MOD(D41,25) -> 0
A42: 36-166 Tetlin | B42: 70 | C42: =SUM(B42*0.65) -> 45.5 | D42: =MROUND(C42, 25) -> 50 | E42: =SUM(F41+1) -> 490426 | F42: =SUM(E42+D42-1) -> 490475 | G42: 25 | I42: R3 | J42: =MOD(D42,25) -> 0
A43: 36-170 Tok | B43: 1376 | C43: =SUM(B43*0.65) -> 894.4 | D43: 1100 | E43: =SUM(F42+1) -> 490476 | F43: =SUM(E43+D43-1) -> 491575 | G43: 25 | I43: R3 | J43: =MOD(D43,25) -> 0
A44: 36-174 Venetie | B44: 141 | C44: =SUM(B44*0.65) -> 91.65 | D44: 125 | E44: =SUM(F43+1) -> 491576 | F44: =SUM(E44+D44-1) -> 491700 | G44: 25 | I44: R3 | J44: =MOD(D44,25) -> 0
A45: TOTAL PRECINCT BALLOTS DIST. 36 | B45: =SUM(B5:B44) -> 15969 | D45: =SUM(D5:D44) -> 13175 | G45: =SUM(G5:G44) -> 1000 | H45: =SUM(H5:H44) -> 0
A47: ABSENTEE OFFICIALS & STATIONS:
A48: ANCHORAGE
A49: 92-900 Anchorage Elections Office | D49: 100 | E49: =SUM(F44+1) -> 491701 | F49: =SUM(E49+D49-1) -> 491800 | G49: 10 | I49: R2 | J49: =MOD(D49,25) -> 0
A50: 92-902 Anchorage Airport | D50: 25 | E50: =SUM(F49+1) -> 491801 | F50: =SUM(E50+D50-1) -> 491825 | G50: 5 | I50: R2 | J50: =MOD(D50,25) -> 0
A51: 92-905 Anchorage City Hall | D51: 50 | E51: =SUM(F50+1) -> 491826 | F51: =SUM(E51+D51-1) -> 491875 | G51: 5 | I51: R2 | J51: =MOD(D51,25) -> 0
A53: MAT-SU
A54: 95-900 Mat-Su Elections Office | D54: 25 | E54: =SUM(F51+1) -> 491876 | F54: =SUM(E54+D54-1) -> 491900 | G54: 5 | I54: R5 | J54: =MOD(D54,25) -> 0
A56: FAIRBANKS
A57: 93-900 Fairbanks Elections Office | D57: 1000 | E57: =SUM(F54+1) -> 491901 | F57: =SUM(E57+D57-1) -> 492900 | G57: 100 | H57: 200 | I57: R3 | J57: =MOD(D57,25) -> 0
A58: 63-010 Allakaket | D58: 25 | E58: =SUM(F57+1) -> 492901 | F58: =SUM(E58+D58-1) -> 492925 | G58: 5 | I58: R3 | J58: =MOD(D58,25) -> 0
A59: 63-014 Anvik | D59: 25 | E59: =SUM(F58+1) -> 492926 | F59: =SUM(E59+D59-1) -> 492950 | G59: 5 | I59: R3 | J59: =MOD(D59,25) -> 0
A60: 63-018 Arctic Village | D60: 25 | E60: =SUM(F59+1) -> 492951 | F60: =SUM(E60+D60-1) -> 492975 | G60: 5 | I60: R3 | J60: =MOD(D60,25) -> 0
A61: 63-022 Beaver | D61: 25 | E61: =SUM(F60+1) -> 492976 | F61: =SUM(E61+D61-1) -> 493000 | G61: 5 | I61: R3 | J61: =MOD(D61,25) -> 0
A62: 63-026 Bettles | D62: 25 | E62: =SUM(F61+1) -> 493001 | F62: =SUM(E62+D62-1) -> 493025 | G62: 5 | I62: R3 | J62: =MOD(D62,25) -> 0
A63: 63-027 Birch Creek | D63: 25 | E63: =SUM(F62+1) -> 493026 | F63: =SUM(E63+D63-1) -> 493050 | G63: 5 | I63: R3 | J63: =MOD(D63,25) -> 0
A64: 63-031 Chalkyitsik | D64: 25 | E64: =SUM(F63+1) -> 493051 | F64: =SUM(E64+D64-1) -> 493075 | G64: 5 | I64: R3 | J64: =MOD(D64,25) -> 0
A65: 63-038 Chistochina | D65: 25 | E65: =SUM(F64+1) -> 493076 | F65: =SUM(E65+D65-1) -> 493100 | G65: 5 | I65: R3 | J65: =MOD(D65,25) -> 0
A66: 63-042 Circle | D66: 25 | E66: =SUM(F65+1) -> 493101 | F66: =SUM(E66+D66-1) -> 493125 | G66: 5 | I66: R3 | J66: =MOD(D66,25) -> 0
A67: 63-043 Coldfoot | D67: 25 | E67: =SUM(F66+1) -> 493126 | F67: =SUM(E67+D67-1) -> 493150 | G67: 5 | I67: R3 | J67: =MOD(D67,25) -> 0
A68: 63-046 Copper Center | D68: 50 | E68: =SUM(F67+1) -> 493151 | F68: =SUM(E68+D68-1) -> 493200 | G68: 5 | I68: R3 | J68: =MOD(D68,25) -> 0
A69: 63-050 Delta Junction | D69: 200 | E69: =SUM(F68+1) -> 493201 | F69: =SUM(E69+D69-1) -> 493400 | G69: 5 | I69: R3 | J69: =MOD(D69,25) -> 0
... A92: 63-174 Venetie | D92: 25 | E92: =SUM(F91+1) -> 494076 | F92: =SUM(E92+D92-1) -> 494100 | G92: 5 | I92: R3 | J92: =MOD(D92,25) -> 0
A94: JUNEAU
A95: 91-900 Juneau Elections Office | D95: 25 | E95: =SUM(F92+1) -> 494101 | F95: =SUM(E95+D95-1) -> 494125 | G95: 5 | I95: R1 | J95: =MOD(D95,25) -> 0
A96: 91-902 Juneau Downtown | D96: 25 | E96: =SUM(F95+1) -> 494126 | F96: =SUM(E96+D96-1) -> 494150 | G96: 5 | I96: R1 | J96: =MOD(D96,25) -> 0
A98: NOME
A99: 94-900 Nome Elections Office | D99: 25 | E99: =SUM(F96+1) -> 494151 | F99: =SUM(E99+D99-1) -> 494175 | G99: 5 | I99: R4 | J99: =MOD(D99,25) -> 0
A100: 94-901 Prudhoe Bay Station | D100: 25 | E100: =SUM(F99+1) -> 494176 | F100: =SUM(E100+D100-1) -> 494200 | G100: 5 | I100: R4 | J100: =MOD(D100,25) -> 0
A101: TOTAL ABSENTEE BALLOTS - DIST. 36 | D101: =SUM(D49:D100) -> 2500
A103: TOTAL DISTRICT 36 BALLOTS | D103: =D45+D101 -> 15675 | G103: =SUM(G5:G101) -> 2320 | H103: =SUM(H5:H101) -> 200 | J103: =SUM(J5:J101) -> 0
A106: Checksum: Sequence End - Start: | D106: =F100-E5+1 -> 15675

Sheet Dist 37
H1: BALLOT ID# | J1: =Totals!A41 -> 847
B3: # REGIS- | D3: # | E3: Numbers | G3: Sample | H3: Fascimile
A4: DISTRICT / PRECINCT | B4: TERED | D4: Ballots | E4: FROM | F4: TO | G4: Ballots | H4: Ballots | I4: Delivery | J4: Checksum
A5: 37-700 Akutan | B5: 430 | C5: =SUM(B5*0.65) -> 279.5 | D5: =MROUND(C5, 25) -> 275 | E5: =SUM('Dist 36'!F100,1) -> 494201 | F5: =SUM(E5+D5-1) -> 494475 | G5: 25 | I5: R4 | J5: =MOD(D5,25) -> 0
A6: 37-702 Aleknagik | B6: 158 | C6: =SUM(B6*0.65) -> 102.7 | D6: =MROUND(C6, 25) -> 100 | E6: =SUM(F5+1) -> 494476 | F6: =SUM(E6+D6-1) -> 494575 | G6: 25 | I6: R4 | J6: =MOD(D6,25) -> 0
A7: 37-704 Aleutians No. 1 | B7: 155 | C7: =SUM(B7*0.65) -> 100.75 | D7: =MROUND(C7, 25) -> 100 | E7: =SUM(F6+1) -> 494576 | F7: =SUM(E7+D7-1) -> 494675 | G7: 25 | I7: R4 | J7: =MOD(D7,25) -> 0
A8: 37-706 Aleutians No. 2 | B8: 1705 | C8: =SUM(B8*0.65) -> 1108.25 | D8: =MROUND(C8, 25) -> 1100 | E8: =SUM(F7+1) -> 494676 | F8: =SUM(E8+D8-1) -> 495775 | G8: 25 | I8: R4 | J8: =MOD(D8,25) -> 0
A9: 37-707 Aniak | B9: 312 | C9: =SUM(B9*0.65) -> 202.8 | D9: =MROUND(C9, 25) -> 200 | E9: =SUM(F8+1) -> 495776 | F9: =SUM(E9+D9-1) -> 495975 | G9: 25 | I9: R4 | J9: =MOD(D9,25) -> 0
A10: 37-708 Chignik | B10: 220 | C10: =SUM(B10*0.65) -> 143 | D10: =MROUND(C10, 25) -> 150 | E10: =SUM(F9+1) -> 495976 | F10: =SUM(E10+D10-1) -> 496125 | G10: 25 | I10: R4 | J10: =MOD(D10,25) -> 0
A11: 37-709 Chuathbaluk | B11: 53 | C11: =SUM(B11*0.65) -> 34.45 | D11: 50 | E11: =SUM(F10+1) -> 496126 | F11: =SUM(E11+D11-1) -> 496175 | G11: 25 | I11: R4 | J11: =MOD(D11,25) -> 0
A12: 37-710 Clark's Point | B12: 45 | C12: =SUM(B12*0.65) -> 29.25 | D12: =MROUND(C12, 25) -> 25 | E12: =SUM(F11+1) -> 496176 | F12: =SUM(E12+D12-1) -> 496200 | G12: 25 | I12: R4 | J12: =MOD(D12,25) -> 0
A13: 37-712 Cold Bay | B13: 74 | C13: =SUM(B13*0.65) -> 48.1 | D13: =MROUND(C13, 25) -> 50 | E13: =SUM(F12+1) -> 496201 | F13: =SUM(E13+D13-1) -> 496250 | G13: 25 | I13: R4 | J13: =MOD(D13,25) -> 0
A14: 37-713 Crooked Creek | B14: 59 | C14: =SUM(B14*0.65) -> 38.35 | D14: =MROUND(C14, 25) -> 50 | E14: =SUM(F13+1) -> 496251 | F14: =SUM(E14+D14-1) -> 496300 | G14: 25 | I14: R4 | J14: =MOD(D14,25) -> 0
A15: 37-714 Dillingham | B15: 1714 | C15: =SUM(B15*0.65) -> 1114.1 | D15: =MROUND(C15, 25) -> 1125 | E15: =SUM(F14+1) -> 496301 | F15: =SUM(E15+D15-1) -> 497425 | G15: 25 | I15: R4 | J15: =MOD(D15,25) -> 0
A16: 37-716 Egegik | B16: 101 | C16: =SUM(B16*0.65) -> 65.65 | D16: =MROUND(C16, 25) -> 75 | E16: =SUM(F15+1) -> 497426 | F16: =SUM(E16+D16-1) -> 497500 | G16: 25 | I16: R4 | J16: =MOD(D16,25) -> 0
A17: 37-718 Ekwok | B17: 72 | C17: =SUM(B17*0.65) -> 46.8 | D17: =MROUND(C17, 25) -> 50 | E17: =SUM(F16+1) -> 497501 | F17: =SUM(E17+D17-1) -> 497550 | G17: 25 | I17: R4 | J17: =MOD(D17,25) -> 0
A18: 37-719 Goodnews Bay | B18: 197 | C18: =SUM(B18*0.65) -> 128.05 | D18: =MROUND(C18, 25) -> 125 | E18: =SUM(F17+1) -> 497551 | F18: =SUM(E18+D18-1) -> 497675 | G18: 25 | I18: R4 | J18: =MOD(D18,25) -> 0
A19: 37-720 King Cove | B19: 349 | C19: =SUM(B19*0.65) -> 226.85 | D19: =MROUND(C19, 25) -> 225 | E19: =SUM(F18+1) -> 497676 | F19: =SUM(E19+D19-1) -> 497900 | G19: 25 | I19: R4 | J19: =MOD(D19,25) -> 0
A20: 37-722 King Salmon | B20: 349 | C20: =SUM(B20*0.65) -> 226.85 | D20: =MROUND(C20, 25) -> 225 | E20: =SUM(F19+1) -> 497901 | F20: =SUM(E20+D20-1) -> 498125 | G20: 25 | I20: R4 | J20: =MOD(D20,25) -> 0
A21: 37-724 Koliganek | B21: 107 | C21: =SUM(B21*0.65) -> 69.55 | D21: =MROUND(C21, 25) -> 75 | E21: =SUM(F20+1) -> 498126 | F21: =SUM(E21+D21-1) -> 498200 | G21: 25 | I21: R4 | J21: =MOD(D21,25) -> 0
A22: 37-726 Lake Iliamna No. 1 | B22: 220 | C22: =SUM(B22*0.65) -> 143 | D22: =MROUND(C22, 25) -> 150 | E22: =SUM(F21+1) -> 498201 | F22: =SUM(E22+D22-1) -> 498350 | G22: 25 | I22: R4 | J22: =MOD(D22,25) -> 0
A23: 37-728 Lake Iliamna No. 2 | B23: 160 | C23: =SUM(B23*0.65) -> 104 | D23: =MROUND(C23, 25) -> 100 | E23: =SUM(F22+1) -> 498351 | F23: =SUM(E23+D23-1) -> 498450 | G23: 25 | I23: R4 | J23: =MOD(D23,25) -> 0
... A28: 37-736 New Stuyahok | B28: 298 | C28: =SUM(B28*0.65) -> 193.7 | D28: =MROUND(C28, 25) -> 200 | E28: =SUM(F27+1) -> 499076 | F28: =SUM(E28+D28-1) -> 499275 | G28: 25 | I28: R4 | J28: =MOD(D28,25) -> 0
A29: 37-738 Nondalton | B29: 280 | C29: =SUM(B29*0.65) -> 182 | D29: 150 | E29: =SUM(F28+1) -> 499276 | F29: =SUM(E29+D29-1) -> 499425 | G29: 25 | I29: R4 | J29: =MOD(D29,25) -> 0
A30: 37-740 Pedro Bay | B30: 32 | C30: =SUM(B30*0.65) -> 20.8 | D30: =MROUND(C30, 25) -> 25 | E30: =SUM(F29+1) -> 499426 | F30: =SUM(E30+D30-1) -> 499450 | G30: 25 | I30: R4 | J30: =MOD(D30,25) -> 0
A31: 37-742 Port Heiden | B31: 62 | C31: =SUM(B31*0.65) -> 40.3 | D31: =MROUND(C31, 25) -> 50 | E31: =SUM(F30+1) -> 499451 | F31: =SUM(E31+D31-1) -> 499500 | G31: 25 | I31: R4 | J31: =MOD(D31,25) -> 0
A32: 37-744 Sand Point | B32: 425 | C32: =SUM(B32*0.65) -> 276.25 | D32: 250 | E32: =SUM(F31+1) -> 499501 | F32: =SUM(E32+D32-1) -> 499750 | G32: 25 | I32: R4 | J32: =MOD(D32,25) -> 0
A33: 37-746 Sleetmute | B33: 94 | C33: =SUM(B33*0.65) -> 61.1 | D33: =MROUND(C33, 25) -> 50 | E33: =SUM(F32+1) -> 499751 | F33: =SUM(E33+D33-1) -> 499800 | G33: 25 | I33: R4 | J33: =MOD(D33,25) -> 0
A34: 37-748 South Naknek | B34: 51 | C34: =SUM(B34*0.65) -> 33.15 | D34: 50 | E34: =SUM(F33+1) -> 499801 | F34: =SUM(E34+D34-1) -> 499850 | G34: 25 | I34: R4 | J34: =MOD(D34,25) -> 0
A35: 37-750 St. George Island | B35: 36 | C35: =SUM(B35*0.65) -> 23.4 | D35: =MROUND(C35, 25) -> 25 | E35: =SUM(F34+1) -> 499851 | F35: =SUM(E35+D35-1) -> 499875 | G35: 25 | I35: R4 | J35: =MOD(D35,25) -> 0
A36: 37-752 St. Paul Island | B36: 258 | C36: =SUM(B36*0.65) -> 167.7 | D36: 125 | E36: =SUM(F35+1) -> 499876 | F36: =SUM(E36+D36-1) -> 500000 | G36: 25 | I36: R4 | J36: =MOD(D36,25) -> 0
A37: 37-754 Togiak | B37: 562 | C37: =SUM(B37*0.65) -> 365.3 | D37: 175 | E37: =SUM(F36+1) -> 500001 | F37: =SUM(E37+D37-1) -> 500175 | G37: 25 | I37: R4 | J37: =MOD(D37,25) -> 0
A38: 37-756 Tyonek | B38: 380 | C38: =SUM(B38*0.65) -> 247 | D38: =MROUND(C38, 25) -> 250 | E38: =SUM(F37+1) -> 500176 | F38: =SUM(E38+D38-1) -> 500425 | G38: 25 | I38: R4 | J38: =MOD(D38,25) -> 0
A39: 37-758 Upper Kalskag | B39: 128 | C39: =SUM(B39*0.65) -> 83.2 | D39: =MROUND(C39, 25) -> 75 | E39: =SUM(F38+1) -> 500426 | F39: =SUM(E39+D39-1) -> 500500 | G39: 25 | I39: R4 | J39: =MOD(D39,25) -> 0
A40: TOTAL PRECINCT BALLOTS DIST. 37 | B40: =SUM(B5:B39) -> 10033 | D40: =SUM(D5:D39) -> 6300
A42: ABSENTEE OFFICIALS & STATIONS:
A43: ANCHORAGE
A44: 92-900 Anchorage Elections Office | D44: 100 | E44: =SUM(F39+1) -> 500501 | F44: =SUM(E44+D44-1) -> 500600 | G44: 10 | I44: R2 | J44: =MOD(D44,25) -> 0
A45: 92-902 Anchorage Airport | D45: 25 | E45: =SUM(F44+1) -> 500601 | F45: =SUM(E45+D45-1) -> 500625 | G45: 5 | I45: R2 | J45: =MOD(D45,25) -> 0
A46: 92-905 Downtown Anchorage | D46: 50 | E46: =SUM(F45+1) -> 500626 | F46: =SUM(E46+D46-1) -> 500675 | G46: 5 | I46: R2 | J46: =MOD(D46,25) -> 0
A48: MAT-SU
A49: 95-900 Mat-Su Elections Office | D49: 25 | E49: =SUM(F46+1) -> 500676 | F49: =SUM(E49+D49-1) -> 500700 | G49: 5 | I49: R5 | J49: =MOD(D49,25) -> 0
A50: 95-901 Soldotna | D50: 25 | E50: =SUM(F49+1) -> 500701 | F50: =SUM(E50+D50-1) -> 500725 | G50: 5 | I50: R6 | J50: =MOD(D50,25) -> 0
A51: 95-902 Kenai City | D51: 25 | E51: =SUM(F50+1) -> 500726 | F51: =SUM(E51+D51-1) -> 500750 | G51: 5 | I51: R6 | J51: =MOD(D51,25) -> 0
A53: FAIRBANKS
A54: 93-900 Fairbanks Elections Office | D54: 25 | E54: =SUM(F51+1) -> 500751 | F54: =SUM(E54+D54-1) -> 500775 | G54: 5 | I54: R3 | J54: =MOD(D54,25) -> 0
A57: JUNEAU
A58: 91-900 Juneau Elections Office | D58: 25 | E58: =SUM(F54+1) -> 500776 | F58: =SUM(E58+D58-1) -> 500800 | G58: 10 | I58: R1 | J58: =MOD(D58,25) -> 0
A59: 91-902 Juneau Downtown | D59: 25 | E59: =SUM(F58+1) -> 500801 | F59: =SUM(E59+D59-1) -> 500825 | G59: 10 | I59: R1 | J59: =MOD(D59,25) -> 0
A60: 91-906 Homer Early Vote | D60: 25 | E60: =SUM(F59+1) -> 500826 | F60: =SUM(E60+D60-1) -> 500850 | G60: 10 | J60: =MOD(D60,25) -> 0
A61: NOME
A62: 94-900 Nome Elections Office | D62: 25 | E62: =SUM(F60+1) -> 500851 | F62: =SUM(E62+D62-1) -> 500875 | G62: 25 | H62: 100 | I62: R4 | J62: =MOD(D62,25) -> 0
A63: 94-901 Prudhoe Bay Station | D63: 25 | E63: =SUM(F62+1) -> 500876 | F63: =SUM(E63+D63-1) -> 500900 | G63: 25 | I63: R4 | J63: =MOD(D63,25) -> 0
A64: 37-940 Kokhanok | D64: 50 | E64: =SUM(F63+1) -> 500901 | F64: =SUM(E64+D64-1) -> 500950 | G64: 5 | I64: R4 | J64: =MOD(D64,25) -> 0
A65: 37-941 Port Heiden | D65: 50 | E65: =SUM(F64+1) -> 500951 | F65: =SUM(E65+D65-1) -> 501000 | G65: 5 | I65: R4 | J65: =MOD(D65,25) -> 0
A66: 37-942 Manokotak | D66: 50 | E66: =SUM(F65+1) -> 501001 | F66: =SUM(E66+D66-1) -> 501050 | G66: 5 | I66: R4 | J66: =MOD(D66,25) -> 0
A67: 37-943 King Cove | D67: 50 | E67: =SUM(F66+1) -> 501051 | F67: =SUM(E67+D67-1) -> 501100 | G67: 5 | I67: R4 | J67: =MOD(D67,25) -> 0
A68: 37-944 Chignik Bay | D68: 50 | E68: =SUM(F67+1) -> 501101 | F68: =SUM(E68+D68-1) -> 501150 | G68: 5 | I68: R4 | J68: =MOD(D68,25) -> 0
A69: 37-945 Egegik | D69: 50 | E69: =SUM(F68+1) -> 501151 | F69: =SUM(E69+D69-1) -> 501200 | G69: 5 | I69: R4 | J69: =MOD(D69,25) -> 0
A70: 37-946 Ekwok | D70: 50 | E70: =SUM(F69+1) -> 501201 | F70: =SUM(E70+D70-1) -> 501250 | G70: 5 | I70: R4 | J70: =MOD(D70,25) -> 0
A71: 37-947 Koliganek | D71: 50 | E71: =SUM(F70+1) -> 501251 | F71: =SUM(E71+D71-1) -> 501300 | G71: 5 | I71: R4 | J71: =MOD(D71,25) -> 0
A72: 37-948 Newhalen | D72: 50 | E72: =SUM(F71+1) -> 501301 | F72: =SUM(E72+D72-1) -> 501350 | G72: 5 | I72: R4 | J72: =MOD(D72,25) -> 0
A73: 37-949 Aleknagik | D73: 50 | E73: =SUM(F72+1) -> 501351 | F73: =SUM(E73+D73-1) -> 501400 | G73: 5 | I73: R4 | J73: =MOD(D73,25) -> 0
A74: 37-950 Levelock | D74: 50 | E74: =SUM(F73+1) -> 501401 | F74: =SUM(E74+D74-1) -> 501450 | G74: 5 | I74: R4 | J74: =MOD(D74,25) -> 0
... A103: 37-999 New Stuyahok | D103: 50 | E103: =SUM(F102+1) -> 503201 | F103: =SUM(E103+D103-1) -> 503250 | G103: 5 | I103: R4 | J103: =MOD(D103,25) -> 0
A104: TOTAL ABSENTEE BALLOTS - DIST. 37 | D104: =SUM(D44:D103) -> 2750
A106: TOTAL DISTRICT 37 BALLOTS | D106: =D40+D104 -> 9050 | G106: =SUM(G5:G103) -> 1195 | H106: =SUM(H5:H103) -> 100 | J106: =SUM(J5:J103) -> 0
A109: Checksum: Sequence End - Start: | D109: =F103-E5+1 -> 9050

Sheet Dist 38
H1: BALLOT ID# | J1: =Totals!A42 -> 851
B3: # REGIS- | D3: # | E3: Numbers | G3: Sample | H3: Fascimile
A4: DISTRICT / PRECINCT | B4: TERED | D4: Ballots | E4: FROM | F4: TO | G4: Ballots | H4: Ballots | I4: Delivery | J4: Checksum
A5: 38-800 Akiachak | B5: 433 | C5: =SUM(B5*0.65) -> 281.45 | D5: 250 | E5: =SUM('Dist 37'!F103+1) -> 503251 | F5: =SUM(E5+D5-1) -> 503500 | G5: 25 | I5: R4 | J5: =MOD(D5,25) -> 0
A6: 38-802 Akiak | B6: 255 | C6: =SUM(B6*0.65) -> 165.75 | D6: =MROUND(C6, 25) -> 175 | E6: =SUM(F5+1) -> 503501 | F6: =SUM(E6+D6-1) -> 503675 | G6: 25 | I6: R4 | J6: =MOD(D6,25) -> 0
A7: 38-806 Atmautluak | B7: 203 | C7: =SUM(B7*0.65) -> 131.95 | D7: =MROUND(C7, 25) -> 125 | E7: =SUM(F6+1) -> 503676 | F7: =SUM(E7+D7-1) -> 503800 | G7: 25 | I7: R4 | J7: =MOD(D7,25) -> 0
A8: 38-808 Bethel No. 1 | B8: 2064 | C8: =SUM(B8*0.65) -> 1341.6 | D8: 850 | E8: =SUM(F7+1) -> 503801 | F8: =SUM(E8+D8-1) -> 504650 | G8: 25 | I8: R4 | J8: =MOD(D8,25) -> 0
A9: 38-810 Bethel No. 2 | B9: 1902 | C9: =SUM(B9*0.65) -> 1236.3 | D9: 800 | E9: =SUM(F8+1) -> 504651 | F9: =SUM(E9+D9-1) -> 505450 | G9: 25 | I9: R4 | J9: =MOD(D9,25) -> 0
A10: 38-812 Chefornak | B10: 314 | C10: =SUM(B10*0.65) -> 204.1 | D10: 125 | E10: =SUM(F9+1) -> 505451 | F10: =SUM(E10+D10-1) -> 505575 | G10: 25 | I10: R4 | J10: =MOD(D10,25) -> 0
A11: 38-813 Chevak | B11: 558 | C11: =SUM(B11*0.65) -> 362.7 | D11: 225 | E11: =SUM(F10+1) -> 505576 | F11: =SUM(E11+D11-1) -> 505800 | G11: 25 | I11: R4 | J11: =MOD(D11,25) -> 0
A12: 38-818 Eek | B12: 220 | C12: =SUM(B12*0.65) -> 143 | D12: 100 | E12: =SUM(F11+1) -> 505801 | F12: =SUM(E12+D12-1) -> 505900 | G12: 25 | I12: R4 | J12: =MOD(D12,25) -> 0
A13: 38-822 Kasigluk | B13: 350 | C13: =SUM(B13*0.65) -> 227.5 | D13: 175 | E13: =SUM(F12+1) -> 505901 | F13: =SUM(E13+D13-1) -> 506075 | G13: 25 | I13: R4 | J13: =MOD(D13,25) -> 0
A14: 38-824 Kipnuk | B14: 452 | C14: =SUM(B14*0.65) -> 293.8 | D14: 175 | E14: =SUM(F13+1) -> 506076 | F14: =SUM(E14+D14-1) -> 506250 | G14: 25 | I14: R4 | J14: =MOD(D14,25) -> 0
A15: 38-826 Kongiganak | B15: 318 | C15: =SUM(B15*0.65) -> 206.7 | D15: 150 | E15: =SUM(F14+1) -> 506251 | F15: =SUM(E15+D15-1) -> 506400 | G15: 25 | I15: R4 | J15: =MOD(D15,25) -> 0
A16: 38-828 Kwethluk | B16: 470 | C16: =SUM(B16*0.65) -> 305.5 | D16: 200 | E16: =SUM(F15+1) -> 506401 | F16: =SUM(E16+D16-1) -> 506600 | G16: 25 | I16: R4 | J16: =MOD(D16,25) -> 0
A17: 38-830 Kwigillingok | B17: 234 | C17: =SUM(B17*0.65) -> 152.1 | D17: 100 | E17: =SUM(F16+1) -> 506601 | F17: =SUM(E17+D17-1) -> 506700 | G17: 25 | I17: R4 | J17: =MOD(D17,25) -> 0
A18: 38-836 Mekoryuk | B18: 137 | C18: =SUM(B18*0.65) -> 89.05 | D18: 75 | E18: =SUM(F17+1) -> 506701 | F18: =SUM(E18+D18-1) -> 506775 | G18: 25 | I18: R4 | J18: =MOD(D18,25) -> 0
A19: 38-838 Napakiak | B19: 226 | C19: =SUM(B19*0.65) -> 146.9 | D19: =MROUND(C19, 25) -> 150 | E19: =SUM(F18+1) -> 506776 | F19: =SUM(E19+D19-1) -> 506925 | G19: 25 | I19: R4 | J19: =MOD(D19,25) -> 0
A20: 38-840 Napaskiak | B20: 292 | C20: =SUM(B20*0.65) -> 189.8 | D20: 150 | E20: =SUM(F19+1) -> 506926 | F20: =SUM(E20+D20-1) -> 507075 | G20: 25 | I20: R4 | J20: =MOD(D20,25) -> 0
A21: 38-842 Newtok | B21: 207 | C21: =SUM(B21*0.65) -> 134.55 | D21: 100 | E21: =SUM(F20+1) -> 507076 | F21: =SUM(E21+D21-1) -> 507175 | G21: 25 | I21: R4 | J21: =MOD(D21,25) -> 0
A22: 38-844 Nightmute | B22: 145 | C22: =SUM(B22*0.65) -> 94.25 | D22: 75 | E22: =SUM(F21+1) -> 507176 | F22: =SUM(E22+D22-1) -> 507250 | G22: 25 | I22: R4 | J22: =MOD(D22,25) -> 0
A23: 38-846 Nunapitchuk | B23: 321 | C23: =SUM(B23*0.65) -> 208.65 | D23: 150 | E23: =SUM(F22+1) -> 507251 | F23: =SUM(E23+D23-1) -> 507400 | G23: 25 | I23: R4 | J23: =MOD(D23,25) -> 0
A24: 38-848 Quinhagak | B24: 455 | C24: =SUM(B24*0.65) -> 295.75 | D24: 175 | E24: =SUM(F23+1) -> 507401 | F24: =SUM(E24+D24-1) -> 507575 | G24: 25 | I24: R4 | J24: =MOD(D24,25) -> 0
A25: 38-852 Toksook Bay | B25: 422 | C25: =SUM(B25*0.65) -> 274.3 | D25: 250 | E25: =SUM(F24+1) -> 507576 | F25: =SUM(E25+D25-1) -> 507825 | G25: 25 | I25: R4 | J25: =MOD(D25,25) -> 0
A26: 38-854 Tuluksak | B26: 250 | C26: =SUM(B26*0.65) -> 162.5 | D26: 125 | E26: =SUM(F25+1) -> 507826 | F26: =SUM(E26+D26-1) -> 507950 | G26: 25 | I26: R4 | J26: =MOD(D26,25) -> 0
A27: 38-856 Tuntutuliak | B27: 287 | C27: =SUM(B27*0.65) -> 186.55 | D27: 150 | E27: =SUM(F26+1) -> 507951 | F27: =SUM(E27+D27-1) -> 508100 | G27: 25 | I27: R4 | J27: =MOD(D27,25) -> 0
A28: 38-858 Tununak | B28: 241 | C28: =SUM(B28*0.65) -> 156.65 | D28: =MROUND(C28, 25) -> 150 | E28: =SUM(F27+1) -> 508101 | F28: =SUM(E28+D28-1) -> 508250 | G28: 25 | I28: R4 | J28: =MOD(D28,25) -> 0
A29: TOTAL PRECINCT BALLOTS DIST. 38 | B29: =SUM(B5:B28) -> 10756 | D29: =SUM(D5:D28) -> 5000
A31: ABSENTEE OFFICIALS & STATIONS:
A32: ANCHORAGE
A33: 92-900 Anchorage Elections Office | D33: 100 | E33: =SUM(F28+1) -> 508251 | F33: =SUM(E33+D33-1) -> 508350 | G33: 10 | I33: R2 | J33: =MOD(D33,25) -> 0
A34: 92-902 Anchorage Airport | D34: 25 | E34: =SUM(F33+1) -> 508351 | F34: =SUM(E34+D34-1) -> 508375 | G34: 5 | I34: R2 | J34: =MOD(D34,25) -> 0
A35: 92-905 Downtown Anchorage | D35: 50 | E35: =SUM(F34+1) -> 508376 | F35: =SUM(E35+D35-1) -> 508425 | G35: 5 | I35: R2 | J35: =MOD(D35,25) -> 0
A37: MAT-SU
A38: 95-900 Mat-Su Elections Office | D38: 25 | E38: =SUM(F35+1) -> 508426 | F38: =SUM(E38+D38-1) -> 508450 | G38: 5 | I38: R5 | J38: =MOD(D38,25) -> 0
A40: FAIRBANKS
A41: 93-900 Fairbanks Elections Office | D41: 25 | E41: =SUM(F38+1) -> 508451 | F41: =SUM(E41+D41-1) -> 508475 | G41: 5 | I41: R3 | J41: =MOD(D41,25) -> 0
A43: JUNEAU
A44: 91-900 Juneau Elections Office | D44: 25 | E44: =SUM(F41+1) -> 508476 | F44: =SUM(E44+D44-1) -> 508500 | G44: 10 | I44: R1 | J44: =MOD(D44,25) -> 0
A45: 91-902 Juneau Downtown | D45: 25 | E45: =SUM(F44+1) -> 508501 | F45: =SUM(E45+D45-1) -> 508525 | G45: 10 | I45: R1 | J45: =MOD(D45,25) -> 0
A47: NOME
A48: 94-900 Nome Elections Office | D48: 50 | E48: =SUM(F45+1) -> 508526 | F48: =SUM(E48+D48-1) -> 508575 | G48: 25 | H48: 150 | I48: R4 | J48: =MOD(D48,25) -> 0
A49: 94-901 Prudhoe Bay Station | D49: 50 | E49: =SUM(F48+1) -> 508576 | F49: =SUM(E49+D49-1) -> 508625 | G49: 25 | I49: R4 | J49: =MOD(D49,25) -> 0
A50: 38-960 Oscarville | D50: 50 | E50: =SUM(F49+1) -> 508626 | F50: =SUM(E50+D50-1) -> 508675 | G50: 5 | I50: R4 | J50: =MOD(D50,25) -> 0
A51: 38-961 Goodnews Bay | D51: 50 | E51: =SUM(F50+1) -> 508676 | F51: =SUM(E51+D51-1) -> 508725 | G51: 5 | I51: R4 | J51: =MOD(D51,25) -> 0
A52: 38-962 Nunapitchuk | D52: 50 | E52: =SUM(F51+1) -> 508726 | F52: =SUM(E52+D52-1) -> 508775 | G52: 5 | I52: R4 | J52: =MOD(D52,25) -> 0
A53: 38-963 Quinhagak | D53: 50 | E53: =SUM(F52+1) -> 508776 | F53: =SUM(E53+D53-1) -> 508825 | G53: 5 | I53: R4 | J53: =MOD(D53,25) -> 0
A54: 38-964 Chefornak | D54: 50 | E54: =SUM(F53+1) -> 508826 | F54: =SUM(E54+D54-1) -> 508875 | G54: 5 | I54: R4 | J54: =MOD(D54,25) -> 0
A55: 38-965 Russian Mission | D55: 50 | E55: =SUM(F54+1) -> 508876 | F55: =SUM(E55+D55-1) -> 508925 | G55: 5 | I55: R4 | J55: =MOD(D55,25) -> 0
A56: 38-966 Lower Kalskag | D56: 50 | E56: =SUM(F55+1) -> 508926 | F56: =SUM(E56+D56-1) -> 508975 | G56: 5 | I56: R4 | J56: =MOD(D56,25) -> 0
A57: 38-967 Akiachak | D57: 50 | E57: =SUM(F56+1) -> 508976 | F57: =SUM(E57+D57-1) -> 509025 | G57: 5 | I57: R4 | J57: =MOD(D57,25) -> 0
A58: 38-968 Marshall | D58: 50 | E58: =SUM(F57+1) -> 509026 | F58: =SUM(E58+D58-1) -> 509075 | G58: 5 | I58: R4 | J58: =MOD(D58,25) -> 0
A59: 38-969 Newtok | D59: 50 | E59: =SUM(F58+1) -> 509076 | F59: =SUM(E59+D59-1) -> 509125 | G59: 5 | I59: R4 | J59: =MOD(D59,25) -> 0
A60: 38-970 Crooked Creek | D60: 50 | E60: =SUM(F59+1) -> 509126 | F60: =SUM(E60+D60-1) -> 509175 | G60: 5 | I60: R4 | J60: =MOD(D60,25) -> 0
... A80: 38-999 Kwigillingok | D80: 50 | E80: =SUM(F79+1) -> 510126 | F80: =SUM(E80+D80-1) -> 510175 | G80: 5 | I80: R4 | J80: =MOD(D80,25) -> 0
A81: TOTAL ABSENTEE BALLOTS - DIST. 38 | D81: =SUM(D32:D80) -> 1925
A83: TOTAL DISTRICT 38 BALLOTS | D83: =D29+D81 -> 6925 | G83: =SUM(G5:G80) -> 855 | H83: =SUM(H5:H80) -> 150 | J83: =SUM(J5:J80) -> 0
A86: Checksum: Sequence End - Start: | D86: =F80-E5+1 -> 6925

Sheet Dist 39
H1: BALLOT ID# | J1: =Totals!A43 -> 855
B3: # REGIS- | D3: # | E3: Numbers | G3: Sample | H3: Fascimile
A4: DISTRICT / PRECINCT | B4: TERED | D4: Ballots | E4: FROM | F4: TO | G4: Ballots | H4: Ballots | I4: Delivery | J4: Checksum
A5: 39-900 Alakanuk | B5: 372 | C5: =SUM(B5*0.65) -> 241.8 | D5: 175 | E5: =SUM('Dist 38'!F80+1) -> 510176 | F5: =SUM(E5+D5-1) -> 510350 | G5: 25 | I5: R4 | J5: =MOD(D5,25) -> 0
A6: 39-902 Brevig Mission | B6: 233 | C6: =SUM(B6*0.65) -> 151.45 | D6: =MROUND(C6, 25) -> 150 | E6: =(F5+1) -> 510351 | F6: =SUM(E6+D6-1) -> 510500 | G6: 25 | I6: R4 | J6: =MOD(D6,25) -> 0
A7: 39-906 Diomede | B7: 45 | C7: =SUM(B7*0.65) -> 29.25 | D7: =MROUND(C7, 25) -> 25 | E7: =SUM(F6+1) -> 510501 | F7: =SUM(E7+D7-1) -> 510525 | G7: 25 | I7: R4 | J7: =MOD(D7,25) -> 0
A8: 39-908 Elim | B8: 202 | C8: =SUM(B8*0.65) -> 131.3 | D8: 150 | E8: =SUM(F7+1) -> 510526 | F8: =SUM(E8+D8-1) -> 510675 | G8: 25 | I8: R4 | J8: =MOD(D8,25) -> 0
A9: 39-910 Emmonak | B9: 503 | C9: =SUM(B9*0.65) -> 326.95 | D9: 225 | E9: =SUM(F8+1) -> 510676 | F9: =SUM(E9+D9-1) -> 510900 | G9: 25 | I9: R4 | J9: =MOD(D9,25) -> 0
A10: 39-912 Gambell | B10: 420 | C10: =SUM(B10*0.65) -> 273 | D10: 200 | E10: =SUM(F9+1) -> 510901 | F10: =SUM(E10+D10-1) -> 511100 | G10: 25 | I10: R4 | J10: =MOD(D10,25) -> 0
A11: 39-914 Golovin | B11: 105 | C11: =SUM(B11*0.65) -> 68.25 | D11: =MROUND(C11, 25) -> 75 | E11: =SUM(F10+1) -> 511101 | F11: =SUM(E11+D11-1) -> 511175 | G11: 25 | I11: R4 | J11: =MOD(D11,25) -> 0
A12: 39-916 Hooper Bay | B12: 684 | C12: =SUM(B12*0.65) -> 444.6 | D12: 275 | E12: =SUM(F11+1) -> 511176 | F12: =SUM(E12+D12-1) -> 511450 | G12: 25 | I12: R4 | J12: =MOD(D12,25) -> 0
A13: 39-918 Kotlik | B13: 338 | C13: =SUM(B13*0.65) -> 219.7 | D13: 150 | E13: =SUM(F12+1) -> 511451 | F13: =SUM(E13+D13-1) -> 511600 | G13: 25 | I13: R4 | J13: =MOD(D13,25) -> 0
A14: 39-920 Koyuk | B14: 196 | C14: =SUM(B14*0.65) -> 127.4 | D14: =MROUND(C14, 25) -> 125 | E14: =SUM(F13+1) -> 511601 | F14: =SUM(E14+D14-1) -> 511725 | G14: 25 | I14: R4 | J14: =MOD(D14,25) -> 0
A15: 39-921 Marshall | B15: 276 | C15: =SUM(B15*0.65) -> 179.4 | D15: 150 | E15: =SUM(F14+1) -> 511726 | F15: =SUM(E15+D15-1) -> 511875 | G15: 25 | I15: R4 | J15: =MOD(D15,25) -> 0
A16: 39-922 Mountain Village | B16: 412 | C16: =SUM(B16*0.65) -> 267.8 | D16: 1750 | E16: =SUM(F15+1) -> 511876 | F16: =SUM(E16+D16-1) -> 513625 | G16: 25 | I16: R4 | J16: =MOD(D16,25) -> 0
A17: 39-924 Nome No. 1 | B17: 1019 | C17: =SUM(B17*0.65) -> 662.35 | D17: 550 | E17: =SUM(F16+1) -> 513626 | F17: =SUM(E17+D17-1) -> 514175 | G17: 25 | I17: R4 | J17: =MOD(D17,25) -> 0
A18: 39-926 Nome No. 2 | B18: 1677 | C18: =SUM(B18*0.65) -> 1090.05 | D18: 725 | E18: =SUM(F17+1) -> 514176 | F18: =SUM(E18+D18-1) -> 514900 | G18: 25 | I18: R4 | J18: =MOD(D18,25) -> 0
A19: 39-928 Nunam Iqua | B19: 122 | C19: =SUM(B19*0.65) -> 79.3 | D19: 75 | E19: =SUM(F18+1) -> 514901 | F19: =SUM(E19+D19-1) -> 514975 | G19: 25 | I19: R4 | J19: =MOD(D19,25) -> 0
A20: 39-930 Pilot Station | B20: 365 | C20: =SUM(B20*0.65) -> 237.25 | D20: =MROUND(C20, 25) -> 225 | E20: =SUM(F19+1) -> 514976 | F20: =SUM(E20+D20-1) -> 515200 | G20: 25 | I20: R4 | J20: =MOD(D20,25) -> 0
A21: 39-931 Russian Mission | B21: 221 | C21: =SUM(B21*0.65) -> 143.65 | D21: 125 | E21: =SUM(F20+1) -> 515201 | F21: =SUM(E21+D21-1) -> 515325 | G21: 25 | I21: R4 | J21: =MOD(D21,25) -> 0
A22: 39-932 Savoonga | B22: 475 | C22: =SUM(B22*0.65) -> 308.75 | D22: 200 | E22: =SUM(F21+1) -> 515326 | F22: =SUM(E22+D22-1) -> 515525 | G22: 25 | I22: R4 | J22: =MOD(D22,25) -> 0
A23: 39-934 Scammon Bay | B23: 370 | C23: =SUM(B23*0.65) -> 240.5 | D23: 200 | E23: =SUM(F22+1) -> 515526 | F23: =SUM(E23+D23-1) -> 515725 | G23: 25 | I23: R4 | J23: =MOD(D23,25) -> 0
A24: 39-936 Shaktoolik | B24: 160 | C24: =SUM(B24*0.65) -> 104 | D24: =MROUND(C24, 25) -> 100 | E24: =SUM(F23+1) -> 515726 | F24: =SUM(E24+D24-1) -> 515825 | G24: 25 | I24: R4 | J24: =MOD(D24,25) -> 0
A25: 39-938 Shishmaref | B25: 387 | C25: =SUM(B25*0.65) -> 251.55 | D25: 200 | E25: =SUM(F24+1) -> 515826 | F25: =SUM(E25+D25-1) -> 516025 | G25: 25 | I25: R4 | J25: =MOD(D25,25) -> 0
A26: 39-940 St. Mary's | B26: 424 | C26: =SUM(B26*0.65) -> 275.6 | D26: 200 | E26: =SUM(F25+1) -> 516026 | F26: =SUM(E26+D26-1) -> 516225 | G26: 25 | I26: R4 | J26: =MOD(D26,25) -> 0
A27: 39-942 St. Michael | B27: 240 | C27: =SUM(B27*0.65) -> 156 | D27: 125 | E27: =SUM(F26+1) -> 516226 | F27: =SUM(E27+D27-1) -> 516350 | G27: 25 | I27: R4 | J27: =MOD(D27,25) -> 0
A28: 39-944 Stebbins | B28: 316 | C28: =SUM(B28*0.65) -> 205.4 | D28: 150 | E28: =SUM(F27+1) -> 516351 | F28: =SUM(E28+D28-1) -> 516500 | G28: 25 | I28: R4 | J28: =MOD(D28,25) -> 0
A29: 39-946 Teller | B29: 154 | C29: =SUM(B29*0.65) -> 100.1 | D29: =MROUND(C29, 25) -> 100 | E29: =SUM(F28+1) -> 516501 | F29: =SUM(E29+D29-1) -> 516600 | G29: 25 | I29: R4 | J29: =MOD(D29,25) -> 0
A30: 39-948 Unalakleet | B30: 526 | C30: =SUM(B30*0.65) -> 341.9 | D30: 300 | E30: =SUM(F29+1) -> 516601 | F30: =SUM(E30+D30-1) -> 516900 | G30: 25 | I30: R4 | J30: =MOD(D30,25) -> 0
A31: 39-950 Wales | B31: 60 | C31: =SUM(B31*0.65) -> 39 | D31: =MROUND(C31, 25) -> 50 | E31: =SUM(F30+1) -> 516901 | F31: =SUM(E31+D31-1) -> 516950 | G31: 25 | I31: R4 | J31: =MOD(D31,25) -> 0
A32: 39-952 White Mountain | B32: 138 | C32: =SUM(B32*0.65) -> 89.7 | D32: =MROUND(C32, 25) -> 100 | E32: =SUM(F31+1) -> 516951 | F32: =SUM(E32+D32-1) -> 517050 | G32: 25 | I32: R4 | J32: =MOD(D32,25) -> 0
A33: TOTAL PRECINCT BALLOTS DIST. 39 | B33: =SUM(B5:B32) -> 10440 | D33: =SUM(D5:D32) -> 6875
A35: ABSENTEE OFFICIALS & STATIONS:
A36: ANCHORAGE
A37: 92-900 Anchorage Elections Office | D37: 100 | E37: =SUM(F32+1) -> 517051 | F37: =SUM(E37+D37-1) -> 517150 | G37: 10 | I37: R2 | J37: =MOD(D37,25) -> 0
A38: 92-902 Anchorage Airport | D38: 25 | E38: =SUM(F37+1) -> 517151 | F38: =SUM(E38+D38-1) -> 517175 | G38: 5 | I38: R2 | J38: =MOD(D38,25) -> 0
A39: 92-905 Downtown Anchorage | D39: 50 | E39: =SUM(F38+1) -> 517176 | F39: =SUM(E39+D39-1) -> 517225 | G39: 5 | I39: R2 | J39: =MOD(D39,25) -> 0
A41: MAT-SU
A42: 95-900 Mat-Su Elections Office | D42: 25 | E42: =SUM(F39+1) -> 517226 | F42: =SUM(E42+D42-1) -> 517250 | G42: 5 | I42: R5 | J42: =MOD(D42,25) -> 0
A44: FAIRBANKS
A45: 93-900 Fairbanks Elections Office | D45: 25 | E45: =SUM(F42+1) -> 517251 | F45: =SUM(E45+D45-1) -> 517275 | G45: 5 | I45: R3 | J45: =MOD(D45,25) -> 0
A47: JUNEAU
A48: 91-900 Juneau Elections Office | D48: 25 | E48: =SUM(F45+1) -> 517276 | F48: =SUM(E48+D48-1) -> 517300 | G48: 10 | I48: R1 | J48: =MOD(D48,25) -> 0
A49: 91-902 Juneau Downtown | D49: 25 | E49: =SUM(F48+1) -> 517301 | F49: =SUM(E49+D49-1) -> 517325 | G49: 10 | I49: R1 | J49: =MOD(D49,25) -> 0
A51: NOME
A52: 94-900 Nome Elections Office | D52: 250 | E52: =SUM(F49+1) -> 517326 | F52: =SUM(E52+D52-1) -> 517575 | G52: 25 | H52: 150 | I52: R4 | J52: =MOD(D52,25) -> 0
A53: 94-901 Prudhoe Bay Station | D53: 50 | E53: =SUM(F52+1) -> 517576 | F53: =SUM(E53+D53-1) -> 517625 | G53: 25 | I53: R4 | J53: =MOD(D53,25) -> 0
A54: 39-970 Teller | D54: 50 | E54: =SUM(F53+1) -> 517626 | F54: =SUM(E54+D54-1) -> 517675 | G54: 5 | I54: R4 | J54: =MOD(D54,25) -> 0
A55: 39-971 Emmonak | D55: 50 | E55: =SUM(F54+1) -> 517676 | F55: =SUM(E55+D55-1) -> 517725 | G55: 5 | I55: R4 | J55: =MOD(D55,25) -> 0
A56: 39-972 Diomede | D56: 50 | E56: =SUM(F55+1) -> 517726 | F56: =SUM(E56+D56-1) -> 517775 | G56: 5 | I56: R4 | J56: =MOD(D56,25) -> 0
A57: 39-973 Wales | D57: 50 | E57: =SUM(F56+1) -> 517776 | F57: =SUM(E57+D57-1) -> 517825 | G57: 5 | I57: R4 | J57: =MOD(D57,25) -> 0
A58: 39-974 Hooper Bay | D58: 50 | E58: =SUM(F57+1) -> 517826 | F58: =SUM(E58+D58-1) -> 517875 | G58: 5 | I58: R4 | J58: =MOD(D58,25) -> 0
A59: 39-975 Savoonga | D59: 50 | E59: =SUM(F58+1) -> 517876 | F59: =SUM(E59+D59-1) -> 517925 | G59: 5 | I59: R4 | J59: =MOD(D59,25) -> 0
A60: 39-981 St. Mary's | D60: 50 | E60: =SUM(F59+1) -> 517926 | F60: =SUM(E60+D60-1) -> 517975 | G60: 5 | I60: R4 | J60: =MOD(D60,25) -> 0
A61: 39-982 Unalakleet | D61: 100 | E61: =SUM(F60+1) -> 517976 | F61: =SUM(E61+D61-1) -> 518075 | G61: 5 | I61: R4 | J61: =MOD(D61,25) -> 0
A62: 39-983 Nunam Iqua | D62: 50 | E62: =SUM(F61+1) -> 518076 | F62: =SUM(E62+D62-1) -> 518125 | G62: 5 | I62: R4 | J62: =MOD(D62,25) -> 0
A63: 39-984 White Mountain | D63: 50 | E63: =SUM(F62+1) -> 518126 | F63: =SUM(E63+D63-1) -> 518175 | G63: 5 | I63: R4 | J63: =MOD(D63,25) -> 0
A64: 39-985 Mountain Village | D64: 50 | E64: =SUM(F63+1) -> 518176 | F64: =SUM(E64+D64-1) -> 518225 | G64: 5 | I64: R4 | J64: =MOD(D64,25) -> 0
... A78: 39-999 Alakanuk | D78: 50 | E78: =SUM(F77+1) -> 518876 | F78: =SUM(E78+D78-1) -> 518925 | G78: 5 | I78: R4 | J78: =MOD(D78,25) -> 0
A79: TOTAL ABSENTEE BALLOTS - DIST. 39 | D79: =SUM(D37:D78) -> 1875
A81: TOTAL DISTRICT 39 BALLOTS | D81: =D33+D79 -> 8750 | G81: =SUM(G5:G78) -> 925 | H81: =SUM(H5:H78) -> 150 | J81: =SUM(J5:J78) -> 0
A84: Checksum: Sequence End - Start: | D84: =F78-E5+1 -> 8750

Sheet Dist 40
H1: BALLOT ID# | J1: =Totals!A44 -> 860
B3: # REGIS- | D3: # | E3: Numbers | G3: Sample | H3: Fascimile
A4: DISTRICT / PRECINCT | B4: TERED | D4: Ballots | E4: FROM | F4: TO | G4: Ballots | H4: Ballots | I4: Delivery | J4: Checksum
A5: 40-002 Ambler | B5: 159 | C5: =SUM(B5*0.65) -> 103.35 | D5: 75 | E5: =SUM('Dist 39'!F78+1) -> 518926 | F5: =SUM(E5+D5-1) -> 519000 | G5: 5 | I5: R4 | J5: =MOD(D5,25) -> 0
A6: 40-004 Anaktuvuk Pass | B6: 264 | C6: =SUM(B6*0.65) -> 171.6 | D6: 150 | E6: =SUM(F5+1) -> 519001 | F6: =SUM(E6+D6-1) -> 519150 | G6: 5 | I6: R4 | J6: =MOD(D6,25) -> 0
A7: 40-006 Atqasuk | B7: 153 | C7: =SUM(B7*0.65) -> 99.45 | D7: 75 | E7: =SUM(F6+1) -> 519151 | F7: =SUM(E7+D7-1) -> 519225 | G7: 5 | I7: R4 | J7: =MOD(D7,25) -> 0
A8: 40-008 Utqiagvik | B8: 941 | C8: =SUM(B8*0.65) -> 611.65 | D8: 550 | E8: =SUM(F7+1) -> 519226 | F8: =SUM(E8+D8-1) -> 519775 | G8: 5 | I8: R4 | J8: =MOD(D8,25) -> 0
A9: 40-010 Browerville | B9: 1993 | C9: =SUM(B9*0.65) -> 1295.45 | D9: 850 | E9: =SUM(F8+1) -> 519776 | F9: =SUM(E9+D9-1) -> 520625 | G9: 5 | I9: R4 | J9: =MOD(D9,25) -> 0
A10: 40-012 Buckland | B10: 293 | C10: =SUM(B10*0.65) -> 190.45 | D10: 150 | E10: =SUM(F9+1) -> 520626 | F10: =SUM(E10+D10-1) -> 520775 | G10: 5 | I10: R4 | J10: =MOD(D10,25) -> 0
A11: 40-014 Deering | B11: 90 | C11: =SUM(B11*0.65) -> 58.5 | D11: 75 | E11: =SUM(F10+1) -> 520776 | F11: =SUM(E11+D11-1) -> 520850 | G11: 5 | I11: R4 | J11: =MOD(D11,25) -> 0
A12: 40-016 Kaktovik | B12: 184 | C12: =SUM(B12*0.65) -> 119.6 | D12: 100 | E12: =SUM(F11+1) -> 520851 | F12: =SUM(E12+D12-1) -> 520950 | G12: 5 | I12: R4 | J12: =MOD(D12,25) -> 0
A13: 40-018 Kiana | B13: 257 | C13: =SUM(B13*0.65) -> 167.05 | D13: 125 | E13: =SUM(F12+1) -> 520951 | F13: =SUM(E13+D13-1) -> 521075 | G13: 5 | I13: R4 | J13: =MOD(D13,25) -> 0
A14: 40-020 Kivalina | B14: 245 | C14: =SUM(B14*0.65) -> 159.25 | D14: 125 | E14: =SUM(F13+1) -> 521076 | F14: =SUM(E14+D14-1) -> 521200 | G14: 5 | I14: R4 | J14: =MOD(D14,25) -> 0
A15: 40-022 Kobuk | B15: 84 | C15: =SUM(B15*0.65) -> 54.6 | D15: =MROUND(C15, 25) -> 50 | E15: =SUM(F14+1) -> 521201 | F15: =SUM(E15+D15-1) -> 521250 | G15: 5 | I15: R4 | J15: =MOD(D15,25) -> 0
A16: 40-024 Kotzebue | B16: 1911 | C16: =SUM(B16*0.65) -> 1242.15 | D16: 450 | E16: =SUM(F15+1) -> 521251 | F16: =SUM(E16+D16-1) -> 521700 | G16: 5 | I16: R4 | J16: =MOD(D16,25) -> 0
A17: 40-026 Noatak | B17: 333 | C17: =SUM(B17*0.65) -> 216.45 | D17: 150 | E17: =SUM(F16+1) -> 521701 | F17: =SUM(E17+D17-1) -> 521850 | G17: 5 | I17: R4 | J17: =MOD(D17,25) -> 0
A18: 40-028 Noorvik | B18: 367 | C18: =SUM(B18*0.65) -> 238.55 | D18: 150 | E18: =SUM(F17+1) -> 521851 | F18: =SUM(E18+D18-1) -> 522000 | G18: 5 | I18: R4 | J18: =MOD(D18,25) -> 0
A19: 40-030 Nuiqsut | B19: 276 | C19: =SUM(B19*0.65) -> 179.4 | D19: 125 | E19: =SUM(F18+1) -> 522001 | F19: =SUM(E19+D19-1) -> 522125 | G19: 5 | I19: R4 | J19: =MOD(D19,25) -> 0
A20: 40-032 Point Hope | B20: 449 | C20: =SUM(B20*0.65) -> 291.85 | D20: 200 | E20: =SUM(F19+1) -> 522126 | F20: =SUM(E20+D20-1) -> 522325 | G20: 5 | I20: R4 | J20: =MOD(D20,25) -> 0
A21: 40-034 Point Lay | B21: 155 | C21: =SUM(B21*0.65) -> 100.75 | D21: 75 | E21: =SUM(F20+1) -> 522326 | F21: =SUM(E21+D21-1) -> 522400 | G21: 5 | I21: R4 | J21: =MOD(D21,25) -> 0
A22: 40-036 Selawik | B22: 422 | C22: =SUM(B22*0.65) -> 274.3 | D22: 175 | E22: =SUM(F21+1) -> 522401 | F22: =SUM(E22+D22-1) -> 522575 | G22: 5 | I22: R4 | J22: =MOD(D22,25) -> 0
A23: 40-038 Shungnak | B23: 155 | C23: =SUM(B23*0.65) -> 100.75 | D23: =MROUND(C23, 25) -> 100 | E23: =SUM(F22+1) -> 522576 | F23: =SUM(E23+D23-1) -> 522675 | G23: 5 | I23: R4 | J23: =MOD(D23,25) -> 0
A24: 40-040 Wainwright | B24: 363 | C24: =SUM(B24*0.65) -> 235.95 | D24: 150 | E24: =SUM(F23+1) -> 522676 | F24: =SUM(E24+D24-1) -> 522825 | G24: 5 | I24: R4 | J24: =MOD(D24,25) -> 0
A25: TOTAL PRECINCT BALLOTS DIST. 40 | B25: =SUM(B5:B24) -> 9094 | D25: =SUM(D5:D24) -> 3900
A27: ABSENTEE OFFICIALS & STATIONS:
A28: ANCHORAGE
A29: 92-900 Anchorage Elections Office | D29: 100 | E29: =SUM(F24+1) -> 522826 | F29: =SUM(E29+D29-1) -> 522925 | G29: 10 | I29: R2 | J29: =MOD(D29,25) -> 0
A30: 92-902 Anchorage Airport | D30: 25 | E30: =SUM(F29+1) -> 522926 | F30: =SUM(E30+D30-1) -> 522950 | G30: 5 | I30: R2 | J30: =MOD(D30,25) -> 0
A31: 92-905 Downtown Anchorage | D31: 50 | E31: =SUM(F30+1) -> 522951 | F31: =SUM(E31+D31-1) -> 523000 | G31: 5 | I31: R2 | J31: =MOD(D31,25) -> 0
A33: MAT-SU
A34: 95-900 Mat-Su Elections Office | D34: 25 | E34: =SUM(F31+1) -> 523001 | F34: =SUM(E34+D34-1) -> 523025 | G34: 5 | I34: R5 | J34: =MOD(D34,25) -> 0
A36: FAIRBANKS
A37: 93-900 Fairbanks Elections Office | D37: 25 | E37: =SUM(F34+1) -> 523026 | F37: =SUM(E37+D37-1) -> 523050 | G37: 5 | I37: R3 | J37: =MOD(D37,25) -> 0
A39: JUNEAU
A40: 91-900 Juneau Elections Office | D40: 25 | E40: =SUM(F37+1) -> 523051 | F40: =SUM(E40+D40-1) -> 523075 | G40: 10 | I40: R1 | J40: =MOD(D40,25) -> 0
A41: 91-902 Juneau Downtown | D41: 25 | E41: =SUM(F40+1) -> 523076 | F41: =SUM(E41+D41-1) -> 523100 | G41: 10 | I41: R1 | J41: =MOD(D41,25) -> 0
A43: NOME
A44: 94-900 Nome Elections Office | D44: 25 | E44: =SUM(F41+1) -> 523101 | F44: =SUM(E44+D44-1) -> 523125 | G44: 25 | H44: 100 | I44: R4 | J44: =MOD(D44,25) -> 0
A45: 94-901 Prudhoe Bay Station | D45: 25 | E45: =SUM(F44+1) -> 523126 | F45: =SUM(E45+D45-1) -> 523150 | G45: 25 | I45: R4 | J45: =MOD(D45,25) -> 0
A46: 40-980 Utqiagvik | D46: 300 | E46: =SUM(F45+1) -> 523151 | F46: =SUM(E46+D46-1) -> 523450 | G46: 5 | I46: R4 | J46: =MOD(D46,25) -> 0
A47: 40-981 Kotzebue | D47: 300 | E47: =SUM(F46+1) -> 523451 | F47: =SUM(E47+D47-1) -> 523750 | G47: 5 | I47: R4 | J47: =MOD(D47,25) -> 0
A48: 40-982 Kiana | D48: 50 | E48: =SUM(F47+1) -> 523751 | F48: =SUM(E48+D48-1) -> 523800 | G48: 5 | I48: R4 | J48: =MOD(D48,25) -> 0
A49: 40-983 Kaktovik | D49: 50 | E49: =SUM(F48+1) -> 523801 | F49: =SUM(E49+D49-1) -> 523850 | G49: 5 | I49: R4 | J49: =MOD(D49,25) -> 0
A50: 40-984 Wainwright | D50: 50 | E50: =SUM(F49+1) -> 523851 | F50: =SUM(E50+D50-1) -> 523900 | G50: 5 | I50: R4 | J50: =MOD(D50,25) -> 0
A51: 40-985 Ambler | D51: 50 | E51: =SUM(F50+1) -> 523901 | F51: =SUM(E51+D51-1) -> 523950 | G51: 5 | I51: R4 | J51: =MOD(D51,25) -> 0
A52: 40-986 Buckland | D52: 50 | E52: =SUM(F51+1) -> 523951 | F52: =SUM(E52+D52-1) -> 524000 | G52: 5 | I52: R4 | J52: =MOD(D52,25) -> 0
A53: 40-987 Kobuk | D53: 50 | E53: =SUM(F52+1) -> 524001 | F53: =SUM(E53+D53-1) -> 524050 | G53: 5 | I53: R4 | J53: =MOD(D53,25) -> 0
A54: 40-988 Deering | D54: 50 | E54: =SUM(F53+1) -> 524051 | F54: =SUM(E54+D54-1) -> 524100 | G54: 5 | I54: R4 | J54: =MOD(D54,25) -> 0
A55: 40-989 Noatak | D55: 50 | E55: =SUM(F54+1) -> 524101 | F55: =SUM(E55+D55-1) -> 524150 | G55: 5 | I55: R4 | J55: =MOD(D55,25) -> 0
A56: 40-990 Noorvik | D56: 50 | E56: =SUM(F55+1) -> 524151 | F56: =SUM(E56+D56-1) -> 524200 | G56: 5 | I56: R4 | J56: =MOD(D56,25) -> 0
... A64: 40-998 Point Lay | D64: 50 | E64: =SUM(F63+1) -> 524551 | F64: =SUM(E64+D64-1) -> 524600 | G64: 5 | I64: R4 | J64: =MOD(D64,25) -> 0
A65: TOTAL ABSENTEE BALLOTS - DIST. 40 | D65: =SUM(D29:D64) -> 1775
A67: TOTAL DISTRICT 40 BALLOTS | D67: =D25+D65 -> 5675 | G67: =SUM(G5:G65) -> 295 | H67: =SUM(H5:H65) -> 100 | J67: =SUM(J5:J65) -> 0
A70: Checksum: Sequence End - Start: | D70: =F64-E5+1 -> 5675
