Workbook

Sheet Totals
A1: ALASKA 2024 PRIMARY ELECTION BALLOT ORDER TOTAL BALLOT ORDER, ALL DISTRICTS
A2: Ballot ID# | C2: Totals | D2: Checksum | E2: Difference | G2: Pad Checksums
A3: 801 | B3: Federal Only | C3: ='Federal Only'!B6 -> 300 | D3: ='Federal Only'!C9 -> 300 | E3: =D3-C3 -> 0 | G3: ='Federal Only'!H9 -> 0 | H3: A&P
B4: Absentee | C4: ='Abs By Mail'!C44 -> 30150 | D4: ='Abs By Mail'!D47 -> 30150 | E4: =D4-C4 -> 0 | G4: 0
A5: 800 | B5: District 1 | C5: ='Dist 1'!D44 -> 12050 | D5: ='Dist 1'!D47 -> 12050 | E5: =D5-C5 -> 0 | G5: ='Dist 1'!J44 -> 0 | H5: Region I
A6: 811 | B6: District 2 | C6: ='Dist 2'!D62 -> 13800 | D6: ='Dist 2'!D65 -> 13800 | E6: =D6-C6 -> 0 | G6: ='Dist 2'!J62 -> 0
A7: 812 | B7: District 3 | C7: ='Dist 3'!D42 -> 16150 | D7: ='Dist 3'!D45 -> 16150 | E7: =D7-C7 -> 0 | G7: ='Dist 3'!J42 -> 0
A8: 813 | B8: District 4 | C8: ='Dist 4'!D36 -> 14025 | D8: ='Dist 4'!D39 -> 14025 | E8: =D8-C8 -> 0 | G8: ='Dist 4'!J36 -> 0
A9: 814 | B9: District 5 | C9: ='Dist 5'!D49 -> 11825 | D9: ='Dist 5'!D52 -> 11825 | E9: =D9-C9 -> 0 | G9: ='Dist 5'!J49 -> 0
A10: 816 | B10: District 6 | C10: ='Dist 6'!D42 -> 15475 | D10: ='Dist 6'!D45 -> 15475 | E10: =D10-C10 -> 0 | G10: ='Dist 6'!J42 -> 0
A11: 817 | B11: District 7 | C11: ='Dist 7'!D38 -> 14000 | D11: ='Dist 7'!D41 -> 14000 | E11: =D11-C11 -> 0 | G11: ='Dist 7'!J38 -> 0 | H11: RV MS
A12: 818 | B12: District 8 | C12: ='Dist 8'!D43 -> 13975 | D12: ='Dist 8'!D46 -> 13975 | E12: =D12-C12 -> 0 | G12: ='Dist 8'!J43 -> 0
A13: 819 | B13: District 9 | C13: ='Dist 9'!D39 -> 13425 | D13: ='Dist 9'!D42 -> 13425 | E13: =D13-C13 -> 0 | G13: ='Dist 9'!J39 -> 0 | H13: Region II
A14: 820 | B14: District 10 | C14: ='Dist 10'!D34 -> 11825 | D14: ='Dist 10'!D37 -> 11825 | E14: =D14-C14 -> 0 | G14: ='Dist 10'!J34 -> 0
A15: 821 | B15: District 11 | C15: ='Dist 11'!D35 -> 11950 | D15: ='Dist 11'!D38 -> 11950 | E15: =D15-C15 -> 0 | G15: ='Dist 11'!J35 -> 0
A16: 822 | B16: District 12 | C16: ='Dist 12'!D34 -> 11725 | D16: ='Dist 12'!D37 -> 11725 | E16: =D16-C16 -> 0 | G16: ='Dist 12'!J34 -> 0
A17: 823 | B17: District 13 | C17: ='Dist 13'!D33 -> 11725 | D17: ='Dist 13'!D36 -> 11725 | E17: =D17-C17 -> 0 | G17: ='Dist 13'!J33 -> 0
A18: 824 | B18: District 14 | C18: ='Dist 14'!D35 -> 11275 | D18: ='Dist 14'!D38 -> 11275 | E18: =D18-C18 -> 0 | G18: ='Dist 14'!J35 -> 0
A19: 825 | B19: District 15 | C19: ='Dist 15'!D34 -> 11950 | D19: ='Dist 15'!D37 -> 11950 | E19: =D19-C19 -> 0 | G19: ='Dist 15'!J34 -> 0
A20: 826 | B20: District 16 | C20: ='Dist 16'!D35 -> 12100 | D20: ='Dist 16'!D38 -> 12100 | E20: =D20-C20 -> 0 | G20: ='Dist 16'!J35 -> 0
A21: 827 | B21: District 17 | C21: ='Dist 17'!D35 -> 12300 | D21: ='Dist 17'!D38 -> 12300 | E21: =D21-C21 -> 0 | G21: ='Dist 17'!J35 -> 0
A22: 828 | B22: District 18 | C22: ='Dist 18'!D33 -> 7225 | D22: ='Dist 18'!D36 -> 7225 | E22: =D22-C22 -> 0 | G22: ='Dist 18'!J33 -> 0
A23: 829 | B23: District 19 | C23: ='Dist 19'!D33 -> 9950 | D23: ='Dist 19'!D36 -> 9950 | E23: =D23-C23 -> 0 | G23: ='Dist 19'!J33 -> 0
A24: 830 | B24: District 20 | C24: ='Dist 20'!D33 -> 10775 | D24: ='Dist 20'!D36 -> 10775 | E24: =D24-C24 -> 0 | G24: ='Dist 20'!J33 -> 0
A25: 831 | B25: District 21 | C25: ='Dist 21'!D33 -> 11825 | D25: ='Dist 21'!D36 -> 11825 | E25: =D25-C25 -> 0 | G25: ='Dist 21'!J33 -> 0
A26: 832 | B26: District 22 | C26: ='Dist 22'!D32 -> 10475 | D26: ='Dist 22'!D35 -> 10475 | E26: =D26-C26 -> 0 | G26: ='Dist 22'!J32 -> 0
A27: 833 | B27: District 23 | C27: ='Dist 23'!D34 -> 13675 | D27: ='Dist 23'!D37 -> 13675 | E27: =D27-C27 -> 0 | G27: ='Dist 23'!J34 -> 0
A28: 834 | B28: District 24 | C28: ='Dist 24'!D35 -> 13125 | D28: ='Dist 24'!D38 -> 13125 | E28: =D28-C28 -> 0 | G28: ='Dist 24'!J35 -> 0
A29: 835 | B29: District 25 | C29: ='Dist 25'!D36 -> 14175 | D29: ='Dist 25'!D39 -> 14175 | E29: =D29-C29 -> 0 | G29: ='Dist 25'!J36 -> 0 | H29: Region V - MS
A30: 836 | B30: District 26 | C30: ='Dist 26'!D36 -> 13575 | D30: ='Dist 26'!D39 -> 13575 | E30: =D30-C30 -> 0 | G30: ='Dist 26'!J36 -> 0
A31: 837 | B31: District 27 | C31: ='Dist 27'!D34 -> 13725 | D31: ='Dist 27'!D37 -> 13725 | E31: =D31-C31 -> 0 | G31: ='Dist 27'!J34 -> 0
A32: 838 | B32: District 28 | C32: ='Dist 28'!D39 -> 13025 | D32: ='Dist 28'!D42 -> 13025 | E32: =D32-C32 -> 0 | G32: ='Dist 28'!J39 -> 0
A33: 839 | B33: District 29 | C33: ='Dist 29'!D39 -> 13550 | D33: ='Dist 29'!D42 -> 13550 | E33: =D33-C33 -> 0 | G33: ='Dist 29'!J39 -> 0
A34: 840 | B34: District 30 | C34: ='Dist 30'!D46 -> 13975 | D34: ='Dist 30'!D49 -> 13975 | E34: =D34-C34 -> 0 | G34: ='Dist 30'!J46 -> 0
A35: 841 | B35: District 31 | C35: ='Dist 31'!D32 -> 14500 | D35: ='Dist 31'!D35 -> 14500 | E35: =D35-C35 -> 0 | G35: ='Dist 31'!J32 -> 0 | H35: Region III
A36: 842 | B36: District 32 | C36: ='Dist 32'!D32 -> 9125 | D36: ='Dist 32'!D35 -> 9125 | E36: =D36-C36 -> 0 | G36: ='Dist 32'!J32 -> 0
A37: 843 | B37: District 33 | C37: ='Dist 33'!D34 -> 15200 | D37: ='Dist 33'!D37 -> 15200 | E37: =D37-C37 -> 0 | G37: ='Dist 33'!J34 -> 0
A38: 844 | B38: District 34 | C38: ='Dist 34'!D36 -> 16000 | D38: ='Dist 34'!D39 -> 16000 | E38: =D38-C38 -> 0 | G38: ='Dist 34'!J36 -> 0
A39: 845 | B39: District 35 | C39: ='Dist 35'!D36 -> 14600 | D39: ='Dist 35'!D39 -> 14600 | E39: =D39-C39 -> 0 | G39: ='Dist 35'!J36 -> 0
A40: 846 | B40: District 36 | C40: ='Dist 36'!D103 -> 15675 | D40: ='Dist 36'!D106 -> 15675 | E40: =D40-C40 -> 0 | G40: ='Dist 36'!J103 -> 0
...

Sheet Test Deck Order
B1: ALASKA 2024 PRIMARY ELECTION BALLOT ORDER TEST DECK ORDER
A2: Ballot ID# | C2: Director's Office Test Deck Straight Order | D2: Region I Test Deck Reverse Order | E2: Region II Test Deck Reverse Order | F2: Region III Test Deck Reverse Order | G2: Region IV Test Deck Reverse Order | H2: Region V Test Deck Reverse Order
A3: =Totals!A5 -> 800 | B3: District 1 | C3: 2 | D3: 3 | E3: 3 | F3: 1 | G3: 1 | H3: 1 | I3: Region I
A4: =Totals!A6 -> 811 | B4: District 2 | C4: 2 | D4: 3 | E4: 3 | F4: 1 | G4: 1 | H4: 1
A5: =Totals!A7 -> 812 | B5: District 3 | C5: 2 | D5: 3 | E5: 3 | F5: 1 | G5: 1 | H5: 1
A6: =Totals!A8 -> 813 | B6: District 4 | C6: 2 | D6: 3 | E6: 3 | F6: 1 | G6: 1 | H6: 1
A7: =Totals!A9 -> 814 | B7: District 5 | C7: 2 | D7: 3 | E7: 3 | F7: 1 | G7: 1 | H7: 1
A8: =Totals!A10 -> 816 | B8: District 6 | C8: 2 | D8: 3 | E8: 3 | F8: 1 | G8: 1 | H8: 1
A9: =Totals!A11 -> 817 | B9: District 7 | C9: 2 | D9: 3 | E9: 3 | F9: 1 | G9: 1 | H9: 3 | I9: RV
A10: =Totals!A12 -> 818 | B10: District 8 | C10: 2 | D10: 3 | E10: 3 | F10: 1 | G10: 1 | H10: 3
A11: =Totals!A13 -> 819 | B11: District 9 | C11: 2 | D11: 1 | E11: 3 | F11: 1 | G11: 1 | H11: 1 | I11: Region II
A12: =Totals!A14 -> 820 | B12: District 10 | C12: 2 | D12: 1 | E12: 3 | F12: 1 | G12: 1 | H12: 1
A13: =Totals!A15 -> 821 | B13: District 11 | C13: 2 | D13: 1 | E13: 3 | F13: 1 | G13: 1 | H13: 1
A14: =Totals!A16 -> 822 | B14: District 12 | C14: 2 | D14: 1 | E14: 3 | F14: 1 | G14: 1 | H14: 1
A15: =Totals!A17 -> 823 | B15: District 13 | C15: 2 | D15: 1 | E15: 3 | F15: 1 | G15: 1 | H15: 1
A16: =Totals!A18 -> 824 | B16: District 14 | C16: 2 | D16: 1 | E16: 3 | F16: 1 | G16: 1 | H16: 1
A17: =Totals!A19 -> 825 | B17: District 15 | C17: 2 | D17: 1 | E17: 3 | F17: 1 | G17: 1 | H17: 1
A18: =Totals!A20 -> 826 | B18: District 16 | C18: 2 | D18: 1 | E18: 3 | F18: 1 | G18: 1 | H18: 1
A19: =Totals!A21 -> 827 | B19: District 17 | C19: 2 | D19: 1 | E19: 3 | F19: 1 | G19: 1 | H19: 1
A20: =Totals!A22 -> 828 | B20: District 18 | C20: 2 | D20: 1 | E20: 3 | F20: 1 | G20: 1 | H20: 1
A21: =Totals!A23 -> 829 | B21: District 19 | C21: 2 | D21: 1 | E21: 3 | F21: 1 | G21: 1 | H21: 1
A22: =Totals!A24 -> 830 | B22: District 20 | C22: 2 | D22: 1 | E22: 3 | F22: 1 | G22: 1 | H22: 1
A23: =Totals!A25 -> 831 | B23: District 21 | C23: 2 | D23: 1 | E23: 3 | F23: 1 | G23: 1 | H23: 1
... A26: =Totals!A28 -> 834 | B26: District 24 | C26: 2 | D26: 1 | E26: 3 | F26: 1 | G26: 1 | H26: 1
A27: =Totals!A29 -> 835 | B27: District 25 | C27: 2 | D27: 1 | E27: 3 | F27: 1 | G27: 1 | H27: 3 | I27: Region V - MS
A28: =Totals!A30 -> 836 | B28: District 26 | C28: 2 | D28: 1 | E28: 3 | F28: 1 | G28: 1 | H28: 3
A29: =Totals!A31 -> 837 | B29: District 27 | C29: 2 | D29: 1 | E29: 3 | F29: 1 | G29: 1 | H29: 3
A30: =Totals!A32 -> 838 | B30: District 28 | C30: 2 | D30: 1 | E30: 3 | F30: 1 | G30: 1 | H30: 3
A31: =Totals!A33 -> 839 | B31: District 29 | C31: 2 | D31: 1 | E31: 3 | F31: 1 | G31: 1 | H31: 3
A32: =Totals!A34 -> 840 | B32: District 30 | C32: 2 | D32: 1 | E32: 3 | F32: 1 | G32: 1 | H32: 3
A33: =Totals!A35 -> 841 | B33: District 31 | C33: 2 | D33: 1 | E33: 3 | F33: 1 | G33: 1 | H33: 1 | I33: Region III
A34: =Totals!A36 -> 842 | B34: District 32 | C34: 2 | D34: 1 | E34: 3 | F34: 1 | G34: 1 | H34: 1
A35: =Totals!A37 -> 843 | B35: District 33 | C35: 2 | D35: 1 | E35: 3 | F35: 1 | G35: 1 | H35: 1
A36: =Totals!A38 -> 844 | B36: District 34 | C36: 2 | D36: 1 | E36: 3 | F36: 1 | G36: 1 | H36: 1
A37: =Totals!A39 -> 845 | B37: District 35 | C37: 2 | D37: 1 | E37: 3 | F37: 1 | G37: 1 | H37: 1
A38: =Totals!A40 -> 846 | B38: District 36 | C38: 2 | D38: 1 | E38: 3 | F38: 1 | G38: 1 | H38: 1
A39: =Totals!A41 -> 847 | B39: District 37 | C39: 2 | D39: 3 | E39: 3 | F39: 1 | G39: 1 | H39: 1 | I39: Region IV
A40: =Totals!A42 -> 851 | B40: District 38 | C40: 2 | D40: 1 | E40: 3 | F40: 1 | G40: 1 | H40: 1
A41: =Totals!A43 -> 855 | B41: District 39 | C41: 2 | D41: 1 | E41: 3 | F41: 1 | G41: 1 | H41: 1
A42: =Totals!A44 -> 860 | B42: District 40 | C42: 2 | D42: 1 | E42: 3 | F42: 1 | G42: 1 | H42: 1
...

Sheet Federal Only
A1: ALASKA 2024 PRIMARY ELECTION BALLOT ORDER FEDERAL ONLY BALLOTS
F2: Ballot ID# | G2: =Totals!A3 -> 801
C4: Numbers | E4: Sample | F4: Fascimile
A5: CARD - SEQUENCE | B5: # Ballots | C5: FROM | D5: TO | E5: Ballots | F5: Ballots | G5: Delivery
A6: Federal Ballot Only | B6: 300 | C6: 1 | D6: =SUM(C6+B6-1) -> 300 | E6: 0 | G6: AP | H6: =MOD(B6,25) -> 0
F7: 100 | G7: RII
A9: Checksum: Sequence End - Start: | C9: =D6-C6+1 -> 300 | H9: =SUM(H6:H8) -> 0

Sheet Abs By Mail
B1: ALASKA 2024 PRIMARY ELECTION BALLOT ORDER ABSENTEE BY MAIL
D2: Numbers | F2: Sample | G2: Fascimile | I2: Registered
A3: Ballot ID# | B3: CARD - SEQUENCE | C3: # Ballots | D3: FROM | E3: TO | F3: Ballots | G3: Ballots | H3: Delivery | I3: Voters
A4: =Totals!A5 -> 800 | B4: House District 1 | C4: 500 | D4: =SUM('Federal Only'!D6)+1 -> 301 | E4: =SUM(C4+D4-1) -> 800 | H4: AP | I4: ='Dist 1'!B15 -> 15029 | J4: Region I
A5: =Totals!A6 -> 811 | B5: House District 2 | C5: 700 | D5: =SUM(E4+1) -> 801 | E5: =SUM(D5+C5-1) -> 1500 | H5: AP | I5: ='Dist 2'!B20 -> 15877
A6: =Totals!A7 -> 812 | B6: House District 3 | C6: 750 | D6: =SUM(E5+1) -> 1501 | E6: =SUM(D6+C6-1) -> 2250 | H6: AP | I6: ='Dist 3'!B15 -> 16643
A7: =Totals!A8 -> 813 | B7: House District 4 | C7: 850 | D7: =SUM(E6+1) -> 2251 | E7: =SUM(D7+C7-1) -> 3100 | H7: AP | I7: ='Dist 4'!B13 -> 15030
A8: =Totals!A9 -> 814 | B8: House District 5 | C8: 450 | D8: =SUM(E7+1) -> 3101 | E8: =SUM(D8+C8-1) -> 3550 | H8: AP | I8: ='Dist 5'!B17 -> 13928
A9: =Totals!A10 -> 816 | B9: House District 6 | C9: 1100 | D9: =SUM(E8+1) -> 3551 | E9: =SUM(D9+C9-1) -> 4650 | H9: AP | I9: ='Dist 6'!B14 -> 18012
A10: =Totals!A11 -> 817 | B10: House District 7 | C10: 850 | D10: =SUM(E9+1) -> 4651 | E10: =SUM(D10+C10-1) -> 5500 | H10: AP | I10: ='Dist 7'!B11 -> 16524 | J10: RV
A11: =Totals!A12 -> 818 | B11: House District 8 | C11: 900 | D11: =SUM(E10+1) -> 5501 | E11: =SUM(D11+C11-1) -> 6400 | H11: AP | I11: ='Dist 8'!B16 -> 16997
A12: =Totals!A13 -> 819 | B12: House District 9 | C12: 1800 | D12: =SUM(E11+1) -> 6401 | E12: =SUM(D12+C12-1) -> 8200 | H12: AP | I12: ='Dist 9'!B14 -> 16287 | J12: Region III
A13: =Totals!A14 -> 820 | B13: House District 10 | C13: 1200 | D13: =SUM(E12+1) -> 8201 | E13: =SUM(D13+C13-1) -> 9400 | H13: AP | I13: ='Dist 10'!B11 -> 14942
A14: =Totals!A15 -> 821 | B14: House District 11 | C14: 1350 | D14: =SUM(E13+1) -> 9401 | E14: =SUM(D14+C14-1) -> 10750 | H14: AP | I14: ='Dist 11'!B12 -> 15126
A15: =Totals!A16 -> 822 | B15: House District 12 | C15: 950 | D15: =SUM(E14+1) -> 10751 | E15: =SUM(D15+C15-1) -> 11700 | H15: AP | I15: ='Dist 12'!B11 -> 15061
A16: =Totals!A17 -> 823 | B16: House District 13 | C16: 750 | D16: =SUM(E15+1) -> 11701 | E16: =SUM(D16+C16-1) -> 12450 | H16: AP | I16: ='Dist 13'!B10 -> 15258
A17: =Totals!A18 -> 824 | B17: House District 14 | C17: 950 | D17: =SUM(E16+1) -> 12451 | E17: =SUM(D17+C17-1) -> 13400 | H17: AP | I17: ='Dist 14'!B12 -> 14529
A18: =Totals!A19 -> 825 | B18: House District 15 | C18: 1200 | D18: =SUM(E17+1) -> 13401 | E18: =SUM(D18+C18-1) -> 14600 | H18: AP | I18: ='Dist 15'!B11 -> 15351
A19: =Totals!A20 -> 826 | B19: House District 16 | C19: 1200 | D19: =SUM(E18+1) -> 14601 | E19: =SUM(D19+C19-1) -> 15800 | H19: AP | I19: ='Dist 16'!B12 -> 15594
A20: =Totals!A21 -> 827 | B20: House District 17 | C20: 1100 | D20: =SUM(E19+1) -> 15801 | E20: =SUM(D20+C20-1) -> 16900 | H20: AP | I20: ='Dist 17'!B12 -> 14843
A21: =Totals!A22 -> 828 | B21: House District 18 | C21: 350 | D21: =SUM(E20+1) -> 16901 | E21: =SUM(D21+C21-1) -> 17250 | H21: AP | I21: ='Dist 18'!B10 -> 11767
A22: =Totals!A23 -> 829 | B22: House District 19 | C22: 450 | D22: =SUM(E21+1) -> 17251 | E22: =SUM(D22+C22-1) -> 17700 | H22: AP | I22: ='Dist 19'!B10 -> 13171
A23: =Totals!A24 -> 830 | B23: House District 20 | C23: 850 | D23: =SUM(E22+1) -> 17701 | E23: =SUM(D23+C23-1) -> 18550 | H23: AP | I23: ='Dist 20'!B10 -> 14073
A24: =Totals!A25 -> 831 | B24: House District 21 | C24: 1250 | D24: =SUM(E23+1) -> 18551 | E24: =SUM(D24+C24-1) -> 19800 | H24: AP | I24: ='Dist 21'!B10 -> 15553
A25: =Totals!A26 -> 832 | B25: House District 22 | C25: 500 | D25: =SUM(E24+1) -> 19801 | E25: =SUM(D25+C25-1) -> 20300 | H25: AP | I25: ='Dist 22'!B9 -> 14259
A26: =Totals!A27 -> 833 | B26: House District 23 | C26: 1350 | D26: =SUM(E25+1) -> 20301 | E26: =SUM(D26+C26-1) -> 21650 | H26: AP | I26: ='Dist 23'!B11 -> 16542
A27: =Totals!A28 -> 834 | B27: House District 24 | C27: 1050 | D27: =SUM(E26+1) -> 21651 | E27: =SUM(D27+C27-1) -> 22700 | H27: AP | I27: ='Dist 24'!B12 -> 15775
A28: =Totals!A29 -> 835 | B28: House District 25 | C28: 750 | D28: =SUM(E27+1) -> 22701 | E28: =SUM(D28+C28-1) -> 23450 | H28: AP | I28: ='Dist 25'!B12 -> 16477 | J28: Region V - MS
A29: =Totals!A30 -> 836 | B29: House District 26 | C29: 600 | D29: =SUM(E28+1) -> 23451 | E29: =SUM(D29+C29-1) -> 24050 | H29: AP | I29: ='Dist 26'!B12 -> 15895
A30: =Totals!A31 -> 837 | B30: House District 27 | C30: 500 | D30: =SUM(E29+1) -> 24051 | E30: =SUM(D30+C30-1) -> 24550 | H30: AP | I30: ='Dist 27'!B10 -> 16147
A31: =Totals!A32 -> 838 | B31: House District 28 | C31: 650 | D31: =SUM(E30+1) -> 24551 | E31: =SUM(D31+C31-1) -> 25200 | H31: AP | I31: ='Dist 28'!B12 -> 15918
A32: =Totals!A33 -> 839 | B32: House District 29 | C32: 700 | D32: =SUM(E31+1) -> 25201 | E32: =SUM(D32+C32-1) -> 25900 | H32: AP | I32: ='Dist 29'!B14 -> 16504
A33: =Totals!A34 -> 840 | B33: House District 30 | C33: 750 | D33: =SUM(E32+1) -> 25901 | E33: =SUM(D33+C33-1) -> 26650 | H33: AP | I33: ='Dist 30'!B17 -> 16988
A34: =Totals!A35 -> 841 | B34: House District 31 | C34: 450 | D34: =SUM(E33+1) -> 26651 | E34: =SUM(D34+C34-1) -> 27100 | H34: AP | I34: ='Dist 31'!B9 -> 14159 | J34: Region III
A35: =Totals!A36 -> 842 | B35: House District 32 | C35: 250 | D35: =SUM(E34+1) -> 27101 | E35: =SUM(D35+C35-1) -> 27350 | H35: AP | I35: ='Dist 32'!B9 -> 11172
A36: =Totals!A37 -> 843 | B36: House District 33 | C36: 400 | D36: =SUM(E35+1) -> 27351 | E36: =SUM(D36+C36-1) -> 27750 | H36: AP | I36: ='Dist 33'!B11 -> 16047
A37: =Totals!A38 -> 844 | B37: House District 34 | C37: 750 | D37: =SUM(E36+1) -> 27751 | E37: =SUM(D37+C37-1) -> 28500 | H37: AP | I37: ='Dist 34'!B13 -> 15810
A38: =Totals!A39 -> 845 | B38: House District 35 | C38: 600 | D38: =SUM(E37+1) -> 28501 | E38: =SUM(D38+C38-1) -> 29100 | H38: AP | I38: ='Dist 35'!B13 -> 15646
A39: =Totals!A40 -> 846 | B39: House District 36 | C39: 800 | D39: =SUM(E38+1) -> 29101 | E39: =SUM(D39+C39-1) -> 29900 | H39: AP | I39: ='Dist 36'!B45 -> 15969
A40: =Totals!A41 -> 847 | B40: House District 37 | C40: 250 | D40: =SUM(E39+1) -> 29901 | E40: =SUM(D40+C40-1) -> 30150 | H40: AP | I40: ='Dist 37'!B40 -> 10033 | J40: Region IV
...

Sheet Dist 1
H1: BALLOT ID# | J1: =Totals!A5 -> 800
B3: # REGIS- | D3: # | E3: Numbers | G3: Sample | H3: Fascimile
A4: DISTRICT / PRECINCT | B4: TERED | D4: Ballots | E4: FROM | F4: TO | G4: Ballots | H4: Ballots | I4: Delivery | J4: Checksum
A5: 01-600 Ketchikan No. 1 | B5: 2243 | C5: =SUM(B5*0.65) -> 1457.95 | D5: =MROUND(C5, 25) -> 1450 | E5: =SUM('Abs By Mail'!E43,1) -> 30451 | F5: =SUM(E5+D5-1) -> 31900 | G5: 25 | I5: R1 | J5: =MOD(D5,25) -> 0
A6: 01-610 Ketchikan No. 2 | B6: 2510 | C6: =SUM(B6*0.65) -> 1631.5 | D6: =MROUND(C6, 25) -> 1625 | E6: =SUM(F5+1) -> 31901 | F6: =SUM(E6+D6-1) -> 33525 | G6: 25 | I6: R1 | J6: =MOD(D6,25) -> 0
A7: 01-620 Ketchikan No. 3 | B7: 1778 | C7: =SUM(B7*0.65) -> 1155.7 | D7: =MROUND(C7, 25) -> 1150 | E7: =SUM(F6+1) -> 33526 | F7: =SUM(E7+D7-1) -> 34675 | G7: 25 | I7: R1 | J7: =MOD(D7,25) -> 0
A8: 01-640 North Tongass No. 1 | B8: 1091 | C8: =SUM(B8*0.65) -> 709.15 | D8: =MROUND(C8, 25) -> 700 | E8: =SUM(F7+1) -> 34676 | F8: =SUM(E8+D8-1) -> 35375 | G8: 25 | I8: R1 | J8: =MOD(D8,25) -> 0
A9: 01-650 North Tongass No. 2 | B9: 1867 | C9: =SUM(B9*0.65) -> 1213.55 | D9: =MROUND(C9, 25) -> 1225 | E9: =SUM(F8+1) -> 35376 | F9: =SUM(E9+D9-1) -> 36600 | G9: 25 | I9: R1 | J9: =MOD(D9,25) -> 0
A10: 01-660 Saxman | B10: 308 | C10: =SUM(B10*0.65) -> 200.2 | D10: =MROUND(C10, 25) -> 200 | E10: =SUM(F9+1) -> 36601 | F10: =SUM(E10+D10-1) -> 36800 | G10: 25 | I10: R1 | J10: =MOD(D10,25) -> 0
A11: 01-670 South Tongass | B11: 1970 | C11: =SUM(B11*0.65) -> 1280.5 | D11: =MROUND(C11, 25) -> 1275 | E11: =SUM(F10+1) -> 36801 | F11: =SUM(E11+D11-1) -> 38075 | G11: 25 | I11: R1 | J11: 0
A12: 01-675 Coffman Cove | B12: 321 | C12: =SUM(B12*0.65) -> 208.65 | D12: =MROUND(C12, 25) -> 200 | E12: =SUM(F11+1) -> 38076 | F12: =SUM(E12+D12-1) -> 38275 | G12: 25 | I12: R1 | J12: =MOD(D12,25) -> 0
A13: 01-680 Metlakatla | B13: 1020 | C13: =SUM(B13*0.65) -> 663 | D13: =MROUND(C13, 25) -> 675 | E13: =SUM(F12+1) -> 38276 | F13: =SUM(E13+D13-1) -> 38950 | G13: 25 | I13: R1 | J13: =MOD(D13,25) -> 0
A14: 01-690 Wrangell | B14: 1921 | C14: =SUM(B14*0.65) -> 1248.65 | D14: =MROUND(C14, 25) -> 1250 | E14: =SUM(F13+1) -> 38951 | F14: =SUM(E14+D14-1) -> 40200 | G14: 25 | I14: R1 | J14: =MOD(D14,25) -> 0
A15: TOTAL PRECINCT BALLOTS DIST. 1 | B15: =SUM(B5:B14) -> 15029 | D15: =SUM(D5:D14) -> 9750
A17: ABSENTEE OFFICIALS & STATIONS:
A18: ANCHORAGE
A19: 92-900 Anchorage Elections Office | D19: 100 | E19: =SUM(F14+1) -> 40201 | F19: =SUM(E19+D19-1) -> 40300 | G19: 10 | I19: R2 | J19: =MOD(D19,25) -> 0
A20: 92-902 Anchorage Airport | D20: 25 | E20: =SUM(F19+1) -> 40301 | F20: =SUM(E20+D20-1) -> 40325 | G20: 5 | I20: R2 | J20: =MOD(D20,25) -> 0
A21: 92-905 Downtown Anchorage | D21: 50 | E21: =SUM(F20+1) -> 40326 | F21: =SUM(E21+D21-1) -> 40375 | G21: 5 | I21: R2 | J21: =MOD(D21,25) -> 0
A23: MAT-SU
A24: 95-900 Mat-Su Elections Office | D24: 25 | E24: =SUM(F21+1) -> 40376 | F24: =SUM(E24+D24-1) -> 40400 | G24: 5 | I24: R5 | J24: =MOD(D24,25) -> 0
A26: FAIRBANKS
A27: 93-900 Fairbanks Elections Office | D27: 25 | E27: =SUM(F24+1) -> 40401 | F27: =SUM(E27+D27-1) -> 40425 | G27: 5 | I27: R3 | J27: =MOD(D27,25) -> 0
A29: JUNEAU
A30: 91-900 Juneau Elections Office | D30: 100 | E30: =SUM(F27+1) -> 40426 | F30: =SUM(E30+D30-1) -> 40525 | G30: 25 | H30: 125 | I30: R1 | J30: =MOD(D30,25) -> 0
A31: 91-902 Juneau Downtown | D31: 100 | E31: =SUM(F30+1) -> 40526 | F31: =SUM(E31+D31-1) -> 40625 | G31: 25 | I31: R1 | J31: =MOD(D31,25) -> 0
A32: 01-920 Coffman Cove AVO | D32: 50 | E32: =SUM(F31+1) -> 40626 | F32: =SUM(E32+D32-1) -> 40675 | G32: 5 | I32: R1 | J32: =MOD(D32,25) -> 0
A33: 01-922 Hyder AVO | D33: 50 | E33: =SUM(F32+1) -> 40676 | F33: =SUM(E33+D33-1) -> 40725 | G33: 5 | I33: R1 | J33: =MOD(D33,25) -> 0
A34: 01-924 Ketchikan AVO | D34: 1200 | E34: =SUM(F33+1) -> 40726 | F34: =SUM(E34+D34-1) -> 41925 | G34: 25 | I34: R1 | J34: =MOD(D34,25) -> 0
A35: 01-926 Metlakatla AVO | D35: 75 | E35: =SUM(F34+1) -> 41926 | F35: =SUM(E35+D35-1) -> 42000 | G35: 15 | I35: R1 | J35: =MOD(D35,25) -> 0
A36: 01-928 Whale Pass AVO | D36: 100 | E36: =SUM(F35+1) -> 42001 | F36: =SUM(E36+D36-1) -> 42100 | G36: 5 | I36: R1 | J36: =MOD(D36,25) -> 0
A37: 01-930 Wrangell AVO | D37: 350 | E37: =SUM(F36+1) -> 42101 | F37: =SUM(E37+D37-1) -> 42450 | G37: 25 | I37: R1 | J37: =MOD(D37,25) -> 0
A39: NOME
A40: 94-900 Nome Elections Office | D40: 25 | E40: =SUM(F37+1) -> 42451 | F40: =SUM(E40+D40-1) -> 42475 | G40: 5 | I40: R4 | J40: =MOD(D40,25) -> 0
A41: 94-901 Prudhoe Bay Station | D41: 25 | E41: =SUM(F40+1) -> 42476 | F41: =SUM(E41+D41-1) -> 42500 | G41: 5 | I41: R4 | J41: =MOD(D41,25) -> 0
A42: TOTAL ABSENTEE BALLOTS - DIST. 1 | D42: =SUM(D19:D41) -> 2300
A44: TOTAL DISTRICT 1 BALLOTS | D44: =D15+D42 -> 12050 | G44: =SUM(G5:G41) -> 420 | H44: =SUM(H5:H41) -> 125 | J44: =SUM(J5:J41) -> 0
A47: Checksum: Sequence End - Start: | D47: =F41-E5+1 -> 12050

Sheet Dist 2
H1: BALLOT ID# | J1: =Totals!A6 -> 811
B3: # REGIS- | D3: # | E3: Numbers | G3: Sample | H3: Fascimile
A4: DISTRICT / PRECINCT | B4: TERED | D4: Ballots | E4: FROM | F4: TO | G4: Ballots | H4: Ballots | I4: Delivery | J4: Checksum
A5: 02-700 Angoon | B5: 308 | C5: =SUM(B5*0.65) -> 200.2 | D5: =MROUND(C5, 25) -> 200 | E5: =SUM('Dist 1'!F41,1) -> 42501 | F5: =SUM(E5+D5-1) -> 42700 | G5: 25 | I5: R1 | J5: =MOD(D5,25) -> 0
A6: 02-705 Craig | B6: 1179 | C6: =SUM(B6*0.65) -> 766.35 | D6: =MROUND(C6, 25) -> 775 | E6: =SUM(F5+1) -> 42701 | F6: =SUM(E6+D6-1) -> 43475 | G6: 25 | I6: R1 | J6: =MOD(D6,25) -> 0
A7: 02-720 Hoonah | B7: 692 | C7: =SUM(B7*0.65) -> 449.8 | D7: =MROUND(C7, 25) -> 450 | E7: =SUM(F6+1) -> 43476 | F7: =SUM(E7+D7-1) -> 43925 | G7: 25 | I7: R1 | J7: =MOD(D7,25) -> 0
A8: 02-725 Hydaburg | B8: 280 | C8: =SUM(B8*0.65) -> 182 | D8: =MROUND(C8, 25) -> 175 | E8: =SUM(F7+1) -> 43926 | F8: =SUM(E8+D8-1) -> 44100 | G8: 25 | I8: R1 | J8: =MOD(D8,25) -> 0
A9: 02-730 Kake | B9: 356 | C9: =SUM(B9*0.65) -> 231.4 | D9: =MROUND(C9, 25) -> 225 | E9: =SUM(F8+1) -> 44101 | F9: =SUM(E9+D9-1) -> 44325 | G9: 25 | I9: R1 | J9: =MOD(D9,25) -> 0
A10: 02-735 Kasaan | B10: 58 | C10: =SUM(B10*0.65) -> 37.7 | D10: =MROUND(C10, 25) -> 50 | E10: =SUM(F9+1) -> 44326 | F10: =SUM(E10+D10-1) -> 44375 | G10: 25 | I10: R1 | J10: =MOD(D10,25) -> 0
A11: 02-740 Klawock | B11: 1303 | C11: =SUM(B11*0.65) -> 846.95 | D11: =MROUND(C11, 25) -> 850 | E11: =SUM(F10+1) -> 44376 | F11: =SUM(E11+D11-1) -> 45225 | G11: 25 | I11: R1 | J11: =MOD(D11,25) -> 0
A12: 02-750 Pelican-Elfin Cove | B12: 150 | C12: =SUM(B12*0.65) -> 97.5 | D12: 75 | E12: =SUM(F11+1) -> 45226 | F12: =SUM(E12+D12-1) -> 45300 | G12: 25 | I12: R1 | J12: =MOD(D12,25) -> 0
A13: 02-755 Petersburg-Kupreanof | B13: 2990 | C13: =SUM(B13*0.65) -> 1943.5 | D13: =MROUND(C13, 25) -> 1950 | E13: =SUM(F12+1) -> 45301 | F13: =SUM(E13+D13-1) -> 47250 | G13: 25 | I13: R1 | J13: =MOD(D13,25) -> 0
A14: 02-760 Port Alexander | B14: 46 | C14: =SUM(B14*0.65) -> 29.9 | D14: 50 | E14: =SUM(F13+1) -> 47251 | F14: =SUM(E14+D14-1) -> 47300 | G14: 25 | I14: R1 | J14: =MOD(D14,25) -> 0
A15: 02-765 Sitka No. 1 | B15: 3612 | C15: =SUM(B15*0.65) -> 2347.8 | D15: =MROUND(C15, 25) -> 2350 | E15: =SUM(F14+1) -> 47301 | F15: =SUM(E15+D15-1) -> 49650 | G15: 25 | I15: R1 | J15: =MOD(D15,25) -> 0
A16: 02-770 Sitka No. 2 | B16: 3731 | C16: =SUM(B16*0.65) -> 2425.15 | D16: =MROUND(C16, 25) -> 2425 | E16: =SUM(F15+1) -> 49651 | F16: =SUM(E16+D16-1) -> 52075 | G16: 25 | I16: R1 | J16: =MOD(D16,25) -> 0
A17: 02-775 Tenakee Springs | B17: 123 | C17: =SUM(B17*0.65) -> 79.95 | D17: 100 | E17: =SUM(F16+1) -> 52076 | F17: =SUM(E17+D17-1) -> 52175 | G17: 25 | I17: R1 | J17: =MOD(D17,25) -> 0
A18: 02-780 Thorne Bay | B18: 545 | C18: =SUM(B18*0.65) -> 354.25 | D18: =MROUND(C18, 25) -> 350 | E18: =SUM(F17+1) -> 52176 | F18: =SUM(E18+D18-1) -> 52525 | G18: 25 | I18: R1 | J18: =MOD(D18,25) -> 0
A19: 02-785 Yakutat | B19: 504 | C19: =SUM(B19*0.65) -> 327.6 | D19: =MROUND(C19, 25) -> 325 | E19: =SUM(F18+1) -> 52526 | F19: =SUM(E19+D19-1) -> 52850 | G19: 25 | I19: R1 | J19: 0
A20: TOTAL PRECINCT BALLOTS DIST. 2 | B20: =SUM(B5:B19) -> 15877 | D20: =SUM(D5:D19) -> 10350
A22: ABSENTEE OFFICIALS & STATIONS:
A23: ANCHORAGE
A24: 92-900 Anchorage Elections Office | D24: 100 | E24: =SUM(F19+1) -> 52851 | F24: =SUM(E24+D24-1) -> 52950 | G24: 10 | I24: R2 | J24: =MOD(D24,25) -> 0
A25: 92-902 Anchorage Airport | D25: 25 | E25: =SUM(F24+1) -> 52951 | F25: =SUM(E25+D25-1) -> 52975 | G25: 5 | I25: R2 | J25: =MOD(D25,25) -> 0
A26: 92-905 Downtown Anchorage | D26: 50 | E26: =SUM(F25+1) -> 52976 | F26: =SUM(E26+D26-1) -> 53025 | G26: 5 | I26: R2 | J26: =MOD(D26,25) -> 0
A28: MAT-SU
A29: 95-900 Mat-Su Elections Office | D29: 25 | E29: =SUM(F26+1) -> 53026 | F29: =SUM(E29+D29-1) -> 53050 | G29: 5 | I29: R5 | J29: =MOD(D29,25) -> 0
A31: FAIRBANKS
A32: 93-900 Fairbanks Elections Office | D32: 25 | E32: =SUM(F29+1) -> 53051 | F32: =SUM(E32+D32-1) -> 53075 | G32: 5 | I32: R3 | J32: =MOD(D32,25) -> 0
A34: JUNEAU
A35: 91-900 Juneau Elections Office | D35: 150 | E35: =SUM(F32+1) -> 53076 | F35: =SUM(E35+D35-1) -> 53225 | G35: 25 | H35: 125 | I35: R1 | J35: =MOD(D35,25) -> 0
A36: 91-902 Juneau Downtown | D36: 75 | E36: =SUM(F35+1) -> 53226 | F36: =SUM(E36+D36-1) -> 53300 | G36: 25 | I36: R1 | J36: =MOD(D36,25) -> 0
A37: 02-932 Angoon AVO | D37: 100 | E37: =SUM(F36+1) -> 53301 | F37: =SUM(E37+D37-1) -> 53400 | G37: 5 | I37: R1 | J37: =MOD(D37,25) -> 0
A38: 02-934 Craig AVO | D38: 225 | E38: =SUM(F37+1) -> 53401 | F38: =SUM(E38+D38-1) -> 53625 | G38: 5 | I38: R1 | J38: =MOD(D38,25) -> 0
A39: 02-936 Elfin Cove AVO | D39: 50 | E39: =SUM(F38+1) -> 53626 | F39: =SUM(E39+D39-1) -> 53675 | G39: 5 | I39: R1 | J39: =MOD(D39,25) -> 0
A40: 02-938 Hollis AVO | D40: 100 | E40: =SUM(F39+1) -> 53676 | F40: =SUM(E40+D40-1) -> 53775 | G40: 5 | I40: R1 | J40: =MOD(D40,25) -> 0
A41: 02-940 Hoonah AVO | D41: 100 | E41: =SUM(F40+1) -> 53776 | F41: =SUM(E41+D41-1) -> 53875 | G41: 5 | I41: R1 | J41: =MOD(D41,25) -> 0
A42: 02-942 Hydaburg AVO | D42: 50 | E42: =SUM(F41+1) -> 53876 | F42: =SUM(E42+D42-1) -> 53925 | G42: 5 | I42: R1 | J42: =MOD(D42,25) -> 0
A43: 02-944 Kake AVO | D43: 75 | E43: =SUM(F42+1) -> 53926 | F43: =SUM(E43+D43-1) -> 54000 | G43: 5 | I43: R1 | J43: =MOD(D43,25) -> 0
A44: 02-946 Kasaan AVO | D44: 50 | E44: =SUM(F43+1) -> 54001 | F44: =SUM(E44+D44-1) -> 54050 | G44: 5 | I44: R1 | J44: =MOD(D44,25) -> 0
A45: 02-948 Klawock AVO | D45: 75 | E45: =SUM(F44+1) -> 54051 | F45: =SUM(E45+D45-1) -> 54125 | G45: 5 | I45: R1 | J45: =MOD(D45,25) -> 0
...

Sheet Dist 3
H1: BALLOT ID# | J1: =Totals!A7 -> 812
B3: # REGIS- | D3: # | E3: Numbers | G3: Sample | H3: Fascimile
A4: DISTRICT / PRECINCT | B4: TERED | D4: Ballots | E4: FROM | F4: TO | G4: Ballots | H4: Ballots | I4: Delivery | J4: Checksum
A5: 03-300 Auke Bay | B5: 2033 | C5: =SUM(B5*0.65) -> 1321.45 | D5: =MROUND(C5, 25) -> 1325 | E5: =SUM('Dist 2'!F59,1) -> 56301 | F5: =SUM(E5+D5-1) -> 57625 | G5: 25 | I5: R1 | J5: =MOD(D5,25) -> 0
A6: 03-305 Lynn Canal | B6: 1385 | C6: =SUM(B6*0.65) -> 900.25 | D6: =MROUND(C6, 25) -> 900 | E6: =SUM(F5+1) -> 57626 | F6: =SUM(E6+D6-1) -> 58525 | G6: 25 | I6: R1 | J6: =MOD(D6,25) -> 0
A7: 03-310 Melvin Park | B7: 2269 | C7: =SUM(B7*0.65) -> 1474.85 | D7: =MROUND(C7, 25) -> 1475 | E7: =SUM(F6+1) -> 58526 | F7: =SUM(E7+D7-1) -> 60000 | G7: 25 | I7: R1 | J7: =MOD(D7,25) -> 0
A8: 03-315 Mendenhall Glacier | B8: 3292 | C8: =SUM(B8*0.65) -> 2139.8 | D8: =MROUND(C8, 25) -> 2150 | E8: =SUM(F7+1) -> 60001 | F8: =SUM(E8+D8-1) -> 62150 | G8: 25 | I8: R1 | J8: =MOD(D8,25) -> 0
A9: 03-320 Thunder Mountain | B9: 3458 | C9: =SUM(B9*0.65) -> 2247.7 | D9: =MROUND(C9, 25) -> 2250 | E9: =SUM(F8+1) -> 62151 | F9: =SUM(E9+D9-1) -> 64400 | G9: 25 | I9: R1 | J9: =MOD(D9,25) -> 0
A10: 03-325 Gustavus | B10: 573 | C10: =SUM(B10*0.65) -> 372.45 | D10: =MROUND(C10, 25) -> 375 | E10: =SUM(F9+1) -> 64401 | F10: =SUM(E10+D10-1) -> 64775 | G10: 25 | I10: R1 | J10: 0
A11: 03-330 Haines No. 1 | B11: 2090 | C11: =SUM(B11*0.65) -> 1358.5 | D11: =MROUND(C11, 25) -> 1350 | E11: =SUM(F10+1) -> 64776 | F11: =SUM(E11+D11-1) -> 66125 | G11: 25 | I11: R1 | J11: 0
A12: 03-335 Haines No. 2 | B12: 309 | C12: =SUM(B12*0.65) -> 200.85 | D12: =MROUND(C12, 25) -> 200 | E12: =SUM(F11+1) -> 66126 | F12: =SUM(E12+D12-1) -> 66325 | G12: 25 | I12: R1 | J12: 0
A13: 03-340 Klukwan | B13: 69 | C13: =SUM(B13*0.65) -> 44.85 | D13: 75 | E13: =SUM(F12+1) -> 66326 | F13: =SUM(E13+D13-1) -> 66400 | G13: 25 | I13: R1 | J13: 0
A14: 03-345 Skagway | B14: 1165 | C14: =SUM(B14*0.65) -> 757.25 | D14: =MROUND(C14, 25) -> 750 | E14: =SUM(F13+1) -> 66401 | F14: =SUM(E14+D14-1) -> 67150 | G14: 25 | I14: R1 | J14: =MOD(D14,25) -> 0
A15: TOTAL PRECINCT BALLOTS DIST. 3 | B15: =SUM(B5:B14) -> 16643 | D15: =SUM(D5:D14) -> 10850
A17: ABSENTEE OFFICIALS & STATIONS:
A18: ANCHORAGE
A19: 92-900 Anchorage Elections Office | D19: 100 | E19: =SUM(F14+1) -> 67151 | F19: =SUM(E19+D19-1) -> 67250 | G19: 10 | I19: R2 | J19: =MOD(D19,25) -> 0
A20: 92-902 Anchorage Airport | D20: 25 | E20: =SUM(F19+1) -> 67251 | F20: =SUM(E20+D20-1) -> 67275 | G20: 5 | I20: R2 | J20: =MOD(D20,25) -> 0
A21: 92-905 Downtown Anchorage | D21: 50 | E21: =SUM(F20+1) -> 67276 | F21: =SUM(E21+D21-1) -> 67325 | G21: 5 | I21: R2 | J21: =MOD(D21,25) -> 0
A23: MAT-SU
A24: 95-900 Mat-Su Elections Office | D24: 25 | E24: =SUM(F21+1) -> 67326 | F24: =SUM(E24+D24-1) -> 67350 | G24: 5 | I24: R5 | J24: =MOD(D24,25) -> 0
A26: FAIRBANKS
A27: 93-900 Fairbanks Elections Office | D27: 25 | E27: =SUM(F24+1) -> 67351 | F27: =SUM(E27+D27-1) -> 67375 | G27: 5 | I27: R3 | J27: =MOD(D27,25) -> 0
A29: JUNEAU
A30: 91-900 Juneau Elections Office | D30: 2000 | E30: =SUM(F27+1) -> 67376 | F30: =SUM(E30+D30-1) -> 69375 | G30: 100 | H30: 200 | I30: R1 | J30: =MOD(D30,25) -> 0
A31: 91-902 Juneau Downtown | D31: 2000 | E31: =SUM(F30+1) -> 69376 | F31: =SUM(E31+D31-1) -> 71375 | G31: 100 | I31: R1 | J31: =MOD(D31,25) -> 0
A32: 03-968 Gustavus AVO | D32: 250 | E32: =SUM(F31+1) -> 71376 | F32: =SUM(E32+D32-1) -> 71625 | G32: 25 | J32: =MOD(D32,25) -> 0
A33: 03-970 Skagway AVO | D33: 350 | E33: =SUM(F32+1) -> 71626 | F33: =SUM(E33+D33-1) -> 71975 | G33: 25 | I33: R1 | J33: =MOD(D33,25) -> 0
A34: 03-972 Haines AVO | D34: 350 | E34: =SUM(F33+1) -> 71976 | F34: =SUM(E34+D34-1) -> 72325 | G34: 25 | I34: R1 | J34: =MOD(D34,25) -> 0
A35: 03-974 Klukwan AVO | D35: 75 | E35: =SUM(F34+1) -> 72326 | F35: =SUM(E35+D35-1) -> 72400 | G35: 10 | I35: R1 | J35: =MOD(D35,25) -> 0
A37: NOME
A38: 94-900 Nome Elections Office | D38: 25 | E38: =SUM(F35+1) -> 72401 | F38: =SUM(E38+D38-1) -> 72425 | G38: 5 | I38: R4 | J38: =MOD(D38,25) -> 0
A39: 94-901 Prudhoe Bay Station | D39: 25 | E39: =SUM(F38+1) -> 72426 | F39: =SUM(E39+D39-1) -> 72450 | G39: 5 | I39: R4 | J39: =MOD(D39,25) -> 0
A40: TOTAL ABSENTEE BALLOTS - DIST. 3 | D40: =SUM(D19:D39) -> 5300
A42: TOTAL DISTRICT 3 BALLOTS | D42: =D15+D40 -> 16150 | G42: =SUM(G5:G39) -> 575 | H42: =SUM(H5:H39) -> 200 | J42: =SUM(J5:J39) -> 0
A45: Checksum: Sequence End - Start: | D45: =F39-E5+1 -> 16150

Sheet Dist 4
H1: BALLOT ID# | J1: =Totals!A8 -> 813
B3: # REGIS- | D3: # | E3: Numbers | G3: Sample | H3: Fascimile
A4: DISTRICT / PRECINCT | B4: TERED | D4: Ballots | E4: FROM | F4: TO | G4: Ballots | H4: Ballots | I4: Delivery | J4: Checksum
A5: 04-100 Douglas | B5: 1731 | C5: =SUM(B5*0.65) -> 1125.15 | D5: =MROUND(C5, 25) -> 1125 | E5: =SUM('Dist 3'!F39,1) -> 72451 | F5: =SUM(E5+D5-1) -> 73575 | G5: 25 | I5: R1 | J5: =MOD(D5,25) -> 0
A6: 04-105 Juneau Airport Area | B6: 1533 | C6: =SUM(B6*0.65) -> 996.45 | D6: =MROUND(C6, 25) -> 1000 | E6: =SUM(F5+1) -> 73576 | F6: =SUM(E6+D6-1) -> 74575 | G6: 25 | I6: R1 | J6: =MOD(D6,25) -> 0
A7: 04-110 Juneau No. 1 | B7: 2322 | C7: =SUM(B7*0.65) -> 1509.3 | D7: =MROUND(C7, 25) -> 1500 | E7: =SUM(F6+1) -> 74576 | F7: =SUM(E7+D7-1) -> 76075 | G7: 25 | I7: R1 | J7: =MOD(D7,25) -> 0
A8: 04-115 Juneau No. 2 | B8: 2334 | C8: =SUM(B8*0.65) -> 1517.1 | D8: =MROUND(C8, 25) -> 1525 | E8: =SUM(F7+1) -> 76076 | F8: =SUM(E8+D8-1) -> 77600 | G8: 25 | I8: R1 | J8: =MOD(D8,25) -> 0
A9: 04-120 Juneau No. 3 | B9: 1091 | C9: =SUM(B9*0.65) -> 709.15 | D9: =MROUND(C9, 25) -> 700 | E9: =SUM(F8+1) -> 77601 | F9: =SUM(E9+D9-1) -> 78300 | G9: 25 | I9: R1 | J9: =MOD(D9,25) -> 0
A10: 04-125 Lemon Creek | B10: 2403 | C10: =SUM(B10*0.65) -> 1561.95 | D10: =MROUND(C10, 25) -> 1550 | E10: =SUM(F9+1) -> 78301 | F10: =SUM(E10+D10-1) -> 79850 | G10: 25 | I10: R1 | J10: =MOD(D10,25) -> 0
A11: 04-130 Glacier Valley Area | B11: 2155 | C11: =SUM(B11*0.65) -> 1400.75 | D11: =MROUND(C11, 25) -> 1400 | E11: =SUM(F10+1) -> 79851 | F11: =SUM(E11+D11-1) -> 81250 | G11: 25 | I11: R1 | J11: =MOD(D11,25) -> 0
A12: 04-135 North Douglas | B12: 1461 | C12: =SUM(B12*0.65) -> 949.65 | D12: =MROUND(C12, 25) -> 950 | E12: =SUM(F11+1) -> 81251 | F12: =SUM(E12+D12-1) -> 82200 | G12: 25 | I12: R1 | J12: =MOD(D12,25) -> 0
A13: TOTAL PRECINCT BALLOTS DIST. 4 | B13: =SUM(B5:B12) -> 15030 | D13: =SUM(D5:D12) -> 9750
A15: ABSENTEE OFFICIALS & STATIONS:
A16: ANCHORAGE
A17: 92-900 Anchorage Elections Office | D17: 100 | E17: =SUM(F12+1) -> 82201 | F17: =SUM(E17+D17-1) -> 82300 | G17: 10 | I17: R2 | J17: =MOD(D17,25) -> 0
A18: 92-902 Anchorage Airport | D18: 25 | E18: =SUM(F17+1) -> 82301 | F18: =SUM(E18+D18-1) -> 82325 | G18: 5 | I18: R2 | J18: =MOD(D18,25) -> 0
A19: 92-905 Downtown Anchorage | D19: 50 | E19: =SUM(F18+1) -> 82326 | F19: =SUM(E19+D19-1) -> 82375 | G19: 5 | I19: R2 | J19: =MOD(D19,25) -> 0
A21: MAT-SU
A22: 95-900 Mat-Su Elections Office | D22: 25 | E22: =SUM(F19+1) -> 82376 | F22: =SUM(E22+D22-1) -> 82400 | G22: 5 | I22: R5 | J22: =MOD(D22,25) -> 0
A24: FAIRBANKS
A25: 93-900 Fairbanks Elections Office | D25: 25 | E25: =SUM(F22+1) -> 82401 | F25: =SUM(E25+D25-1) -> 82425 | G25: 5 | I25: R3 | J25: =MOD(D25,25) -> 0
A27: JUNEAU
A28: 91-900 Juneau Elections Office | D28: 2000 | E28: =SUM(F25+1) -> 82426 | F28: =SUM(E28+D28-1) -> 84425 | G28: 100 | H28: 200 | I28: R1 | J28: =MOD(D28,25) -> 0
A29: 91-902 Juneau Downtown | D29: 2000 | E29: =SUM(F28+1) -> 84426 | F29: =SUM(E29+D29-1) -> 86425 | G29: 100 | I29: R1 | J29: =MOD(D29,25) -> 0
A31: NOME
A32: 94-900 Nome Elections Office | D32: 25 | E32: =SUM(F29+1) -> 86426 | F32: =SUM(E32+D32-1) -> 86450 | G32: 5 | I32: R4 | J32: =MOD(D32,25) -> 0
A33: 94-901 Prudhoe Bay Station | D33: 25 | E33: =SUM(F32+1) -> 86451 | F33: =SUM(E33+D33-1) -> 86475 | G33: 5 | I33: R4 | J33: =MOD(D33,25) -> 0
A34: TOTAL ABSENTEE BALLOTS - DIST. 4 | D34: =SUM(D16:D33) -> 4275
A36: TOTAL DISTRICT 4 BALLOTS | D36: =D13+D34 -> 14025 | G36: =SUM(G5:G34) -> 440 | H36: =SUM(H5:H34) -> 200 | J36: =SUM(J5:J34) -> 0
A39: Checksum: Sequence End - Start: | D39: =F33-E5+1 -> 14025

Sheet Dist 5
H1: BALLOT ID# | J1: =Totals!A9 -> 814
B3: # REGIS- | D3: # | E3: Numbers | G3: Sample | H3: Fascimile
A4: DISTRICT / PRECINCT | B4: TERED | D4: Ballots | E4: FROM | F4: TO | G4: Ballots | H4: Ballots | I4: Delivery | J4: Checksum
A5: 05-800 Chiniak | B5: 135 | C5: =SUM(B5*0.65) -> 87.75 | D5: =MROUND(C5, 25) -> 100 | E5: =SUM('Dist 4'!F33+1) -> 86476 | F5: =SUM(E5+D5-1) -> 86575 | G5: 25 | I5: R1 | J5: =MOD(D5,25) -> 0
A6: 05-810 Flats | B6: 1782 | C6: =SUM(B6*0.65) -> 1158.3 | D6: =MROUND(C6, 25) -> 1150 | E6: =SUM(F5+1) -> 86576 | F6: =SUM(E6+D6-1) -> 87725 | G6: 25 | I6: R1 | J6: =MOD(D6,25) -> 0
A7: 05-815 Kodiak Island South | B7: 159 | C7: =SUM(B7*0.65) -> 103.35 | D7: 75 | E7: =SUM(F6+1) -> 87726 | F7: =SUM(E7+D7-1) -> 87800 | G7: 25 | I7: R1 | J7: =MOD(D7,25) -> 0
A8: 05-820 Kodiak No. 1 | B8: 1951 | C8: =SUM(B8*0.65) -> 1268.15 | D8: =MROUND(C8, 25) -> 1275 | E8: =SUM(F7+1) -> 87801 | F8: =SUM(E8+D8-1) -> 89075 | G8: 25 | I8: R1 | J8: =MOD(D8,25) -> 0
A9: 05-825 Kodiak No. 2 | B9: 1983 | C9: =SUM(B9*0.65) -> 1288.95 | D9: =MROUND(C9, 25) -> 1300 | E9: =SUM(F8+1) -> 89076 | F9: =SUM(E9+D9-1) -> 90375 | G9: 25 | I9: R1 | J9: =MOD(D9,25) -> 0
A10: 05-830 Mission Road | B10: 3514 | C10: =SUM(B10*0.65) -> 2284.1 | D10: =MROUND(C10, 25) -> 2275 | E10: =SUM(F9+1) -> 90376 | F10: =SUM(E10+D10-1) -> 92650 | G10: 25 | I10: R1 | J10: =MOD(D10,25) -> 0
A11: 05-835 Old Harbor | B11: 125 | C11: =SUM(B11*0.65) -> 81.25 | D11: =MROUND(C11, 25) -> 75 | E11: =SUM(F10+1) -> 92651 | F11: =SUM(E11+D11-1) -> 92725 | G11: 25 | I11: R1 | J11: =MOD(D11,25) -> 0
A12: 05-840 Ouzinke | B12: 140 | C12: =SUM(B12*0.65) -> 91 | D12: =MROUND(C12, 25) -> 100 | E12: =SUM(F11+1) -> 92726 | F12: =SUM(E12+D12-1) -> 92825 | G12: 25 | I12: R1 | J12: =MOD(D12,25) -> 0
A13: 05-845 Port Lions | B13: 174 | C13: =SUM(B13*0.65) -> 113.1 | D13: =MROUND(C13, 25) -> 125 | E13: =SUM(F12+1) -> 92826 | F13: =SUM(E13+D13-1) -> 92950 | G13: 25 | I13: R1 | J13: =MOD(D13,25) -> 0
A14: 05-860 Cordova | B14: 1987 | C14: =SUM(B14*0.65) -> 1291.55 | D14: =MROUND(C14, 25) -> 1300 | E14: =SUM(F13+1) -> 92951 | F14: =SUM(E14+D14-1) -> 94250 | G14: 25 | I14: R1 | J14: =MOD(D14,25) -> 0
A15: 05-865 Seward-Lowell Point | B15: 1861 | C15: =SUM(B15*0.65) -> 1209.65 | D15: =MROUND(C15, 25) -> 1200 | E15: =SUM(F14+1) -> 94251 | F15: =SUM(E15+D15-1) -> 95450 | G15: 25 | I15: R6 | J15: =MOD(D15,25) -> 0
A16: 05-870 Tatitlek | B16: 117 | C16: =SUM(B16*0.65) -> 76.05 | D16: =MROUND(C16, 25) -> 75 | E16: =SUM(F15+1) -> 95451 | F16: =SUM(E16+D16-1) -> 95525 | G16: 25 | I16: R1 | J16: =MOD(D16,25) -> 0
A17: TOTAL PRECINCT BALLOTS DIST. 5 | B17: =SUM(B5:B16) -> 13928 | D17: =SUM(D5:D16) -> 9050
A19: ABSENTEE OFFICIALS & STATIONS:
A20: ANCHORAGE
A21: 92-900 Anchorage Elections Office | D21: 100 | E21: =SUM(F16+1) -> 95526 | F21: =SUM(E21+D21-1) -> 95625 | G21: 10 | I21: R2 | J21: =MOD(D21,25) -> 0
A22: 92-902 Anchorage Airport | D22: 25 | E22: =SUM(F21+1) -> 95626 | F22: =SUM(E22+D22-1) -> 95650 | G22: 5 | I22: R2 | J22: =MOD(D22,25) -> 0
A23: 92-905 Downtown Anchorage | D23: 50 | E23: =SUM(F22+1) -> 95651 | F23: =SUM(E23+D23-1) -> 95700 | G23: 5 | I23: R2 | J23: =MOD(D23,25) -> 0
A25: MAT-SU
A26: 95-900 Mat-Su Elections Office | D26: 25 | E26: =SUM(F23+1) -> 95701 | F26: =SUM(E26+D26-1) -> 95725 | G26: 5 | I26: R5 | J26: =MOD(D26,25) -> 0
A27: 95-901 Soldotna | D27: 250 | E27: =SUM(F26+1) -> 95726 | F27: =SUM(E27+D27-1) -> 95975 | G27: 10 | I27: R6 | J27: 0
A28: 95-902 Kenai City | D28: 50 | E28: =SUM(F27+1) -> 95976 | F28: =SUM(E28+D28-1) -> 96025 | G28: 10 | I28: R6 | J28: 0
A30: FAIRBANKS
A31: 93-900 Fairbanks Elections Office | D31: 25 | E31: =SUM(F28+1) -> 96026 | F31: =SUM(E31+D31-1) -> 96050 | G31: 5 | I31: R3 | J31: =MOD(D31,25) -> 0
A33: JUNEAU
A34: 91-900 Juneau Elections Office | D34: 150 | E34: =SUM(F31+1) -> 96051 | F34: =SUM(E34+D34-1) -> 96200 | G34: 25 | H34: 175 | I34: R1 | J34: =MOD(D34,25) -> 0
A35: 91-902 Juneau Downtown | D35: 100 | E35: =SUM(F34+1) -> 96201 | F35: =SUM(E35+D35-1) -> 96300 | G35: 25 | I35: R1 | J35: =MOD(D35,25) -> 0
A36: 91-905 Seward AVO/AVM | D36: 300 | E36: =SUM(F35+1) -> 96301 | F36: =SUM(E36+D36-1) -> 96600 | G36: 25 | I36: R1 | J36: =MOD(D36,25) -> 0
A37: 91-906 Homer Early Vote | D37: 150 | E37: =SUM(F36+1) -> 96601 | F37: =SUM(E37+D37-1) -> 96750 | G37: 25 | I37: R1 | J37: =MOD(D37,25) -> 0
A38: 05-976 Cordova AVO | D38: 500 | E38: =SUM(F37+1) -> 96751 | F38: =SUM(E38+D38-1) -> 97250 | G38: 25 | I38: R1 | J38: =MOD(D38,25) -> 0
A39: 05-978 Kodiak AVO | D39: 750 | E39: =SUM(F38+1) -> 97251 | F39: =SUM(E39+D39-1) -> 98000 | G39: 25 | I39: R1 | J39: =MOD(D39,25) -> 0
A40: 05-980 Larsen Bay AVO | D40: 125 | E40: =SUM(F39+1) -> 98001 | F40: =SUM(E40+D40-1) -> 98125 | G40: 10 | I40: R1 | J40: =MOD(D40,25) -> 0
A41: 05-982 Ouzinkie AVO | D41: 50 | E41: =SUM(F40+1) -> 98126 | F41: =SUM(E41+D41-1) -> 98175 | G41: 10 | I41: R1 | J41: =MOD(D41,25) -> 0
A42: 05-984 Port Lions AVO | D42: 50 | E42: =SUM(F41+1) -> 98176 | F42: =SUM(E42+D42-1) -> 98225 | G42: 10 | I42: R1 | J42: =MOD(D42,25) -> 0
A44: NOME
A45: 94-900 Nome Elections Office | D45: 25 | E45: =SUM(F42+1) -> 98226 | F45: =SUM(E45+D45-1) -> 98250 | G45: 5 | I45: R4 | J45: =MOD(D45,25) -> 0
A46: 94-901 Prudhoe Bay Station | D46: 50 | E46: =SUM(F45+1) -> 98251 | F46: =SUM(E46+D46-1) -> 98300 | G46: 5 | I46: R4 | J46: =MOD(D46,25) -> 0
...

Sheet Dist 6
H1: BALLOT ID# | J1: =Totals!A10 -> 816
B3: # REGIS- | D3: # | E3: Numbers | G3: Sample | H3: Fascimile
A4: DISTRICT / PRECINCT | B4: TERED | D4: Ballots | E4: FROM | F4: TO | G4: Ballots | H4: Ballots | I4: Delivery | J4: Checksum
A5: 06-200 Anchor Point | B5: 2455 | C5: =SUM(B5*0.65) -> 1595.75 | D5: =MROUND(C5, 25) -> 1600 | E5: =SUM('Dist 5'!F46+1) -> 98301 | F5: =SUM(E5+D5-1) -> 99900 | G5: 25 | I5: R6 | J5: =MOD(D5,25) -> 0
A6: 06-210 Diamond Ridge | B6: 1381 | C6: =SUM(B6*0.65) -> 897.65 | D6: =MROUND(C6, 25) -> 900 | E6: =F5+1 -> 99901 | F6: =SUM(E6+D6-1) -> 100800 | G6: 25 | I6: R6 | J6: =MOD(D6,25) -> 0
A7: 06-220 Fox River | B7: 973 | C7: =SUM(B7*0.65) -> 632.45 | D7: =MROUND(C7, 25) -> 625 | E7: =F6+1 -> 100801 | F7: =SUM(E7+D7-1) -> 101425 | G7: 25 | I7: R6 | J7: =MOD(D7,25) -> 0
A8: 06-230 Homer No. 1 | B8: 2908 | C8: =SUM(B8*0.65) -> 1890.2 | D8: =MROUND(C8, 25) -> 1900 | E8: =F7+1 -> 101426 | F8: =SUM(E8+D8-1) -> 103325 | G8: 25 | I8: R6 | J8: =MOD(D8,25) -> 0
A9: 06-240 Homer No. 2 | B9: 2414 | C9: =SUM(B9*0.65) -> 1569.1 | D9: =MROUND(C9, 25) -> 1575 | E9: =F8+1 -> 103326 | F9: =SUM(E9+D9-1) -> 104900 | G9: 25 | I9: R6 | J9: =MOD(D9,25) -> 0
A10: 06-250 Kachemak-Fritz Creek | B10: 2144 | C10: =SUM(B10*0.65) -> 1393.6 | D10: 1500 | E10: =F9+1 -> 104901 | F10: =SUM(E10+D10-1) -> 106400 | G10: 25 | I10: R6 | J10: =MOD(D10,25) -> 0
A11: 06-260 Kasilof | B11: 3534 | C11: =SUM(B11*0.65) -> 2297.1 | D11: =MROUND(C11, 25) -> 2300 | E11: =F10+1 -> 106401 | F11: =SUM(E11+D11-1) -> 108700 | G11: 25 | I11: R6 | J11: =MOD(D11,25) -> 0
A12: 06-270 Ninilchik | B12: 1713 | C12: =SUM(B12*0.65) -> 1113.45 | D12: =MROUND(C12, 25) -> 1125 | E12: =F11+1 -> 108701 | F12: =SUM(E12+D12-1) -> 109825 | G12: 25 | I12: R6 | J12: =MOD(D12,25) -> 0
A13: 06-280 Seldovia-Kachemak Bay | B13: 490 | C13: =SUM(B13*0.65) -> 318.5 | D13: =MROUND(C13, 25) -> 325 | E13: =F12+1 -> 109826 | F13: =SUM(E13+D13-1) -> 110150 | G13: 25 | I13: R6 | J13: 0
A14: TOTAL PRECINCT BALLOTS DIST. 6 | B14: =SUM(B5:B13) -> 18012 | D14: =SUM(D5:D13) -> 11850
A16: ABSENTEE OFFICIALS & STATIONS:
A17: ANCHORAGE
A18: 92-900 Anchorage Elections Office | D18: 100 | E18: =SUM(F13+1) -> 110151 | F18: =SUM(E18+D18-1) -> 110250 | G18: 10 | I18: R2 | J18: =MOD(D18,25) -> 0
A19: 92-902 Anchorage Airport | D19: 25 | E19: =SUM(F18+1) -> 110251 | F19: =SUM(E19+D19-1) -> 110275 | G19: 5 | I19: R2 | J19: =MOD(D19,25) -> 0
A20: 92-905 Downtown Anchorage | D20: 50 | E20: =SUM(F19+1) -> 110276 | F20: =SUM(E20+D20-1) -> 110325 | G20: 5 | I20: R2 | J20: =MOD(D20,25) -> 0
A22: MAT-SU
A23: 95-900 Mat-Su Elections Office | D23: 25 | E23: =SUM(F20+1) -> 110326 | F23: =SUM(E23+D23-1) -> 110350 | G23: 5 | I23: R5 | J23: =MOD(D23,25) -> 0
A24: 95-901 Soldotna | D24: 900 | E24: =SUM(F23+1) -> 110351 | F24: =SUM(E24+D24-1) -> 111250 | G24: 25 | I24: R6 | J24: 0
A25: 95-902 Kenai City | D25: 250 | E25: =SUM(F24+1) -> 111251 | F25: =SUM(E25+D25-1) -> 111500 | G25: 25 | I25: R6 | J25: 0
A27: FAIRBANKS
A28: 93-900 Fairbanks Elections Office | D28: 25 | E28: =SUM(F25+1) -> 111501 | F28: =SUM(E28+D28-1) -> 111525 | G28: 5 | I28: R3 | J28: =MOD(D28,25) -> 0
A30: JUNEAU
A31: 91-900 Juneau Elections Office | D31: 75 | E31: =SUM(F28+1) -> 111526 | F31: =SUM(E31+D31-1) -> 111600 | G31: 25 | H31: 175 | I31: R1 | J31: =MOD(D31,25) -> 0
A32: 91-902 Juneau Downtown | D32: 50 | E32: =SUM(F31+1) -> 111601 | F32: =SUM(E32+D32-1) -> 111650 | G32: 25 | I32: R1 | J32: =MOD(D32,25) -> 0
A33: 91-905 Seward AVO/AVM | D33: 150 | E33: =SUM(F32+1) -> 111651 | F33: =SUM(E33+D33-1) -> 111800 | G33: 25 | I33: R1 | J33: =MOD(D33,25) -> 0
A34: 91-906 Homer Early Vote | D34: 1800 | E34: =SUM(F33+1) -> 111801 | F34: =SUM(E34+D34-1) -> 113600 | G34: 50 | I34: R1 | J34: =MOD(D34,25) -> 0
A35: 06-992 Seldovia AVO | D35: 100 | E35: =SUM(F34+1) -> 113601 | F35: =SUM(E35+D35-1) -> 113700 | G35: 15 | I35: R1 | J35: =MOD(D35,25) -> 0
A37: NOME
A38: 94-900 Nome Elections Office | D38: 25 | E38: =SUM(F35+1) -> 113701 | F38: =SUM(E38+D38-1) -> 113725 | G38: 5 | I38: R4 | J38: =MOD(D38,25) -> 0
A39: 94-901 Prudhoe Bay Station | D39: 50 | E39: =SUM(F38+1) -> 113726 | F39: =SUM(E39+D39-1) -> 113775 | G39: 5 | I39: R4 | J39: =MOD(D39,25) -> 0
A40: TOTAL ABSENTEE BALLOTS - DIST. 6 | D40: =SUM(D18:D39) -> 3625
A42: TOTAL DISTRICT 6 BALLOTS | D42: =D14+D40 -> 15475 | G42: =SUM(G5:G39) -> 455 | H42: =SUM(H5:H39) -> 175 | J42: =SUM(J5:J39) -> 0
A45: Checksum: Sequence End - Start: | D45: =F39-E5+1 -> 15475

Sheet Dist 7
H1: BALLOT ID# | J1: =Totals!A11 -> 817
B3: # REGIS- | D3: # | E3: Numbers | G3: Sample | H3: Fascimile
A4: DISTRICT / PRECINCT | B4: TERED | D4: Ballots | E4: FROM | F4: TO | G4: Ballots | H4: Ballots | I4: Delivery | J4: Checksum
A5: 07-005 Central | B5: 2798 | C5: =SUM(B5*0.65) -> 1818.7 | D5: =MROUND(C5, 25) -> 1825 | E5: =SUM('Dist 6'!F39,1) -> 113776 | F5: =SUM(E5+D5-1) -> 115600 | G5: 10 | I5: R6 | J5: =MOD(D5,25) -> 0
A6: 07-010 K-Beach | B6: 3357 | C6: =SUM(B6*0.65) -> 2182.05 | D6: =MROUND(C6, 25) -> 2175 | E6: =SUM(F5+1) -> 115601 | F6: =SUM(E6+D6-1) -> 117775 | G6: 10 | I6: R6 | J6: =MOD(D6,25) -> 0
A7: 07-015 Kenai No. 1 | B7: 3114 | C7: =SUM(B7*0.65) -> 2024.1 | D7: =MROUND(C7, 25) -> 2025 | E7: =SUM(F6+1) -> 117776 | F7: =SUM(E7+D7-1) -> 119800 | G7: 10 | I7: R6 | J7: =MOD(D7,25) -> 0
A8: 07-020 Kenai No. 2 | B8: 1676 | C8: =SUM(B8*0.65) -> 1089.4 | D8: =MROUND(C8, 25) -> 1100 | E8: =SUM(F7+1) -> 119801 | F8: =SUM(E8+D8-1) -> 120900 | G8: 10 | I8: R6 | J8: =MOD(D8,25) -> 0
A9: 07-025 Kenai No. 3 | B9: 1500 | C9: =SUM(B9*0.65) -> 975 | D9: =MROUND(C9, 25) -> 975 | E9: =SUM(F8+1) -> 120901 | F9: =SUM(E9+D9-1) -> 121875 | G9: 10 | I9: R6 | J9: =MOD(D9,25) -> 0
A10: 07-030 Soldotna | B10: 4079 | C10: =SUM(B10*0.65) -> 2651.35 | D10: =MROUND(C10, 25) -> 2650 | E10: =SUM(F9+1) -> 121876 | F10: =SUM(E10+D10-1) -> 124525 | G10: 10 | I10: R6 | J10: =MOD(D10,25) -> 0
A11: TOTAL PRECINCT BALLOTS DIST. 7 | B11: =SUM(B5:B10) -> 16524 | D11: =SUM(D5:D10) -> 10750
A13: ABSENTEE OFFICIALS & STATIONS:
A14: ANCHORAGE
A15: 92-900 Anchorage Elections Office | D15: 100 | E15: =SUM(F10+1) -> 124526 | F15: =SUM(E15+D15-1) -> 124625 | G15: 10 | I15: R2 | J15: =MOD(D15,25) -> 0
A16: 92-902 Anchorage Airport | D16: 25 | E16: =SUM(F15+1) -> 124626 | F16: =SUM(E16+D16-1) -> 124650 | G16: 5 | I16: R2 | J16: =MOD(D16,25) -> 0
A17: 92-905 Downtown Anchorage | D17: 50 | E17: =SUM(F16+1) -> 124651 | F17: =SUM(E17+D17-1) -> 124700 | G17: 5 | I17: R2 | J17: =MOD(D17,25) -> 0
A19: MAT-SU
A20: 95-900 Mat-Su Elections Office | D20: 25 | E20: =SUM(F17+1) -> 124701 | F20: =SUM(E20+D20-1) -> 124725 | G20: 5 | H20: 200 | I20: R5 | J20: =MOD(D20,25) -> 0
A21: 95-901 Soldotna | D21: 1800 | E21: =SUM(F20+1) -> 124726 | F21: =SUM(E21+D21-1) -> 126525 | G21: 5 | I21: R6 | J21: =MOD(D21,25) -> 0
A22: 95-902 Kenai City | D22: 850 | E22: =SUM(F21+1) -> 126526 | F22: =SUM(E22+D22-1) -> 127375 | G22: 5 | I22: R6 | J22: =MOD(D22,25) -> 0
A24: FAIRBANKS
A25: 93-900 Fairbanks Elections Office | D25: 25 | E25: =SUM(F22+1) -> 127376 | F25: =SUM(E25+D25-1) -> 127400 | G25: 5 | I25: R3 | J25: =MOD(D25,25) -> 0
A27: JUNEAU
A28: 91-900 Juneau Elections Office | D28: 50 | E28: =SUM(F25+1) -> 127401 | F28: =SUM(E28+D28-1) -> 127450 | G28: 25 | I28: R1 | J28: =MOD(D28,25) -> 0
A29: 91-902 Juneau Downtown | D29: 50 | E29: =SUM(F28+1) -> 127451 | F29: =SUM(E29+D29-1) -> 127500 | G29: 25 | I29: R1 | J29: =MOD(D29,25) -> 0
A30: 91-905 Seward AVO/AVM | D30: 50 | E30: =SUM(F29+1) -> 127501 | F30: =SUM(E30+D30-1) -> 127550 | G30: 10 | I30: R1 | J30: =MOD(D30,25) -> 0
A31: 91-906 Homer Early Vote | D31: 150 | E31: =SUM(F30+1) -> 127551 | F31: =SUM(E31+D31-1) -> 127700 | G31: 10 | I31: R1 | J31: =MOD(D31,25) -> 0
A33: NOME
A34: 94-900 Nome Elections Office | D34: 25 | E34: =SUM(F31+1) -> 127701 | F34: =SUM(E34+D34-1) -> 127725 | G34: 5 | I34: R4 | J34: =MOD(D34,25) -> 0
A35: 94-901 Prudhoe Bay Station | D35: 50 | E35: =SUM(F34+1) -> 127726 | F35: =SUM(E35+D35-1) -> 127775 | G35: 5 | I35: R4 | J35: =MOD(D35,25) -> 0
A36: TOTAL ABSENTEE BALLOTS - DIST. 7 | D36: =SUM(D15:D35) -> 3250
A38: TOTAL DISTRICT 37BALLOTS | D38: =D11+D36 -> 14000 | G38: =SUM(G5:G35) -> 180 | H38: =SUM(H5:H35) -> 200 | J38: =SUM(J5:J35) -> 0
A41: Checksum: Sequence End - Start: | D41: =F35-E5+1 -> 14000

Sheet Dist 8
H1: BALLOT ID# | J1: =Totals!A12 -> 818
B3: # REGIS- | D3: # | E3: Numbers | G3: Sample | H3: Fascimile
A4: DISTRICT / PRECINCT | B4: TERED | D4: Ballots | E4: FROM | F4: TO | G4: Ballots | H4: Ballots | I4: Delivery | J4: Checksum
A5: 08-035 Bear Creek | B5: 1873 | C5: =SUM(B5*0.65) -> 1217.45 | D5: =MROUND(C5, 25) -> 1225 | E5: =SUM('Dist 7'!F35,1) -> 127776 | F5: =SUM(E5+D5-1) -> 129000 | G5: 10 | I5: R6 | J5: =MOD(D5,25) -> 0
A6: 08-040 Cooper Landing | B6: 400 | C6: =SUM(B6*0.65) -> 260 | D6: =MROUND(C6, 25) -> 250 | E6: =SUM(F5+1) -> 129001 | F6: =SUM(E6+D6-1) -> 129250 | G6: 10 | I6: R6 | J6: =MOD(D6,25) -> 0
A7: 08-045 Funny River No. 1 | B7: 1150 | C7: =SUM(B7*0.65) -> 747.5 | D7: =MROUND(C7, 25) -> 750 | E7: =SUM(F6+1) -> 129251 | F7: =SUM(E7+D7-1) -> 130000 | G7: 10 | I7: R6 | J7: =MOD(D7,25) -> 0
A8: 08-050 Funny River No. 2 | B8: 1259 | C8: =SUM(B8*0.65) -> 818.35 | D8: =MROUND(C8, 25) -> 825 | E8: =SUM(F7+1) -> 130001 | F8: =SUM(E8+D8-1) -> 130825 | G8: 10 | I8: R6 | J8: =MOD(D8,25) -> 0
A9: 08-055 Hope | B9: 178 | C9: =SUM(B9*0.65) -> 115.7 | D9: =MROUND(C9, 25) -> 125 | E9: =SUM(F8+1) -> 130826 | F9: =SUM(E9+D9-1) -> 130950 | G9: 10 | I9: R6 | J9: =MOD(D9,25) -> 0
A10: 08-060 Mackey Lake | B10: 2370 | C10: =SUM(B10*0.65) -> 1540.5 | D10: =MROUND(C10, 25) -> 1550 | E10: =SUM(F9+1) -> 130951 | F10: =SUM(E10+D10-1) -> 132500 | G10: 10 | I10: R6 | J10: =MOD(D10,25) -> 0
A11: 08-065 Moose Pass | B11: 380 | C11: =SUM(B11*0.65) -> 247 | D11: =MROUND(C11, 25) -> 250 | E11: =SUM(F10+1) -> 132501 | F11: =SUM(E11+D11-1) -> 132750 | G11: 10 | I11: R6 | J11: =MOD(D11,25) -> 0
A12: 08-070 Nikiski | B12: 2233 | C12: =SUM(B12*0.65) -> 1451.45 | D12: =MROUND(C12, 25) -> 1450 | E12: =SUM(F11+1) -> 132751 | F12: =SUM(E12+D12-1) -> 134200 | G12: 10 | I12: R6 | J12: =MOD(D12,25) -> 0
A13: 08-075 Salamatof | B13: 2521 | C13: =SUM(B13*0.65) -> 1638.65 | D13: =MROUND(C13, 25) -> 1650 | E13: =SUM(F12+1) -> 134201 | F13: =SUM(E13+D13-1) -> 135850 | G13: 10 | I13: R6 | J13: =MOD(D13,25) -> 0
A14: 08-080 Sterling No. 1 | B14: 2254 | C14: =SUM(B14*0.65) -> 1465.1 | D14: =MROUND(C14, 25) -> 1475 | E14: =SUM(F13+1) -> 135851 | F14: =SUM(E14+D14-1) -> 137325 | G14: 10 | I14: R6 | J14: =MOD(D14,25) -> 0
A15: 08-085 Sterling No. 2 | B15: 2379 | C15: =SUM(B15*0.65) -> 1546.35 | D15: =MROUND(C15, 25) -> 1550 | E15: =SUM(F14+1) -> 137326 | F15: =SUM(E15+D15-1) -> 138875 | G15: 10 | I15: R6 | J15: 0
A16: TOTAL PRECINCT BALLOTS DIST. 8 | B16: =SUM(B5:B15) -> 16997 | D16: =SUM(D5:D15) -> 11100
A18: ABSENTEE OFFICIALS & STATIONS:
A19: ANCHORAGE
A20: 92-900 Anchorage Elections Office | D20: 100 | E20: =SUM(F15+1) -> 138876 | F20: =SUM(E20+D20-1) -> 138975 | G20: 10 | I20: R2 | J20: =MOD(D20,25) -> 0
A21: 92-902 Anchorage Airport | D21: 25 | E21: =SUM(F20+1) -> 138976 | F21: =SUM(E21+D21-1) -> 139000 | G21: 5 | I21: R2 | J21: =MOD(D21,25) -> 0
A22: 92-905 Downtown Anchorage | D22: 50 | E22: =SUM(F21+1) -> 139001 | F22: =SUM(E22+D22-1) -> 139050 | G22: 5 | I22: R2 | J22: =MOD(D22,25) -> 0
A24: MAT-SU
A25: 95-900 Mat-Su Elections Office | D25: 25 | E25: =SUM(F22+1) -> 139051 | F25: =SUM(E25+D25-1) -> 139075 | G25: 5 | H25: 200 | I25: R5 | J25: =MOD(D25,25) -> 0
A26: 95-901 Soldotna | D26: 1700 | E26: =SUM(F25+1) -> 139076 | F26: =SUM(E26+D26-1) -> 140775 | G26: 50 | I26: R6 | J26: =MOD(D26,25) -> 0
A27: 95-902 Kenai City | D27: 550 | E27: =SUM(F26+1) -> 140776 | F27: =SUM(E27+D27-1) -> 141325 | G27: 50 | I27: R6 | J27: =MOD(D27,25) -> 0
A29: FAIRBANKS
A30: 93-900 Fairbanks Elections Office | D30: 25 | E30: =SUM(F27+1) -> 141326 | F30: =SUM(E30+D30-1) -> 141350 | G30: 5 | I30: R3 | J30: =MOD(D30,25) -> 0
A32: JUNEAU
A33: 91-900 Juneau Elections Office | D33: 50 | E33: =SUM(F30+1) -> 141351 | F33: =SUM(E33+D33-1) -> 141400 | G33: 10 | I33: R1 | J33: =MOD(D33,25) -> 0
A34: 91-902 Juneau Downtown | D34: 50 | E34: =SUM(F33+1) -> 141401 | F34: =SUM(E34+D34-1) -> 141450 | G34: 10 | I34: R1 | J34: =MOD(D34,25) -> 0
A35: 91-905 Seward AVO/AVM | D35: 75 | E35: =SUM(F34+1) -> 141451 | F35: =SUM(E35+D35-1) -> 141525 | G35: 10 | I35: R1 | J35: =MOD(D35,25) -> 0
A36: 91-906 Homer Early Vote | D36: 150 | E36: =SUM(F35+1) -> 141526 | F36: =SUM(E36+D36-1) -> 141675 | G36: 10 | I36: R1 | J36: =MOD(D36,25) -> 0
A38: NOME
A39: 94-900 Nome Elections Office | D39: 25 | E39: =SUM(F36+1) -> 141676 | F39: =SUM(E39+D39-1) -> 141700 | G39: 5 | I39: R4 | J39: =MOD(D39,25) -> 0
A40: 94-901 Prudhoe Bay Station | D40: 50 | E40: =SUM(F39+1) -> 141701 | F40: =SUM(E40+D40-1) -> 141750 | G40: 5 | I40: R4 | J40: =MOD(D40,25) -> 0
A41: TOTAL ABSENTEE BALLOTS - DIST. 8 | D41: =SUM(D20:D40) -> 2875
A43: TOTAL DISTRICT 8 BALLOTS | D43: =D16+D41 -> 13975 | G43: =SUM(G5:G40) -> 290 | H43: =SUM(H5:H40) -> 200 | J43: =SUM(J5:J40) -> 0
A46: Checksum: Sequence End - Start: | D46: =F40-E5+1 -> 13975

Sheet Dist 9
H1: BALLOT ID# | J1: =Totals!A13 -> 819
B3: # REGIS- | D3: # | E3: Numbers | G3: Sample | H3: Fascimile
A4: DISTRICT / PRECINCT | B4: TERED | D4: Ballots | E4: FROM | F4: TO | G4: Ballots | H4: Ballots | I4: Delivery | J4: Checksum
A5: 09-105 Girdwood | B5: 1964 | C5: =SUM(B5*0.65) -> 1276.6 | D5: =MROUND(C5, 25) -> 1275 | E5: =SUM('Dist 8'!F40,1) -> 141751 | F5: =SUM(E5+D5-1) -> 143025 | G5: 10 | I5: R2 | J5: =MOD(D5,25) -> 0
A6: 09-110 Indian | B6: 303 | C6: =SUM(B6*0.65) -> 196.95 | D6: =MROUND(C6, 25) -> 200 | E6: =SUM(F5+1) -> 143026 | F6: =SUM(E6+D6-1) -> 143225 | G6: 10 | I6: R2 | J6: =MOD(D6,25) -> 0
A7: 09-115 South Anchorage No. 1 | B7: 2816 | C7: =SUM(B7*0.65) -> 1830.4 | D7: =MROUND(C7, 25) -> 1825 | E7: =SUM(F6+1) -> 143226 | F7: =SUM(E7+D7-1) -> 145050 | G7: 10 | I7: R2 | J7: =MOD(D7,25) -> 0
A8: 09-120 South Anchorage No. 2 | B8: 3291 | C8: =SUM(B8*0.65) -> 2139.15 | D8: =MROUND(C8, 25) -> 2150 | E8: =SUM(F7+1) -> 145051 | F8: =SUM(E8+D8-1) -> 147200 | G8: 10 | I8: R2 | J8: =MOD(D8,25) -> 0
A9: 09-125 South Anchorage No. 3 | B9: 2832 | C9: =SUM(B9*0.65) -> 1840.8 | D9: =MROUND(C9, 25) -> 1850 | E9: =SUM(F8+1) -> 147201 | F9: =SUM(E9+D9-1) -> 149050 | G9: 10 | I9: R2 | J9: =MOD(D9,25) -> 0
A10: 09-130 South Anchorage No. 4 | B10: 3048 | C10: =SUM(B10*0.65) -> 1981.2 | D10: =MROUND(C10, 25) -> 1975 | E10: =SUM(F9+1) -> 149051 | F10: =SUM(E10+D10-1) -> 151025 | G10: 10 | I10: R2 | J10: =MOD(D10,25) -> 0
A11: 09-135 South Anchorage No. 5 | B11: 1349 | C11: =SUM(B11*0.65) -> 876.85 | D11: =MROUND(C11, 25) -> 875 | E11: =SUM(F10+1) -> 151026 | F11: =SUM(E11+D11-1) -> 151900 | G11: 10 | I11: R2 | J11: =MOD(D11,25) -> 0
A12: 09-140 Stuckagain Heights | B12: 430 | C12: =SUM(B12*0.65) -> 279.5 | D12: =MROUND(C12, 25) -> 275 | E12: =SUM(F11+1) -> 151901 | F12: =SUM(E12+D12-1) -> 152175 | G12: 10 | I12: R2 | J12: =MOD(D12,25) -> 0
A13: 09-145 Whittier | B13: 254 | C13: =SUM(B13*0.65) -> 165.1 | D13: =MROUND(C13, 25) -> 175 | E13: =SUM(F12+1) -> 152176 | F13: =SUM(E13+D13-1) -> 152350 | G13: 10 | I13: R2 | J13: =MOD(D13,25) -> 0
A14: TOTAL PRECINCT BALLOTS DIST 9 | B14: =SUM(B5:B13) -> 16287 | D14: =SUM(D5:D13) -> 10600
A17: ABSENTEE OFFICIALS & STATIONS:
A18: ANCHORAGE
A19: 92-900 Anchorage Elections Office | D19: 2000 | E19: =SUM(F13+1) -> 152351 | F19: =SUM(E19+D19-1) -> 154350 | G19: 15 | H19: 350 | I19: R2 | J19: =MOD(D19,25) -> 0
A20: 92-902 Anchorage Airport | D20: 50 | E20: =SUM(F19+1) -> 154351 | F20: =SUM(E20+D20-1) -> 154400 | G20: 5 | I20: R2 | J20: =MOD(D20,25) -> 0
A21: 92-905 Downtown Anchorage | D21: 500 | E21: =SUM(F20+1) -> 154401 | F21: =SUM(E21+D21-1) -> 154900 | G21: 5 | I21: R2 | J21: =MOD(D21,25) -> 0
A22: 09-986 Whittier AVO | D22: 50 | E22: =SUM(F21+1) -> 154901 | F22: =SUM(E22+D22-1) -> 154950 | G22: 5 | I22: R2 | J22: =MOD(D22,25) -> 0
A24: MAT-SU
A25: 95-900 Mat-Su Elections Office | D25: 25 | E25: =SUM(F22+1) -> 154951 | F25: =SUM(E25+D25-1) -> 154975 | G25: 5 | I25: R5 | J25: =MOD(D25,25) -> 0
A27: FAIRBANKS
A28: 93-900 Fairbanks Elections Office | D28: 25 | E28: =SUM(F25+1) -> 154976 | F28: =SUM(E28+D28-1) -> 155000 | G28: 5 | I28: R3 | J28: =MOD(D28,25) -> 0
A30: JUNEAU
A31: 91-900 Juneau Elections Office | D31: 50 | E31: =SUM(F28+1) -> 155001 | F31: =SUM(E31+D31-1) -> 155050 | G31: 10 | I31: R1 | J31: =MOD(D31,25) -> 0
A32: 91-902 Juneau Downtown | D32: 50 | E32: =SUM(F31+1) -> 155051 | F32: =SUM(E32+D32-1) -> 155100 | G32: 10 | I32: R1 | J32: =MOD(D32,25) -> 0
A34: NOME
A35: 94-900 Nome Elections Office | D35: 25 | E35: =SUM(F32+1) -> 155101 | F35: =SUM(E35+D35-1) -> 155125 | G35: 5 | I35: R4 | J35: =MOD(D35,25) -> 0
A36: 94-901 Prudhoe Bay Station | D36: 50 | E36: =SUM(F35+1) -> 155126 | F36: =SUM(E36+D36-1) -> 155175 | G36: 5 | I36: R4 | J36: =MOD(D36,25) -> 0
A37: TOTAL ABSENTEE BALLOTS DIST 9 | D37: =SUM(D18:D36) -> 2825
A39: TOTAL DISTRICT 9 BALLOTS | D39: =D14+D37 -> 13425 | G39: =SUM(G5:G36) -> 160 | H39: =SUM(H5:H36) -> 350 | J39: =SUM(J5:J36) -> 0
A42: Checksum: Sequence End - Start: | D42: =F36-E5+1 -> 13425

Sheet Dist 10
H1: BALLOT ID# | J1: =Totals!A14 -> 820
B3: # REGIS- | D3: # | E3: Numbers | G3: Sample | H3: Fascimile
A4: DISTRICT / PRECINCT | B4: TERED | D4: Ballots | E4: FROM | F4: TO | G4: Ballots | H4: Ballots | I4: Delivery | J4: Checksum
A5: 10-150 Dimond | B5: 3374 | C5: =SUM(B5*0.65) -> 2193.1 | D5: =MROUND(C5, 25) -> 2200 | E5: =SUM('Dist 9'!F36,1) -> 155176 | F5: =SUM(E5+D5-1) -> 157375 | G5: 10 | I5: R2 | J5: =MOD(D5,25) -> 0
A6: 10-155 Oceanview No. 1 | B6: 3107 | C6: =SUM(B6*0.65) -> 2019.55 | D6: =MROUND(C6, 25) -> 2025 | E6: =SUM(F5+1) -> 157376 | F6: =SUM(E6+D6-1) -> 159400 | G6: 10 | I6: R2 | J6: =MOD(D6,25) -> 0
A7: 10-160 Oceanview No. 2 | B7: 1828 | C7: =SUM(B7*0.65) -> 1188.2 | D7: =MROUND(C7, 25) -> 1200 | E7: =SUM(F6+1) -> 159401 | F7: =SUM(E7+D7-1) -> 160600 | G7: 10 | I7: R2 | J7: =MOD(D7,25) -> 0
A8: 10-165 Oceanview No. 3 | B8: 2755 | C8: =SUM(B8*0.65) -> 1790.75 | D8: =MROUND(C8, 25) -> 1800 | E8: =SUM(F7+1) -> 160601 | F8: =SUM(E8+D8-1) -> 162400 | G8: 10 | I8: R2 | J8: =MOD(D8,25) -> 0
A9: 10-170 Oceanview No. 4 | B9: 1927 | C9: =SUM(B9*0.65) -> 1252.55 | D9: =MROUND(C9, 25) -> 1250 | E9: =SUM(F8+1) -> 162401 | F9: =SUM(E9+D9-1) -> 163650 | G9: 10 | I9: R2 | J9: =MOD(D9,25) -> 0
A10: 10-175 Oceanview No. 5 | B10: 1951 | C10: =SUM(B10*0.65) -> 1268.15 | D10: =MROUND(C10, 25) -> 1275 | E10: =SUM(F9+1) -> 163651 | F10: =SUM(E10+D10-1) -> 164925 | G10: 10 | I10: R2 | J10: =MOD(D10,25) -> 0
A11: TOTAL PRECINCT BALLOTS DIST. 10 | B11: =SUM(B5:B10) -> 14942 | D11: =SUM(D5:D10) -> 9750
A13: ABSENTEE OFFICIALS & STATIONS:
A14: ANCHORAGE
A15: 92-900 Anchorage Elections Office | D15: 1400 | E15: =SUM(F10+1) -> 164926 | F15: =SUM(E15+D15-1) -> 166325 | G15: 15 | H15: 250 | I15: R2 | J15: =MOD(D15,25) -> 0
A16: 92-902 Anchorage Airport | D16: 50 | E16: =SUM(F15+1) -> 166326 | F16: =SUM(E16+D16-1) -> 166375 | G16: 5 | I16: R2 | J16: =MOD(D16,25) -> 0
A17: 92-905 Downtown Anchorage | D17: 400 | E17: =SUM(F16+1) -> 166376 | F17: =SUM(E17+D17-1) -> 166775 | G17: 5 | I17: R2 | J17: =MOD(D17,25) -> 0
A19: MAT-SU
A20: 95-900 Mat-Su Elections Office | D20: 25 | E20: =SUM(F17+1) -> 166776 | F20: =SUM(E20+D20-1) -> 166800 | G20: 5 | I20: R5 | J20: =MOD(D20,25) -> 0
A22: FAIRBANKS
A23: 93-900 Fairbanks Elections Office | D23: 25 | E23: =SUM(F20+1) -> 166801 | F23: =SUM(E23+D23-1) -> 166825 | G23: 5 | I23: R3 | J23: =MOD(D23,25) -> 0
A25: JUNEAU
A26: 91-900 Juneau Elections Office | D26: 50 | E26: =SUM(F23+1) -> 166826 | F26: =SUM(E26+D26-1) -> 166875 | G26: 10 | I26: R1 | J26: =MOD(D26,25) -> 0
