Workbook

Sheet Instructions
A1: Bid Schedule Instructions
A2: • Vendors must follow these instructions to be considered responsive. Failure to complete all required fields for a lot may result in the bid being deemed non-responsive for that lot.
A4: 1. Bid Worksheets
A5: • The bid schedule includes six (6) worksheets.
A6: • Five (5) worksheets require vendor input.
A8: 2. Award by Lot
A9: • Awards will be made by lot.
A10: • Vendors must bid on all items within a lot to be considered responsive for that lot.
A11: • Partial bids within a lot will not be accepted.
A13: 3. Facility Groups and Shipping
A14: • DOC facilities are grouped by location as follows:
A16: Abbreviation | B16: Institution | C16: Location
A17: ACC | B17: Anchorage Correctional Complex (EAST-WEST) | C17: Anchorage
A18: AMCC | B18: Anvil Mountain Correctional Center | C18: Nome | E18: Group # | F18: Facilities
A19: FCC | B19: Fairbanks Correctional Center | C19: Fairbanks | E19: GR1 | F19: ACC | G19: GCCC | H19: HMCC | I19: MSPT | J19: PCC | K19: PMCF | L19: SCCC | M19: WCC
A20: GCCC | B20: Goose Creek Correctional Center | C20: Wasilla | E20: GR2 | F20: FCC
A21: HMCC | B21: Hiland Mountain Correctional Center | C21: Eagle River | E21: GR3 | F21: AMCC | G21: YKCC
A22: KCC | B22: Ketchikan Correctional Center | C22: Ketchikan | E22: GR4 | F22: KCC | G22: LCCC
A23: LCCC | B23: Lemon Creek Correctional Center | C23: Juneau
A24: MSPT | B24: Mat-Su Pretrial | C24: Palmer
A25: PCC | B25: Palmer Correctional Center | C25: Sutton
A26: PMCF | B26: Point Mackenzie Correctional Farm | C26: Wasilla
A27: SCCC | B27: Spring Creek Correctional Center | C27: Seward
A28: WCC | B28: Wildwood Correctional Complex | C28: Kenai
A29: YKCC | B29: Yukon Kuskokwim Correctional Center | C29: Bethel
A31: • Shipping and delivery costs must be included in the unit price for each item and must reflect delivery to all facilities in the group.
A32: No additional freight, fuel, or delivery charges will be accepted.
A34: 4. Specifications Worksheet
A35: • Enter prices, container sizes, and units for Lots 1–3.
A36: • List the product(s) being offered.
A37: • If multiple products are listed, all will be included on the contract.
A38: • Only the first product listed will be used for bid evaluation; however, all listed products will be included on the resulting contract.
A39: • Some items offer solid and liquid options.
A40: • Vendors may bid on either option.
A41: • Vendors will not be deemed non-responsive if they bid on one option and agree to convert facilities using the other option at no additional cost to the State.
A43: 5. Lot 1 and Lot 2
A44: • Enter chemical dosages per load for each machine.
... A55: • Complete all bidder contact information.

Sheet Specifications (L1, L2, L3)
A1: Lot # | B1: Item # | C1: Details | D1: Suggested Product/s (Preferred) | E1: Product Offered (State approved equivalent or substitutes acceptable) | F1: Size of container (GAL) | G1: Size of container (LBS) | H1: GR1 Price per Container (USD) | I1: GR2 Price per Container (USD) | J1: GR3 Price per Container (USD) | K1: GR4 Price per Container (USD)
A2: LAUNDRY PRODUCT SPECIFICATIONS
A3: 1 | B3: 1.1 | C3: BUILT LIQUID LAUNDRY DETERGENT | D3: 1. ACCULOGIC LAUNDRY DETERGENT (1.5 GAL)
C4: * The product shall be a biodegradable and nonflammable solid or liquid. * The product shall be a built detergent. * The product shall be safe for colors and all fabrics normally encountered in institutional laundries. * The product shall be formulated to prevent residual softener build. * The product shall have brightening agents to enhance the whites and colors. * The product shall have the capacity to be easily dispensed through automatic dispensers directly from containers that control product usage, provide efficiency, convenience and handling ease. * Container size shall not exceed fifteen (15) gallons.
D6: 2. ACCULOGIC LAUNDRY DETERGENT (15 GAL)
A13: 1 | B13: 1.2 | C13: BUILT SOLID LAUNDRY DETERGENT | D13: 1. 536101766 - AQUANOMIC 2.0 LOW-TEMP SOLID LAUNDRY DETERGENT (9 LBS)
C14: * The product shall be a biodegradable and nonflammable solid or liquid. * The product shall be a built detergent. * The product shall be safe for colors and all fabrics normally encountered in institutional laundries. * The product shall be formulated to prevent residual softener build. * The product shall have brightening agents to enhance the whites and colors. * The product shall have the capacity to be easily dispensed through automatic dispensers directly from containers that control product usage, provide efficiency, convenience and handling ease.
D16: 2. 530050 - WAXIE SURE-BRITE LAUNDRY SOLID DETERGENT (25 LBS)
D19: 3. 530053 - WAXIE SURE-BRITE LAUNDRY SOLID DETERGENT (40 LBS)
A22: 1 | B22: 1.3 | C22: LIQUID LAUNDRY DESTAINER & SANITIZER | D22: 1. HASACHLOR 12.5% (5 GAL)
C23: * The product shall be a liquid and have dual action as a destainer and a sanitizer, and act as a disinfectant and deodorizer. * The product shall be chlorine based that can be used with all bleachable fabrics. * The product shall have a minimum 8% chlorine content. * The product shall be approved for use in both commercial and home type washers. * The product shall have the capacity to be easily dispensed through automatic dispensers directly from shipping containers to control product usage, provide efficiency, convenience, and handling ease. * Container size shall not exceed fifteen (15) gallons. * A solid product is preferred, but a liquid product is acceptable.
D25: 2. HASACHLOR 12.5% (15 GAL)
D28: 3. ECO-STAR DESTAINER (15 GAL)
A34: 1 | B34: 1.4 | C34: SOLID LAUNDRY DESTAINER & SANITIZER | D34: 1. 526100975 - ECOLAB LOW-TEMP LAUNDRY SOLID CHLORINE SANITIZER (4 LBS)
C35: * The product shall be a solid and have dual action as a destainer and a sanitizer, and act as a disinfectant and deodorizer. * The product shall be chlorine based that can be used with all bleachable fabrics. * The product shall have a minimum 8% chlorine content. * The product shall be approved for use in both commercial and home type washers. * The product shall have the capacity to be easily dispensed through automatic dispensers directly from shipping containers to control product usage, provide efficiency, convenience, and handling ease. * Container size shall not exceed fifty (50) pounds. * A solid product is preferred, but a liquid product is acceptable.
D37: 2. 1090131 - WAXIE BRITE-N-WHITE COMMERCIAL LAUNDRY BLEACH (25 LBS)
A46: 1 | B46: 1.5 | C46: LIQUID LAUNDRY SOUR/SOFTENER | D46: 1. ACCULOGIC LAUNDRY SOFTENER (1.5 GAL)
C47: * The product shall be biodegradable. * The product shall be pleasantly scented. * The product shall soften and neutralize linen to assure proper pH. * The product shall prevent fabric harshness, skin irritation and shall reduce static electricity on all fabric. * The product shall enhance brightness and whiteness of linen. * The product shall promote shorter extraction and drying times. * The product shall have the capacity to be easily dispensed through automatic dispensers directly from containers to control product usage, provide efficiency, convenience and handling ease. * Container size shall not exceed fifteen (15) gallons. * The product shall be a liquid.
A57: 1 | B57: 1.6 | C57: SOLID LAUNDRY SOUR/SOFTENER | D57: 1. 5216001 - ECOLAB SOLID NAVISOFT LAUNDRY SOFTENER /SOUR (6 LBS)
C58: * The product shall be biodegradable. * The product shall be pleasantly scented. * The product shall soften and neutralize linen to assure proper pH. * The product shall prevent fabric harshness, skin irritation and shall reduce static electricity on all fabric. * The product shall enhance brightness and whiteness of linen. * The product shall promote shorter extraction and drying times. * The product shall have the capacity to be easily dispensed through automatic dispensers directly from containers to control product usage, provide efficiency, convenience and handling ease. * Container size shall not exceed fifty (50) pounds. * The product shall be a solid.
A69: 1 | B69: 1.7 | C69: LAUNDRY DETERGENT HOUSEHOLD MACHINE | D69: 1. ACCULOGIC LAUDNRY DETERGENT (1.5 GAL)
C70: * The product shall be biodegradable and non-flammable. * The product shall be a built detergent. * The product shall soften and neutralize linen to assure proper pH. * The product shall be safe for colors and all fabrics normally encountered in institutional laundries. * The product shall be formulated to prevent residual softener build. * The product shall have brightening agents to enhance the whites and colors. * The product shall have the capacity to be easily dispensed through automatic dispensers directly from containers to control product usage, provide efficiency, convenience and handling ease. * The product shall be a liquid detergent.
A80: 1 | B80: 1.8 | C80: LAUNDRY DETERGENT HOUSEHOLD MACHINE | D80: 1. 526101659 - ECOLAB HOME-STYLE SOLID LAUNDRY DETERGENT W/ ENZYMES (3 LBS)
C81: * The product shall be biodegradable and non-flammable. * The product shall be a built detergent. * The product shall soften and neutralize linen to assure proper pH. * The product shall be safe for colors and all fabrics normally encountered in institutional laundries. * The product shall be formulated to prevent residual softener build. * The product shall have brightening agents to enhance the whites and colors. * The product shall have the capacity to be easily dispensed through automatic dispensers directly from containers to control product usage, provide efficiency, convenience and handling ease. * The product shall be a solid detergent.
D83: 2. 526101684 - FACILIPRO HOME-STYLE SOLID LAUNDRY DETERGENT (3 LBS)
A91: WAREWASHING PRODUCT SPECIFICATIONS
A92: 2 | B92: 2.1 | C92: LIQUID ENCAPSULATED WAREWASHING DETERGENT | D92: 1. ACCULOGIC SOLO (1.5 GAL)
C93: * The product shall be 100% active machine warewashing detergent, designed to be dispensed from the package in a concentrated liquid form. * The product’s consistency and container shall be formulated to prohibit free flow of liquid when inverted during installation and removal. This requirement is essential to assure the prevention of safety hazards and to reduce the potential of accidental burns. * The detergent shall contain a stable source of disinfectant, water conditioners, defoamer, and maximum strength alkalies, to deliver maximum performance in all soil and water conditions. * The detergent capsule shall be designed to eliminate misuse by employees, to provide safety and control of detergent usage and costs. * The detergent capsule shall be fed and controlled by a system such as a power activator. * The product may contain phosphate and/or non-phosphate water conditioners.
A105: 2 | B105: 2.2 | C105: SOLID ENCAPSULATED WAREWASHING DETERGENT | D105: 1. ECOLAB SOLID POWER PLUS (9 LBS)
C106: * The product shall be 100% active machine warewashing detergent, designed to be dispensed from the package in a concentrated solid form. * The product’s consistency and container shall be formulated to prohibit free flow of liquid when inverted during installation and removal. This requirement is essential to assure the prevention of safety hazards and to reduce the potential of accidental burns. * The detergent shall contain a stable source of disinfectant, water conditioners, defoamer, and maximum strength alkalies, to deliver maximum performance in all soil and water conditions. * The detergent capsule shall be designed to eliminate misuse by employees, to provide safety and control of detergent usage and costs. * The detergent capsule shall be fed and controlled by a system such as a power activator. * The product may contain phosphate and/or non-phosphate water conditioners. * The capsule shall not exceed 10 pounds.
A119: 2 | B119: 2.3 | C119: LIQUID DRYING AGENT (Rinse Additive) | D119: 1. ACCULOGIC SPOTLESS CONVEYOR RINSE AID (1.5 GAL)
C120: * Shall be designed specifically for use in a rinse injector mechanism and shall not be corrosive to this mechanism, the spray type warewashing machine, or the utensils to be washed in the machine. * Shall not contribute to foaming in the warewashing machine, shall have a foam depressing effect on food soil when present in the recirculated solution tanks at use concentrations. * Shall be a concentrated liquid of non-ionic nature, free flowing at ordinary room temperatures. * Shall effectively accomplish the specified function when present in the rinse water at concentrations of 25 to 200 parts per million. * Shall perform satisfactorily in soft or hard water areas. * Shall be highly visible in color to assure the liquid level is readily visible. * Stability and/or shelf life of the product shall be such that it will remain in stable condition when cooled to 10 degrees F or held at 110 degrees F for any period of time and then returned to room temperature (approximately 75 degrees F.)
A133: 2 | B133: 2.4 | C133: SOLID DRYING AGENT (Rinse Additive) | D133: 1. ECOLAB SOLID BRILLIANCE (2.5 LBS)
C134: * Shall be designed specifically for use in a rinse injector mechanism and shall not be corrosive to this mechanism, the spray type warewashing machine, or the utensils to be washed in the machine. * Shall not contribute to foaming in the warewashing machine, shall have a foam depressing effect on food soil when present in the recirculated solution tanks at use concentrations. * Shall be a concentrated liquid of non-ionic nature, free flowing at ordinary room temperatures. * Shall effectively accomplish the specified function when present in the rinse water at concentrations of 25 to 200 parts per million. * Shall perform satisfactorily in soft or hard water areas. * Shall be highly visible in color to assure the liquid level is readily visible. * Stability and/or shelf life of the product shall be such that it will remain in stable condition when cooled to 10 degrees F or held at 110 degrees F for any period of time and then returned to room temperature (approximately 75 degrees F.) * Container size shall not exceed ten (10) gallons.
A148: 2 | B148: 2.5 | C148: ENCAPSULATED MANUAL POTS & PAN DETERGENT | D148: 1. ACCULOGIC PINK SUDS (1.5 GAL)
C149: * The product shall be nonabrasive cleaning material suitable for hand cleaning of all glassware, dishes, pots and pans, silverware, walls, floors, etc. * The product’s consistency and container shall be formulated to prohibit free flow of liquid when inserted during installation and removal. This requirement is essential to assure the prevention of safety hazards and reduce the potential of accidental burns. * The product shall be an extra concentrated encapsulated product that shall be automatically dispensed. * The detergent capsule shall be designed to eliminate misuse by employees, to provide safety and control of detergent usage and costs. * The detergent capsule shall be fed and controlled by a system such as a power activator. * The product shall be high sudsing, higher detergency cleaner. * The product shall not contain the hard type BS detergents. * The product shall be a liquid or solid material.
D150: 2. ECOLAB SOLITAIRE (5 LBS)
A162: 2 | B162: 2.6 | C162: LOW TEMPERATURE LIQUID DISH SANITIZER | D162: 1. ACCULOGIC CHLORPLUS - 12.5% HYPOCHLORITE (1.5 GAL)
C163: * The product shall be nonabrasive cleaning material suitable for machine cleaning of all glassware, dishes, pots and pans, silverware, walls, floors, etc. The product may be used as a general purpose cleaner in the kitchen. * The product’s consistency and container shall be formulated to prohibit free flow of liquid when inserted during installation and removal. This requirement is essential to assure the prevention of safety hazards and reduce the potential of accidental burns. * The product shall be an extra concentrated product that shall be automatically dispensed. * The product shall have a concentration of a chemical that is, or similar to Sodium hypochlorite.
A173: 2 | B173: 2.7 | C173: LOW TEMPERATURE SOLID DISH SANITIZER | D173: 1. ECOLAB APEX SOLID QUAT SANITIZER (2 LBS)
...

Sheet Laundry (LOT #1)
A1: BID SCHEDULE - LOT ONE (1)
A2: LAUNDRY
A3: Location | B3: Facility | C3: Qty | D3: Machine Type | E3: Capacity (LBS) | F3: Estimated Annual Loads | G3: Detergent Type (Choose one) | H3: Liquid Detergent Dosage/Load (Ounce) | I3: Liquid Bleach Dosage/Load (Ounce) | J3: Liquid Softener Dosage/Load (Ounce) | K3: Liquid Detergent Price Per Ounce | L3: Liquid Bleach Price Per Ounce | M3: Liquid Softener Price Per Ounce | N3: Solid Detergent Dosage/Load (Ounce) | O3: Solid Bleach Dosage/Load (Ounce) | P3: Solid Softener Dosage/Load (Ounce) | Q3: Solid Detergent Price Per Ounce | R3: Solid Bleach Price Per Ounce | S3: Solid Softener Price Per Ounce | T3: Detergent Price Per Load | U3: Bleach Price Per Load | V3: Softener Price Per Load | W3: Total Cost Per Load | X3: Total Estimated Annual Cost | Y3: Detergent | Z3: Bleach | AA3: Softener
A4: Anchorage, AK | B4: Anchorage Correctional Complex (EAST) | C4: 2 | D4: Unimac Reliance UW125PVQU5001 | E4: 125 | F4: 7500 | G4: Commercial Machine Detergent | K4: =IF(G4="Commercial Machine Detergent",IFERROR('Specifications (L1, L2, L3)'!H3/'Specifications (L1, L2, L3)'!F3/128,0),IF('Laundry (LOT #1)'!G4="Household Machine Detergent",IFERROR('Specifications (L1, L2, L3)'!H69/'Specifications (L1, L2, L3)'!F69/128,0), IF(G4="",0))) -> 0 | L4: =IFERROR('Specifications (L1, L2, L3)'!H22/'Specifications (L1, L2, L3)'!F22/128,0) -> 0 | M4: =IFERROR('Specifications (L1, L2, L3)'!H46/'Specifications (L1, L2, L3)'!F46/128,0) -> 0 | Q4: =IF(G4="Commercial Machine Detergent",IFERROR('Specifications (L1, L2, L3)'!H13/'Specifications (L1, L2, L3)'!G13/16,0),IF('Laundry (LOT #1)'!G4="Household Machine Detergent",IFERROR('Specifications (L1, L2, L3)'!H80/'Specifications (L1, L2, L3)'!G80/16,0),IF('Laundry (LOT #1)'!G4="",0))) -> 0 | R4: =IFERROR('Specifications (L1, L2, L3)'!H34/'Specifications (L1, L2, L3)'!G34/16,0) -> 0 | S4: =IFERROR('Specifications (L1, L2, L3)'!H57/'Specifications (L1, L2, L3)'!G57/16,0) -> 0 | T4: =IFERROR(IF(AND(H4*K4>0,N4*Q4>0),IF(H4*K4<N4*Q4,H4*K4,N4*Q4),IF(H4*K4>N4*Q4,H4*K4,N4*Q4)),"") -> 0 | U4: =IFERROR(IF(AND(I4*L4>0,O4*R4>0),IF(I4*L4<O4*R4,I4*L4,O4*R4),IF(I4*L4>O4*R4,I4*L4,O4*R4)),"") -> 0 | V4: =IFERROR(IF(AND(J4*M4>0,P4*S4>0),IF(J4*M4<P4*S4,J4*M4,P4*S4),IF(J4*M4>P4*S4,J4*M4,P4*S4)),"") -> 0 | W4: =SUM(T4:V4) -> 0 | X4: =W4*F4 -> 0 | Y4: =IF(H4*K4=T4, "Liquid", "Solid") -> Liquid | Z4: =IF(I4*L4=U4, "Liquid", "Solid") -> Liquid | AA4: =IF(J4*M4=V4, "Liquid", "Solid") -> Liquid | AB4: Commercial Machine Detergent | AC4: Household Machine Detergent
C5: 1 | D5: Unimac Reliance UW35PVQU5001 | E5: 35 | F5: 4000 | G5: Commercial Machine Detergent | K5: =IF(G5="Commercial Machine Detergent",IFERROR('Specifications (L1, L2, L3)'!H3/'Specifications (L1, L2, L3)'!F3/128,0),IF('Laundry (LOT #1)'!G5="Household Machine Detergent",IFERROR('Specifications (L1, L2, L3)'!H69/'Specifications (L1, L2, L3)'!F69/128,0), IF(G5="",0))) -> 0 | L5: =IFERROR('Specifications (L1, L2, L3)'!H22/'Specifications (L1, L2, L3)'!F22/128,0) -> 0 | M5: =IFERROR('Specifications (L1, L2, L3)'!H46/'Specifications (L1, L2, L3)'!F46/128,0) -> 0 | Q5: =IF(G5="Commercial Machine Detergent",IFERROR('Specifications (L1, L2, L3)'!H13/'Specifications (L1, L2, L3)'!G13/16,0),IF('Laundry (LOT #1)'!G5="Household Machine Detergent",IFERROR('Specifications (L1, L2, L3)'!H80/'Specifications (L1, L2, L3)'!G80/16,0),IF('Laundry (LOT #1)'!G5="",0))) -> 0 | R5: =IFERROR('Specifications (L1, L2, L3)'!H34/'Specifications (L1, L2, L3)'!G34/16,0) -> 0 | S5: =IFERROR('Specifications (L1, L2, L3)'!H57/'Specifications (L1, L2, L3)'!G57/16,0) -> 0 | T5: =IFERROR(IF(AND(H5*K5>0,N5*Q5>0),IF(H5*K5<N5*Q5,H5*K5,N5*Q5),IF(H5*K5>N5*Q5,H5*K5,N5*Q5)),"") -> 0 | U5: =IFERROR(IF(AND(I5*L5>0,O5*R5>0),IF(I5*L5<O5*R5,I5*L5,O5*R5),IF(I5*L5>O5*R5,I5*L5,O5*R5)),"") -> 0 | V5: =IFERROR(IF(AND(J5*M5>0,P5*S5>0),IF(J5*M5<P5*S5,J5*M5,P5*S5),IF(J5*M5>P5*S5,J5*M5,P5*S5)),"") -> 0 | W5: =SUM(T5:V5) -> 0 | X5: =W5*F5 -> 0 | Y5: =IF(H5*K5=T5, "Liquid", "Solid") -> Liquid | Z5: =IF(I5*L5=U5, "Liquid", "Solid") -> Liquid | AA5: =IF(J5*M5=V5, "Liquid", "Solid") -> Liquid | AB5: Commercial Machine Detergent | AC5: Household Machine Detergent
B6: Anchorage Correctional Complex (WEST) | C6: 2 | D6: B&C HP-65-202 | E6: 60 | F6: 18250 | G6: Commercial Machine Detergent | K6: =IF(G6="Commercial Machine Detergent",IFERROR('Specifications (L1, L2, L3)'!H3/'Specifications (L1, L2, L3)'!F3/128,0),IF('Laundry (LOT #1)'!G6="Household Machine Detergent",IFERROR('Specifications (L1, L2, L3)'!H69/'Specifications (L1, L2, L3)'!F69/128,0), IF(G6="",0))) -> 0 | L6: =IFERROR('Specifications (L1, L2, L3)'!H22/'Specifications (L1, L2, L3)'!F22/128,0) -> 0 | M6: =IFERROR('Specifications (L1, L2, L3)'!H46/'Specifications (L1, L2, L3)'!F46/128,0) -> 0 | Q6: =IF(G6="Commercial Machine Detergent",IFERROR('Specifications (L1, L2, L3)'!H13/'Specifications (L1, L2, L3)'!G13/16,0),IF('Laundry (LOT #1)'!G6="Household Machine Detergent",IFERROR('Specifications (L1, L2, L3)'!H80/'Specifications (L1, L2, L3)'!G80/16,0),IF('Laundry (LOT #1)'!G6="",0))) -> 0 | R6: =IFERROR('Specifications (L1, L2, L3)'!H34/'Specifications (L1, L2, L3)'!G34/16,0) -> 0 | S6: =IFERROR('Specifications (L1, L2, L3)'!H57/'Specifications (L1, L2, L3)'!G57/16,0) -> 0 | T6: =IFERROR(IF(AND(H6*K6>0,N6*Q6>0),IF(H6*K6<N6*Q6,H6*K6,N6*Q6),IF(H6*K6>N6*Q6,H6*K6,N6*Q6)),"") -> 0 | U6: =IFERROR(IF(AND(I6*L6>0,O6*R6>0),IF(I6*L6<O6*R6,I6*L6,O6*R6),IF(I6*L6>O6*R6,I6*L6,O6*R6)),"") -> 0 | V6: =IFERROR(IF(AND(J6*M6>0,P6*S6>0),IF(J6*M6<P6*S6,J6*M6,P6*S6),IF(J6*M6>P6*S6,J6*M6,P6*S6)),"") -> 0 | W6: =SUM(T6:V6) -> 0 | X6: =W6*F6 -> 0 | Y6: =IF(H6*K6=T6, "Liquid", "Solid") -> Liquid | Z6: =IF(I6*L6=U6, "Liquid", "Solid") -> Liquid | AA6: =IF(J6*M6=V6, "Liquid", "Solid") -> Liquid | AB6: Commercial Machine Detergent | AC6: Household Machine Detergent
X7: =SUM(X4:X6) -> 0
A9: Nome, AK | B9: Anvil Mountain Correctional Center | C9: 2 | D9: Continental Girbau EH020PA10241220010 | E9: 20 | F9: 8800 | G9: Commercial Machine Detergent | K9: =IF(G9="Commercial Machine Detergent",IFERROR('Specifications (L1, L2, L3)'!J3/'Specifications (L1, L2, L3)'!F3/128,0),IF('Laundry (LOT #1)'!G9="Household Machine Detergent",IFERROR('Specifications (L1, L2, L3)'!J69/'Specifications (L1, L2, L3)'!F69/128,0), IF(G9="",0))) -> 0 | L9: =IFERROR('Specifications (L1, L2, L3)'!J22/'Specifications (L1, L2, L3)'!F22/128,0) -> 0 | M9: =IFERROR('Specifications (L1, L2, L3)'!J46/'Specifications (L1, L2, L3)'!F46/128,0) -> 0 | Q9: =IF(G9="Commercial Machine Detergent",IFERROR('Specifications (L1, L2, L3)'!J13/'Specifications (L1, L2, L3)'!G13/16,0),IF('Laundry (LOT #1)'!G9="Household Machine Detergent",IFERROR('Specifications (L1, L2, L3)'!J80/'Specifications (L1, L2, L3)'!G80/16,0),IF('Laundry (LOT #1)'!G9="",0))) -> 0 | R9: =IFERROR('Specifications (L1, L2, L3)'!J34/'Specifications (L1, L2, L3)'!G34/16,0) -> 0 | S9: =IFERROR('Specifications (L1, L2, L3)'!J57/'Specifications (L1, L2, L3)'!G57/16,0) -> 0 | T9: =IFERROR(IF(AND(H9*K9>0,N9*Q9>0),IF(H9*K9<N9*Q9,H9*K9,N9*Q9),IF(H9*K9>N9*Q9,H9*K9,N9*Q9)),"") -> 0 | U9: =IFERROR(IF(AND(I9*L9>0,O9*R9>0),IF(I9*L9<O9*R9,I9*L9,O9*R9),IF(I9*L9>O9*R9,I9*L9,O9*R9)),"") -> 0 | V9: =IFERROR(IF(AND(J9*M9>0,P9*S9>0),IF(J9*M9<P9*S9,J9*M9,P9*S9),IF(J9*M9>P9*S9,J9*M9,P9*S9)),"") -> 0 | W9: =SUM(T9:V9) -> 0 | X9: =W9*F9 -> 0 | Y9: =IF(H9*K9=T9, "Liquid", "Solid") -> Liquid | Z9: =IF(I9*L9=U9, "Liquid", "Solid") -> Liquid | AA9: =IF(J9*M9=V9, "Liquid", "Solid") -> Liquid | AB9: Commercial Machine Detergent | AC9: Household Machine Detergent
C10: 1 | D10: Continental Girbau RMG070P3102111001 | E10: 70 | F10: 8100 | G10: Commercial Machine Detergent | K10: =IF(G9="Commercial Machine Detergent",IFERROR('Specifications (L1, L2, L3)'!J3/'Specifications (L1, L2, L3)'!F3/128,0),IF('Laundry (LOT #1)'!G9="Household Machine Detergent",IFERROR('Specifications (L1, L2, L3)'!J69/'Specifications (L1, L2, L3)'!F69/128,0), IF(G9="",0))) -> 0 | L10: =IFERROR('Specifications (L1, L2, L3)'!J22/'Specifications (L1, L2, L3)'!F22/128,0) -> 0 | M10: =IFERROR('Specifications (L1, L2, L3)'!J46/'Specifications (L1, L2, L3)'!F46/128,0) -> 0 | Q10: =IF(G10="Commercial Machine Detergent",IFERROR('Specifications (L1, L2, L3)'!J13/'Specifications (L1, L2, L3)'!G13/16,0),IF('Laundry (LOT #1)'!G10="Household Machine Detergent",IFERROR('Specifications (L1, L2, L3)'!J80/'Specifications (L1, L2, L3)'!G80/16,0),IF('Laundry (LOT #1)'!G10="",0))) -> 0 | R10: =IFERROR('Specifications (L1, L2, L3)'!J34/'Specifications (L1, L2, L3)'!G34/16,0) -> 0 | S10: =IFERROR('Specifications (L1, L2, L3)'!J57/'Specifications (L1, L2, L3)'!G57/16,0) -> 0 | T10: =IFERROR(IF(AND(H10*K10>0,N10*Q10>0),IF(H10*K10<N10*Q10,H10*K10,N10*Q10),IF(H10*K10>N10*Q10,H10*K10,N10*Q10)),"") -> 0 | U10: =IFERROR(IF(AND(I10*L10>0,O10*R10>0),IF(I10*L10<O10*R10,I10*L10,O10*R10),IF(I10*L10>O10*R10,I10*L10,O10*R10)),"") -> 0 | V10: =IFERROR(IF(AND(J10*M10>0,P10*S10>0),IF(J10*M10<P10*S10,J10*M10,P10*S10),IF(J10*M10>P10*S10,J10*M10,P10*S10)),"") -> 0 | W10: =SUM(T10:V10) -> 0 | X10: =W10*F10 -> 0 | Y10: =IF(H10*K10=T10, "Liquid", "Solid") -> Liquid | Z10: =IF(I10*L10=U10, "Liquid", "Solid") -> Liquid | AA10: =IF(J10*M10=V10, "Liquid", "Solid") -> Liquid | AB10: Commercial Machine Detergent | AC10: Household Machine Detergent
X11: =SUM(X9:X10) -> 0
A13: Fairbanks, AK | B13: Fairbanks Correctional Center | C13: 3 | D13: Unimac UWN060T3VXU3001 | E13: 60 | F13: 16500 | G13: Commercial Machine Detergent | K13: =IF(G13="Commercial Machine Detergent",IFERROR('Specifications (L1, L2, L3)'!I3/'Specifications (L1, L2, L3)'!F3/128,0),IF('Laundry (LOT #1)'!G13="Household Machine Detergent",IFERROR('Specifications (L1, L2, L3)'!I69/'Specifications (L1, L2, L3)'!F69/128,0), IF(G13="",0))) -> 0 | L13: =IFERROR('Specifications (L1, L2, L3)'!I22/'Specifications (L1, L2, L3)'!F22/128,0) -> 0 | M13: =IFERROR('Specifications (L1, L2, L3)'!I46/'Specifications (L1, L2, L3)'!F46/128,0) -> 0 | Q13: =IF(G13="Commercial Machine Detergent",IFERROR('Specifications (L1, L2, L3)'!I13/'Specifications (L1, L2, L3)'!G13/16,0),IF('Laundry (LOT #1)'!G13="Household Machine Detergent",IFERROR('Specifications (L1, L2, L3)'!I80/'Specifications (L1, L2, L3)'!G80/16,0),IF('Laundry (LOT #1)'!G13="",0))) -> 0 | R13: =IFERROR('Specifications (L1, L2, L3)'!I34/'Specifications (L1, L2, L3)'!G34/16,0) -> 0 | S13: =IFERROR('Specifications (L1, L2, L3)'!I57/'Specifications (L1, L2, L3)'!G57/16,0) -> 0 | T13: =IFERROR(IF(AND(H13*K13>0,N13*Q13>0),IF(H13*K13<N13*Q13,H13*K13,N13*Q13),IF(H13*K13>N13*Q13,H13*K13,N13*Q13)),"") -> 0 | U13: =IFERROR(IF(AND(I13*L13>0,O13*R13>0),IF(I13*L13<O13*R13,I13*L13,O13*R13),IF(I13*L13>O13*R13,I13*L13,O13*R13)),"") -> 0 | V13: =IFERROR(IF(AND(J13*M13>0,P13*S13>0),IF(J13*M13<P13*S13,J13*M13,P13*S13),IF(J13*M13>P13*S13,J13*M13,P13*S13)),"") -> 0 | W13: =SUM(T13:V13) -> 0 | X13: =W13*F13 -> 0 | Y13: =IF(H13*K13=T13, "Liquid", "Solid") -> Liquid | Z13: =IF(I13*L13=U13, "Liquid", "Solid") -> Liquid | AA13: =IF(J13*M13=V13, "Liquid", "Solid") -> Liquid | AB13: Commercial Machine Detergent | AC13: Household Machine Detergent
X14: =SUM(X13) -> 0
A16: Wasilla, AK | B16: Goose Creek Correctional Center | C16: 1 | D16: Speed Queen stackable washer/dryer SPQLTEE5ASP155TW01 | E16: 15 | F16: 4000 | G16: Commercial Machine Detergent | K16: =IF(G16="Commercial Machine Detergent",IFERROR('Specifications (L1, L2, L3)'!H3/'Specifications (L1, L2, L3)'!F3/128,0),IF('Laundry (LOT #1)'!G16="Household Machine Detergent",IFERROR('Specifications (L1, L2, L3)'!H69/'Specifications (L1, L2, L3)'!F69/128,0), IF(G16="",0))) -> 0 | L16: =IFERROR('Specifications (L1, L2, L3)'!H22/'Specifications (L1, L2, L3)'!F22/128,0) -> 0 | M16: =IFERROR('Specifications (L1, L2, L3)'!H46/'Specifications (L1, L2, L3)'!F46/128,0) -> 0 | Q16: =IF(G16="Commercial Machine Detergent",IFERROR('Specifications (L1, L2, L3)'!H13/'Specifications (L1, L2, L3)'!G13/16,0),IF('Laundry (LOT #1)'!G16="Household Machine Detergent",IFERROR('Specifications (L1, L2, L3)'!H80/'Specifications (L1, L2, L3)'!G80/16,0),IF('Laundry (LOT #1)'!G16="",0))) -> 0 | R16: =IFERROR('Specifications (L1, L2, L3)'!H34/'Specifications (L1, L2, L3)'!G34/16,0) -> 0 | S16: =IFERROR('Specifications (L1, L2, L3)'!H57/'Specifications (L1, L2, L3)'!G57/16,0) -> 0 | T16: =IFERROR(IF(AND(H16*K16>0,N16*Q16>0),IF(H16*K16<N16*Q16,H16*K16,N16*Q16),IF(H16*K16>N16*Q16,H16*K16,N16*Q16)),"") -> 0 | U16: =IFERROR(IF(AND(I16*L16>0,O16*R16>0),IF(I16*L16<O16*R16,I16*L16,O16*R16),IF(I16*L16>O16*R16,I16*L16,O16*R16)),"") -> 0 | V16: =IFERROR(IF(AND(J16*M16>0,P16*S16>0),IF(J16*M16<P16*S16,J16*M16,P16*S16),IF(J16*M16>P16*S16,J16*M16,P16*S16)),"") -> 0 | W16: =SUM(T16:V16) -> 0 | X16: =W16*F16 -> 0 | Y16: =IF(H16*K16=T16, "Liquid", "Solid") -> Liquid | Z16: =IF(I16*L16=U16, "Liquid", "Solid") -> Liquid | AA16: =IF(J16*M16=V16, "Liquid", "Solid") -> Liquid | AB16: Commercial Machine Detergent | AC16: Household Machine Detergent
C17: 1 | D17: Unimac UWN60T3VRU1001 | E17: 60 | F17: 5200 | G17: Commercial Machine Detergent | K17: =IF(G17="Commercial Machine Detergent",IFERROR('Specifications (L1, L2, L3)'!H3/'Specifications (L1, L2, L3)'!F3/128,0),IF('Laundry (LOT #1)'!G17="Household Machine Detergent",IFERROR('Specifications (L1, L2, L3)'!H69/'Specifications (L1, L2, L3)'!F69/128,0), IF(G17="",0))) -> 0 | L17: =IFERROR('Specifications (L1, L2, L3)'!H22/'Specifications (L1, L2, L3)'!F22/128,0) -> 0 | M17: =IFERROR('Specifications (L1, L2, L3)'!H46/'Specifications (L1, L2, L3)'!F46/128,0) -> 0 | Q17: =IF(G17="Commercial Machine Detergent",IFERROR('Specifications (L1, L2, L3)'!H13/'Specifications (L1, L2, L3)'!G13/16,0),IF('Laundry (LOT #1)'!G17="Household Machine Detergent",IFERROR('Specifications (L1, L2, L3)'!H80/'Specifications (L1, L2, L3)'!G80/16,0),IF('Laundry (LOT #1)'!G17="",0))) -> 0 | R17: =IFERROR('Specifications (L1, L2, L3)'!H34/'Specifications (L1, L2, L3)'!G34/16,0) -> 0 | S17: =IFERROR('Specifications (L1, L2, L3)'!H57/'Specifications (L1, L2, L3)'!G57/16,0) -> 0 | T17: =IFERROR(IF(AND(H17*K17>0,N17*Q17>0),IF(H17*K17<N17*Q17,H17*K17,N17*Q17),IF(H17*K17>N17*Q17,H17*K17,N17*Q17)),"") -> 0 | U17: =IFERROR(IF(AND(I17*L17>0,O17*R17>0),IF(I17*L17<O17*R17,I17*L17,O17*R17),IF(I17*L17>O17*R17,I17*L17,O17*R17)),"") -> 0 | V17: =IFERROR(IF(AND(J17*M17>0,P17*S17>0),IF(J17*M17<P17*S17,J17*M17,P17*S17),IF(J17*M17>P17*S17,J17*M17,P17*S17)),"") -> 0 | W17: =SUM(T17:V17) -> 0 | X17: =W17*F17 -> 0 | Y17: =IF(H17*K17=T17, "Liquid", "Solid") -> Liquid | Z17: =IF(I17*L17=U17, "Liquid", "Solid") -> Liquid | AA17: =IF(J17*M17=V17, "Liquid", "Solid") -> Liquid | AB17: Commercial Machine Detergent | AC17: Household Machine Detergent
C18: 20 | D18: Whirlpool WTW5000DW1 | E18: 20 | F18: 402000 | G18: Commercial Machine Detergent | K18: =IF(G18="Commercial Machine Detergent",IFERROR('Specifications (L1, L2, L3)'!H3/'Specifications (L1, L2, L3)'!F3/128,0),IF('Laundry (LOT #1)'!G18="Household Machine Detergent",IFERROR('Specifications (L1, L2, L3)'!H69/'Specifications (L1, L2, L3)'!F69/128,0), IF(G18="",0))) -> 0 | L18: =IFERROR('Specifications (L1, L2, L3)'!H22/'Specifications (L1, L2, L3)'!F22/128,0) -> 0 | M18: =IFERROR('Specifications (L1, L2, L3)'!H46/'Specifications (L1, L2, L3)'!F46/128,0) -> 0 | Q18: =IF(G18="Commercial Machine Detergent",IFERROR('Specifications (L1, L2, L3)'!H13/'Specifications (L1, L2, L3)'!G13/16,0),IF('Laundry (LOT #1)'!G18="Household Machine Detergent",IFERROR('Specifications (L1, L2, L3)'!H80/'Specifications (L1, L2, L3)'!G80/16,0),IF('Laundry (LOT #1)'!G18="",0))) -> 0 | R18: =IFERROR('Specifications (L1, L2, L3)'!H34/'Specifications (L1, L2, L3)'!G34/16,0) -> 0 | S18: =IFERROR('Specifications (L1, L2, L3)'!H57/'Specifications (L1, L2, L3)'!G57/16,0) -> 0 | T18: =IFERROR(IF(AND(H18*K18>0,N18*Q18>0),IF(H18*K18<N18*Q18,H18*K18,N18*Q18),IF(H18*K18>N18*Q18,H18*K18,N18*Q18)),"") -> 0 | U18: =IFERROR(IF(AND(I18*L18>0,O18*R18>0),IF(I18*L18<O18*R18,I18*L18,O18*R18),IF(I18*L18>O18*R18,I18*L18,O18*R18)),"") -> 0 | V18: =IFERROR(IF(AND(J18*M18>0,P18*S18>0),IF(J18*M18<P18*S18,J18*M18,P18*S18),IF(J18*M18>P18*S18,J18*M18,P18*S18)),"") -> 0 | W18: =SUM(T18:V18) -> 0 | X18: =W18*F18 -> 0 | Y18: =IF(H18*K18=T18, "Liquid", "Solid") -> Liquid | Z18: =IF(I18*L18=U18, "Liquid", "Solid") -> Liquid | AA18: =IF(J18*M18=V18, "Liquid", "Solid") -> Liquid | AB18: Commercial Machine Detergent | AC18: Household Machine Detergent
C19: 3 | D19: Unimac UWN150T3VRU2001 | E19: 150 | F19: 15500 | G19: Commercial Machine Detergent | K19: =IF(G19="Commercial Machine Detergent",IFERROR('Specifications (L1, L2, L3)'!H3/'Specifications (L1, L2, L3)'!F3/128,0),IF('Laundry (LOT #1)'!G19="Household Machine Detergent",IFERROR('Specifications (L1, L2, L3)'!H69/'Specifications (L1, L2, L3)'!F69/128,0), IF(G19="",0))) -> 0 | L19: =IFERROR('Specifications (L1, L2, L3)'!H22/'Specifications (L1, L2, L3)'!F22/128,0) -> 0 | M19: =IFERROR('Specifications (L1, L2, L3)'!H46/'Specifications (L1, L2, L3)'!F46/128,0) -> 0 | Q19: =IF(G19="Commercial Machine Detergent",IFERROR('Specifications (L1, L2, L3)'!H13/'Specifications (L1, L2, L3)'!G13/16,0),IF('Laundry (LOT #1)'!G19="Household Machine Detergent",IFERROR('Specifications (L1, L2, L3)'!H80/'Specifications (L1, L2, L3)'!G80/16,0),IF('Laundry (LOT #1)'!G19="",0))) -> 0 | R19: =IFERROR('Specifications (L1, L2, L3)'!H34/'Specifications (L1, L2, L3)'!G34/16,0) -> 0 | S19: =IFERROR('Specifications (L1, L2, L3)'!H57/'Specifications (L1, L2, L3)'!G57/16,0) -> 0 | T19: =IFERROR(IF(AND(H19*K19>0,N19*Q19>0),IF(H19*K19<N19*Q19,H19*K19,N19*Q19),IF(H19*K19>N19*Q19,H19*K19,N19*Q19)),"") -> 0 | U19: =IFERROR(IF(AND(I19*L19>0,O19*R19>0),IF(I19*L19<O19*R19,I19*L19,O19*R19),IF(I19*L19>O19*R19,I19*L19,O19*R19)),"") -> 0 | V19: =IFERROR(IF(AND(J19*M19>0,P19*S19>0),IF(J19*M19<P19*S19,J19*M19,P19*S19),IF(J19*M19>P19*S19,J19*M19,P19*S19)),"") -> 0 | W19: =SUM(T19:V19) -> 0 | X19: =W19*F19 -> 0 | Y19: =IF(H19*K19=T19, "Liquid", "Solid") -> Liquid | Z19: =IF(I19*L19=U19, "Liquid", "Solid") -> Liquid | AA19: =IF(J19*M19=V19, "Liquid", "Solid") -> Liquid | AB19: Commercial Machine Detergent | AC19: Household Machine Detergent
X20: =SUM(X16:X19) -> 0
A22: Eagle River, AK | B22: Hiland Mountain Correctional Center | C22: 1 | D22: Unimac UWN065T4V | E22: 65 | F22: 4000 | G22: Commercial Machine Detergent | K22: =IF(G22="Commercial Machine Detergent",IFERROR('Specifications (L1, L2, L3)'!H3/'Specifications (L1, L2, L3)'!F3/128,0),IF('Laundry (LOT #1)'!G22="Household Machine Detergent",IFERROR('Specifications (L1, L2, L3)'!H69/'Specifications (L1, L2, L3)'!F69/128,0), IF(G22="",0))) -> 0 | L22: =IFERROR('Specifications (L1, L2, L3)'!H22/'Specifications (L1, L2, L3)'!F22/128,0) -> 0 | M22: =IFERROR('Specifications (L1, L2, L3)'!H46/'Specifications (L1, L2, L3)'!F46/128,0) -> 0 | Q22: =IF(G22="Commercial Machine Detergent",IFERROR('Specifications (L1, L2, L3)'!H13/'Specifications (L1, L2, L3)'!G13/16,0),IF('Laundry (LOT #1)'!G22="Household Machine Detergent",IFERROR('Specifications (L1, L2, L3)'!H80/'Specifications (L1, L2, L3)'!G80/16,0),IF('Laundry (LOT #1)'!G22="",0))) -> 0 | R22: =IFERROR('Specifications (L1, L2, L3)'!H34/'Specifications (L1, L2, L3)'!G34/16,0) -> 0 | S22: =IFERROR('Specifications (L1, L2, L3)'!H57/'Specifications (L1, L2, L3)'!G57/16,0) -> 0 | T22: =IFERROR(IF(AND(H22*K22>0,N22*Q22>0),IF(H22*K22<N22*Q22,H22*K22,N22*Q22),IF(H22*K22>N22*Q22,H22*K22,N22*Q22)),"") -> 0 | U22: =IFERROR(IF(AND(I22*L22>0,O22*R22>0),IF(I22*L22<O22*R22,I22*L22,O22*R22),IF(I22*L22>O22*R22,I22*L22,O22*R22)),"") -> 0 | V22: =IFERROR(IF(AND(J22*M22>0,P22*S22>0),IF(J22*M22<P22*S22,J22*M22,P22*S22),IF(J22*M22>P22*S22,J22*M22,P22*S22)),"") -> 0 | W22: =SUM(T22:V22) -> 0 | X22: =W22*F22 -> 0 | Y22: =IF(H22*K22=T22, "Liquid", "Solid") -> Liquid | Z22: =IF(I22*L22=U22, "Liquid", "Solid") -> Liquid | AA22: =IF(J22*M22=V22, "Liquid", "Solid") -> Liquid | AB22: Commercial Machine Detergent | AC22: Household Machine Detergent
C23: 1 | D23: B&C HP60E2-4SANN-ABA | E23: 60 | F23: 4000 | G23: Commercial Machine Detergent | K23: =IF(G23="Commercial Machine Detergent",IFERROR('Specifications (L1, L2, L3)'!H3/'Specifications (L1, L2, L3)'!F3/128,0),IF('Laundry (LOT #1)'!G23="Household Machine Detergent",IFERROR('Specifications (L1, L2, L3)'!H69/'Specifications (L1, L2, L3)'!F69/128,0), IF(G23="",0))) -> 0 | L23: =IFERROR('Specifications (L1, L2, L3)'!H22/'Specifications (L1, L2, L3)'!F22/128,0) -> 0 | M23: =IFERROR('Specifications (L1, L2, L3)'!H46/'Specifications (L1, L2, L3)'!F46/128,0) -> 0 | Q23: =IF(G23="Commercial Machine Detergent",IFERROR('Specifications (L1, L2, L3)'!H13/'Specifications (L1, L2, L3)'!G13/16,0),IF('Laundry (LOT #1)'!G23="Household Machine Detergent",IFERROR('Specifications (L1, L2, L3)'!H80/'Specifications (L1, L2, L3)'!G80/16,0),IF('Laundry (LOT #1)'!G23="",0))) -> 0 | R23: =IFERROR('Specifications (L1, L2, L3)'!H34/'Specifications (L1, L2, L3)'!G34/16,0) -> 0 | S23: =IFERROR('Specifications (L1, L2, L3)'!H57/'Specifications (L1, L2, L3)'!G57/16,0) -> 0 | T23: =IFERROR(IF(AND(H23*K23>0,N23*Q23>0),IF(H23*K23<N23*Q23,H23*K23,N23*Q23),IF(H23*K23>N23*Q23,H23*K23,N23*Q23)),"") -> 0 | U23: =IFERROR(IF(AND(I23*L23>0,O23*R23>0),IF(I23*L23<O23*R23,I23*L23,O23*R23),IF(I23*L23>O23*R23,I23*L23,O23*R23)),"") -> 0 | V23: =IFERROR(IF(AND(J23*M23>0,P23*S23>0),IF(J23*M23<P23*S23,J23*M23,P23*S23),IF(J23*M23>P23*S23,J23*M23,P23*S23)),"") -> 0 | W23: =SUM(T23:V23) -> 0 | X23: =W23*F23 -> 0 | Y23: =IF(H23*K23=T23, "Liquid", "Solid") -> Liquid | Z23: =IF(I23*L23=U23, "Liquid", "Solid") -> Liquid | AA23: =IF(J23*M23=V23, "Liquid", "Solid") -> Liquid | AB23: Commercial Machine Detergent | AC23: Household Machine Detergent
X24: =SUM(X22:X23) -> 0
A26: Ketchikan, AK | B26: Ketchikan Correctional Center | C26: 2 | D26: Unimac UCN040 | E26: 40 | F26: 3000 | G26: Commercial Machine Detergent | K26: =IF(G26="Commercial Machine Detergent",IFERROR('Specifications (L1, L2, L3)'!K3/'Specifications (L1, L2, L3)'!F3/128,0),IF('Laundry (LOT #1)'!G26="Household Machine Detergent",IFERROR('Specifications (L1, L2, L3)'!K69/'Specifications (L1, L2, L3)'!F69/128,0), IF(G26="",0))) -> 0 | L26: =IFERROR('Specifications (L1, L2, L3)'!K22/'Specifications (L1, L2, L3)'!F22/128,0) -> 0 | M26: =IFERROR('Specifications (L1, L2, L3)'!K46/'Specifications (L1, L2, L3)'!F46/128,0) -> 0 | Q26: =IF(G26="Commercial Machine Detergent",IFERROR('Specifications (L1, L2, L3)'!K13/'Specifications (L1, L2, L3)'!G13/16,0),IF('Laundry (LOT #1)'!G26="Household Machine Detergent",IFERROR('Specifications (L1, L2, L3)'!K80/'Specifications (L1, L2, L3)'!G80/16,0),IF('Laundry (LOT #1)'!G26="",0))) -> 0 | R26: =IFERROR('Specifications (L1, L2, L3)'!K34/'Specifications (L1, L2, L3)'!G34/16,0) -> 0 | S26: =IFERROR('Specifications (L1, L2, L3)'!K57/'Specifications (L1, L2, L3)'!G57/16,0) -> 0 | T26: =IFERROR(IF(AND(H26*K26>0,N26*Q26>0),IF(H26*K26<N26*Q26,H26*K26,N26*Q26),IF(H26*K26>N26*Q26,H26*K26,N26*Q26)),"") -> 0 | U26: =IFERROR(IF(AND(I26*L26>0,O26*R26>0),IF(I26*L26<O26*R26,I26*L26,O26*R26),IF(I26*L26>O26*R26,I26*L26,O26*R26)),"") -> 0 | V26: =IFERROR(IF(AND(J26*M26>0,P26*S26>0),IF(J26*M26<P26*S26,J26*M26,P26*S26),IF(J26*M26>P26*S26,J26*M26,P26*S26)),"") -> 0 | W26: =SUM(T26:V26) -> 0 | X26: =W26*F26 -> 0 | Y26: =IF(H26*K26=T26, "Liquid", "Solid") -> Liquid | Z26: =IF(I26*L26=U26, "Liquid", "Solid") -> Liquid | AA26: =IF(J26*M26=V26, "Liquid", "Solid") -> Liquid | AB26: Commercial Machine Detergent | AC26: Household Machine Detergent
X27: =SUM(X26) -> 0
A29: Juneau, AK | B29: Lemon Creek Correctional Center | C29: 2 | D29: Unimac UWN065T4VX4001 | E29: 65 | F29: 22000 | G29: Commercial Machine Detergent | K29: =IF(G29="Commercial Machine Detergent",IFERROR('Specifications (L1, L2, L3)'!K3/'Specifications (L1, L2, L3)'!F3/128,0),IF('Laundry (LOT #1)'!G29="Household Machine Detergent",IFERROR('Specifications (L1, L2, L3)'!K69/'Specifications (L1, L2, L3)'!F69/128,0), IF(G29="",0))) -> 0 | L29: =IFERROR('Specifications (L1, L2, L3)'!K22/'Specifications (L1, L2, L3)'!F22/128,0) -> 0 | M29: =IFERROR('Specifications (L1, L2, L3)'!K46/'Specifications (L1, L2, L3)'!F46/128,0) -> 0 | Q29: =IF(G29="Commercial Machine Detergent",IFERROR('Specifications (L1, L2, L3)'!K13/'Specifications (L1, L2, L3)'!G13/16,0),IF('Laundry (LOT #1)'!G29="Household Machine Detergent",IFERROR('Specifications (L1, L2, L3)'!K80/'Specifications (L1, L2, L3)'!G80/16,0),IF('Laundry (LOT #1)'!G29="",0))) -> 0 | R29: =IFERROR('Specifications (L1, L2, L3)'!K34/'Specifications (L1, L2, L3)'!G34/16,0) -> 0 | S29: =IFERROR('Specifications (L1, L2, L3)'!K57/'Specifications (L1, L2, L3)'!G57/16,0) -> 0 | T29: =IFERROR(IF(AND(H29*K29>0,N29*Q29>0),IF(H29*K29<N29*Q29,H29*K29,N29*Q29),IF(H29*K29>N29*Q29,H29*K29,N29*Q29)),"") -> 0 | U29: =IFERROR(IF(AND(I29*L29>0,O29*R29>0),IF(I29*L29<O29*R29,I29*L29,O29*R29),IF(I29*L29>O29*R29,I29*L29,O29*R29)),"") -> 0 | V29: =IFERROR(IF(AND(J29*M29>0,P29*S29>0),IF(J29*M29<P29*S29,J29*M29,P29*S29),IF(J29*M29>P29*S29,J29*M29,P29*S29)),"") -> 0 | W29: =SUM(T29:V29) -> 0 | X29: =W29*F29 -> 0 | Y29: =IF(H29*K29=T29, "Liquid", "Solid") -> Liquid | Z29: =IF(I29*L29=U29, "Liquid", "Solid") -> Liquid | AA29: =IF(J29*M29=V29, "Liquid", "Solid") -> Liquid | AB29: Commercial Machine Detergent | AC29: Household Machine Detergent
C30: 2 | D30: Unimac UWN035V3XU3001 | E30: 35 | F30: 11000 | G30: Commercial Machine Detergent | K30: =IF(G30="Commercial Machine Detergent",IFERROR('Specifications (L1, L2, L3)'!K3/'Specifications (L1, L2, L3)'!F3/128,0),IF('Laundry (LOT #1)'!G30="Household Machine Detergent",IFERROR('Specifications (L1, L2, L3)'!K69/'Specifications (L1, L2, L3)'!F69/128,0), IF(G30="",0))) -> 0 | L30: =IFERROR('Specifications (L1, L2, L3)'!K22/'Specifications (L1, L2, L3)'!F22/128,0) -> 0 | M30: =IFERROR('Specifications (L1, L2, L3)'!K46/'Specifications (L1, L2, L3)'!F46/128,0) -> 0 | Q30: =IF(G30="Commercial Machine Detergent",IFERROR('Specifications (L1, L2, L3)'!K13/'Specifications (L1, L2, L3)'!G13/16,0),IF('Laundry (LOT #1)'!G30="Household Machine Detergent",IFERROR('Specifications (L1, L2, L3)'!K80/'Specifications (L1, L2, L3)'!G80/16,0),IF('Laundry (LOT #1)'!G30="",0))) -> 0 | R30: =IFERROR('Specifications (L1, L2, L3)'!K34/'Specifications (L1, L2, L3)'!G34/16,0) -> 0 | S30: =IFERROR('Specifications (L1, L2, L3)'!K57/'Specifications (L1, L2, L3)'!G57/16,0) -> 0 | T30: =IFERROR(IF(AND(H30*K30>0,N30*Q30>0),IF(H30*K30<N30*Q30,H30*K30,N30*Q30),IF(H30*K30>N30*Q30,H30*K30,N30*Q30)),"") -> 0 | U30: =IFERROR(IF(AND(I30*L30>0,O30*R30>0),IF(I30*L30<O30*R30,I30*L30,O30*R30),IF(I30*L30>O30*R30,I30*L30,O30*R30)),"") -> 0 | V30: =IFERROR(IF(AND(J30*M30>0,P30*S30>0),IF(J30*M30<P30*S30,J30*M30,P30*S30),IF(J30*M30>P30*S30,J30*M30,P30*S30)),"") -> 0 | W30: =SUM(T30:V30) -> 0 | X30: =W30*F30 -> 0 | Y30: =IF(H30*K30=T30, "Liquid", "Solid") -> Liquid | Z30: =IF(I30*L30=U30, "Liquid", "Solid") -> Liquid | AA30: =IF(J30*M30=V30, "Liquid", "Solid") -> Liquid | AB30: Commercial Machine Detergent | AC30: Household Machine Detergent
C31: 2 | D31: GE WBVH5300K0WW | E31: 20 | F31: 1500 | G31: Commercial Machine Detergent | K31: =IF(G31="Commercial Machine Detergent",IFERROR('Specifications (L1, L2, L3)'!K3/'Specifications (L1, L2, L3)'!F3/128,0),IF('Laundry (LOT #1)'!G31="Household Machine Detergent",IFERROR('Specifications (L1, L2, L3)'!K69/'Specifications (L1, L2, L3)'!F69/128,0), IF(G31="",0))) -> 0 | L31: =IFERROR('Specifications (L1, L2, L3)'!K22/'Specifications (L1, L2, L3)'!F22/128,0) -> 0 | M31: =IFERROR('Specifications (L1, L2, L3)'!K46/'Specifications (L1, L2, L3)'!F46/128,0) -> 0 | Q31: =IF(G31="Commercial Machine Detergent",IFERROR('Specifications (L1, L2, L3)'!K13/'Specifications (L1, L2, L3)'!G13/16,0),IF('Laundry (LOT #1)'!G31="Household Machine Detergent",IFERROR('Specifications (L1, L2, L3)'!K80/'Specifications (L1, L2, L3)'!G80/16,0),IF('Laundry (LOT #1)'!G31="",0))) -> 0 | R31: =IFERROR('Specifications (L1, L2, L3)'!K34/'Specifications (L1, L2, L3)'!G34/16,0) -> 0 | S31: =IFERROR('Specifications (L1, L2, L3)'!K57/'Specifications (L1, L2, L3)'!G57/16,0) -> 0 | T31: =IFERROR(IF(AND(H31*K31>0,N31*Q31>0),IF(H31*K31<N31*Q31,H31*K31,N31*Q31),IF(H31*K31>N31*Q31,H31*K31,N31*Q31)),"") -> 0 | U31: =IFERROR(IF(AND(I31*L31>0,O31*R31>0),IF(I31*L31<O31*R31,I31*L31,O31*R31),IF(I31*L31>O31*R31,I31*L31,O31*R31)),"") -> 0 | V31: =IFERROR(IF(AND(J31*M31>0,P31*S31>0),IF(J31*M31<P31*S31,J31*M31,P31*S31),IF(J31*M31>P31*S31,J31*M31,P31*S31)),"") -> 0 | W31: =SUM(T31:V31) -> 0 | X31: =W31*F31 -> 0 | Y31: =IF(H31*K31=T31, "Liquid", "Solid") -> Liquid | Z31: =IF(I31*L31=U31, "Liquid", "Solid") -> Liquid | AA31: =IF(J31*M31=V31, "Liquid", "Solid") -> Liquid | AB31: Commercial Machine Detergent | AC31: Household Machine Detergent
C32: 1 | D32: Crosley X10740619 | E32: 20 | F32: 1500 | G32: Commercial Machine Detergent | K32: =IF(G32="Commercial Machine Detergent",IFERROR('Specifications (L1, L2, L3)'!K3/'Specifications (L1, L2, L3)'!F3/128,0),IF('Laundry (LOT #1)'!G32="Household Machine Detergent",IFERROR('Specifications (L1, L2, L3)'!K69/'Specifications (L1, L2, L3)'!F69/128,0), IF(G32="",0))) -> 0 | L32: =IFERROR('Specifications (L1, L2, L3)'!K22/'Specifications (L1, L2, L3)'!F22/128,0) -> 0 | M32: =IFERROR('Specifications (L1, L2, L3)'!K46/'Specifications (L1, L2, L3)'!F46/128,0) -> 0 | Q32: =IF(G32="Commercial Machine Detergent",IFERROR('Specifications (L1, L2, L3)'!K13/'Specifications (L1, L2, L3)'!G13/16,0),IF('Laundry (LOT #1)'!G32="Household Machine Detergent",IFERROR('Specifications (L1, L2, L3)'!K80/'Specifications (L1, L2, L3)'!G80/16,0),IF('Laundry (LOT #1)'!G32="",0))) -> 0 | R32: =IFERROR('Specifications (L1, L2, L3)'!K34/'Specifications (L1, L2, L3)'!G34/16,0) -> 0 | S32: =IFERROR('Specifications (L1, L2, L3)'!K57/'Specifications (L1, L2, L3)'!G57/16,0) -> 0 | T32: =IFERROR(IF(AND(H32*K32>0,N32*Q32>0),IF(H32*K32<N32*Q32,H32*K32,N32*Q32),IF(H32*K32>N32*Q32,H32*K32,N32*Q32)),"") -> 0 | U32: =IFERROR(IF(AND(I32*L32>0,O32*R32>0),IF(I32*L32<O32*R32,I32*L32,O32*R32),IF(I32*L32>O32*R32,I32*L32,O32*R32)),"") -> 0 | V32: =IFERROR(IF(AND(J32*M32>0,P32*S32>0),IF(J32*M32<P32*S32,J32*M32,P32*S32),IF(J32*M32>P32*S32,J32*M32,P32*S32)),"") -> 0 | W32: =SUM(T32:V32) -> 0 | X32: =W32*F32 -> 0 | Y32: =IF(H32*K32=T32, "Liquid", "Solid") -> Liquid | Z32: =IF(I32*L32=U32, "Liquid", "Solid") -> Liquid | AA32: =IF(J32*M32=V32, "Liquid", "Solid") -> Liquid | AB32: Commercial Machine Detergent | AC32: Household Machine Detergent
C33: 1 | D33: Crosley CAW12444DW1 | E33: 20 | F33: 2000 | G33: Commercial Machine Detergent | K33: =IF(G33="Commercial Machine Detergent",IFERROR('Specifications (L1, L2, L3)'!K3/'Specifications (L1, L2, L3)'!F3/128,0),IF('Laundry (LOT #1)'!G33="Household Machine Detergent",IFERROR('Specifications (L1, L2, L3)'!K69/'Specifications (L1, L2, L3)'!F69/128,0), IF(G33="",0))) -> 0 | L33: =IFERROR('Specifications (L1, L2, L3)'!K22/'Specifications (L1, L2, L3)'!F22/128,0) -> 0 | M33: =IFERROR('Specifications (L1, L2, L3)'!K46/'Specifications (L1, L2, L3)'!F46/128,0) -> 0 | Q33: =IF(G33="Commercial Machine Detergent",IFERROR('Specifications (L1, L2, L3)'!K13/'Specifications (L1, L2, L3)'!G13/16,0),IF('Laundry (LOT #1)'!G33="Household Machine Detergent",IFERROR('Specifications (L1, L2, L3)'!K80/'Specifications (L1, L2, L3)'!G80/16,0),IF('Laundry (LOT #1)'!G33="",0))) -> 0 | R33: =IFERROR('Specifications (L1, L2, L3)'!K34/'Specifications (L1, L2, L3)'!G34/16,0) -> 0 | S33: =IFERROR('Specifications (L1, L2, L3)'!K57/'Specifications (L1, L2, L3)'!G57/16,0) -> 0 | T33: =IFERROR(IF(AND(H33*K33>0,N33*Q33>0),IF(H33*K33<N33*Q33,H33*K33,N33*Q33),IF(H33*K33>N33*Q33,H33*K33,N33*Q33)),"") -> 0 | U33: =IFERROR(IF(AND(I33*L33>0,O33*R33>0),IF(I33*L33<O33*R33,I33*L33,O33*R33),IF(I33*L33>O33*R33,I33*L33,O33*R33)),"") -> 0 | V33: =IFERROR(IF(AND(J33*M33>0,P33*S33>0),IF(J33*M33<P33*S33,J33*M33,P33*S33),IF(J33*M33>P33*S33,J33*M33,P33*S33)),"") -> 0 | W33: =SUM(T33:V33) -> 0 | X33: =W33*F33 -> 0 | Y33: =IF(H33*K33=T33, "Liquid", "Solid") -> Liquid | Z33: =IF(I33*L33=U33, "Liquid", "Solid") -> Liquid | AA33: =IF(J33*M33=V33, "Liquid", "Solid") -> Liquid | AB33: Commercial Machine Detergent | AC33: Household Machine Detergent
X34: =SUM(X29:X33) -> 0
A36: Palmer, AK | B36: Mat Su Pretrial Facility | C36: 1 | D36: Commercial Washer HCT040QNOF | E36: 40 | F36: 5500 | G36: Commercial Machine Detergent | K36: =IF(G36="Commercial Machine Detergent",IFERROR('Specifications (L1, L2, L3)'!H3/'Specifications (L1, L2, L3)'!F3/128,0),IF('Laundry (LOT #1)'!G36="Household Machine Detergent",IFERROR('Specifications (L1, L2, L3)'!H69/'Specifications (L1, L2, L3)'!F69/128,0), IF(G36="",0))) -> 0 | L36: =IFERROR('Specifications (L1, L2, L3)'!H22/'Specifications (L1, L2, L3)'!F22/128,0) -> 0 | M36: =IFERROR('Specifications (L1, L2, L3)'!H46/'Specifications (L1, L2, L3)'!F46/128,0) -> 0 | Q36: =IF(G36="Commercial Machine Detergent",IFERROR('Specifications (L1, L2, L3)'!H13/'Specifications (L1, L2, L3)'!G13/16,0),IF('Laundry (LOT #1)'!G36="Household Machine Detergent",IFERROR('Specifications (L1, L2, L3)'!H80/'Specifications (L1, L2, L3)'!G80/16,0),IF('Laundry (LOT #1)'!G36="",0))) -> 0 | R36: =IFERROR('Specifications (L1, L2, L3)'!H34/'Specifications (L1, L2, L3)'!G34/16,0) -> 0 | S36: =IFERROR('Specifications (L1, L2, L3)'!H57/'Specifications (L1, L2, L3)'!G57/16,0) -> 0 | T36: =IFERROR(IF(AND(H36*K36>0,N36*Q36>0),IF(H36*K36<N36*Q36,H36*K36,N36*Q36),IF(H36*K36>N36*Q36,H36*K36,N36*Q36)),"") -> 0 | U36: =IFERROR(IF(AND(I36*L36>0,O36*R36>0),IF(I36*L36<O36*R36,I36*L36,O36*R36),IF(I36*L36>O36*R36,I36*L36,O36*R36)),"") -> 0 | V36: =IFERROR(IF(AND(J36*M36>0,P36*S36>0),IF(J36*M36<P36*S36,J36*M36,P36*S36),IF(J36*M36>P36*S36,J36*M36,P36*S36)),"") -> 0 | W36: =SUM(T36:V36) -> 0 | X36: =W36*F36 -> 0 | Y36: =IF(H36*K36=T36, "Liquid", "Solid") -> Liquid | Z36: =IF(I36*L36=U36, "Liquid", "Solid") -> Liquid | AA36: =IF(J36*M36=V36, "Liquid", "Solid") -> Liquid | AB36: Commercial Machine Detergent | AC36: Household Machine Detergent
X37: =SUM(X36) -> 0
A39: Sutton, AK | B39: Palmer Correctional Center | C39: 18 | D39: Whirlpool WTW5005KW0 | E39: 15 | F39: 100000 | G39: Commercial Machine Detergent | K39: =IF(G39="Commercial Machine Detergent",IFERROR('Specifications (L1, L2, L3)'!H3/'Specifications (L1, L2, L3)'!F3/128,0),IF('Laundry (LOT #1)'!G39="Household Machine Detergent",IFERROR('Specifications (L1, L2, L3)'!H69/'Specifications (L1, L2, L3)'!F69/128,0), IF(G39="",0))) -> 0 | L39: =IFERROR('Specifications (L1, L2, L3)'!H22/'Specifications (L1, L2, L3)'!F22/128,0) -> 0 | M39: =IFERROR('Specifications (L1, L2, L3)'!H46/'Specifications (L1, L2, L3)'!F46/128,0) -> 0 | Q39: =IF(G39="Commercial Machine Detergent",IFERROR('Specifications (L1, L2, L3)'!H49/'Specifications (L1, L2, L3)'!G49/16,0),IF('Laundry (LOT #1)'!G39="Household Machine Detergent",IFERROR('Specifications (L1, L2, L3)'!H116/'Specifications (L1, L2, L3)'!G116/16,0),IF('Laundry (LOT #1)'!G39="",0))) -> 0 | R39: =IFERROR('Specifications (L1, L2, L3)'!H70/'Specifications (L1, L2, L3)'!G70/16,0) -> 0 | S39: =IFERROR('Specifications (L1, L2, L3)'!H93/'Specifications (L1, L2, L3)'!G93/16,0) -> 0 | T39: =IFERROR(IF(AND(H39*K39>0,N39*Q39>0),IF(H39*K39<N39*Q39,H39*K39,N39*Q39),IF(H39*K39>N39*Q39,H39*K39,N39*Q39)),"") -> 0 | U39: =IFERROR(IF(AND(I39*L39>0,O39*R39>0),IF(I39*L39<O39*R39,I39*L39,O39*R39),IF(I39*L39>O39*R39,I39*L39,O39*R39)),"") -> 0 | V39: =IFERROR(IF(AND(J39*M39>0,P39*S39>0),IF(J39*M39<P39*S39,J39*M39,P39*S39),IF(J39*M39>P39*S39,J39*M39,P39*S39)),"") -> 0 | W39: =SUM(T39:V39) -> 0 | X39: =W39*F39 -> 0 | Y39: =IF(H39*K39=T39, "Liquid", "Solid") -> Liquid | Z39: =IF(I39*L39=U39, "Liquid", "Solid") -> Liquid | AA39: =IF(J39*M39=V39, "Liquid", "Solid") -> Liquid | AB39: Commercial Machine Detergent | AC39: Household Machine Detergent
C40: 1 | D40: Unimac UW60PVQU5005 | E40: 60 | F40: 1500 | G40: Commercial Machine Detergent | K40: =IF(G40="Commercial Machine Detergent",IFERROR('Specifications (L1, L2, L3)'!H3/'Specifications (L1, L2, L3)'!F3/128,0),IF('Laundry (LOT #1)'!G40="Household Machine Detergent",IFERROR('Specifications (L1, L2, L3)'!H69/'Specifications (L1, L2, L3)'!F69/128,0), IF(G40="",0))) -> 0 | L40: =IFERROR('Specifications (L1, L2, L3)'!H22/'Specifications (L1, L2, L3)'!F22/128,0) -> 0 | M40: =IFERROR('Specifications (L1, L2, L3)'!H46/'Specifications (L1, L2, L3)'!F46/128,0) -> 0 | Q40: =IF(G40="Commercial Machine Detergent",IFERROR('Specifications (L1, L2, L3)'!H49/'Specifications (L1, L2, L3)'!G49/16,0),IF('Laundry (LOT #1)'!G40="Household Machine Detergent",IFERROR('Specifications (L1, L2, L3)'!H116/'Specifications (L1, L2, L3)'!G116/16,0),IF('Laundry (LOT #1)'!G40="",0))) -> 0 | R40: =IFERROR('Specifications (L1, L2, L3)'!H70/'Specifications (L1, L2, L3)'!G70/16,0) -> 0 | S40: =IFERROR('Specifications (L1, L2, L3)'!H93/'Specifications (L1, L2, L3)'!G93/16,0) -> 0 | T40: =IFERROR(IF(AND(H40*K40>0,N40*Q40>0),IF(H40*K40<N40*Q40,H40*K40,N40*Q40),IF(H40*K40>N40*Q40,H40*K40,N40*Q40)),"") -> 0 | U40: =IFERROR(IF(AND(I40*L40>0,O40*R40>0),IF(I40*L40<O40*R40,I40*L40,O40*R40),IF(I40*L40>O40*R40,I40*L40,O40*R40)),"") -> 0 | V40: =IFERROR(IF(AND(J40*M40>0,P40*S40>0),IF(J40*M40<P40*S40,J40*M40,P40*S40),IF(J40*M40>P40*S40,J40*M40,P40*S40)),"") -> 0 | W40: =SUM(T40:V40) -> 0 | X40: =W40*F40 -> 0 | Y40: =IF(H40*K40=T40, "Liquid", "Solid") -> Liquid | Z40: =IF(I40*L40=U40, "Liquid", "Solid") -> Liquid | AA40: =IF(J40*M40=V40, "Liquid", "Solid") -> Liquid | AB40: Commercial Machine Detergent | AC40: Household Machine Detergent
C41: 2 | D41: Unimac UWN065T4VXU4001 | E41: 60 | F41: 3000 | G41: Commercial Machine Detergent | K41: =IF(G41="Commercial Machine Detergent",IFERROR('Specifications (L1, L2, L3)'!H3/'Specifications (L1, L2, L3)'!F3/128,0),IF('Laundry (LOT #1)'!G41="Household Machine Detergent",IFERROR('Specifications (L1, L2, L3)'!H69/'Specifications (L1, L2, L3)'!F69/128,0), IF(G41="",0))) -> 0 | L41: =IFERROR('Specifications (L1, L2, L3)'!H22/'Specifications (L1, L2, L3)'!F22/128,0) -> 0 | M41: =IFERROR('Specifications (L1, L2, L3)'!H46/'Specifications (L1, L2, L3)'!F46/128,0) -> 0 | Q41: =IF(G41="Commercial Machine Detergent",IFERROR('Specifications (L1, L2, L3)'!H49/'Specifications (L1, L2, L3)'!G49/16,0),IF('Laundry (LOT #1)'!G41="Household Machine Detergent",IFERROR('Specifications (L1, L2, L3)'!H116/'Specifications (L1, L2, L3)'!G116/16,0),IF('Laundry (LOT #1)'!G41="",0))) -> 0 | R41: =IFERROR('Specifications (L1, L2, L3)'!H70/'Specifications (L1, L2, L3)'!G70/16,0) -> 0 | S41: =IFERROR('Specifications (L1, L2, L3)'!H93/'Specifications (L1, L2, L3)'!G93/16,0) -> 0 | T41: =IFERROR(IF(AND(H41*K41>0,N41*Q41>0),IF(H41*K41<N41*Q41,H41*K41,N41*Q41),IF(H41*K41>N41*Q41,H41*K41,N41*Q41)),"") -> 0 | U41: =IFERROR(IF(AND(I41*L41>0,O41*R41>0),IF(I41*L41<O41*R41,I41*L41,O41*R41),IF(I41*L41>O41*R41,I41*L41,O41*R41)),"") -> 0 | V41: =IFERROR(IF(AND(J41*M41>0,P41*S41>0),IF(J41*M41<P41*S41,J41*M41,P41*S41),IF(J41*M41>P41*S41,J41*M41,P41*S41)),"") -> 0 | W41: =SUM(T41:V41) -> 0 | X41: =W41*F41 -> 0 | Y41: =IF(H41*K41=T41, "Liquid", "Solid") -> Liquid | Z41: =IF(I41*L41=U41, "Liquid", "Solid") -> Liquid | AA41: =IF(J41*M41=V41, "Liquid", "Solid") -> Liquid | AB41: Commercial Machine Detergent | AC41: Household Machine Detergent
X42: =SUM(X39:X41) -> 0
A44: Wasilla, AK | B44: Point Mackenzie Correctional Farm | C44: 2 | D44: Whirlpool WTW5000DW1 | E44: 20 | F44: 2500 | G44: Commercial Machine Detergent | K44: =IF(G44="Commercial Machine Detergent",IFERROR('Specifications (L1, L2, L3)'!H3/'Specifications (L1, L2, L3)'!F3/128,0),IF('Laundry (LOT #1)'!G44="Household Machine Detergent",IFERROR('Specifications (L1, L2, L3)'!H69/'Specifications (L1, L2, L3)'!F69/128,0), IF(G44="",0))) -> 0 | L44: =IFERROR('Specifications (L1, L2, L3)'!H22/'Specifications (L1, L2, L3)'!F22/128,0) -> 0 | M44: =IFERROR('Specifications (L1, L2, L3)'!H46/'Specifications (L1, L2, L3)'!F46/128,0) -> 0 | Q44: =IF(G44="Commercial Machine Detergent",IFERROR('Specifications (L1, L2, L3)'!H13/'Specifications (L1, L2, L3)'!G13/16,0),IF('Laundry (LOT #1)'!G44="Household Machine Detergent",IFERROR('Specifications (L1, L2, L3)'!H80/'Specifications (L1, L2, L3)'!G80/16,0),IF('Laundry (LOT #1)'!G44="",0))) -> 0 | R44: =IFERROR('Specifications (L1, L2, L3)'!H34/'Specifications (L1, L2, L3)'!G34/16,0) -> 0 | S44: =IFERROR('Specifications (L1, L2, L3)'!H57/'Specifications (L1, L2, L3)'!G57/16,0) -> 0 | T44: =IFERROR(IF(AND(H44*K44>0,N44*Q44>0),IF(H44*K44<N44*Q44,H44*K44,N44*Q44),IF(H44*K44>N44*Q44,H44*K44,N44*Q44)),"") -> 0 | U44: =IFERROR(IF(AND(I44*L44>0,O44*R44>0),IF(I44*L44<O44*R44,I44*L44,O44*R44),IF(I44*L44>O44*R44,I44*L44,O44*R44)),"") -> 0 | V44: =IFERROR(IF(AND(J44*M44>0,P44*S44>0),IF(J44*M44<P44*S44,J44*M44,P44*S44),IF(J44*M44>P44*S44,J44*M44,P44*S44)),"") -> 0 | W44: =SUM(T44:V44) -> 0 | X44: =W44*F44 -> 0 | Y44: =IF(H44*K44=T44, "Liquid", "Solid") -> Liquid | Z44: =IF(I44*L44=U44, "Liquid", "Solid") -> Liquid | AA44: =IF(J44*M44=V44, "Liquid", "Solid") -> Liquid | AB44: Commercial Machine Detergent | AC44: Household Machine Detergent
C45: 1 | D45: Whirlpool WTW4800XQ4 | E45: 20 | F45: 1500 | G45: Commercial Machine Detergent | K45: =IF(G45="Commercial Machine Detergent",IFERROR('Specifications (L1, L2, L3)'!H3/'Specifications (L1, L2, L3)'!F3/128,0),IF('Laundry (LOT #1)'!G45="Household Machine Detergent",IFERROR('Specifications (L1, L2, L3)'!H69/'Specifications (L1, L2, L3)'!F69/128,0), IF(G45="",0))) -> 0 | L45: =IFERROR('Specifications (L1, L2, L3)'!H22/'Specifications (L1, L2, L3)'!F22/128,0) -> 0 | M45: =IFERROR('Specifications (L1, L2, L3)'!H46/'Specifications (L1, L2, L3)'!F46/128,0) -> 0 | Q45: =IF(G45="Commercial Machine Detergent",IFERROR('Specifications (L1, L2, L3)'!H13/'Specifications (L1, L2, L3)'!G13/16,0),IF('Laundry (LOT #1)'!G45="Household Machine Detergent",IFERROR('Specifications (L1, L2, L3)'!H80/'Specifications (L1, L2, L3)'!G80/16,0),IF('Laundry (LOT #1)'!G45="",0))) -> 0 | R45: =IFERROR('Specifications (L1, L2, L3)'!H34/'Specifications (L1, L2, L3)'!G34/16,0) -> 0 | S45: =IFERROR('Specifications (L1, L2, L3)'!H57/'Specifications (L1, L2, L3)'!G57/16,0) -> 0 | T45: =IFERROR(IF(AND(H45*K45>0,N45*Q45>0),IF(H45*K45<N45*Q45,H45*K45,N45*Q45),IF(H45*K45>N45*Q45,H45*K45,N45*Q45)),"") -> 0 | U45: =IFERROR(IF(AND(I45*L45>0,O45*R45>0),IF(I45*L45<O45*R45,I45*L45,O45*R45),IF(I45*L45>O45*R45,I45*L45,O45*R45)),"") -> 0 | V45: =IFERROR(IF(AND(J45*M45>0,P45*S45>0),IF(J45*M45<P45*S45,J45*M45,P45*S45),IF(J45*M45>P45*S45,J45*M45,P45*S45)),"") -> 0 | W45: =SUM(T45:V45) -> 0 | X45: =W45*F45 -> 0 | Y45: =IF(H45*K45=T45, "Liquid", "Solid") -> Liquid | Z45: =IF(I45*L45=U45, "Liquid", "Solid") -> Liquid | AA45: =IF(J45*M45=V45, "Liquid", "Solid") -> Liquid | AB45: Commercial Machine Detergent | AC45: Household Machine Detergent
