Workbook

Sheet Instructions
A1: Bid Schedule Instructions
A2: • Vendors must follow these instructions to be considered responsive. Failure to complete all required fields for a lot may result in the bid being deemed non-responsive for that lot.
A4: 1. Bid Worksheets
A5: • The bid schedule includes six (6) worksheets.
A6: • Five (5) worksheets require vendor input.
A8: 2. Award by Lot
A9: • Awards will be made by lot.
A10: • Vendors must bid on all items within a lot to be considered responsive for that lot.
A11: • Partial bids within a lot will not be accepted.
A13: 3. Facility Groups and Shipping
A14: • DOC facilities are grouped by location as follows:
A16: Abbreviation | B16: Institution | C16: Location
A17: ACC | B17: Anchorage Correctional Complex (EAST-WEST) | C17: Anchorage
A18: AMCC | B18: Anvil Mountain Correctional Center | C18: Nome | E18: Group # | F18: Facilities
A19: FCC | B19: Fairbanks Correctional Center | C19: Fairbanks | E19: GR1 | F19: ACC | G19: GCCC | H19: HMCC | I19: MSPT | J19: PCC | K19: PMCF | L19: SCCC | M19: WCC
A20: GCCC | B20: Goose Creek Correctional Center | C20: Wasilla | E20: GR2 | F20: FCC
A21: HMCC | B21: Hiland Mountain Correctional Center | C21: Eagle River | E21: GR3 | F21: AMCC | G21: YKCC
A22: KCC | B22: Ketchikan Correctional Center | C22: Ketchikan | E22: GR4 | F22: KCC | G22: LCCC
A23: LCCC | B23: Lemon Creek Correctional Center | C23: Juneau
A24: MSPT | B24: Mat-Su Pretrial | C24: Palmer
A25: PCC | B25: Palmer Correctional Center | C25: Sutton
A26: PMCF | B26: Point Mackenzie Correctional Farm | C26: Wasilla
A27: SCCC | B27: Spring Creek Correctional Center | C27: Seward
A28: WCC | B28: Wildwood Correctional Complex | C28: Kenai
A29: YKCC | B29: Yukon Kuskokwim Correctional Center | C29: Bethel
A31: • Shipping and delivery costs must be included in the unit price for each item and must reflect delivery to all facilities in the group.
A32: No additional freight, fuel, or delivery charges will be accepted.
A34: 4. Specifications Worksheet
A35: • Enter prices, container sizes, and units for Lots 1–3.
A36: • List the product(s) being offered.
A37: • If multiple products are listed, all will be included on the contract.
A38: • Only the first product listed will be used for bid evaluation; however, all listed products will be included on the resulting contract.
A39: • Some items offer solid and liquid options.
A40: • Vendors may bid on either option.
A41: • Vendors will not be deemed non-responsive if they bid on one option and agree to convert facilities using the other option at no additional cost to the State.
A43: 5. Lot 1 and Lot 2
A44: • Enter chemical dosages per load for each machine.
... A55: • Complete all bidder contact information.

Sheet Specifications (L1, L2, L3)
A1: Lot # | B1: Item # | C1: Details | D1: Suggested Product/s (Preferred) | E1: Product Offered (State approved equivalent or substitutes acceptable) | F1: Size of container (GAL) | G1: Size of container (LBS) | H1: GR1 Price per Container (USD) | I1: GR2 Price per Container (USD) | J1: GR3 Price per Container (USD) | K1: GR4 Price per Container (USD)
A2: LAUNDRY PRODUCT SPECIFICATIONS
A3: 1 | B3: 1.1 | C3: BUILT LIQUID LAUNDRY DETERGENT | D3: 1. ACCULOGIC LAUNDRY DETERGENT (1.5 GAL)
C4: * The product shall be a biodegradable and nonflammable solid or liquid. * The product shall be a built detergent. * The product shall be safe for colors and all fabrics normally encountered in institutional laundries. * The product shall be formulated to prevent residual softener build. * The product shall have brightening agents to enhance the whites and colors. * The product shall have the capacity to be easily dispensed through automatic dispensers directly from containers that control product usage, provide efficiency, convenience and handling ease. * Container size shall not exceed fifteen (15) gallons.
D6: 2. ACCULOGIC LAUNDRY DETERGENT (15 GAL)
A13: 1 | B13: 1.2 | C13: BUILT SOLID LAUNDRY DETERGENT | D13: 1. 536101766 - AQUANOMIC 2.0 LOW-TEMP SOLID LAUNDRY DETERGENT (9 LBS)
C14: * The product shall be a biodegradable and nonflammable solid or liquid. * The product shall be a built detergent. * The product shall be safe for colors and all fabrics normally encountered in institutional laundries. * The product shall be formulated to prevent residual softener build. * The product shall have brightening agents to enhance the whites and colors. * The product shall have the capacity to be easily dispensed through automatic dispensers directly from containers that control product usage, provide efficiency, convenience and handling ease.
D16: 2. 530050 - WAXIE SURE-BRITE LAUNDRY SOLID DETERGENT (25 LBS)
D19: 3. 530053 - WAXIE SURE-BRITE LAUNDRY SOLID DETERGENT (40 LBS)
A22: 1 | B22: 1.3 | C22: LIQUID LAUNDRY DESTAINER & SANITIZER | D22: 1. HASACHLOR 12.5% (5 GAL)
C23: * The product shall be a liquid and have dual action as a destainer and a sanitizer, and act as a disinfectant and deodorizer. * The product shall be chlorine based that can be used with all bleachable fabrics. * The product shall have a minimum 8% chlorine content. * The product shall be approved for use in both commercial and home type washers. * The product shall have the capacity to be easily dispensed through automatic dispensers directly from shipping containers to control product usage, provide efficiency, convenience, and handling ease. * Container size shall not exceed fifteen (15) gallons. * A solid product is preferred, but a liquid product is acceptable.
D25: 2. HASACHLOR 12.5% (15 GAL)
D28: 3. ECO-STAR DESTAINER (15 GAL)
A34: 1 | B34: 1.4 | C34: SOLID LAUNDRY DESTAINER & SANITIZER | D34: 1. 526100975 - ECOLAB LOW-TEMP LAUNDRY SOLID CHLORINE SANITIZER (4 LBS)
C35: * The product shall be a solid and have dual action as a destainer and a sanitizer, and act as a disinfectant and deodorizer. * The product shall be chlorine based that can be used with all bleachable fabrics. * The product shall have a minimum 8% chlorine content. * The product shall be approved for use in both commercial and home type washers. * The product shall have the capacity to be easily dispensed through automatic dispensers directly from shipping containers to control product usage, provide efficiency, convenience, and handling ease. * Container size shall not exceed fifty (50) pounds. * A solid product is preferred, but a liquid product is acceptable.
D37: 2. 1090131 - WAXIE BRITE-N-WHITE COMMERCIAL LAUNDRY BLEACH (25 LBS)
A46: 1 | B46: 1.5 | C46: LIQUID LAUNDRY SOUR/SOFTENER | D46: 1. ACCULOGIC LAUNDRY SOFTENER (1.5 GAL)
C47: * The product shall be biodegradable. * The product shall be pleasantly scented. * The product shall soften and neutralize linen to assure proper pH. * The product shall prevent fabric harshness, skin irritation and shall reduce static electricity on all fabric. * The product shall enhance brightness and whiteness of linen. * The product shall promote shorter extraction and drying times. * The product shall have the capacity to be easily dispensed through automatic dispensers directly from containers to control product usage, provide efficiency, convenience and handling ease. * Container size shall not exceed fifteen (15) gallons. * The product shall be a liquid.
A57: 1 | B57: 1.6 | C57: SOLID LAUNDRY SOUR/SOFTENER | D57: 1. 5216001 - ECOLAB SOLID NAVISOFT LAUNDRY SOFTENER /SOUR (6 LBS)
C58: * The product shall be biodegradable. * The product shall be pleasantly scented. * The product shall soften and neutralize linen to assure proper pH. * The product shall prevent fabric harshness, skin irritation and shall reduce static electricity on all fabric. * The product shall enhance brightness and whiteness of linen. * The product shall promote shorter extraction and drying times. * The product shall have the capacity to be easily dispensed through automatic dispensers directly from containers to control product usage, provide efficiency, convenience and handling ease. * Container size shall not exceed fifty (50) pounds. * The product shall be a solid.
A69: 1 | B69: 1.7 | C69: LAUNDRY DETERGENT HOUSEHOLD MACHINE | D69: 1. ACCULOGIC LAUDNRY DETERGENT (1.5 GAL)
C70: * The product shall be biodegradable and non-flammable. * The product shall be a built detergent. * The product shall soften and neutralize linen to assure proper pH. * The product shall be safe for colors and all fabrics normally encountered in institutional laundries. * The product shall be formulated to prevent residual softener build. * The product shall have brightening agents to enhance the whites and colors. * The product shall have the capacity to be easily dispensed through automatic dispensers directly from containers to control product usage, provide efficiency, convenience and handling ease. * The product shall be a liquid detergent.
A80: 1 | B80: 1.8 | C80: LAUNDRY DETERGENT HOUSEHOLD MACHINE | D80: 1. 526101659 - ECOLAB HOME-STYLE SOLID LAUNDRY DETERGENT W/ ENZYMES (3 LBS)
C81: * The product shall be biodegradable and non-flammable. * The product shall be a built detergent. * The product shall soften and neutralize linen to assure proper pH. * The product shall be safe for colors and all fabrics normally encountered in institutional laundries. * The product shall be formulated to prevent residual softener build. * The product shall have brightening agents to enhance the whites and colors. * The product shall have the capacity to be easily dispensed through automatic dispensers directly from containers to control product usage, provide efficiency, convenience and handling ease. * The product shall be a solid detergent.
D83: 2. 526101684 - FACILIPRO HOME-STYLE SOLID LAUNDRY DETERGENT (3 LBS)
A91: WAREWASHING PRODUCT SPECIFICATIONS
A92: 2 | B92: 2.1 | C92: LIQUID ENCAPSULATED WAREWASHING DETERGENT | D92: 1. ACCULOGIC SOLO (1.5 GAL)
C93: * The product shall be 100% active machine warewashing detergent, designed to be dispensed from the package in a concentrated liquid form. * The product’s consistency and container shall be formulated to prohibit free flow of liquid when inverted during installation and removal. This requirement is essential to assure the prevention of safety hazards and to reduce the potential of accidental burns. * The detergent shall contain a stable source of disinfectant, water conditioners, defoamer, and maximum strength alkalies, to deliver maximum performance in all soil and water conditions. * The detergent capsule shall be designed to eliminate misuse by employees, to provide safety and control of detergent usage and costs. * The detergent capsule shall be fed and controlled by a system such as a power activator. * The product may contain phosphate and/or non-phosphate water conditioners.
A105: 2 | B105: 2.2 | C105: SOLID ENCAPSULATED WAREWASHING DETERGENT | D105: 1. ECOLAB SOLID POWER PLUS (9 LBS)
C106: * The product shall be 100% active machine warewashing detergent, designed to be dispensed from the package in a concentrated solid form. * The product’s consistency and container shall be formulated to prohibit free flow of liquid when inverted during installation and removal. This requirement is essential to assure the prevention of safety hazards and to reduce the potential of accidental burns. * The detergent shall contain a stable source of disinfectant, water conditioners, defoamer, and maximum strength alkalies, to deliver maximum performance in all soil and water conditions. * The detergent capsule shall be designed to eliminate misuse by employees, to provide safety and control of detergent usage and costs. * The detergent capsule shall be fed and controlled by a system such as a power activator. * The product may contain phosphate and/or non-phosphate water conditioners. * The capsule shall not exceed 10 pounds.
A119: 2 | B119: 2.3 | C119: LIQUID DRYING AGENT (Rinse Additive) | D119: 1. ACCULOGIC SPOTLESS CONVEYOR RINSE AID (1.5 GAL)
C120: * Shall be designed specifically for use in a rinse injector mechanism and shall not be corrosive to this mechanism, the spray type warewashing machine, or the utensils to be washed in the machine. * Shall not contribute to foaming in the warewashing machine, shall have a foam depressing effect on food soil when present in the recirculated solution tanks at use concentrations. * Shall be a concentrated liquid of non-ionic nature, free flowing at ordinary room temperatures. * Shall effectively accomplish the specified function when present in the rinse water at concentrations of 25 to 200 parts per million. * Shall perform satisfactorily in soft or hard water areas. * Shall be highly visible in color to assure the liquid level is readily visible. * Stability and/or shelf life of the product shall be such that it will remain in stable condition when cooled to 10 degrees F or held at 110 degrees F for any period of time and then returned to room temperature (approximately 75 degrees F.)
A133: 2 | B133: 2.4 | C133: SOLID DRYING AGENT (Rinse Additive) | D133: 1. ECOLAB SOLID BRILLIANCE (2.5 LBS)
C134: * Shall be designed specifically for use in a rinse injector mechanism and shall not be corrosive to this mechanism, the spray type warewashing machine, or the utensils to be washed in the machine. * Shall not contribute to foaming in the warewashing machine, shall have a foam depressing effect on food soil when present in the recirculated solution tanks at use concentrations. * Shall be a concentrated liquid of non-ionic nature, free flowing at ordinary room temperatures. * Shall effectively accomplish the specified function when present in the rinse water at concentrations of 25 to 200 parts per million. * Shall perform satisfactorily in soft or hard water areas. * Shall be highly visible in color to assure the liquid level is readily visible. * Stability and/or shelf life of the product shall be such that it will remain in stable condition when cooled to 10 degrees F or held at 110 degrees F for any period of time and then returned to room temperature (approximately 75 degrees F.) * Container size shall not exceed ten (10) gallons.
A148: 2 | B148: 2.5 | C148: ENCAPSULATED MANUAL POTS & PAN DETERGENT | D148: 1. ACCULOGIC PINK SUDS (1.5 GAL)
C149: * The product shall be nonabrasive cleaning material suitable for hand cleaning of all glassware, dishes, pots and pans, silverware, walls, floors, etc. * The product’s consistency and container shall be formulated to prohibit free flow of liquid when inserted during installation and removal. This requirement is essential to assure the prevention of safety hazards and reduce the potential of accidental burns. * The product shall be an extra concentrated encapsulated product that shall be automatically dispensed. * The detergent capsule shall be designed to eliminate misuse by employees, to provide safety and control of detergent usage and costs. * The detergent capsule shall be fed and controlled by a system such as a power activator. * The product shall be high sudsing, higher detergency cleaner. * The product shall not contain the hard type BS detergents. * The product shall be a liquid or solid material.
D150: 2. ECOLAB SOLITAIRE (5 LBS)
A162: 2 | B162: 2.6 | C162: LOW TEMPERATURE LIQUID DISH SANITIZER | D162: 1. ACCULOGIC CHLORPLUS - 12.5% HYPOCHLORITE (1.5 GAL)
C163: * The product shall be nonabrasive cleaning material suitable for machine cleaning of all glassware, dishes, pots and pans, silverware, walls, floors, etc. The product may be used as a general purpose cleaner in the kitchen. * The product’s consistency and container shall be formulated to prohibit free flow of liquid when inserted during installation and removal. This requirement is essential to assure the prevention of safety hazards and reduce the potential of accidental burns. * The product shall be an extra concentrated product that shall be automatically dispensed. * The product shall have a concentration of a chemical that is, or similar to Sodium hypochlorite.
A173: 2 | B173: 2.7 | C173: LOW TEMPERATURE SOLID DISH SANITIZER | D173: 1. ECOLAB APEX SOLID QUAT SANITIZER (2 LBS)
C174: * The product shall be nonabrasive cleaning material suitable for machine cleaning of all glassware, dishes, pots and pans, silverware, walls, floors, etc. The product may be used as a general purpose cleaner in the kitchen. * The product’s consistency and container shall be formulated to prohibit free flow of liquid when inserted during installation and removal. This requirement is essential to assure the prevention of safety hazards and reduce the potential of accidental burns. * The product shall be an extra concentrated product that shall be automatically dispensed. * The product shall have a concentration of a chemical that is, or similar to Sodium hypochlorite.
A184: MISC. JANITORIAL CHEMICAL SPECIFICATIONS
A185: 3 | B185: 3.1 | C185: LIME DESCALER | D185: 1. ACCURATE DELIMER (4 / 1 GAL)
C186: * The product shall be a non-abrasive liquid acid detergent suitable for general purpose cleaning, de-liming and stain removal from metal, glass, ceramic and tile or cement surfaces. * The product shall be compounded of specifically selected acidic raw materials and organic detergents to reduce or eliminate attack on equipment to be cleaned while providing maximum cleaning speed and reduced labor. * The product shall be designed for use in all water conditions. * The product shall contain a low foaming wetting agent of the type not causing excess foaming while being pumped and recirculated. * The reaction products shall be soluble. Removed soils shall be held in suspension for ease of disposal. * Container size shall not exceed 10 pounds.
A196: 3 | B196: 3.2 | C196: QUATERNARY SANITIZER | D196: 1. ACCULOGIC QUAT (1.5 GAL)
C197: * The product shall be USDA approved to be used for food preparation surfaces, equipment and utensils. * The product shall be a low sudsing type liquid, suitable for use as a concentrated general purpose quaternary ammonium compound that cleans and deodorizes without perfumes in one operation. * The product shall be effective as a sanitizer, a deodorizer without perfumes, and as a mold and mildew controller. * The product, when used without rinsing, shall leave no sticky, dulling films. * The product shall carry Federal EPA registration effectiveness for waters up to 500 PPM hardness at the recommended use concentration. * The product shall not corrode metal or attack rubber or plastic fittings and parts. * The product shall be designed for use in dispensing and injection equipment. * Container size shall not exceed fifteen (15) gallons.
A209: 3 | B209: 3.3 | C209: OVEN & GRILL DEGREASER | D209: 1. ACCURATE HARD SURFACE DEGREASER (4 / 1 GAL)
C210: * The product shall be used for the easy and swift removal of grease and spots from ovens, grills, stove hoods, broilers, vents, deep fat fryers, and similar equipment and surfaces in commercial and institutional operations. * The product shall contain alkali, solvent, and organic detergents that possess affinity for dissolving food grease soils and for penetrating grease and carbonized deposits. * The product shall be equally effective on hot and warm surfaces. * The product shall be non-corrosive to steel, glass, stainless steel, nickel, and porcelain. * The product may either be applied with a spray applicator or poured directly on to soiled surface. * Aerosols are not acceptable. * The product shall be non-flammable. * Container size not to exceed ten (10) gallons. * The product shall be a dispensed solid or liquid.
A223: 3 | B223: 3.4 | C223: ALL PURPOSE CLEANER | D223: 1. ACCULOGIC CITRA-SOL CLEANER / DEGREASER (1.5 GAL)
C224: * The product shall be concentrated and shall have a multi-purpose application at different dilutions. * The product shall be effective in hot or cold water. * The product shall rapidly work on grease, grime, and soil. * The product shall rinse freely, leaving no film. * The product shall be non-toxic, non-flammable, non-corrosive, and biodegradable, and shall be safe for use on all washable surfaces. * The product shall work effectively on: floors (linoleum, rubber, asphalt, vinyl, vinyl asbestos, plastic, terrazzo, marble, terra-cotta, tile); in floor scrubbing machines; porcelain furnaces; glass, plastic, and fiberglass; Formica surfaces; stainless steel and aluminum surfaces; effective for spot cleaning and on light, medium, and heavy soils. * The container size shall be available in both 10 gallons and 30 gallons. * The product shall be a dispensed solid or liquid.
D226: 2. ACL 165 ON DECK (1.5 GAL)
A236: 3 | B236: 3.5 | C236: CLEANER FOR STAINLESS STEEL | D236: 1. ACCURATE STAINLESS STEEL CLEANER (6 / 32 OZ)
C237: * The product shall be a non-abrasive cleaning material specifically formulated for use to de-tarnish silver and stainless steel tableware. * The product shall contain activators to soften and remove hard set or baked on food from all types of utensils and surfaces. * The product shall contain wetting agents that rapidly penetrate and soften food soils. * The product shall be of a free-flowing powder or granular type. * The product shall be formulated to neutralize food acids and chlorides, and to prevent corrosion of stainless steel surfaces while halting corrosion already present. * The product shall have the ability to de-tarnish in warm to cool water, eliminating the need for very hot water. * Container size shall not exceed ten (10) pounds.
A248: 3 | B248: 3.6 | C248: FLOOR WAX / POLISH | D248: 1. ACL700 SUPER GLOSS (2 X 2.5 GAL)
C249: * The product shall be resistant to black heel marks and scuffing. * The product shall be non-powdering. * The product shall contain 20% non-volatile solids. * The product shall be non-yellowing. * The product shall be washable. * The product must be able to be used with a high speed buffer. * The product shall be available in both a 5 gallon plastic bucket and a 55 gallon drum.
A256: 3 | B256: 3.7 | C256: FLOOR WAX / POLISH STRIPPER | D256: 1. ACL710 LOW ODOR STRIPPER (4 / 1 GAL)
C257: * The product shall be a non-ammoniated floor wax and finish stripper. * The product shall be rinse free. * The product shall be a 1 to 5 mixture rate (1 gallon of product makes a 5 gallon mixture). * The product shall be dilutable with cold water. * The product shall be available in 5 gallon plastic buckets, or 30 gallon or 55 gallon drums. * The product shall be a dispensed solid or liquid.
A264: 3 | B264: 3.8 | C264: FLOOR CLEANER | D264: 1. ACCULOGIC LEMON FRESH (1.5 GAL)
C265: * The product shall be concentrated. * The product shall be effective in hot or cold water. * The product shall rapidly work on grease, grime, and soil. * The product shall rinse freely, leaving no film. * The product shall be non-toxic, non-flammable, and non-corrosive. * The product shall work effectively on floors (linoleum, rubber, asphalt, vinyl, vinyl asbestos, plastic, terrazzo, marble, terra-cotta, tile), in floor scrubbing machines and effective for spot cleaning and on light, medium, and heavy soils. * The product shall be a dispensed solid or liquid.
D266: 2. STEARNS WATERFLAKES NEUTRAL FLOOR CLEANER (2 / 90 CT)
A273: 3 | B273: 3.9 | C273: GLASS AND HARD SURFACE CLEANER | D273: 1. ACCULOGIC GLASS CLEANER (2 / 64 OZ)
C274: * The product shall be a dispensed liquid or solid. * The product shall be non-ammoniated. * The product shall be high yield.
A277: 3 | B277: 3.1 | C277: DISINFECTANT DETERGENT | D277: 1. ACL ONE STEP (4 / 64 OZ)
C278: * The product shall be a dispensed liquid or solid. * The product shall be neutral PH. * The product shall control mildew. * The product shall be viricidal.
A282: 3 | B282: 3.11 | C282: NON-ACID BATHROOM CLEANER | D282: 1. FACILIPRO 92 CONCENTRATED NEUTRAL BATH CLEANER (2 / 1.3 L)
C283: * The product shall be a dispensed liquid or solid. * The product shall be a disinfectant and deodorant. * The product shall be non-abrasive. * The product shall be a mildewstat. * The product shall be a virucide.
A288: 3 | B288: 3.12 | C288: KITCHEN FLOOR AND DRAIN CLEANER | D288: 1. ACCULOGIC EASY CLEAN FLOOR CLEANER (1.5 GAL)
C289: * The product shall be a dispensed liquid or solid. * The product shall be a disinfectant and deodorant. * The product shall be a mildewstat. * The product shall kill 99.9% of bacteria. * The product shall eliminate grease, oil and fat. * The product shall deodorize floor drains.
D291: 2. ACCURATE TUB N TILE ACL202 (2 / 64 OZ)
A295: 3 | B295: 3.13 | C295: LIQUID HAND SOAP | D295: 1. DRACO ESO-006G (4 / 1 GAL)
C296: * The product shall be a dispensed liquid. * The product shall be an anti-bacterial cleaner. * The product shall be non-abrasive. * The product shall be a germ fighting hand cleaner formulation which provides germ killing hand washing for all industries. * The product shall be a pleasant to use, non-irritating, lotion hand soap. * The product shall be E1 rated. * For use by health care personnel and patients, food service and industrial personnel.
A304: 3 | B304: 3.14 | C304: POWDERED HAND SOAP | D304: 1. BORAXO (10 / 5 LBS)
C305: * The product shall be phosphate free. * The product shall 100% soluble. * The product shall contain a select blend of quality soap and borax that is gentle on hands. * Product shall be available in 5-pound boxes (no metal cans).
A310: 3 | B310: 3.15 | C310: HAND SANITIZER | D310: 1. DRAESO -003N NON-ALCOHOLIC FOAM SANITIZER (6 / 1000 ML)
C311: * The product shall kill 99.99% of most common germs within 15 seconds without water or towels. * The product shall provide bag in box refill capability for easy to load, no leak refills. * The product shall be FDA food code compliant. FDA approved. * The product shall be formulated with 62% ethyl alcohol and moisturizers. * Product shall be available in 1000 ml refill type packages.
A318: 3 | B318: 3.16 | C318: POWDERED ABRASIVE CLEANER | D318: 1. AJAX WITH BLEACH CLEANER (21 OZ)
C319: * The product shall be a powdered cleaner. * The product shall be an abrasive cleaner suitable for hard surfaces including porcelain. * The product shall perform equally well in hot, warm or cold water. * The product shall be a disinfectant * The product shall remain stable during storage with no loss of chlorine or bleaching power.
A325: 3 | B325: 3.17 | C325: VIRUCIDAL CLEANER | D325: 1. VIREX TB READY-TO-USE DISINFECTANT CLEANER (12 -32 OZ)
C326: * The product shall be a liquid usable with spray bottles. * The product shall destroy a broad spectrum of microorganisms. * The product shall be a disinfectant and deodorant. * The product shall be ideal for use on non-porous hard surfaces.
A331: 3 | B331: 3.18 | C331: FREEZER FLOOR CLEANER | D331: 1. ACCURATE FREEZER FLOOR CLEANER ACL166 (4 / 1 GAL)
C332: * The product shall be liquid ready-to-use or concentrated formula. * The product shall be effective in removing a wide range of soils from freezer floors at temperatures down to -20 degrees F. * The product shall be methanol-free, non-flammable and possibly biodegradable. * The product shall clean fast and easy without hard scrubbing.

Sheet Laundry (LOT #1)
A1: BID SCHEDULE - LOT ONE (1)
A2: LAUNDRY
A3: Location | B3: Facility | C3: Qty | D3: Machine Type | E3: Capacity (LBS) | F3: Estimated Annual Loads | G3: Detergent Type (Choose one) | H3: Liquid Detergent Dosage/Load (Ounce) | I3: Liquid Bleach Dosage/Load (Ounce) | J3: Liquid Softener Dosage/Load (Ounce) | K3: Liquid Detergent Price Per Ounce | L3: Liquid Bleach Price Per Ounce | M3: Liquid Softener Price Per Ounce | N3: Solid Detergent Dosage/Load (Ounce) | O3: Solid Bleach Dosage/Load (Ounce) | P3: Solid Softener Dosage/Load (Ounce) | Q3: Solid Detergent Price Per Ounce | R3: Solid Bleach Price Per Ounce | S3: Solid Softener Price Per Ounce | T3: Detergent Price Per Load | U3: Bleach Price Per Load | V3: Softener Price Per Load | W3: Total Cost Per Load | X3: Total Estimated Annual Cost | Y3: Detergent | Z3: Bleach | AA3: Softener
A4: Anchorage, AK | B4: Anchorage Correctional Complex (EAST) | C4: 2 | D4: Unimac Reliance UW125PVQU5001 | E4: 125 | F4: 7500 | G4: Commercial Machine Detergent | K4: =IF(G4="Commercial Machine Detergent",IFERROR('Specifications (L1, L2, L3)'!H3/'Specifications (L1, L2, L3)'!F3/128,0),IF('Laundry (LOT #1)'!G4="Household Machine Detergent",IFERROR('Specifications (L1, L2, L3)'!H69/'Specifications (L1, L2, L3)'!F69/128,0), IF(G4="",0))) -> 0 | L4: =IFERROR('Specifications (L1, L2, L3)'!H22/'Specifications (L1, L2, L3)'!F22/128,0) -> 0 | M4: =IFERROR('Specifications (L1, L2, L3)'!H46/'Specifications (L1, L2, L3)'!F46/128,0) -> 0 | Q4: =IF(G4="Commercial Machine Detergent",IFERROR('Specifications (L1, L2, L3)'!H13/'Specifications (L1, L2, L3)'!G13/16,0),IF('Laundry (LOT #1)'!G4="Household Machine Detergent",IFERROR('Specifications (L1, L2, L3)'!H80/'Specifications (L1, L2, L3)'!G80/16,0),IF('Laundry (LOT #1)'!G4="",0))) -> 0 | R4: =IFERROR('Specifications (L1, L2, L3)'!H34/'Specifications (L1, L2, L3)'!G34/16,0) -> 0 | S4: =IFERROR('Specifications (L1, L2, L3)'!H57/'Specifications (L1, L2, L3)'!G57/16,0) -> 0 | T4: =IFERROR(IF(AND(H4*K4>0,N4*Q4>0),IF(H4*K4<N4*Q4,H4*K4,N4*Q4),IF(H4*K4>N4*Q4,H4*K4,N4*Q4)),"") -> 0 | U4: =IFERROR(IF(AND(I4*L4>0,O4*R4>0),IF(I4*L4<O4*R4,I4*L4,O4*R4),IF(I4*L4>O4*R4,I4*L4,O4*R4)),"") -> 0 | V4: =IFERROR(IF(AND(J4*M4>0,P4*S4>0),IF(J4*M4<P4*S4,J4*M4,P4*S4),IF(J4*M4>P4*S4,J4*M4,P4*S4)),"") -> 0 | W4: =SUM(T4:V4) -> 0 | X4: =W4*F4 -> 0 | Y4: =IF(H4*K4=T4, "Liquid", "Solid") -> Liquid | Z4: =IF(I4*L4=U4, "Liquid", "Solid") -> Liquid | AA4: =IF(J4*M4=V4, "Liquid", "Solid") -> Liquid | AB4: Commercial Machine Detergent | AC4: Household Machine Detergent
C5: 1 | D5: Unimac Reliance UW35PVQU5001 | E5: 35 | F5: 4000 | G5: Commercial Machine Detergent | K5: =IF(G5="Commercial Machine Detergent",IFERROR('Specifications (L1, L2, L3)'!H3/'Specifications (L1, L2, L3)'!F3/128,0),IF('Laundry (LOT #1)'!G5="Household Machine Detergent",IFERROR('Specifications (L1, L2, L3)'!H69/'Specifications (L1, L2, L3)'!F69/128,0), IF(G5="",0))) -> 0 | L5: =IFERROR('Specifications (L1, L2, L3)'!H22/'Specifications (L1, L2, L3)'!F22/128,0) -> 0 | M5: =IFERROR('Specifications (L1, L2, L3)'!H46/'Specifications (L1, L2, L3)'!F46/128,0) -> 0 | Q5: =IF(G5="Commercial Machine Detergent",IFERROR('Specifications (L1, L2, L3)'!H13/'Specifications (L1, L2, L3)'!G13/16,0),IF('Laundry (LOT #1)'!G5="Household Machine Detergent",IFERROR('Specifications (L1, L2, L3)'!H80/'Specifications (L1, L2, L3)'!G80/16,0),IF('Laundry (LOT #1)'!G5="",0))) -> 0 | R5: =IFERROR('Specifications (L1, L2, L3)'!H34/'Specifications (L1, L2, L3)'!G34/16,0) -> 0 | S5: =IFERROR('Specifications (L1, L2, L3)'!H57/'Specifications (L1, L2, L3)'!G57/16,0) -> 0 | T5: =IFERROR(IF(AND(H5*K5>0,N5*Q5>0),IF(H5*K5<N5*Q5,H5*K5,N5*Q5),IF(H5*K5>N5*Q5,H5*K5,N5*Q5)),"") -> 0 | U5: =IFERROR(IF(AND(I5*L5>0,O5*R5>0),IF(I5*L5<O5*R5,I5*L5,O5*R5),IF(I5*L5>O5*R5,I5*L5,O5*R5)),"") -> 0 | V5: =IFERROR(IF(AND(J5*M5>0,P5*S5>0),IF(J5*M5<P5*S5,J5*M5,P5*S5),IF(J5*M5>P5*S5,J5*M5,P5*S5)),"") -> 0 | W5: =SUM(T5:V5) -> 0 | X5: =W5*F5 -> 0 | Y5: =IF(H5*K5=T5, "Liquid", "Solid") -> Liquid | Z5: =IF(I5*L5=U5, "Liquid", "Solid") -> Liquid | AA5: =IF(J5*M5=V5, "Liquid", "Solid") -> Liquid | AB5: Commercial Machine Detergent | AC5: Household Machine Detergent
B6: Anchorage Correctional Complex (WEST) | C6: 2 | D6: B&C HP-65-202 | E6: 60 | F6: 18250 | G6: Commercial Machine Detergent | K6: =IF(G6="Commercial Machine Detergent",IFERROR('Specifications (L1, L2, L3)'!H3/'Specifications (L1, L2, L3)'!F3/128,0),IF('Laundry (LOT #1)'!G6="Household Machine Detergent",IFERROR('Specifications (L1, L2, L3)'!H69/'Specifications (L1, L2, L3)'!F69/128,0), IF(G6="",0))) -> 0 | L6: =IFERROR('Specifications (L1, L2, L3)'!H22/'Specifications (L1, L2, L3)'!F22/128,0) -> 0 | M6: =IFERROR('Specifications (L1, L2, L3)'!H46/'Specifications (L1, L2, L3)'!F46/128,0) -> 0 | Q6: =IF(G6="Commercial Machine Detergent",IFERROR('Specifications (L1, L2, L3)'!H13/'Specifications (L1, L2, L3)'!G13/16,0),IF('Laundry (LOT #1)'!G6="Household Machine Detergent",IFERROR('Specifications (L1, L2, L3)'!H80/'Specifications (L1, L2, L3)'!G80/16,0),IF('Laundry (LOT #1)'!G6="",0))) -> 0 | R6: =IFERROR('Specifications (L1, L2, L3)'!H34/'Specifications (L1, L2, L3)'!G34/16,0) -> 0 | S6: =IFERROR('Specifications (L1, L2, L3)'!H57/'Specifications (L1, L2, L3)'!G57/16,0) -> 0 | T6: =IFERROR(IF(AND(H6*K6>0,N6*Q6>0),IF(H6*K6<N6*Q6,H6*K6,N6*Q6),IF(H6*K6>N6*Q6,H6*K6,N6*Q6)),"") -> 0 | U6: =IFERROR(IF(AND(I6*L6>0,O6*R6>0),IF(I6*L6<O6*R6,I6*L6,O6*R6),IF(I6*L6>O6*R6,I6*L6,O6*R6)),"") -> 0 | V6: =IFERROR(IF(AND(J6*M6>0,P6*S6>0),IF(J6*M6<P6*S6,J6*M6,P6*S6),IF(J6*M6>P6*S6,J6*M6,P6*S6)),"") -> 0 | W6: =SUM(T6:V6) -> 0 | X6: =W6*F6 -> 0 | Y6: =IF(H6*K6=T6, "Liquid", "Solid") -> Liquid | Z6: =IF(I6*L6=U6, "Liquid", "Solid") -> Liquid | AA6: =IF(J6*M6=V6, "Liquid", "Solid") -> Liquid | AB6: Commercial Machine Detergent | AC6: Household Machine Detergent
X7: =SUM(X4:X6) -> 0
A9: Nome, AK | B9: Anvil Mountain Correctional Center | C9: 2 | D9: Continental Girbau EH020PA10241220010 | E9: 20 | F9: 8800 | G9: Commercial Machine Detergent | K9: =IF(G9="Commercial Machine Detergent",IFERROR('Specifications (L1, L2, L3)'!J3/'Specifications (L1, L2, L3)'!F3/128,0),IF('Laundry (LOT #1)'!G9="Household Machine Detergent",IFERROR('Specifications (L1, L2, L3)'!J69/'Specifications (L1, L2, L3)'!F69/128,0), IF(G9="",0))) -> 0 | L9: =IFERROR('Specifications (L1, L2, L3)'!J22/'Specifications (L1, L2, L3)'!F22/128,0) -> 0 | M9: =IFERROR('Specifications (L1, L2, L3)'!J46/'Specifications (L1, L2, L3)'!F46/128,0) -> 0 | Q9: =IF(G9="Commercial Machine Detergent",IFERROR('Specifications (L1, L2, L3)'!J13/'Specifications (L1, L2, L3)'!G13/16,0),IF('Laundry (LOT #1)'!G9="Household Machine Detergent",IFERROR('Specifications (L1, L2, L3)'!J80/'Specifications (L1, L2, L3)'!G80/16,0),IF('Laundry (LOT #1)'!G9="",0))) -> 0 | R9: =IFERROR('Specifications (L1, L2, L3)'!J34/'Specifications (L1, L2, L3)'!G34/16,0) -> 0 | S9: =IFERROR('Specifications (L1, L2, L3)'!J57/'Specifications (L1, L2, L3)'!G57/16,0) -> 0 | T9: =IFERROR(IF(AND(H9*K9>0,N9*Q9>0),IF(H9*K9<N9*Q9,H9*K9,N9*Q9),IF(H9*K9>N9*Q9,H9*K9,N9*Q9)),"") -> 0 | U9: =IFERROR(IF(AND(I9*L9>0,O9*R9>0),IF(I9*L9<O9*R9,I9*L9,O9*R9),IF(I9*L9>O9*R9,I9*L9,O9*R9)),"") -> 0 | V9: =IFERROR(IF(AND(J9*M9>0,P9*S9>0),IF(J9*M9<P9*S9,J9*M9,P9*S9),IF(J9*M9>P9*S9,J9*M9,P9*S9)),"") -> 0 | W9: =SUM(T9:V9) -> 0 | X9: =W9*F9 -> 0 | Y9: =IF(H9*K9=T9, "Liquid", "Solid") -> Liquid | Z9: =IF(I9*L9=U9, "Liquid", "Solid") -> Liquid | AA9: =IF(J9*M9=V9, "Liquid", "Solid") -> Liquid | AB9: Commercial Machine Detergent | AC9: Household Machine Detergent
C10: 1 | D10: Continental Girbau RMG070P3102111001 | E10: 70 | F10: 8100 | G10: Commercial Machine Detergent | K10: =IF(G9="Commercial Machine Detergent",IFERROR('Specifications (L1, L2, L3)'!J3/'Specifications (L1, L2, L3)'!F3/128,0),IF('Laundry (LOT #1)'!G9="Household Machine Detergent",IFERROR('Specifications (L1, L2, L3)'!J69/'Specifications (L1, L2, L3)'!F69/128,0), IF(G9="",0))) -> 0 | L10: =IFERROR('Specifications (L1, L2, L3)'!J22/'Specifications (L1, L2, L3)'!F22/128,0) -> 0 | M10: =IFERROR('Specifications (L1, L2, L3)'!J46/'Specifications (L1, L2, L3)'!F46/128,0) -> 0 | Q10: =IF(G10="Commercial Machine Detergent",IFERROR('Specifications (L1, L2, L3)'!J13/'Specifications (L1, L2, L3)'!G13/16,0),IF('Laundry (LOT #1)'!G10="Household Machine Detergent",IFERROR('Specifications (L1, L2, L3)'!J80/'Specifications (L1, L2, L3)'!G80/16,0),IF('Laundry (LOT #1)'!G10="",0))) -> 0 | R10: =IFERROR('Specifications (L1, L2, L3)'!J34/'Specifications (L1, L2, L3)'!G34/16,0) -> 0 | S10: =IFERROR('Specifications (L1, L2, L3)'!J57/'Specifications (L1, L2, L3)'!G57/16,0) -> 0 | T10: =IFERROR(IF(AND(H10*K10>0,N10*Q10>0),IF(H10*K10<N10*Q10,H10*K10,N10*Q10),IF(H10*K10>N10*Q10,H10*K10,N10*Q10)),"") -> 0 | U10: =IFERROR(IF(AND(I10*L10>0,O10*R10>0),IF(I10*L10<O10*R10,I10*L10,O10*R10),IF(I10*L10>O10*R10,I10*L10,O10*R10)),"") -> 0 | V10: =IFERROR(IF(AND(J10*M10>0,P10*S10>0),IF(J10*M10<P10*S10,J10*M10,P10*S10),IF(J10*M10>P10*S10,J10*M10,P10*S10)),"") -> 0 | W10: =SUM(T10:V10) -> 0 | X10: =W10*F10 -> 0 | Y10: =IF(H10*K10=T10, "Liquid", "Solid") -> Liquid | Z10: =IF(I10*L10=U10, "Liquid", "Solid") -> Liquid | AA10: =IF(J10*M10=V10, "Liquid", "Solid") -> Liquid | AB10: Commercial Machine Detergent | AC10: Household Machine Detergent
X11: =SUM(X9:X10) -> 0
A13: Fairbanks, AK | B13: Fairbanks Correctional Center | C13: 3 | D13: Unimac UWN060T3VXU3001 | E13: 60 | F13: 16500 | G13: Commercial Machine Detergent | K13: =IF(G13="Commercial Machine Detergent",IFERROR('Specifications (L1, L2, L3)'!I3/'Specifications (L1, L2, L3)'!F3/128,0),IF('Laundry (LOT #1)'!G13="Household Machine Detergent",IFERROR('Specifications (L1, L2, L3)'!I69/'Specifications (L1, L2, L3)'!F69/128,0), IF(G13="",0))) -> 0 | L13: =IFERROR('Specifications (L1, L2, L3)'!I22/'Specifications (L1, L2, L3)'!F22/128,0) -> 0 | M13: =IFERROR('Specifications (L1, L2, L3)'!I46/'Specifications (L1, L2, L3)'!F46/128,0) -> 0 | Q13: =IF(G13="Commercial Machine Detergent",IFERROR('Specifications (L1, L2, L3)'!I13/'Specifications (L1, L2, L3)'!G13/16,0),IF('Laundry (LOT #1)'!G13="Household Machine Detergent",IFERROR('Specifications (L1, L2, L3)'!I80/'Specifications (L1, L2, L3)'!G80/16,0),IF('Laundry (LOT #1)'!G13="",0))) -> 0 | R13: =IFERROR('Specifications (L1, L2, L3)'!I34/'Specifications (L1, L2, L3)'!G34/16,0) -> 0 | S13: =IFERROR('Specifications (L1, L2, L3)'!I57/'Specifications (L1, L2, L3)'!G57/16,0) -> 0 | T13: =IFERROR(IF(AND(H13*K13>0,N13*Q13>0),IF(H13*K13<N13*Q13,H13*K13,N13*Q13),IF(H13*K13>N13*Q13,H13*K13,N13*Q13)),"") -> 0 | U13: =IFERROR(IF(AND(I13*L13>0,O13*R13>0),IF(I13*L13<O13*R13,I13*L13,O13*R13),IF(I13*L13>O13*R13,I13*L13,O13*R13)),"") -> 0 | V13: =IFERROR(IF(AND(J13*M13>0,P13*S13>0),IF(J13*M13<P13*S13,J13*M13,P13*S13),IF(J13*M13>P13*S13,J13*M13,P13*S13)),"") -> 0 | W13: =SUM(T13:V13) -> 0 | X13: =W13*F13 -> 0 | Y13: =IF(H13*K13=T13, "Liquid", "Solid") -> Liquid | Z13: =IF(I13*L13=U13, "Liquid", "Solid") -> Liquid | AA13: =IF(J13*M13=V13, "Liquid", "Solid") -> Liquid | AB13: Commercial Machine Detergent | AC13: Household Machine Detergent
X14: =SUM(X13) -> 0
A16: Wasilla, AK | B16: Goose Creek Correctional Center | C16: 1 | D16: Speed Queen stackable washer/dryer SPQLTEE5ASP155TW01 | E16: 15 | F16: 4000 | G16: Commercial Machine Detergent | K16: =IF(G16="Commercial Machine Detergent",IFERROR('Specifications (L1, L2, L3)'!H3/'Specifications (L1, L2, L3)'!F3/128,0),IF('Laundry (LOT #1)'!G16="Household Machine Detergent",IFERROR('Specifications (L1, L2, L3)'!H69/'Specifications (L1, L2, L3)'!F69/128,0), IF(G16="",0))) -> 0 | L16: =IFERROR('Specifications (L1, L2, L3)'!H22/'Specifications (L1, L2, L3)'!F22/128,0) -> 0 | M16: =IFERROR('Specifications (L1, L2, L3)'!H46/'Specifications (L1, L2, L3)'!F46/128,0) -> 0 | Q16: =IF(G16="Commercial Machine Detergent",IFERROR('Specifications (L1, L2, L3)'!H13/'Specifications (L1, L2, L3)'!G13/16,0),IF('Laundry (LOT #1)'!G16="Household Machine Detergent",IFERROR('Specifications (L1, L2, L3)'!H80/'Specifications (L1, L2, L3)'!G80/16,0),IF('Laundry (LOT #1)'!G16="",0))) -> 0 | R16: =IFERROR('Specifications (L1, L2, L3)'!H34/'Specifications (L1, L2, L3)'!G34/16,0) -> 0 | S16: =IFERROR('Specifications (L1, L2, L3)'!H57/'Specifications (L1, L2, L3)'!G57/16,0) -> 0 | T16: =IFERROR(IF(AND(H16*K16>0,N16*Q16>0),IF(H16*K16<N16*Q16,H16*K16,N16*Q16),IF(H16*K16>N16*Q16,H16*K16,N16*Q16)),"") -> 0 | U16: =IFERROR(IF(AND(I16*L16>0,O16*R16>0),IF(I16*L16<O16*R16,I16*L16,O16*R16),IF(I16*L16>O16*R16,I16*L16,O16*R16)),"") -> 0 | V16: =IFERROR(IF(AND(J16*M16>0,P16*S16>0),IF(J16*M16<P16*S16,J16*M16,P16*S16),IF(J16*M16>P16*S16,J16*M16,P16*S16)),"") -> 0 | W16: =SUM(T16:V16) -> 0 | X16: =W16*F16 -> 0 | Y16: =IF(H16*K16=T16, "Liquid", "Solid") -> Liquid | Z16: =IF(I16*L16=U16, "Liquid", "Solid") -> Liquid | AA16: =IF(J16*M16=V16, "Liquid", "Solid") -> Liquid | AB16: Commercial Machine Detergent | AC16: Household Machine Detergent
C17: 1 | D17: Unimac UWN60T3VRU1001 | E17: 60 | F17: 5200 | G17: Commercial Machine Detergent | K17: =IF(G17="Commercial Machine Detergent",IFERROR('Specifications (L1, L2, L3)'!H3/'Specifications (L1, L2, L3)'!F3/128,0),IF('Laundry (LOT #1)'!G17="Household Machine Detergent",IFERROR('Specifications (L1, L2, L3)'!H69/'Specifications (L1, L2, L3)'!F69/128,0), IF(G17="",0))) -> 0 | L17: =IFERROR('Specifications (L1, L2, L3)'!H22/'Specifications (L1, L2, L3)'!F22/128,0) -> 0 | M17: =IFERROR('Specifications (L1, L2, L3)'!H46/'Specifications (L1, L2, L3)'!F46/128,0) -> 0 | Q17: =IF(G17="Commercial Machine Detergent",IFERROR('Specifications (L1, L2, L3)'!H13/'Specifications (L1, L2, L3)'!G13/16,0),IF('Laundry (LOT #1)'!G17="Household Machine Detergent",IFERROR('Specifications (L1, L2, L3)'!H80/'Specifications (L1, L2, L3)'!G80/16,0),IF('Laundry (LOT #1)'!G17="",0))) -> 0 | R17: =IFERROR('Specifications (L1, L2, L3)'!H34/'Specifications (L1, L2, L3)'!G34/16,0) -> 0 | S17: =IFERROR('Specifications (L1, L2, L3)'!H57/'Specifications (L1, L2, L3)'!G57/16,0) -> 0 | T17: =IFERROR(IF(AND(H17*K17>0,N17*Q17>0),IF(H17*K17<N17*Q17,H17*K17,N17*Q17),IF(H17*K17>N17*Q17,H17*K17,N17*Q17)),"") -> 0 | U17: =IFERROR(IF(AND(I17*L17>0,O17*R17>0),IF(I17*L17<O17*R17,I17*L17,O17*R17),IF(I17*L17>O17*R17,I17*L17,O17*R17)),"") -> 0 | V17: =IFERROR(IF(AND(J17*M17>0,P17*S17>0),IF(J17*M17<P17*S17,J17*M17,P17*S17),IF(J17*M17>P17*S17,J17*M17,P17*S17)),"") -> 0 | W17: =SUM(T17:V17) -> 0 | X17: =W17*F17 -> 0 | Y17: =IF(H17*K17=T17, "Liquid", "Solid") -> Liquid | Z17: =IF(I17*L17=U17, "Liquid", "Solid") -> Liquid | AA17: =IF(J17*M17=V17, "Liquid", "Solid") -> Liquid | AB17: Commercial Machine Detergent | AC17: Household Machine Detergent
C18: 20 | D18: Whirlpool WTW5000DW1 | E18: 20 | F18: 402000 | G18: Commercial Machine Detergent | K18: =IF(G18="Commercial Machine Detergent",IFERROR('Specifications (L1, L2, L3)'!H3/'Specifications (L1, L2, L3)'!F3/128,0),IF('Laundry (LOT #1)'!G18="Household Machine Detergent",IFERROR('Specifications (L1, L2, L3)'!H69/'Specifications (L1, L2, L3)'!F69/128,0), IF(G18="",0))) -> 0 | L18: =IFERROR('Specifications (L1, L2, L3)'!H22/'Specifications (L1, L2, L3)'!F22/128,0) -> 0 | M18: =IFERROR('Specifications (L1, L2, L3)'!H46/'Specifications (L1, L2, L3)'!F46/128,0) -> 0 | Q18: =IF(G18="Commercial Machine Detergent",IFERROR('Specifications (L1, L2, L3)'!H13/'Specifications (L1, L2, L3)'!G13/16,0),IF('Laundry (LOT #1)'!G18="Household Machine Detergent",IFERROR('Specifications (L1, L2, L3)'!H80/'Specifications (L1, L2, L3)'!G80/16,0),IF('Laundry (LOT #1)'!G18="",0))) -> 0 | R18: =IFERROR('Specifications (L1, L2, L3)'!H34/'Specifications (L1, L2, L3)'!G34/16,0) -> 0 | S18: =IFERROR('Specifications (L1, L2, L3)'!H57/'Specifications (L1, L2, L3)'!G57/16,0) -> 0 | T18: =IFERROR(IF(AND(H18*K18>0,N18*Q18>0),IF(H18*K18<N18*Q18,H18*K18,N18*Q18),IF(H18*K18>N18*Q18,H18*K18,N18*Q18)),"") -> 0 | U18: =IFERROR(IF(AND(I18*L18>0,O18*R18>0),IF(I18*L18<O18*R18,I18*L18,O18*R18),IF(I18*L18>O18*R18,I18*L18,O18*R18)),"") -> 0 | V18: =IFERROR(IF(AND(J18*M18>0,P18*S18>0),IF(J18*M18<P18*S18,J18*M18,P18*S18),IF(J18*M18>P18*S18,J18*M18,P18*S18)),"") -> 0 | W18: =SUM(T18:V18) -> 0 | X18: =W18*F18 -> 0 | Y18: =IF(H18*K18=T18, "Liquid", "Solid") -> Liquid | Z18: =IF(I18*L18=U18, "Liquid", "Solid") -> Liquid | AA18: =IF(J18*M18=V18, "Liquid", "Solid") -> Liquid | AB18: Commercial Machine Detergent | AC18: Household Machine Detergent
C19: 3 | D19: Unimac UWN150T3VRU2001 | E19: 150 | F19: 15500 | G19: Commercial Machine Detergent | K19: =IF(G19="Commercial Machine Detergent",IFERROR('Specifications (L1, L2, L3)'!H3/'Specifications (L1, L2, L3)'!F3/128,0),IF('Laundry (LOT #1)'!G19="Household Machine Detergent",IFERROR('Specifications (L1, L2, L3)'!H69/'Specifications (L1, L2, L3)'!F69/128,0), IF(G19="",0))) -> 0 | L19: =IFERROR('Specifications (L1, L2, L3)'!H22/'Specifications (L1, L2, L3)'!F22/128,0) -> 0 | M19: =IFERROR('Specifications (L1, L2, L3)'!H46/'Specifications (L1, L2, L3)'!F46/128,0) -> 0 | Q19: =IF(G19="Commercial Machine Detergent",IFERROR('Specifications (L1, L2, L3)'!H13/'Specifications (L1, L2, L3)'!G13/16,0),IF('Laundry (LOT #1)'!G19="Household Machine Detergent",IFERROR('Specifications (L1, L2, L3)'!H80/'Specifications (L1, L2, L3)'!G80/16,0),IF('Laundry (LOT #1)'!G19="",0))) -> 0 | R19: =IFERROR('Specifications (L1, L2, L3)'!H34/'Specifications (L1, L2, L3)'!G34/16,0) -> 0 | S19: =IFERROR('Specifications (L1, L2, L3)'!H57/'Specifications (L1, L2, L3)'!G57/16,0) -> 0 | T19: =IFERROR(IF(AND(H19*K19>0,N19*Q19>0),IF(H19*K19<N19*Q19,H19*K19,N19*Q19),IF(H19*K19>N19*Q19,H19*K19,N19*Q19)),"") -> 0 | U19: =IFERROR(IF(AND(I19*L19>0,O19*R19>0),IF(I19*L19<O19*R19,I19*L19,O19*R19),IF(I19*L19>O19*R19,I19*L19,O19*R19)),"") -> 0 | V19: =IFERROR(IF(AND(J19*M19>0,P19*S19>0),IF(J19*M19<P19*S19,J19*M19,P19*S19),IF(J19*M19>P19*S19,J19*M19,P19*S19)),"") -> 0 | W19: =SUM(T19:V19) -> 0 | X19: =W19*F19 -> 0 | Y19: =IF(H19*K19=T19, "Liquid", "Solid") -> Liquid | Z19: =IF(I19*L19=U19, "Liquid", "Solid") -> Liquid | AA19: =IF(J19*M19=V19, "Liquid", "Solid") -> Liquid | AB19: Commercial Machine Detergent | AC19: Household Machine Detergent
X20: =SUM(X16:X19) -> 0
A22: Eagle River, AK | B22: Hiland Mountain Correctional Center | C22: 1 | D22: Unimac UWN065T4V | E22: 65 | F22: 4000 | G22: Commercial Machine Detergent | K22: =IF(G22="Commercial Machine Detergent",IFERROR('Specifications (L1, L2, L3)'!H3/'Specifications (L1, L2, L3)'!F3/128,0),IF('Laundry (LOT #1)'!G22="Household Machine Detergent",IFERROR('Specifications (L1, L2, L3)'!H69/'Specifications (L1, L2, L3)'!F69/128,0), IF(G22="",0))) -> 0 | L22: =IFERROR('Specifications (L1, L2, L3)'!H22/'Specifications (L1, L2, L3)'!F22/128,0) -> 0 | M22: =IFERROR('Specifications (L1, L2, L3)'!H46/'Specifications (L1, L2, L3)'!F46/128,0) -> 0 | Q22: =IF(G22="Commercial Machine Detergent",IFERROR('Specifications (L1, L2, L3)'!H13/'Specifications (L1, L2, L3)'!G13/16,0),IF('Laundry (LOT #1)'!G22="Household Machine Detergent",IFERROR('Specifications (L1, L2, L3)'!H80/'Specifications (L1, L2, L3)'!G80/16,0),IF('Laundry (LOT #1)'!G22="",0))) -> 0 | R22: =IFERROR('Specifications (L1, L2, L3)'!H34/'Specifications (L1, L2, L3)'!G34/16,0) -> 0 | S22: =IFERROR('Specifications (L1, L2, L3)'!H57/'Specifications (L1, L2, L3)'!G57/16,0) -> 0 | T22: =IFERROR(IF(AND(H22*K22>0,N22*Q22>0),IF(H22*K22<N22*Q22,H22*K22,N22*Q22),IF(H22*K22>N22*Q22,H22*K22,N22*Q22)),"") -> 0 | U22: =IFERROR(IF(AND(I22*L22>0,O22*R22>0),IF(I22*L22<O22*R22,I22*L22,O22*R22),IF(I22*L22>O22*R22,I22*L22,O22*R22)),"") -> 0 | V22: =IFERROR(IF(AND(J22*M22>0,P22*S22>0),IF(J22*M22<P22*S22,J22*M22,P22*S22),IF(J22*M22>P22*S22,J22*M22,P22*S22)),"") -> 0 | W22: =SUM(T22:V22) -> 0 | X22: =W22*F22 -> 0 | Y22: =IF(H22*K22=T22, "Liquid", "Solid") -> Liquid | Z22: =IF(I22*L22=U22, "Liquid", "Solid") -> Liquid | AA22: =IF(J22*M22=V22, "Liquid", "Solid") -> Liquid | AB22: Commercial Machine Detergent | AC22: Household Machine Detergent
C23: 1 | D23: B&C HP60E2-4SANN-ABA | E23: 60 | F23: 4000 | G23: Commercial Machine Detergent | K23: =IF(G23="Commercial Machine Detergent",IFERROR('Specifications (L1, L2, L3)'!H3/'Specifications (L1, L2, L3)'!F3/128,0),IF('Laundry (LOT #1)'!G23="Household Machine Detergent",IFERROR('Specifications (L1, L2, L3)'!H69/'Specifications (L1, L2, L3)'!F69/128,0), IF(G23="",0))) -> 0 | L23: =IFERROR('Specifications (L1, L2, L3)'!H22/'Specifications (L1, L2, L3)'!F22/128,0) -> 0 | M23: =IFERROR('Specifications (L1, L2, L3)'!H46/'Specifications (L1, L2, L3)'!F46/128,0) -> 0 | Q23: =IF(G23="Commercial Machine Detergent",IFERROR('Specifications (L1, L2, L3)'!H13/'Specifications (L1, L2, L3)'!G13/16,0),IF('Laundry (LOT #1)'!G23="Household Machine Detergent",IFERROR('Specifications (L1, L2, L3)'!H80/'Specifications (L1, L2, L3)'!G80/16,0),IF('Laundry (LOT #1)'!G23="",0))) -> 0 | R23: =IFERROR('Specifications (L1, L2, L3)'!H34/'Specifications (L1, L2, L3)'!G34/16,0) -> 0 | S23: =IFERROR('Specifications (L1, L2, L3)'!H57/'Specifications (L1, L2, L3)'!G57/16,0) -> 0 | T23: =IFERROR(IF(AND(H23*K23>0,N23*Q23>0),IF(H23*K23<N23*Q23,H23*K23,N23*Q23),IF(H23*K23>N23*Q23,H23*K23,N23*Q23)),"") -> 0 | U23: =IFERROR(IF(AND(I23*L23>0,O23*R23>0),IF(I23*L23<O23*R23,I23*L23,O23*R23),IF(I23*L23>O23*R23,I23*L23,O23*R23)),"") -> 0 | V23: =IFERROR(IF(AND(J23*M23>0,P23*S23>0),IF(J23*M23<P23*S23,J23*M23,P23*S23),IF(J23*M23>P23*S23,J23*M23,P23*S23)),"") -> 0 | W23: =SUM(T23:V23) -> 0 | X23: =W23*F23 -> 0 | Y23: =IF(H23*K23=T23, "Liquid", "Solid") -> Liquid | Z23: =IF(I23*L23=U23, "Liquid", "Solid") -> Liquid | AA23: =IF(J23*M23=V23, "Liquid", "Solid") -> Liquid | AB23: Commercial Machine Detergent | AC23: Household Machine Detergent
X24: =SUM(X22:X23) -> 0
A26: Ketchikan, AK | B26: Ketchikan Correctional Center | C26: 2 | D26: Unimac UCN040 | E26: 40 | F26: 3000 | G26: Commercial Machine Detergent | K26: =IF(G26="Commercial Machine Detergent",IFERROR('Specifications (L1, L2, L3)'!K3/'Specifications (L1, L2, L3)'!F3/128,0),IF('Laundry (LOT #1)'!G26="Household Machine Detergent",IFERROR('Specifications (L1, L2, L3)'!K69/'Specifications (L1, L2, L3)'!F69/128,0), IF(G26="",0))) -> 0 | L26: =IFERROR('Specifications (L1, L2, L3)'!K22/'Specifications (L1, L2, L3)'!F22/128,0) -> 0 | M26: =IFERROR('Specifications (L1, L2, L3)'!K46/'Specifications (L1, L2, L3)'!F46/128,0) -> 0 | Q26: =IF(G26="Commercial Machine Detergent",IFERROR('Specifications (L1, L2, L3)'!K13/'Specifications (L1, L2, L3)'!G13/16,0),IF('Laundry (LOT #1)'!G26="Household Machine Detergent",IFERROR('Specifications (L1, L2, L3)'!K80/'Specifications (L1, L2, L3)'!G80/16,0),IF('Laundry (LOT #1)'!G26="",0))) -> 0 | R26: =IFERROR('Specifications (L1, L2, L3)'!K34/'Specifications (L1, L2, L3)'!G34/16,0) -> 0 | S26: =IFERROR('Specifications (L1, L2, L3)'!K57/'Specifications (L1, L2, L3)'!G57/16,0) -> 0 | T26: =IFERROR(IF(AND(H26*K26>0,N26*Q26>0),IF(H26*K26<N26*Q26,H26*K26,N26*Q26),IF(H26*K26>N26*Q26,H26*K26,N26*Q26)),"") -> 0 | U26: =IFERROR(IF(AND(I26*L26>0,O26*R26>0),IF(I26*L26<O26*R26,I26*L26,O26*R26),IF(I26*L26>O26*R26,I26*L26,O26*R26)),"") -> 0 | V26: =IFERROR(IF(AND(J26*M26>0,P26*S26>0),IF(J26*M26<P26*S26,J26*M26,P26*S26),IF(J26*M26>P26*S26,J26*M26,P26*S26)),"") -> 0 | W26: =SUM(T26:V26) -> 0 | X26: =W26*F26 -> 0 | Y26: =IF(H26*K26=T26, "Liquid", "Solid") -> Liquid | Z26: =IF(I26*L26=U26, "Liquid", "Solid") -> Liquid | AA26: =IF(J26*M26=V26, "Liquid", "Solid") -> Liquid | AB26: Commercial Machine Detergent | AC26: Household Machine Detergent
X27: =SUM(X26) -> 0
A29: Juneau, AK | B29: Lemon Creek Correctional Center | C29: 2 | D29: Unimac UWN065T4VX4001 | E29: 65 | F29: 22000 | G29: Commercial Machine Detergent | K29: =IF(G29="Commercial Machine Detergent",IFERROR('Specifications (L1, L2, L3)'!K3/'Specifications (L1, L2, L3)'!F3/128,0),IF('Laundry (LOT #1)'!G29="Household Machine Detergent",IFERROR('Specifications (L1, L2, L3)'!K69/'Specifications (L1, L2, L3)'!F69/128,0), IF(G29="",0))) -> 0 | L29: =IFERROR('Specifications (L1, L2, L3)'!K22/'Specifications (L1, L2, L3)'!F22/128,0) -> 0 | M29: =IFERROR('Specifications (L1, L2, L3)'!K46/'Specifications (L1, L2, L3)'!F46/128,0) -> 0 | Q29: =IF(G29="Commercial Machine Detergent",IFERROR('Specifications (L1, L2, L3)'!K13/'Specifications (L1, L2, L3)'!G13/16,0),IF('Laundry (LOT #1)'!G29="Household Machine Detergent",IFERROR('Specifications (L1, L2, L3)'!K80/'Specifications (L1, L2, L3)'!G80/16,0),IF('Laundry (LOT #1)'!G29="",0))) -> 0 | R29: =IFERROR('Specifications (L1, L2, L3)'!K34/'Specifications (L1, L2, L3)'!G34/16,0) -> 0 | S29: =IFERROR('Specifications (L1, L2, L3)'!K57/'Specifications (L1, L2, L3)'!G57/16,0) -> 0 | T29: =IFERROR(IF(AND(H29*K29>0,N29*Q29>0),IF(H29*K29<N29*Q29,H29*K29,N29*Q29),IF(H29*K29>N29*Q29,H29*K29,N29*Q29)),"") -> 0 | U29: =IFERROR(IF(AND(I29*L29>0,O29*R29>0),IF(I29*L29<O29*R29,I29*L29,O29*R29),IF(I29*L29>O29*R29,I29*L29,O29*R29)),"") -> 0 | V29: =IFERROR(IF(AND(J29*M29>0,P29*S29>0),IF(J29*M29<P29*S29,J29*M29,P29*S29),IF(J29*M29>P29*S29,J29*M29,P29*S29)),"") -> 0 | W29: =SUM(T29:V29) -> 0 | X29: =W29*F29 -> 0 | Y29: =IF(H29*K29=T29, "Liquid", "Solid") -> Liquid | Z29: =IF(I29*L29=U29, "Liquid", "Solid") -> Liquid | AA29: =IF(J29*M29=V29, "Liquid", "Solid") -> Liquid | AB29: Commercial Machine Detergent | AC29: Household Machine Detergent
C30: 2 | D30: Unimac UWN035V3XU3001 | E30: 35 | F30: 11000 | G30: Commercial Machine Detergent | K30: =IF(G30="Commercial Machine Detergent",IFERROR('Specifications (L1, L2, L3)'!K3/'Specifications (L1, L2, L3)'!F3/128,0),IF('Laundry (LOT #1)'!G30="Household Machine Detergent",IFERROR('Specifications (L1, L2, L3)'!K69/'Specifications (L1, L2, L3)'!F69/128,0), IF(G30="",0))) -> 0 | L30: =IFERROR('Specifications (L1, L2, L3)'!K22/'Specifications (L1, L2, L3)'!F22/128,0) -> 0 | M30: =IFERROR('Specifications (L1, L2, L3)'!K46/'Specifications (L1, L2, L3)'!F46/128,0) -> 0 | Q30: =IF(G30="Commercial Machine Detergent",IFERROR('Specifications (L1, L2, L3)'!K13/'Specifications (L1, L2, L3)'!G13/16,0),IF('Laundry (LOT #1)'!G30="Household Machine Detergent",IFERROR('Specifications (L1, L2, L3)'!K80/'Specifications (L1, L2, L3)'!G80/16,0),IF('Laundry (LOT #1)'!G30="",0))) -> 0 | R30: =IFERROR('Specifications (L1, L2, L3)'!K34/'Specifications (L1, L2, L3)'!G34/16,0) -> 0 | S30: =IFERROR('Specifications (L1, L2, L3)'!K57/'Specifications (L1, L2, L3)'!G57/16,0) -> 0 | T30: =IFERROR(IF(AND(H30*K30>0,N30*Q30>0),IF(H30*K30<N30*Q30,H30*K30,N30*Q30),IF(H30*K30>N30*Q30,H30*K30,N30*Q30)),"") -> 0 | U30: =IFERROR(IF(AND(I30*L30>0,O30*R30>0),IF(I30*L30<O30*R30,I30*L30,O30*R30),IF(I30*L30>O30*R30,I30*L30,O30*R30)),"") -> 0 | V30: =IFERROR(IF(AND(J30*M30>0,P30*S30>0),IF(J30*M30<P30*S30,J30*M30,P30*S30),IF(J30*M30>P30*S30,J30*M30,P30*S30)),"") -> 0 | W30: =SUM(T30:V30) -> 0 | X30: =W30*F30 -> 0 | Y30: =IF(H30*K30=T30, "Liquid", "Solid") -> Liquid | Z30: =IF(I30*L30=U30, "Liquid", "Solid") -> Liquid | AA30: =IF(J30*M30=V30, "Liquid", "Solid") -> Liquid | AB30: Commercial Machine Detergent | AC30: Household Machine Detergent
C31: 2 | D31: GE WBVH5300K0WW | E31: 20 | F31: 1500 | G31: Commercial Machine Detergent | K31: =IF(G31="Commercial Machine Detergent",IFERROR('Specifications (L1, L2, L3)'!K3/'Specifications (L1, L2, L3)'!F3/128,0),IF('Laundry (LOT #1)'!G31="Household Machine Detergent",IFERROR('Specifications (L1, L2, L3)'!K69/'Specifications (L1, L2, L3)'!F69/128,0), IF(G31="",0))) -> 0 | L31: =IFERROR('Specifications (L1, L2, L3)'!K22/'Specifications (L1, L2, L3)'!F22/128,0) -> 0 | M31: =IFERROR('Specifications (L1, L2, L3)'!K46/'Specifications (L1, L2, L3)'!F46/128,0) -> 0 | Q31: =IF(G31="Commercial Machine Detergent",IFERROR('Specifications (L1, L2, L3)'!K13/'Specifications (L1, L2, L3)'!G13/16,0),IF('Laundry (LOT #1)'!G31="Household Machine Detergent",IFERROR('Specifications (L1, L2, L3)'!K80/'Specifications (L1, L2, L3)'!G80/16,0),IF('Laundry (LOT #1)'!G31="",0))) -> 0 | R31: =IFERROR('Specifications (L1, L2, L3)'!K34/'Specifications (L1, L2, L3)'!G34/16,0) -> 0 | S31: =IFERROR('Specifications (L1, L2, L3)'!K57/'Specifications (L1, L2, L3)'!G57/16,0) -> 0 | T31: =IFERROR(IF(AND(H31*K31>0,N31*Q31>0),IF(H31*K31<N31*Q31,H31*K31,N31*Q31),IF(H31*K31>N31*Q31,H31*K31,N31*Q31)),"") -> 0 | U31: =IFERROR(IF(AND(I31*L31>0,O31*R31>0),IF(I31*L31<O31*R31,I31*L31,O31*R31),IF(I31*L31>O31*R31,I31*L31,O31*R31)),"") -> 0 | V31: =IFERROR(IF(AND(J31*M31>0,P31*S31>0),IF(J31*M31<P31*S31,J31*M31,P31*S31),IF(J31*M31>P31*S31,J31*M31,P31*S31)),"") -> 0 | W31: =SUM(T31:V31) -> 0 | X31: =W31*F31 -> 0 | Y31: =IF(H31*K31=T31, "Liquid", "Solid") -> Liquid | Z31: =IF(I31*L31=U31, "Liquid", "Solid") -> Liquid | AA31: =IF(J31*M31=V31, "Liquid", "Solid") -> Liquid | AB31: Commercial Machine Detergent | AC31: Household Machine Detergent
C32: 1 | D32: Crosley X10740619 | E32: 20 | F32: 1500 | G32: Commercial Machine Detergent | K32: =IF(G32="Commercial Machine Detergent",IFERROR('Specifications (L1, L2, L3)'!K3/'Specifications (L1, L2, L3)'!F3/128,0),IF('Laundry (LOT #1)'!G32="Household Machine Detergent",IFERROR('Specifications (L1, L2, L3)'!K69/'Specifications (L1, L2, L3)'!F69/128,0), IF(G32="",0))) -> 0 | L32: =IFERROR('Specifications (L1, L2, L3)'!K22/'Specifications (L1, L2, L3)'!F22/128,0) -> 0 | M32: =IFERROR('Specifications (L1, L2, L3)'!K46/'Specifications (L1, L2, L3)'!F46/128,0) -> 0 | Q32: =IF(G32="Commercial Machine Detergent",IFERROR('Specifications (L1, L2, L3)'!K13/'Specifications (L1, L2, L3)'!G13/16,0),IF('Laundry (LOT #1)'!G32="Household Machine Detergent",IFERROR('Specifications (L1, L2, L3)'!K80/'Specifications (L1, L2, L3)'!G80/16,0),IF('Laundry (LOT #1)'!G32="",0))) -> 0 | R32: =IFERROR('Specifications (L1, L2, L3)'!K34/'Specifications (L1, L2, L3)'!G34/16,0) -> 0 | S32: =IFERROR('Specifications (L1, L2, L3)'!K57/'Specifications (L1, L2, L3)'!G57/16,0) -> 0 | T32: =IFERROR(IF(AND(H32*K32>0,N32*Q32>0),IF(H32*K32<N32*Q32,H32*K32,N32*Q32),IF(H32*K32>N32*Q32,H32*K32,N32*Q32)),"") -> 0 | U32: =IFERROR(IF(AND(I32*L32>0,O32*R32>0),IF(I32*L32<O32*R32,I32*L32,O32*R32),IF(I32*L32>O32*R32,I32*L32,O32*R32)),"") -> 0 | V32: =IFERROR(IF(AND(J32*M32>0,P32*S32>0),IF(J32*M32<P32*S32,J32*M32,P32*S32),IF(J32*M32>P32*S32,J32*M32,P32*S32)),"") -> 0 | W32: =SUM(T32:V32) -> 0 | X32: =W32*F32 -> 0 | Y32: =IF(H32*K32=T32, "Liquid", "Solid") -> Liquid | Z32: =IF(I32*L32=U32, "Liquid", "Solid") -> Liquid | AA32: =IF(J32*M32=V32, "Liquid", "Solid") -> Liquid | AB32: Commercial Machine Detergent | AC32: Household Machine Detergent
C33: 1 | D33: Crosley CAW12444DW1 | E33: 20 | F33: 2000 | G33: Commercial Machine Detergent | K33: =IF(G33="Commercial Machine Detergent",IFERROR('Specifications (L1, L2, L3)'!K3/'Specifications (L1, L2, L3)'!F3/128,0),IF('Laundry (LOT #1)'!G33="Household Machine Detergent",IFERROR('Specifications (L1, L2, L3)'!K69/'Specifications (L1, L2, L3)'!F69/128,0), IF(G33="",0))) -> 0 | L33: =IFERROR('Specifications (L1, L2, L3)'!K22/'Specifications (L1, L2, L3)'!F22/128,0) -> 0 | M33: =IFERROR('Specifications (L1, L2, L3)'!K46/'Specifications (L1, L2, L3)'!F46/128,0) -> 0 | Q33: =IF(G33="Commercial Machine Detergent",IFERROR('Specifications (L1, L2, L3)'!K13/'Specifications (L1, L2, L3)'!G13/16,0),IF('Laundry (LOT #1)'!G33="Household Machine Detergent",IFERROR('Specifications (L1, L2, L3)'!K80/'Specifications (L1, L2, L3)'!G80/16,0),IF('Laundry (LOT #1)'!G33="",0))) -> 0 | R33: =IFERROR('Specifications (L1, L2, L3)'!K34/'Specifications (L1, L2, L3)'!G34/16,0) -> 0 | S33: =IFERROR('Specifications (L1, L2, L3)'!K57/'Specifications (L1, L2, L3)'!G57/16,0) -> 0 | T33: =IFERROR(IF(AND(H33*K33>0,N33*Q33>0),IF(H33*K33<N33*Q33,H33*K33,N33*Q33),IF(H33*K33>N33*Q33,H33*K33,N33*Q33)),"") -> 0 | U33: =IFERROR(IF(AND(I33*L33>0,O33*R33>0),IF(I33*L33<O33*R33,I33*L33,O33*R33),IF(I33*L33>O33*R33,I33*L33,O33*R33)),"") -> 0 | V33: =IFERROR(IF(AND(J33*M33>0,P33*S33>0),IF(J33*M33<P33*S33,J33*M33,P33*S33),IF(J33*M33>P33*S33,J33*M33,P33*S33)),"") -> 0 | W33: =SUM(T33:V33) -> 0 | X33: =W33*F33 -> 0 | Y33: =IF(H33*K33=T33, "Liquid", "Solid") -> Liquid | Z33: =IF(I33*L33=U33, "Liquid", "Solid") -> Liquid | AA33: =IF(J33*M33=V33, "Liquid", "Solid") -> Liquid | AB33: Commercial Machine Detergent | AC33: Household Machine Detergent
X34: =SUM(X29:X33) -> 0
A36: Palmer, AK | B36: Mat Su Pretrial Facility | C36: 1 | D36: Commercial Washer HCT040QNOF | E36: 40 | F36: 5500 | G36: Commercial Machine Detergent | K36: =IF(G36="Commercial Machine Detergent",IFERROR('Specifications (L1, L2, L3)'!H3/'Specifications (L1, L2, L3)'!F3/128,0),IF('Laundry (LOT #1)'!G36="Household Machine Detergent",IFERROR('Specifications (L1, L2, L3)'!H69/'Specifications (L1, L2, L3)'!F69/128,0), IF(G36="",0))) -> 0 | L36: =IFERROR('Specifications (L1, L2, L3)'!H22/'Specifications (L1, L2, L3)'!F22/128,0) -> 0 | M36: =IFERROR('Specifications (L1, L2, L3)'!H46/'Specifications (L1, L2, L3)'!F46/128,0) -> 0 | Q36: =IF(G36="Commercial Machine Detergent",IFERROR('Specifications (L1, L2, L3)'!H13/'Specifications (L1, L2, L3)'!G13/16,0),IF('Laundry (LOT #1)'!G36="Household Machine Detergent",IFERROR('Specifications (L1, L2, L3)'!H80/'Specifications (L1, L2, L3)'!G80/16,0),IF('Laundry (LOT #1)'!G36="",0))) -> 0 | R36: =IFERROR('Specifications (L1, L2, L3)'!H34/'Specifications (L1, L2, L3)'!G34/16,0) -> 0 | S36: =IFERROR('Specifications (L1, L2, L3)'!H57/'Specifications (L1, L2, L3)'!G57/16,0) -> 0 | T36: =IFERROR(IF(AND(H36*K36>0,N36*Q36>0),IF(H36*K36<N36*Q36,H36*K36,N36*Q36),IF(H36*K36>N36*Q36,H36*K36,N36*Q36)),"") -> 0 | U36: =IFERROR(IF(AND(I36*L36>0,O36*R36>0),IF(I36*L36<O36*R36,I36*L36,O36*R36),IF(I36*L36>O36*R36,I36*L36,O36*R36)),"") -> 0 | V36: =IFERROR(IF(AND(J36*M36>0,P36*S36>0),IF(J36*M36<P36*S36,J36*M36,P36*S36),IF(J36*M36>P36*S36,J36*M36,P36*S36)),"") -> 0 | W36: =SUM(T36:V36) -> 0 | X36: =W36*F36 -> 0 | Y36: =IF(H36*K36=T36, "Liquid", "Solid") -> Liquid | Z36: =IF(I36*L36=U36, "Liquid", "Solid") -> Liquid | AA36: =IF(J36*M36=V36, "Liquid", "Solid") -> Liquid | AB36: Commercial Machine Detergent | AC36: Household Machine Detergent
X37: =SUM(X36) -> 0
A39: Sutton, AK | B39: Palmer Correctional Center | C39: 18 | D39: Whirlpool WTW5005KW0 | E39: 15 | F39: 100000 | G39: Commercial Machine Detergent | K39: =IF(G39="Commercial Machine Detergent",IFERROR('Specifications (L1, L2, L3)'!H3/'Specifications (L1, L2, L3)'!F3/128,0),IF('Laundry (LOT #1)'!G39="Household Machine Detergent",IFERROR('Specifications (L1, L2, L3)'!H69/'Specifications (L1, L2, L3)'!F69/128,0), IF(G39="",0))) -> 0 | L39: =IFERROR('Specifications (L1, L2, L3)'!H22/'Specifications (L1, L2, L3)'!F22/128,0) -> 0 | M39: =IFERROR('Specifications (L1, L2, L3)'!H46/'Specifications (L1, L2, L3)'!F46/128,0) -> 0 | Q39: =IF(G39="Commercial Machine Detergent",IFERROR('Specifications (L1, L2, L3)'!H49/'Specifications (L1, L2, L3)'!G49/16,0),IF('Laundry (LOT #1)'!G39="Household Machine Detergent",IFERROR('Specifications (L1, L2, L3)'!H116/'Specifications (L1, L2, L3)'!G116/16,0),IF('Laundry (LOT #1)'!G39="",0))) -> 0 | R39: =IFERROR('Specifications (L1, L2, L3)'!H70/'Specifications (L1, L2, L3)'!G70/16,0) -> 0 | S39: =IFERROR('Specifications (L1, L2, L3)'!H93/'Specifications (L1, L2, L3)'!G93/16,0) -> 0 | T39: =IFERROR(IF(AND(H39*K39>0,N39*Q39>0),IF(H39*K39<N39*Q39,H39*K39,N39*Q39),IF(H39*K39>N39*Q39,H39*K39,N39*Q39)),"") -> 0 | U39: =IFERROR(IF(AND(I39*L39>0,O39*R39>0),IF(I39*L39<O39*R39,I39*L39,O39*R39),IF(I39*L39>O39*R39,I39*L39,O39*R39)),"") -> 0 | V39: =IFERROR(IF(AND(J39*M39>0,P39*S39>0),IF(J39*M39<P39*S39,J39*M39,P39*S39),IF(J39*M39>P39*S39,J39*M39,P39*S39)),"") -> 0 | W39: =SUM(T39:V39) -> 0 | X39: =W39*F39 -> 0 | Y39: =IF(H39*K39=T39, "Liquid", "Solid") -> Liquid | Z39: =IF(I39*L39=U39, "Liquid", "Solid") -> Liquid | AA39: =IF(J39*M39=V39, "Liquid", "Solid") -> Liquid | AB39: Commercial Machine Detergent | AC39: Household Machine Detergent
C40: 1 | D40: Unimac UW60PVQU5005 | E40: 60 | F40: 1500 | G40: Commercial Machine Detergent | K40: =IF(G40="Commercial Machine Detergent",IFERROR('Specifications (L1, L2, L3)'!H3/'Specifications (L1, L2, L3)'!F3/128,0),IF('Laundry (LOT #1)'!G40="Household Machine Detergent",IFERROR('Specifications (L1, L2, L3)'!H69/'Specifications (L1, L2, L3)'!F69/128,0), IF(G40="",0))) -> 0 | L40: =IFERROR('Specifications (L1, L2, L3)'!H22/'Specifications (L1, L2, L3)'!F22/128,0) -> 0 | M40: =IFERROR('Specifications (L1, L2, L3)'!H46/'Specifications (L1, L2, L3)'!F46/128,0) -> 0 | Q40: =IF(G40="Commercial Machine Detergent",IFERROR('Specifications (L1, L2, L3)'!H49/'Specifications (L1, L2, L3)'!G49/16,0),IF('Laundry (LOT #1)'!G40="Household Machine Detergent",IFERROR('Specifications (L1, L2, L3)'!H116/'Specifications (L1, L2, L3)'!G116/16,0),IF('Laundry (LOT #1)'!G40="",0))) -> 0 | R40: =IFERROR('Specifications (L1, L2, L3)'!H70/'Specifications (L1, L2, L3)'!G70/16,0) -> 0 | S40: =IFERROR('Specifications (L1, L2, L3)'!H93/'Specifications (L1, L2, L3)'!G93/16,0) -> 0 | T40: =IFERROR(IF(AND(H40*K40>0,N40*Q40>0),IF(H40*K40<N40*Q40,H40*K40,N40*Q40),IF(H40*K40>N40*Q40,H40*K40,N40*Q40)),"") -> 0 | U40: =IFERROR(IF(AND(I40*L40>0,O40*R40>0),IF(I40*L40<O40*R40,I40*L40,O40*R40),IF(I40*L40>O40*R40,I40*L40,O40*R40)),"") -> 0 | V40: =IFERROR(IF(AND(J40*M40>0,P40*S40>0),IF(J40*M40<P40*S40,J40*M40,P40*S40),IF(J40*M40>P40*S40,J40*M40,P40*S40)),"") -> 0 | W40: =SUM(T40:V40) -> 0 | X40: =W40*F40 -> 0 | Y40: =IF(H40*K40=T40, "Liquid", "Solid") -> Liquid | Z40: =IF(I40*L40=U40, "Liquid", "Solid") -> Liquid | AA40: =IF(J40*M40=V40, "Liquid", "Solid") -> Liquid | AB40: Commercial Machine Detergent | AC40: Household Machine Detergent
C41: 2 | D41: Unimac UWN065T4VXU4001 | E41: 60 | F41: 3000 | G41: Commercial Machine Detergent | K41: =IF(G41="Commercial Machine Detergent",IFERROR('Specifications (L1, L2, L3)'!H3/'Specifications (L1, L2, L3)'!F3/128,0),IF('Laundry (LOT #1)'!G41="Household Machine Detergent",IFERROR('Specifications (L1, L2, L3)'!H69/'Specifications (L1, L2, L3)'!F69/128,0), IF(G41="",0))) -> 0 | L41: =IFERROR('Specifications (L1, L2, L3)'!H22/'Specifications (L1, L2, L3)'!F22/128,0) -> 0 | M41: =IFERROR('Specifications (L1, L2, L3)'!H46/'Specifications (L1, L2, L3)'!F46/128,0) -> 0 | Q41: =IF(G41="Commercial Machine Detergent",IFERROR('Specifications (L1, L2, L3)'!H49/'Specifications (L1, L2, L3)'!G49/16,0),IF('Laundry (LOT #1)'!G41="Household Machine Detergent",IFERROR('Specifications (L1, L2, L3)'!H116/'Specifications (L1, L2, L3)'!G116/16,0),IF('Laundry (LOT #1)'!G41="",0))) -> 0 | R41: =IFERROR('Specifications (L1, L2, L3)'!H70/'Specifications (L1, L2, L3)'!G70/16,0) -> 0 | S41: =IFERROR('Specifications (L1, L2, L3)'!H93/'Specifications (L1, L2, L3)'!G93/16,0) -> 0 | T41: =IFERROR(IF(AND(H41*K41>0,N41*Q41>0),IF(H41*K41<N41*Q41,H41*K41,N41*Q41),IF(H41*K41>N41*Q41,H41*K41,N41*Q41)),"") -> 0 | U41: =IFERROR(IF(AND(I41*L41>0,O41*R41>0),IF(I41*L41<O41*R41,I41*L41,O41*R41),IF(I41*L41>O41*R41,I41*L41,O41*R41)),"") -> 0 | V41: =IFERROR(IF(AND(J41*M41>0,P41*S41>0),IF(J41*M41<P41*S41,J41*M41,P41*S41),IF(J41*M41>P41*S41,J41*M41,P41*S41)),"") -> 0 | W41: =SUM(T41:V41) -> 0 | X41: =W41*F41 -> 0 | Y41: =IF(H41*K41=T41, "Liquid", "Solid") -> Liquid | Z41: =IF(I41*L41=U41, "Liquid", "Solid") -> Liquid | AA41: =IF(J41*M41=V41, "Liquid", "Solid") -> Liquid | AB41: Commercial Machine Detergent | AC41: Household Machine Detergent
X42: =SUM(X39:X41) -> 0
A44: Wasilla, AK | B44: Point Mackenzie Correctional Farm | C44: 2 | D44: Whirlpool WTW5000DW1 | E44: 20 | F44: 2500 | G44: Commercial Machine Detergent | K44: =IF(G44="Commercial Machine Detergent",IFERROR('Specifications (L1, L2, L3)'!H3/'Specifications (L1, L2, L3)'!F3/128,0),IF('Laundry (LOT #1)'!G44="Household Machine Detergent",IFERROR('Specifications (L1, L2, L3)'!H69/'Specifications (L1, L2, L3)'!F69/128,0), IF(G44="",0))) -> 0 | L44: =IFERROR('Specifications (L1, L2, L3)'!H22/'Specifications (L1, L2, L3)'!F22/128,0) -> 0 | M44: =IFERROR('Specifications (L1, L2, L3)'!H46/'Specifications (L1, L2, L3)'!F46/128,0) -> 0 | Q44: =IF(G44="Commercial Machine Detergent",IFERROR('Specifications (L1, L2, L3)'!H13/'Specifications (L1, L2, L3)'!G13/16,0),IF('Laundry (LOT #1)'!G44="Household Machine Detergent",IFERROR('Specifications (L1, L2, L3)'!H80/'Specifications (L1, L2, L3)'!G80/16,0),IF('Laundry (LOT #1)'!G44="",0))) -> 0 | R44: =IFERROR('Specifications (L1, L2, L3)'!H34/'Specifications (L1, L2, L3)'!G34/16,0) -> 0 | S44: =IFERROR('Specifications (L1, L2, L3)'!H57/'Specifications (L1, L2, L3)'!G57/16,0) -> 0 | T44: =IFERROR(IF(AND(H44*K44>0,N44*Q44>0),IF(H44*K44<N44*Q44,H44*K44,N44*Q44),IF(H44*K44>N44*Q44,H44*K44,N44*Q44)),"") -> 0 | U44: =IFERROR(IF(AND(I44*L44>0,O44*R44>0),IF(I44*L44<O44*R44,I44*L44,O44*R44),IF(I44*L44>O44*R44,I44*L44,O44*R44)),"") -> 0 | V44: =IFERROR(IF(AND(J44*M44>0,P44*S44>0),IF(J44*M44<P44*S44,J44*M44,P44*S44),IF(J44*M44>P44*S44,J44*M44,P44*S44)),"") -> 0 | W44: =SUM(T44:V44) -> 0 | X44: =W44*F44 -> 0 | Y44: =IF(H44*K44=T44, "Liquid", "Solid") -> Liquid | Z44: =IF(I44*L44=U44, "Liquid", "Solid") -> Liquid | AA44: =IF(J44*M44=V44, "Liquid", "Solid") -> Liquid | AB44: Commercial Machine Detergent | AC44: Household Machine Detergent
C45: 1 | D45: Whirlpool WTW4800XQ4 | E45: 20 | F45: 1500 | G45: Commercial Machine Detergent | K45: =IF(G45="Commercial Machine Detergent",IFERROR('Specifications (L1, L2, L3)'!H3/'Specifications (L1, L2, L3)'!F3/128,0),IF('Laundry (LOT #1)'!G45="Household Machine Detergent",IFERROR('Specifications (L1, L2, L3)'!H69/'Specifications (L1, L2, L3)'!F69/128,0), IF(G45="",0))) -> 0 | L45: =IFERROR('Specifications (L1, L2, L3)'!H22/'Specifications (L1, L2, L3)'!F22/128,0) -> 0 | M45: =IFERROR('Specifications (L1, L2, L3)'!H46/'Specifications (L1, L2, L3)'!F46/128,0) -> 0 | Q45: =IF(G45="Commercial Machine Detergent",IFERROR('Specifications (L1, L2, L3)'!H13/'Specifications (L1, L2, L3)'!G13/16,0),IF('Laundry (LOT #1)'!G45="Household Machine Detergent",IFERROR('Specifications (L1, L2, L3)'!H80/'Specifications (L1, L2, L3)'!G80/16,0),IF('Laundry (LOT #1)'!G45="",0))) -> 0 | R45: =IFERROR('Specifications (L1, L2, L3)'!H34/'Specifications (L1, L2, L3)'!G34/16,0) -> 0 | S45: =IFERROR('Specifications (L1, L2, L3)'!H57/'Specifications (L1, L2, L3)'!G57/16,0) -> 0 | T45: =IFERROR(IF(AND(H45*K45>0,N45*Q45>0),IF(H45*K45<N45*Q45,H45*K45,N45*Q45),IF(H45*K45>N45*Q45,H45*K45,N45*Q45)),"") -> 0 | U45: =IFERROR(IF(AND(I45*L45>0,O45*R45>0),IF(I45*L45<O45*R45,I45*L45,O45*R45),IF(I45*L45>O45*R45,I45*L45,O45*R45)),"") -> 0 | V45: =IFERROR(IF(AND(J45*M45>0,P45*S45>0),IF(J45*M45<P45*S45,J45*M45,P45*S45),IF(J45*M45>P45*S45,J45*M45,P45*S45)),"") -> 0 | W45: =SUM(T45:V45) -> 0 | X45: =W45*F45 -> 0 | Y45: =IF(H45*K45=T45, "Liquid", "Solid") -> Liquid | Z45: =IF(I45*L45=U45, "Liquid", "Solid") -> Liquid | AA45: =IF(J45*M45=V45, "Liquid", "Solid") -> Liquid | AB45: Commercial Machine Detergent | AC45: Household Machine Detergent
C46: 1 | D46: Speed Queen LWN432SP115TW01 | E46: 20 | F46: 2500 | G46: Commercial Machine Detergent | K46: =IF(G46="Commercial Machine Detergent",IFERROR('Specifications (L1, L2, L3)'!H3/'Specifications (L1, L2, L3)'!F3/128,0),IF('Laundry (LOT #1)'!G46="Household Machine Detergent",IFERROR('Specifications (L1, L2, L3)'!H69/'Specifications (L1, L2, L3)'!F69/128,0), IF(G46="",0))) -> 0 | L46: =IFERROR('Specifications (L1, L2, L3)'!H22/'Specifications (L1, L2, L3)'!F22/128,0) -> 0 | M46: =IFERROR('Specifications (L1, L2, L3)'!H46/'Specifications (L1, L2, L3)'!F46/128,0) -> 0 | Q46: =IF(G46="Commercial Machine Detergent",IFERROR('Specifications (L1, L2, L3)'!H13/'Specifications (L1, L2, L3)'!G13/16,0),IF('Laundry (LOT #1)'!G46="Household Machine Detergent",IFERROR('Specifications (L1, L2, L3)'!H80/'Specifications (L1, L2, L3)'!G80/16,0),IF('Laundry (LOT #1)'!G46="",0))) -> 0 | R46: =IFERROR('Specifications (L1, L2, L3)'!H34/'Specifications (L1, L2, L3)'!G34/16,0) -> 0 | S46: =IFERROR('Specifications (L1, L2, L3)'!H57/'Specifications (L1, L2, L3)'!G57/16,0) -> 0 | T46: =IFERROR(IF(AND(H46*K46>0,N46*Q46>0),IF(H46*K46<N46*Q46,H46*K46,N46*Q46),IF(H46*K46>N46*Q46,H46*K46,N46*Q46)),"") -> 0 | U46: =IFERROR(IF(AND(I46*L46>0,O46*R46>0),IF(I46*L46<O46*R46,I46*L46,O46*R46),IF(I46*L46>O46*R46,I46*L46,O46*R46)),"") -> 0 | V46: =IFERROR(IF(AND(J46*M46>0,P46*S46>0),IF(J46*M46<P46*S46,J46*M46,P46*S46),IF(J46*M46>P46*S46,J46*M46,P46*S46)),"") -> 0 | W46: =SUM(T46:V46) -> 0 | X46: =W46*F46 -> 0 | Y46: =IF(H46*K46=T46, "Liquid", "Solid") -> Liquid | Z46: =IF(I46*L46=U46, "Liquid", "Solid") -> Liquid | AA46: =IF(J46*M46=V46, "Liquid", "Solid") -> Liquid | AB46: Commercial Machine Detergent | AC46: Household Machine Detergent
C47: 1 | D47: Whirlpool WET4027EWD | E47: 20 | F47: 2000 | G47: Commercial Machine Detergent | K47: =IF(G47="Commercial Machine Detergent",IFERROR('Specifications (L1, L2, L3)'!H3/'Specifications (L1, L2, L3)'!F3/128,0),IF('Laundry (LOT #1)'!G47="Household Machine Detergent",IFERROR('Specifications (L1, L2, L3)'!H69/'Specifications (L1, L2, L3)'!F69/128,0), IF(G47="",0))) -> 0 | L47: =IFERROR('Specifications (L1, L2, L3)'!H22/'Specifications (L1, L2, L3)'!F22/128,0) -> 0 | M47: =IFERROR('Specifications (L1, L2, L3)'!H46/'Specifications (L1, L2, L3)'!F46/128,0) -> 0 | Q47: =IF(G47="Commercial Machine Detergent",IFERROR('Specifications (L1, L2, L3)'!H13/'Specifications (L1, L2, L3)'!G13/16,0),IF('Laundry (LOT #1)'!G47="Household Machine Detergent",IFERROR('Specifications (L1, L2, L3)'!H80/'Specifications (L1, L2, L3)'!G80/16,0),IF('Laundry (LOT #1)'!G47="",0))) -> 0 | R47: =IFERROR('Specifications (L1, L2, L3)'!H34/'Specifications (L1, L2, L3)'!G34/16,0) -> 0 | S47: =IFERROR('Specifications (L1, L2, L3)'!H57/'Specifications (L1, L2, L3)'!G57/16,0) -> 0 | T47: =IFERROR(IF(AND(H47*K47>0,N47*Q47>0),IF(H47*K47<N47*Q47,H47*K47,N47*Q47),IF(H47*K47>N47*Q47,H47*K47,N47*Q47)),"") -> 0 | U47: =IFERROR(IF(AND(I47*L47>0,O47*R47>0),IF(I47*L47<O47*R47,I47*L47,O47*R47),IF(I47*L47>O47*R47,I47*L47,O47*R47)),"") -> 0 | V47: =IFERROR(IF(AND(J47*M47>0,P47*S47>0),IF(J47*M47<P47*S47,J47*M47,P47*S47),IF(J47*M47>P47*S47,J47*M47,P47*S47)),"") -> 0 | W47: =SUM(T47:V47) -> 0 | X47: =W47*F47 -> 0 | Y47: =IF(H47*K47=T47, "Liquid", "Solid") -> Liquid | Z47: =IF(I47*L47=U47, "Liquid", "Solid") -> Liquid | AA47: =IF(J47*M47=V47, "Liquid", "Solid") -> Liquid | AB47: Commercial Machine Detergent | AC47: Household Machine Detergent
C48: 2 | D48: Whirlpool WTW4815EW1 | E48: 20 | F48: 3000 | G48: Commercial Machine Detergent | K48: =IF(G48="Commercial Machine Detergent",IFERROR('Specifications (L1, L2, L3)'!H3/'Specifications (L1, L2, L3)'!F3/128,0),IF('Laundry (LOT #1)'!G48="Household Machine Detergent",IFERROR('Specifications (L1, L2, L3)'!H69/'Specifications (L1, L2, L3)'!F69/128,0), IF(G48="",0))) -> 0 | L48: =IFERROR('Specifications (L1, L2, L3)'!H22/'Specifications (L1, L2, L3)'!F22/128,0) -> 0 | M48: =IFERROR('Specifications (L1, L2, L3)'!H46/'Specifications (L1, L2, L3)'!F46/128,0) -> 0 | Q48: =IF(G48="Commercial Machine Detergent",IFERROR('Specifications (L1, L2, L3)'!H13/'Specifications (L1, L2, L3)'!G13/16,0),IF('Laundry (LOT #1)'!G48="Household Machine Detergent",IFERROR('Specifications (L1, L2, L3)'!H80/'Specifications (L1, L2, L3)'!G80/16,0),IF('Laundry (LOT #1)'!G48="",0))) -> 0 | R48: =IFERROR('Specifications (L1, L2, L3)'!H34/'Specifications (L1, L2, L3)'!G34/16,0) -> 0 | S48: =IFERROR('Specifications (L1, L2, L3)'!H57/'Specifications (L1, L2, L3)'!G57/16,0) -> 0 | T48: =IFERROR(IF(AND(H48*K48>0,N48*Q48>0),IF(H48*K48<N48*Q48,H48*K48,N48*Q48),IF(H48*K48>N48*Q48,H48*K48,N48*Q48)),"") -> 0 | U48: =IFERROR(IF(AND(I48*L48>0,O48*R48>0),IF(I48*L48<O48*R48,I48*L48,O48*R48),IF(I48*L48>O48*R48,I48*L48,O48*R48)),"") -> 0 | V48: =IFERROR(IF(AND(J48*M48>0,P48*S48>0),IF(J48*M48<P48*S48,J48*M48,P48*S48),IF(J48*M48>P48*S48,J48*M48,P48*S48)),"") -> 0 | W48: =SUM(T48:V48) -> 0 | X48: =W48*F48 -> 0 | Y48: =IF(H48*K48=T48, "Liquid", "Solid") -> Liquid | Z48: =IF(I48*L48=U48, "Liquid", "Solid") -> Liquid | AA48: =IF(J48*M48=V48, "Liquid", "Solid") -> Liquid | AB48: Commercial Machine Detergent | AC48: Household Machine Detergent
X49: =SUM(X44:X48) -> 0
A51: Seward, AK | B51: Spring Creek Correctional Center | C51: 1 | D51: Alliance UW60AVNU80002 | E51: 60 | F51: 2000 | G51: Commercial Machine Detergent | K51: =IF(G51="Commercial Machine Detergent",IFERROR('Specifications (L1, L2, L3)'!H3/'Specifications (L1, L2, L3)'!F3/128,0),IF('Laundry (LOT #1)'!G51="Household Machine Detergent",IFERROR('Specifications (L1, L2, L3)'!H69/'Specifications (L1, L2, L3)'!F69/128,0), IF(G51="",0))) -> 0 | L51: =IFERROR('Specifications (L1, L2, L3)'!H22/'Specifications (L1, L2, L3)'!F22/128,0) -> 0 | M51: =IFERROR('Specifications (L1, L2, L3)'!H46/'Specifications (L1, L2, L3)'!F46/128,0) -> 0 | Q51: =IF(G51="Commercial Machine Detergent",IFERROR('Specifications (L1, L2, L3)'!H13/'Specifications (L1, L2, L3)'!G13/16,0),IF('Laundry (LOT #1)'!G51="Household Machine Detergent",IFERROR('Specifications (L1, L2, L3)'!H80/'Specifications (L1, L2, L3)'!G80/16,0),IF('Laundry (LOT #1)'!G51="",0))) -> 0 | R51: =IFERROR('Specifications (L1, L2, L3)'!H34/'Specifications (L1, L2, L3)'!G34/16,0) -> 0 | S51: =IFERROR('Specifications (L1, L2, L3)'!H57/'Specifications (L1, L2, L3)'!G57/16,0) -> 0 | T51: =IFERROR(IF(AND(H51*K51>0,N51*Q51>0),IF(H51*K51<N51*Q51,H51*K51,N51*Q51),IF(H51*K51>N51*Q51,H51*K51,N51*Q51)),"") -> 0 | U51: =IFERROR(IF(AND(I51*L51>0,O51*R51>0),IF(I51*L51<O51*R51,I51*L51,O51*R51),IF(I51*L51>O51*R51,I51*L51,O51*R51)),"") -> 0 | V51: =IFERROR(IF(AND(J51*M51>0,P51*S51>0),IF(J51*M51<P51*S51,J51*M51,P51*S51),IF(J51*M51>P51*S51,J51*M51,P51*S51)),"") -> 0 | W51: =SUM(T51:V51) -> 0 | X51: =W51*F51 -> 0 | Y51: =IF(H51*K51=T51, "Liquid", "Solid") -> Liquid | Z51: =IF(I51*L51=U51, "Liquid", "Solid") -> Liquid | AA51: =IF(J51*M51=V51, "Liquid", "Solid") -> Liquid | AB51: Commercial Machine Detergent | AC51: Household Machine Detergent
C52: 1 | D52: Unimac UW65PN4 | E52: 65 | F52: 2000 | G52: Commercial Machine Detergent | K52: =IF(G52="Commercial Machine Detergent",IFERROR('Specifications (L1, L2, L3)'!H3/'Specifications (L1, L2, L3)'!F3/128,0),IF('Laundry (LOT #1)'!G52="Household Machine Detergent",IFERROR('Specifications (L1, L2, L3)'!H69/'Specifications (L1, L2, L3)'!F69/128,0), IF(G52="",0))) -> 0 | L52: =IFERROR('Specifications (L1, L2, L3)'!H22/'Specifications (L1, L2, L3)'!F22/128,0) -> 0 | M52: =IFERROR('Specifications (L1, L2, L3)'!H46/'Specifications (L1, L2, L3)'!F46/128,0) -> 0 | Q52: =IF(G52="Commercial Machine Detergent",IFERROR('Specifications (L1, L2, L3)'!H13/'Specifications (L1, L2, L3)'!G13/16,0),IF('Laundry (LOT #1)'!G52="Household Machine Detergent",IFERROR('Specifications (L1, L2, L3)'!H80/'Specifications (L1, L2, L3)'!G80/16,0),IF('Laundry (LOT #1)'!G52="",0))) -> 0 | R52: =IFERROR('Specifications (L1, L2, L3)'!H34/'Specifications (L1, L2, L3)'!G34/16,0) -> 0 | S52: =IFERROR('Specifications (L1, L2, L3)'!H57/'Specifications (L1, L2, L3)'!G57/16,0) -> 0 | T52: =IFERROR(IF(AND(H52*K52>0,N52*Q52>0),IF(H52*K52<N52*Q52,H52*K52,N52*Q52),IF(H52*K52>N52*Q52,H52*K52,N52*Q52)),"") -> 0 | U52: =IFERROR(IF(AND(I52*L52>0,O52*R52>0),IF(I52*L52<O52*R52,I52*L52,O52*R52),IF(I52*L52>O52*R52,I52*L52,O52*R52)),"") -> 0 | V52: =IFERROR(IF(AND(J52*M52>0,P52*S52>0),IF(J52*M52<P52*S52,J52*M52,P52*S52),IF(J52*M52>P52*S52,J52*M52,P52*S52)),"") -> 0 | W52: =SUM(T52:V52) -> 0 | X52: =W52*F52 -> 0 | Y52: =IF(H52*K52=T52, "Liquid", "Solid") -> Liquid | Z52: =IF(I52*L52=U52, "Liquid", "Solid") -> Liquid | AA52: =IF(J52*M52=V52, "Liquid", "Solid") -> Liquid | AB52: Commercial Machine Detergent | AC52: Household Machine Detergent
X53: =SUM(X51:X52) -> 0
A55: Kenai, AK | B55: Wildwood Correctional Center | C55: 8 | D55: IPSO IWF014 | E55: 14 | F55: 53000 | G55: Commercial Machine Detergent | K55: =IF(G55="Commercial Machine Detergent",IFERROR('Specifications (L1, L2, L3)'!H3/'Specifications (L1, L2, L3)'!F3/128,0),IF('Laundry (LOT #1)'!G55="Household Machine Detergent",IFERROR('Specifications (L1, L2, L3)'!H69/'Specifications (L1, L2, L3)'!F69/128,0), IF(G55="",0))) -> 0 | L55: =IFERROR('Specifications (L1, L2, L3)'!H22/'Specifications (L1, L2, L3)'!F22/128,0) -> 0 | M55: =IFERROR('Specifications (L1, L2, L3)'!H46/'Specifications (L1, L2, L3)'!F46/128,0) -> 0 | Q55: =IF(G55="Commercial Machine Detergent",IFERROR('Specifications (L1, L2, L3)'!H13/'Specifications (L1, L2, L3)'!G13/16,0),IF('Laundry (LOT #1)'!G55="Household Machine Detergent",IFERROR('Specifications (L1, L2, L3)'!H80/'Specifications (L1, L2, L3)'!G80/16,0),IF('Laundry (LOT #1)'!G55="",0))) -> 0 | R55: =IFERROR('Specifications (L1, L2, L3)'!H34/'Specifications (L1, L2, L3)'!G34/16,0) -> 0 | S55: =IFERROR('Specifications (L1, L2, L3)'!H57/'Specifications (L1, L2, L3)'!G57/16,0) -> 0 | T55: =IFERROR(IF(AND(H55*K55>0,N55*Q55>0),IF(H55*K55<N55*Q55,H55*K55,N55*Q55),IF(H55*K55>N55*Q55,H55*K55,N55*Q55)),"") -> 0 | U55: =IFERROR(IF(AND(I55*L55>0,O55*R55>0),IF(I55*L55<O55*R55,I55*L55,O55*R55),IF(I55*L55>O55*R55,I55*L55,O55*R55)),"") -> 0 | V55: =IFERROR(IF(AND(J55*M55>0,P55*S55>0),IF(J55*M55<P55*S55,J55*M55,P55*S55),IF(J55*M55>P55*S55,J55*M55,P55*S55)),"") -> 0 | W55: =SUM(T55:V55) -> 0 | X55: =W55*F55 -> 0 | Y55: =IF(H55*K55=T55, "Liquid", "Solid") -> Liquid | Z55: =IF(I55*L55=U55, "Liquid", "Solid") -> Liquid | AA55: =IF(J55*M55=V55, "Liquid", "Solid") -> Liquid | AB55: Commercial Machine Detergent | AC55: Household Machine Detergent
C56: 2 | D56: Milnor 30022TSE | E56: 50 | F56: 26000 | G56: Commercial Machine Detergent | K56: =IF(G56="Commercial Machine Detergent",IFERROR('Specifications (L1, L2, L3)'!H3/'Specifications (L1, L2, L3)'!F3/128,0),IF('Laundry (LOT #1)'!G56="Household Machine Detergent",IFERROR('Specifications (L1, L2, L3)'!H69/'Specifications (L1, L2, L3)'!F69/128,0), IF(G56="",0))) -> 0 | L56: =IFERROR('Specifications (L1, L2, L3)'!H22/'Specifications (L1, L2, L3)'!F22/128,0) -> 0 | M56: =IFERROR('Specifications (L1, L2, L3)'!H46/'Specifications (L1, L2, L3)'!F46/128,0) -> 0 | Q56: =IF(G56="Commercial Machine Detergent",IFERROR('Specifications (L1, L2, L3)'!H13/'Specifications (L1, L2, L3)'!G13/16,0),IF('Laundry (LOT #1)'!G56="Household Machine Detergent",IFERROR('Specifications (L1, L2, L3)'!H80/'Specifications (L1, L2, L3)'!G80/16,0),IF('Laundry (LOT #1)'!G56="",0))) -> 0 | R56: =IFERROR('Specifications (L1, L2, L3)'!H34/'Specifications (L1, L2, L3)'!G34/16,0) -> 0 | S56: =IFERROR('Specifications (L1, L2, L3)'!H57/'Specifications (L1, L2, L3)'!G57/16,0) -> 0 | T56: =IFERROR(IF(AND(H56*K56>0,N56*Q56>0),IF(H56*K56<N56*Q56,H56*K56,N56*Q56),IF(H56*K56>N56*Q56,H56*K56,N56*Q56)),"") -> 0 | U56: =IFERROR(IF(AND(I56*L56>0,O56*R56>0),IF(I56*L56<O56*R56,I56*L56,O56*R56),IF(I56*L56>O56*R56,I56*L56,O56*R56)),"") -> 0 | V56: =IFERROR(IF(AND(J56*M56>0,P56*S56>0),IF(J56*M56<P56*S56,J56*M56,P56*S56),IF(J56*M56>P56*S56,J56*M56,P56*S56)),"") -> 0 | W56: =SUM(T56:V56) -> 0 | X56: =W56*F56 -> 0 | Y56: =IF(H56*K56=T56, "Liquid", "Solid") -> Liquid | Z56: =IF(I56*L56=U56, "Liquid", "Solid") -> Liquid | AA56: =IF(J56*M56=V56, "Liquid", "Solid") -> Liquid | AB56: Commercial Machine Detergent | AC56: Household Machine Detergent
B57: Wildwood Correctional Center (Pretrial) | C57: 2 | D57: Milnor 30015M4T | E57: 35 | F57: 26000 | G57: Commercial Machine Detergent | K57: =IF(G57="Commercial Machine Detergent",IFERROR('Specifications (L1, L2, L3)'!H3/'Specifications (L1, L2, L3)'!F3/128,0),IF('Laundry (LOT #1)'!G57="Household Machine Detergent",IFERROR('Specifications (L1, L2, L3)'!H69/'Specifications (L1, L2, L3)'!F69/128,0), IF(G57="",0))) -> 0 | L57: =IFERROR('Specifications (L1, L2, L3)'!H22/'Specifications (L1, L2, L3)'!F22/128,0) -> 0 | M57: =IFERROR('Specifications (L1, L2, L3)'!H46/'Specifications (L1, L2, L3)'!F46/128,0) -> 0 | Q57: =IF(G57="Commercial Machine Detergent",IFERROR('Specifications (L1, L2, L3)'!H13/'Specifications (L1, L2, L3)'!G13/16,0),IF('Laundry (LOT #1)'!G57="Household Machine Detergent",IFERROR('Specifications (L1, L2, L3)'!H80/'Specifications (L1, L2, L3)'!G80/16,0),IF('Laundry (LOT #1)'!G57="",0))) -> 0 | R57: =IFERROR('Specifications (L1, L2, L3)'!H34/'Specifications (L1, L2, L3)'!G34/16,0) -> 0 | S57: =IFERROR('Specifications (L1, L2, L3)'!H57/'Specifications (L1, L2, L3)'!G57/16,0) -> 0 | T57: =IFERROR(IF(AND(H57*K57>0,N57*Q57>0),IF(H57*K57<N57*Q57,H57*K57,N57*Q57),IF(H57*K57>N57*Q57,H57*K57,N57*Q57)),"") -> 0 | U57: =IFERROR(IF(AND(I57*L57>0,O57*R57>0),IF(I57*L57<O57*R57,I57*L57,O57*R57),IF(I57*L57>O57*R57,I57*L57,O57*R57)),"") -> 0 | V57: =IFERROR(IF(AND(J57*M57>0,P57*S57>0),IF(J57*M57<P57*S57,J57*M57,P57*S57),IF(J57*M57>P57*S57,J57*M57,P57*S57)),"") -> 0 | W57: =SUM(T57:V57) -> 0 | X57: =W57*F57 -> 0 | Y57: =IF(H57*K57=T57, "Liquid", "Solid") -> Liquid | Z57: =IF(I57*L57=U57, "Liquid", "Solid") -> Liquid | AA57: =IF(J57*M57=V57, "Liquid", "Solid") -> Liquid | AB57: Commercial Machine Detergent | AC57: Household Machine Detergent
B58: Wildwood Correctional Center (Transitional) | C58: 3 | D58: Speed Queen LTSA9 | E58: 18 | F58: 20000 | G58: Commercial Machine Detergent | K58: =IF(G58="Commercial Machine Detergent",IFERROR('Specifications (L1, L2, L3)'!H3/'Specifications (L1, L2, L3)'!F3/128,0),IF('Laundry (LOT #1)'!G58="Household Machine Detergent",IFERROR('Specifications (L1, L2, L3)'!H69/'Specifications (L1, L2, L3)'!F69/128,0), IF(G58="",0))) -> 0 | L58: =IFERROR('Specifications (L1, L2, L3)'!H22/'Specifications (L1, L2, L3)'!F22/128,0) -> 0 | M58: =IFERROR('Specifications (L1, L2, L3)'!H46/'Specifications (L1, L2, L3)'!F46/128,0) -> 0 | Q58: =IF(G58="Commercial Machine Detergent",IFERROR('Specifications (L1, L2, L3)'!H13/'Specifications (L1, L2, L3)'!G13/16,0),IF('Laundry (LOT #1)'!G58="Household Machine Detergent",IFERROR('Specifications (L1, L2, L3)'!H80/'Specifications (L1, L2, L3)'!G80/16,0),IF('Laundry (LOT #1)'!G58="",0))) -> 0 | R58: =IFERROR('Specifications (L1, L2, L3)'!H34/'Specifications (L1, L2, L3)'!G34/16,0) -> 0 | S58: =IFERROR('Specifications (L1, L2, L3)'!H57/'Specifications (L1, L2, L3)'!G57/16,0) -> 0 | T58: =IFERROR(IF(AND(H58*K58>0,N58*Q58>0),IF(H58*K58<N58*Q58,H58*K58,N58*Q58),IF(H58*K58>N58*Q58,H58*K58,N58*Q58)),"") -> 0 | U58: =IFERROR(IF(AND(I58*L58>0,O58*R58>0),IF(I58*L58<O58*R58,I58*L58,O58*R58),IF(I58*L58>O58*R58,I58*L58,O58*R58)),"") -> 0 | V58: =IFERROR(IF(AND(J58*M58>0,P58*S58>0),IF(J58*M58<P58*S58,J58*M58,P58*S58),IF(J58*M58>P58*S58,J58*M58,P58*S58)),"") -> 0 | W58: =SUM(T58:V58) -> 0 | X58: =W58*F58 -> 0 | Y58: =IF(H58*K58=T58, "Liquid", "Solid") -> Liquid | Z58: =IF(I58*L58=U58, "Liquid", "Solid") -> Liquid | AA58: =IF(J58*M58=V58, "Liquid", "Solid") -> Liquid | AB58: Commercial Machine Detergent | AC58: Household Machine Detergent
X59: =SUM(X55:X58) -> 0
A61: Bethel, AK | B61: Yukon Kuskokwim Correctional Center | C61: 1 | D61: Unimac UW35B20U8001 | E61: 35 | F61: 2000 | G61: Commercial Machine Detergent | K61: =IF(G61="Commercial Machine Detergent",IFERROR('Specifications (L1, L2, L3)'!J3/'Specifications (L1, L2, L3)'!F3/128,0),IF('Laundry (LOT #1)'!G61="Household Machine Detergent",IFERROR('Specifications (L1, L2, L3)'!J69/'Specifications (L1, L2, L3)'!F69/128,0), IF(G61="",0))) -> 0 | L61: =IFERROR('Specifications (L1, L2, L3)'!J22/'Specifications (L1, L2, L3)'!F22/128,0) -> 0 | M61: =IFERROR('Specifications (L1, L2, L3)'!J46/'Specifications (L1, L2, L3)'!F46/128,0) -> 0 | Q61: =IF(G61="Commercial Machine Detergent",IFERROR('Specifications (L1, L2, L3)'!J13/'Specifications (L1, L2, L3)'!G13/16,0),IF('Laundry (LOT #1)'!G61="Household Machine Detergent",IFERROR('Specifications (L1, L2, L3)'!J80/'Specifications (L1, L2, L3)'!G80/16,0),IF('Laundry (LOT #1)'!G61="",0))) -> 0 | R61: =IFERROR('Specifications (L1, L2, L3)'!J34/'Specifications (L1, L2, L3)'!G34/16,0) -> 0 | S61: =IFERROR('Specifications (L1, L2, L3)'!J57/'Specifications (L1, L2, L3)'!G57/16,0) -> 0 | T61: =IFERROR(IF(AND(H61*K61>0,N61*Q61>0),IF(H61*K61<N61*Q61,H61*K61,N61*Q61),IF(H61*K61>N61*Q61,H61*K61,N61*Q61)),"") -> 0 | U61: =IFERROR(IF(AND(I61*L61>0,O61*R61>0),IF(I61*L61<O61*R61,I61*L61,O61*R61),IF(I61*L61>O61*R61,I61*L61,O61*R61)),"") -> 0 | V61: =IFERROR(IF(AND(J61*M61>0,P61*S61>0),IF(J61*M61<P61*S61,J61*M61,P61*S61),IF(J61*M61>P61*S61,J61*M61,P61*S61)),"") -> 0 | W61: =SUM(T61:V61) -> 0 | X61: =W61*F61 -> 0 | Y61: =IF(H61*K61=T61, "Liquid", "Solid") -> Liquid | Z61: =IF(I61*L61=U61, "Liquid", "Solid") -> Liquid | AA61: =IF(J61*M61=V61, "Liquid", "Solid") -> Liquid | AB61: Commercial Machine Detergent | AC61: Household Machine Detergent
C62: 2 | D62: Unimac UNIMACUWB207001 | E62: 45 | F62: 4000 | G62: Commercial Machine Detergent | K62: =IF(G62="Commercial Machine Detergent",IFERROR('Specifications (L1, L2, L3)'!J3/'Specifications (L1, L2, L3)'!F3/128,0),IF('Laundry (LOT #1)'!G62="Household Machine Detergent",IFERROR('Specifications (L1, L2, L3)'!J69/'Specifications (L1, L2, L3)'!F69/128,0), IF(G62="",0))) -> 0 | L62: =IFERROR('Specifications (L1, L2, L3)'!J22/'Specifications (L1, L2, L3)'!F22/128,0) -> 0 | M62: =IFERROR('Specifications (L1, L2, L3)'!J46/'Specifications (L1, L2, L3)'!F46/128,0) -> 0 | Q62: =IF(G62="Commercial Machine Detergent",IFERROR('Specifications (L1, L2, L3)'!J13/'Specifications (L1, L2, L3)'!G13/16,0),IF('Laundry (LOT #1)'!G62="Household Machine Detergent",IFERROR('Specifications (L1, L2, L3)'!J80/'Specifications (L1, L2, L3)'!G80/16,0),IF('Laundry (LOT #1)'!G62="",0))) -> 0 | R62: =IFERROR('Specifications (L1, L2, L3)'!J34/'Specifications (L1, L2, L3)'!G34/16,0) -> 0 | S62: =IFERROR('Specifications (L1, L2, L3)'!J57/'Specifications (L1, L2, L3)'!G57/16,0) -> 0 | T62: =IFERROR(IF(AND(H62*K62>0,N62*Q62>0),IF(H62*K62<N62*Q62,H62*K62,N62*Q62),IF(H62*K62>N62*Q62,H62*K62,N62*Q62)),"") -> 0 | U62: =IFERROR(IF(AND(I62*L62>0,O62*R62>0),IF(I62*L62<O62*R62,I62*L62,O62*R62),IF(I62*L62>O62*R62,I62*L62,O62*R62)),"") -> 0 | V62: =IFERROR(IF(AND(J62*M62>0,P62*S62>0),IF(J62*M62<P62*S62,J62*M62,P62*S62),IF(J62*M62>P62*S62,J62*M62,P62*S62)),"") -> 0 | W62: =SUM(T62:V62) -> 0 | X62: =W62*F62 -> 0 | Y62: =IF(H62*K62=T62, "Liquid", "Solid") -> Liquid | Z62: =IF(I62*L62=U62, "Liquid", "Solid") -> Liquid | AA62: =IF(J62*M62=V62, "Liquid", "Solid") -> Liquid | AB62: Commercial Machine Detergent | AC62: Household Machine Detergent
X63: =SUM(X61:X62) -> 0
A64: TOTAL | X64: =SUM(X7,X11,X14,X20,X24,X27,X34,X37,X42,X49,X53,X59,X63) -> 0

Sheet Warewashing (LOT #2)
A1: BID SCHEDULE - LOT TWO (2)
A2: WAREWASHING
A3: Location | B3: Facility | C3: Qty | D3: Machine Type | E3: Load Type | F3: Estimated Annual Racks | G3: Liquid Detergent dosage/load (ounce) | H3: Liquid Dry Rinse dosage/load (ounce) | I3: Liquid Sanitizer dosage/load (ounce) | J3: Liquid Detergent price per ounce | K3: Liquid Dry Rinse price per ounce | L3: Liquid Sanitizer price per ounce | M3: Solid Detergent dosage/load (ounce) | N3: Solid Dry Rinse dosage/load (ounce) | O3: Solid Sanitizer dosage/load (ounce) | P3: Solid Detergent price per ounce | Q3: Solid Dry Rinse price per ounce | R3: Solid Sanitizer price per ounce | S3: Detergent price per load | T3: Dry Rinse price per load | U3: Sanitizer price per load | V3: Total Cost per load | W3: Total Estimated Annual Cost
A4: Anchorage, AK | B4: Anchorage Correctional Complex (EAST) | C4: 1 | D4: Stero SCBT-23D | E4: Dishware, Silverware, and Glassware | F4: 55000 | J4: =IFERROR('Specifications (L1, L2, L3)'!H92/'Specifications (L1, L2, L3)'!F92/128,0) -> 0 | K4: =IFERROR('Specifications (L1, L2, L3)'!H119/'Specifications (L1, L2, L3)'!F119/128,0) -> 0 | L4: =IFERROR('Specifications (L1, L2, L3)'!H162/'Specifications (L1, L2, L3)'!F162/128,0) -> 0 | P4: =IFERROR('Specifications (L1, L2, L3)'!H105/'Specifications (L1, L2, L3)'!G105/16,0) -> 0 | Q4: =IFERROR('Specifications (L1, L2, L3)'!H133/'Specifications (L1, L2, L3)'!G133/16,0) -> 0 | R4: =IFERROR('Specifications (L1, L2, L3)'!H173/'Specifications (L1, L2, L3)'!G173/16,0) -> 0 | S4: =IFERROR(IF(AND(G4*J4>0,M4*P4>0),IF(G4*J4<M4*P4,G4*J4,M4*P4),IF(G4*J4>M4*P4,G4*J4,M4*P4)),"") -> 0 | T4: =IFERROR(IF(AND(H4*K4>0,N4*Q4>0),IF(H4*K4<N4*Q4,H4*K4,N4*Q4),IF(H4*K4>N4*Q4,H4*K4,N4*Q4)),"") -> 0 | U4: =IFERROR(IF(AND(I4*L4>0,O4*R4>0),IF(I4*L4<O4*R4,I4*L4,O4*R4),IF(I4*L4>O4*R4,I4*L4,O4*R4)),"") -> 0 | V4: =SUM(S4:U4) -> 0 | W4: =V4*F4 -> 0 | X4: Household Machine Detergent
E5: Manual Pots and Pans | F5: 6000 | J5: =IFERROR('Specifications (L1, L2, L3)'!H148/'Specifications (L1, L2, L3)'!F148/128,0) -> 0 | P5: =IFERROR('Specifications (L1, L2, L3)'!H150/'Specifications (L1, L2, L3)'!G150/16,0) -> 0 | S5: =IFERROR(IF(AND(G5*J5>0,M5*P5>0),IF(G5*J5<M5*P5,G5*J5,M5*P5),IF(G5*J5>M5*P5,G5*J5,M5*P5)),"") -> 0 | V5: =SUM(S5:U5) -> 0 | W5: =V5*F5 -> 0
W6: =SUM(W4:W5) -> 0
A8: Anchorage, AK | B8: Anchorage Correctional Complex (WEST) | C8: 1 | D8: Hobart CRS66A | E8: Dishware, Silverware, and Glassware | F8: 11000 | J8: =IFERROR('Specifications (L1, L2, L3)'!H92/'Specifications (L1, L2, L3)'!F92/128,0) -> 0 | K8: =IFERROR('Specifications (L1, L2, L3)'!H119/'Specifications (L1, L2, L3)'!F119/128,0) -> 0 | L8: =IFERROR('Specifications (L1, L2, L3)'!H162/'Specifications (L1, L2, L3)'!F162/128,0) -> 0 | P8: =IFERROR('Specifications (L1, L2, L3)'!H105/'Specifications (L1, L2, L3)'!G105/16,0) -> 0 | Q8: =IFERROR('Specifications (L1, L2, L3)'!H133/'Specifications (L1, L2, L3)'!G133/16,0) -> 0 | R8: =IFERROR('Specifications (L1, L2, L3)'!H173/'Specifications (L1, L2, L3)'!G173/16,0) -> 0 | S8: =IFERROR(IF(AND(G8*J8>0,M8*P8>0),IF(G8*J8<M8*P8,G8*J8,M8*P8),IF(G8*J8>M8*P8,G8*J8,M8*P8)),"") -> 0 | T8: =IFERROR(IF(AND(H8*K8>0,N8*Q8>0),IF(H8*K8<N8*Q8,H8*K8,N8*Q8),IF(H8*K8>N8*Q8,H8*K8,N8*Q8)),"") -> 0 | U8: =IFERROR(IF(AND(I8*L8>0,O8*R8>0),IF(I8*L8<O8*R8,I8*L8,O8*R8),IF(I8*L8>O8*R8,I8*L8,O8*R8)),"") -> 0 | V8: =SUM(S8:U8) -> 0 | W8: =V8*F8 -> 0 | X8: Household Machine Detergent
E9: Manual Pots and Pans | F9: 12100 | J9: =IFERROR('Specifications (L1, L2, L3)'!H148/'Specifications (L1, L2, L3)'!F148/128,0) -> 0 | P9: =IFERROR('Specifications (L1, L2, L3)'!H150/'Specifications (L1, L2, L3)'!G150/16,0) -> 0 | S9: =IFERROR(IF(AND(G9*J9>0,M9*P9>0),IF(G9*J9<M9*P9,G9*J9,M9*P9),IF(G9*J9>M9*P9,G9*J9,M9*P9)),"") -> 0 | V9: =SUM(S9:U9) -> 0 | W9: =V9*F9 -> 0
W10: =SUM(W8:W9) -> 0
A12: Nome, AK | B12: Anvil Mountain Correctional Center | C12: 1 | D12: Hobart AM15 | E12: Dishware, Silverware, and Glassware | F12: 23000 | J12: =IFERROR('Specifications (L1, L2, L3)'!J92/'Specifications (L1, L2, L3)'!F92/128,0) -> 0 | K12: =IFERROR('Specifications (L1, L2, L3)'!J119/'Specifications (L1, L2, L3)'!F119/128,0) -> 0 | L12: =IFERROR('Specifications (L1, L2, L3)'!J162/'Specifications (L1, L2, L3)'!F162/128,0) -> 0 | P12: =IFERROR('Specifications (L1, L2, L3)'!J105/'Specifications (L1, L2, L3)'!G105/16,0) -> 0 | Q12: =IFERROR('Specifications (L1, L2, L3)'!J133/'Specifications (L1, L2, L3)'!G133/16,0) -> 0 | R12: =IFERROR('Specifications (L1, L2, L3)'!J173/'Specifications (L1, L2, L3)'!G173/16,0) -> 0 | S12: =IFERROR(IF(AND(G12*J12>0,M12*P12>0),IF(G12*J12<M12*P12,G12*J12,M12*P12),IF(G12*J12>M12*P12,G12*J12,M12*P12)),"") -> 0 | T12: =IFERROR(IF(AND(H12*K12>0,N12*Q12>0),IF(H12*K12<N12*Q12,H12*K12,N12*Q12),IF(H12*K12>N12*Q12,H12*K12,N12*Q12)),"") -> 0 | U12: =IFERROR(IF(AND(I12*L12>0,O12*R12>0),IF(I12*L12<O12*R12,I12*L12,O12*R12),IF(I12*L12>O12*R12,I12*L12,O12*R12)),"") -> 0 | V12: =SUM(S12:U12) -> 0 | W12: =V12*F12 -> 0 | X12: Household Machine Detergent
E13: Manual Pots and Pans | F13: 2600 | J13: =IFERROR('Specifications (L1, L2, L3)'!J148/'Specifications (L1, L2, L3)'!F148/128,0) -> 0 | P13: =IFERROR('Specifications (L1, L2, L3)'!J150/'Specifications (L1, L2, L3)'!G150/16,0) -> 0 | S13: =IFERROR(IF(AND(G13*J13>0,M13*P13>0),IF(G13*J13<M13*P13,G13*J13,M13*P13),IF(G13*J13>M13*P13,G13*J13,M13*P13)),"") -> 0 | V13: =SUM(S13:U13) -> 0 | W13: =V13*F13 -> 0
W14: =SUM(W12:W13) -> 0
A16: Fairbanks, AK | B16: Fairbanks Correctional Complex | C16: 1 | D16: Hobart CL64E | E16: Dishware, Silverware, and Glassware | F16: 52000 | J16: =IFERROR('Specifications (L1, L2, L3)'!I92/'Specifications (L1, L2, L3)'!F92/128,0) -> 0 | K16: =IFERROR('Specifications (L1, L2, L3)'!I119/'Specifications (L1, L2, L3)'!F119/128,0) -> 0 | L16: =IFERROR('Specifications (L1, L2, L3)'!I162/'Specifications (L1, L2, L3)'!F162/128,0) -> 0 | P16: =IFERROR('Specifications (L1, L2, L3)'!I105/'Specifications (L1, L2, L3)'!G105/16,0) -> 0 | Q16: =IFERROR('Specifications (L1, L2, L3)'!I133/'Specifications (L1, L2, L3)'!G133/16,0) -> 0 | R16: =IFERROR('Specifications (L1, L2, L3)'!I173/'Specifications (L1, L2, L3)'!G173/16,0) -> 0 | S16: =IFERROR(IF(AND(G16*J16>0,M16*P16>0),IF(G16*J16<M16*P16,G16*J16,M16*P16),IF(G16*J16>M16*P16,G16*J16,M16*P16)),"") -> 0 | T16: =IFERROR(IF(AND(H16*K16>0,N16*Q16>0),IF(H16*K16<N16*Q16,H16*K16,N16*Q16),IF(H16*K16>N16*Q16,H16*K16,N16*Q16)),"") -> 0 | U16: =IFERROR(IF(AND(I16*L16>0,O16*R16>0),IF(I16*L16<O16*R16,I16*L16,O16*R16),IF(I16*L16>O16*R16,I16*L16,O16*R16)),"") -> 0 | V16: =SUM(S16:U16) -> 0 | W16: =V16*F16 -> 0 | X16: Household Machine Detergent
E17: Manual Pots and Pans | F17: 6000 | J17: =IFERROR('Specifications (L1, L2, L3)'!I148/'Specifications (L1, L2, L3)'!F148/128,0) -> 0 | P17: =IFERROR('Specifications (L1, L2, L3)'!I150/'Specifications (L1, L2, L3)'!G150/16,0) -> 0 | S17: =IFERROR(IF(AND(G17*J17>0,M17*P17>0),IF(G17*J17<M17*P17,G17*J17,M17*P17),IF(G17*J17>M17*P17,G17*J17,M17*P17)),"") -> 0 | V17: =SUM(S17:U17) -> 0 | W17: =V17*F17 -> 0
W18: =SUM(W16:W17) -> 0
A20: Wasilla, AK | B20: Goose Creek Correctional Center | C20: 2 | D20: Hobart Fliteline FT900D | E20: Dishware, Silverware, and Glassware | F20: 25000 | J20: =IFERROR('Specifications (L1, L2, L3)'!H92/'Specifications (L1, L2, L3)'!F92/128,0) -> 0 | K20: =IFERROR('Specifications (L1, L2, L3)'!H119/'Specifications (L1, L2, L3)'!F119/128,0) -> 0 | L20: =IFERROR('Specifications (L1, L2, L3)'!H162/'Specifications (L1, L2, L3)'!F162/128,0) -> 0 | P20: =IFERROR('Specifications (L1, L2, L3)'!H105/'Specifications (L1, L2, L3)'!G105/16,0) -> 0 | Q20: =IFERROR('Specifications (L1, L2, L3)'!H133/'Specifications (L1, L2, L3)'!G133/16,0) -> 0 | R20: =IFERROR('Specifications (L1, L2, L3)'!H173/'Specifications (L1, L2, L3)'!G173/16,0) -> 0 | S20: =IFERROR(IF(AND(G20*J20>0,M20*P20>0),IF(G20*J20<M20*P20,G20*J20,M20*P20),IF(G20*J20>M20*P20,G20*J20,M20*P20)),"") -> 0 | T20: =IFERROR(IF(AND(H20*K20>0,N20*Q20>0),IF(H20*K20<N20*Q20,H20*K20,N20*Q20),IF(H20*K20>N20*Q20,H20*K20,N20*Q20)),"") -> 0 | U20: =IFERROR(IF(AND(I20*L20>0,O20*R20>0),IF(I20*L20<O20*R20,I20*L20,O20*R20),IF(I20*L20>O20*R20,I20*L20,O20*R20)),"") -> 0 | V20: =SUM(S20:U20) -> 0 | W20: =V20*F20 -> 0 | X20: Household Machine Detergent
E21: Manual Pots and Pans | F21: 27500 | J21: =IFERROR('Specifications (L1, L2, L3)'!H148/'Specifications (L1, L2, L3)'!F148/128,0) -> 0 | P21: =IFERROR('Specifications (L1, L2, L3)'!H150/'Specifications (L1, L2, L3)'!G150/16,0) -> 0 | S21: =IFERROR(IF(AND(G21*J21>0,M21*P21>0),IF(G21*J21<M21*P21,G21*J21,M21*P21),IF(G21*J21>M21*P21,G21*J21,M21*P21)),"") -> 0 | V21: =SUM(S21:U21) -> 0 | W21: =V21*F21 -> 0
W22: =SUM(W20:W21) -> 0
A24: Eagle River, AK | B24: Hiland Mountain Correctional Center | C24: 1 | D24: Hobart CLPS76E | E24: Dishware, Silverware, and Glassware | F24: 55000 | J24: =IFERROR('Specifications (L1, L2, L3)'!H92/'Specifications (L1, L2, L3)'!F92/128,0) -> 0 | K24: =IFERROR('Specifications (L1, L2, L3)'!H119/'Specifications (L1, L2, L3)'!F119/128,0) -> 0 | L24: =IFERROR('Specifications (L1, L2, L3)'!H162/'Specifications (L1, L2, L3)'!F162/128,0) -> 0 | P24: =IFERROR('Specifications (L1, L2, L3)'!H105/'Specifications (L1, L2, L3)'!G105/16,0) -> 0 | Q24: =IFERROR('Specifications (L1, L2, L3)'!H133/'Specifications (L1, L2, L3)'!G133/16,0) -> 0 | R24: =IFERROR('Specifications (L1, L2, L3)'!H173/'Specifications (L1, L2, L3)'!G173/16,0) -> 0 | S24: =IFERROR(IF(AND(G24*J24>0,M24*P24>0),IF(G24*J24<M24*P24,G24*J24,M24*P24),IF(G24*J24>M24*P24,G24*J24,M24*P24)),"") -> 0 | T24: =IFERROR(IF(AND(H24*K24>0,N24*Q24>0),IF(H24*K24<N24*Q24,H24*K24,N24*Q24),IF(H24*K24>N24*Q24,H24*K24,N24*Q24)),"") -> 0 | U24: =IFERROR(IF(AND(I24*L24>0,O24*R24>0),IF(I24*L24<O24*R24,I24*L24,O24*R24),IF(I24*L24>O24*R24,I24*L24,O24*R24)),"") -> 0 | V24: =SUM(S24:U24) -> 0 | W24: =V24*F24 -> 0 | X24: Household Machine Detergent
E25: Manual Pots and Pans | F25: 6100 | J25: =IFERROR('Specifications (L1, L2, L3)'!H148/'Specifications (L1, L2, L3)'!F148/128,0) -> 0 | P25: =IFERROR('Specifications (L1, L2, L3)'!H150/'Specifications (L1, L2, L3)'!G150/16,0) -> 0 | S25: =IFERROR(IF(AND(G25*J25>0,M25*P25>0),IF(G25*J25<M25*P25,G25*J25,M25*P25),IF(G25*J25>M25*P25,G25*J25,M25*P25)),"") -> 0 | V25: =SUM(S25:U25) -> 0 | W25: =V25*F25 -> 0
W26: =SUM(W24:W25) -> 0
A28: Ketchikan, AK | B28: Ketchikan Correctional Center | C28: 1 | D28: Jackson Tempstar W670 | E28: Dishware, Silverware, and Glassware | F28: 10200 | J28: =IFERROR('Specifications (L1, L2, L3)'!K92/'Specifications (L1, L2, L3)'!F92/128,0) -> 0 | K28: =IFERROR('Specifications (L1, L2, L3)'!K119/'Specifications (L1, L2, L3)'!F119/128,0) -> 0 | L28: =IFERROR('Specifications (L1, L2, L3)'!K162/'Specifications (L1, L2, L3)'!F162/128,0) -> 0 | P28: =IFERROR('Specifications (L1, L2, L3)'!K105/'Specifications (L1, L2, L3)'!G105/16,0) -> 0 | Q28: =IFERROR('Specifications (L1, L2, L3)'!K133/'Specifications (L1, L2, L3)'!G133/16,0) -> 0 | R28: =IFERROR('Specifications (L1, L2, L3)'!K173/'Specifications (L1, L2, L3)'!G173/16,0) -> 0 | S28: =IFERROR(IF(AND(G28*J28>0,M28*P28>0),IF(G28*J28<M28*P28,G28*J28,M28*P28),IF(G28*J28>M28*P28,G28*J28,M28*P28)),"") -> 0 | T28: =IFERROR(IF(AND(H28*K28>0,N28*Q28>0),IF(H28*K28<N28*Q28,H28*K28,N28*Q28),IF(H28*K28>N28*Q28,H28*K28,N28*Q28)),"") -> 0 | U28: =IFERROR(IF(AND(I28*L28>0,O28*R28>0),IF(I28*L28<O28*R28,I28*L28,O28*R28),IF(I28*L28>O28*R28,I28*L28,O28*R28)),"") -> 0 | V28: =SUM(S28:U28) -> 0 | W28: =V28*F28 -> 0 | X28: Household Machine Detergent
E29: Manual Pots and Pans | F29: 1200 | J29: =IFERROR('Specifications (L1, L2, L3)'!K148/'Specifications (L1, L2, L3)'!F148/128,0) -> 0 | P29: =IFERROR('Specifications (L1, L2, L3)'!K150/'Specifications (L1, L2, L3)'!G150/16,0) -> 0 | S29: =IFERROR(IF(AND(G29*J29>0,M29*P29>0),IF(G29*J29<M29*P29,G29*J29,M29*P29),IF(G29*J29>M29*P29,G29*J29,M29*P29)),"") -> 0 | V29: =SUM(S29:U29) -> 0 | W29: =V29*F29 -> 0
W30: =SUM(W28:W29) -> 0
A32: Juneau, AK | B32: Lemon Creek Correctional Center | C32: 1 | D32: Stero SCT76SM | E32: Dishware, Silverware, and Glassware | F32: 33000 | J32: =IFERROR('Specifications (L1, L2, L3)'!K92/'Specifications (L1, L2, L3)'!F92/128,0) -> 0 | K32: =IFERROR('Specifications (L1, L2, L3)'!K119/'Specifications (L1, L2, L3)'!F119/128,0) -> 0 | L32: =IFERROR('Specifications (L1, L2, L3)'!K162/'Specifications (L1, L2, L3)'!F162/128,0) -> 0 | P32: =IFERROR('Specifications (L1, L2, L3)'!K105/'Specifications (L1, L2, L3)'!G105/16,0) -> 0 | Q32: =IFERROR('Specifications (L1, L2, L3)'!K133/'Specifications (L1, L2, L3)'!G133/16,0) -> 0 | R32: =IFERROR('Specifications (L1, L2, L3)'!K173/'Specifications (L1, L2, L3)'!G173/16,0) -> 0 | S32: =IFERROR(IF(AND(G32*J32>0,M32*P32>0),IF(G32*J32<M32*P32,G32*J32,M32*P32),IF(G32*J32>M32*P32,G32*J32,M32*P32)),"") -> 0 | T32: =IFERROR(IF(AND(H32*K32>0,N32*Q32>0),IF(H32*K32<N32*Q32,H32*K32,N32*Q32),IF(H32*K32>N32*Q32,H32*K32,N32*Q32)),"") -> 0 | U32: =IFERROR(IF(AND(I32*L32>0,O32*R32>0),IF(I32*L32<O32*R32,I32*L32,O32*R32),IF(I32*L32>O32*R32,I32*L32,O32*R32)),"") -> 0 | V32: =SUM(S32:U32) -> 0 | W32: =V32*F32 -> 0 | X32: Household Machine Detergent
E33: Manual Pots and Pans | F33: 5000 | J33: =IFERROR('Specifications (L1, L2, L3)'!K148/'Specifications (L1, L2, L3)'!F148/128,0) -> 0 | P33: =IFERROR('Specifications (L1, L2, L3)'!K150/'Specifications (L1, L2, L3)'!G150/16,0) -> 0 | S33: =IFERROR(IF(AND(G33*J33>0,M33*P33>0),IF(G33*J33<M33*P33,G33*J33,M33*P33),IF(G33*J33>M33*P33,G33*J33,M33*P33)),"") -> 0 | V33: =SUM(S33:U33) -> 0 | W33: =V33*F33 -> 0
W34: =SUM(W32:W33) -> 0
A36: Palmer, AK | B36: Mat Su Pretrial Facility | C36: 1 | D36: American Dish Service ADC44 | E36: Dishware, Silverware, and Glassware | F36: 18000 | J36: =IFERROR('Specifications (L1, L2, L3)'!H92/'Specifications (L1, L2, L3)'!F92/128,0) -> 0 | K36: =IFERROR('Specifications (L1, L2, L3)'!H119/'Specifications (L1, L2, L3)'!F119/128,0) -> 0 | L36: =IFERROR('Specifications (L1, L2, L3)'!H162/'Specifications (L1, L2, L3)'!F162/128,0) -> 0 | P36: =IFERROR('Specifications (L1, L2, L3)'!H105/'Specifications (L1, L2, L3)'!G105/16,0) -> 0 | Q36: =IFERROR('Specifications (L1, L2, L3)'!H133/'Specifications (L1, L2, L3)'!G133/16,0) -> 0 | R36: =IFERROR('Specifications (L1, L2, L3)'!H173/'Specifications (L1, L2, L3)'!G173/16,0) -> 0 | S36: =IFERROR(IF(AND(G36*J36>0,M36*P36>0),IF(G36*J36<M36*P36,G36*J36,M36*P36),IF(G36*J36>M36*P36,G36*J36,M36*P36)),"") -> 0 | T36: =IFERROR(IF(AND(H36*K36>0,N36*Q36>0),IF(H36*K36<N36*Q36,H36*K36,N36*Q36),IF(H36*K36>N36*Q36,H36*K36,N36*Q36)),"") -> 0 | U36: =IFERROR(IF(AND(I36*L36>0,O36*R36>0),IF(I36*L36<O36*R36,I36*L36,O36*R36),IF(I36*L36>O36*R36,I36*L36,O36*R36)),"") -> 0 | V36: =SUM(S36:U36) -> 0 | W36: =V36*F36 -> 0 | X36: Household Machine Detergent
E37: Manual Pots and Pans | F37: 2000 | J37: =IFERROR('Specifications (L1, L2, L3)'!H148/'Specifications (L1, L2, L3)'!F148/128,0) -> 0 | P37: =IFERROR('Specifications (L1, L2, L3)'!H150/'Specifications (L1, L2, L3)'!G150/16,0) -> 0 | S37: =IFERROR(IF(AND(G37*J37>0,M37*P37>0),IF(G37*J37<M37*P37,G37*J37,M37*P37),IF(G37*J37>M37*P37,G37*J37,M37*P37)),"") -> 0 | V37: =SUM(S37:U37) -> 0 | W37: =V37*F37 -> 0
W38: =SUM(W36:W37) -> 0
A40: Sutton, AK | B40: Palmer Correctional Center | C40: 1 | D40: Hobart AM15 Model# 130038 | E40: Dishware, Silverware, and Glassware | F40: 45000 | J40: =IFERROR('Specifications (L1, L2, L3)'!H92/'Specifications (L1, L2, L3)'!F92/128,0) -> 0 | K40: =IFERROR('Specifications (L1, L2, L3)'!H119/'Specifications (L1, L2, L3)'!F119/128,0) -> 0 | L40: =IFERROR('Specifications (L1, L2, L3)'!H162/'Specifications (L1, L2, L3)'!F162/128,0) -> 0 | P40: =IFERROR('Specifications (L1, L2, L3)'!H105/'Specifications (L1, L2, L3)'!G105/16,0) -> 0 | Q40: =IFERROR('Specifications (L1, L2, L3)'!H133/'Specifications (L1, L2, L3)'!G133/16,0) -> 0 | R40: =IFERROR('Specifications (L1, L2, L3)'!H173/'Specifications (L1, L2, L3)'!G173/16,0) -> 0 | S40: =IFERROR(IF(AND(G40*J40>0,M40*P40>0),IF(G40*J40<M40*P40,G40*J40,M40*P40),IF(G40*J40>M40*P40,G40*J40,M40*P40)),"") -> 0 | T40: =IFERROR(IF(AND(H40*K40>0,N40*Q40>0),IF(H40*K40<N40*Q40,H40*K40,N40*Q40),IF(H40*K40>N40*Q40,H40*K40,N40*Q40)),"") -> 0 | U40: =IFERROR(IF(AND(I40*L40>0,O40*R40>0),IF(I40*L40<O40*R40,I40*L40,O40*R40),IF(I40*L40>O40*R40,I40*L40,O40*R40)),"") -> 0 | V40: =SUM(S40:U40) -> 0 | W40: =V40*F40 -> 0 | X40: Household Machine Detergent
E41: Manual Pots and Pans | F41: 4500 | J41: =IFERROR('Specifications (L1, L2, L3)'!H148/'Specifications (L1, L2, L3)'!F148/128,0) -> 0 | P41: =IFERROR('Specifications (L1, L2, L3)'!H150/'Specifications (L1, L2, L3)'!G150/16,0) -> 0 | S41: =IFERROR(IF(AND(G41*J41>0,M41*P41>0),IF(G41*J41<M41*P41,G41*J41,M41*P41),IF(G41*J41>M41*P41,G41*J41,M41*P41)),"") -> 0 | V41: =SUM(S41:U41) -> 0 | W41: =V41*F41 -> 0
W42: =SUM(W40:W41) -> 0
A44: Sutton, AK | B44: Palmer Correctional Center | C44: 1 | D44: Stero Model# ER-765c | E44: Dishware, Silverware, and Glassware | F44: 65700 | J44: =IFERROR('Specifications (L1, L2, L3)'!H92/'Specifications (L1, L2, L3)'!F92/128,0) -> 0 | K44: =IFERROR('Specifications (L1, L2, L3)'!H119/'Specifications (L1, L2, L3)'!F119/128,0) -> 0 | L44: =IFERROR('Specifications (L1, L2, L3)'!H162/'Specifications (L1, L2, L3)'!F162/128,0) -> 0 | P44: =IFERROR('Specifications (L1, L2, L3)'!H105/'Specifications (L1, L2, L3)'!G105/16,0) -> 0 | Q44: =IFERROR('Specifications (L1, L2, L3)'!H133/'Specifications (L1, L2, L3)'!G133/16,0) -> 0 | R44: =IFERROR('Specifications (L1, L2, L3)'!H173/'Specifications (L1, L2, L3)'!G173/16,0) -> 0 | S44: =IFERROR(IF(AND(G44*J44>0,M44*P44>0),IF(G44*J44<M44*P44,G44*J44,M44*P44),IF(G44*J44>M44*P44,G44*J44,M44*P44)),"") -> 0 | T44: =IFERROR(IF(AND(H44*K44>0,N44*Q44>0),IF(H44*K44<N44*Q44,H44*K44,N44*Q44),IF(H44*K44>N44*Q44,H44*K44,N44*Q44)),"") -> 0 | U44: =IFERROR(IF(AND(I44*L44>0,O44*R44>0),IF(I44*L44<O44*R44,I44*L44,O44*R44),IF(I44*L44>O44*R44,I44*L44,O44*R44)),"") -> 0 | V44: =SUM(S44:U44) -> 0 | W44: =V44*F44 -> 0 | X44: Household Machine Detergent
E45: Manual Pots and Pans | F45: 6570 | J45: =IFERROR('Specifications (L1, L2, L3)'!H148/'Specifications (L1, L2, L3)'!F148/128,0) -> 0 | P45: =IFERROR('Specifications (L1, L2, L3)'!H150/'Specifications (L1, L2, L3)'!G150/16,0) -> 0 | S45: =IFERROR(IF(AND(G45*J45>0,M45*P45>0),IF(G45*J45<M45*P45,G45*J45,M45*P45),IF(G45*J45>M45*P45,G45*J45,M45*P45)),"") -> 0 | V45: =SUM(S45:U45) -> 0 | W45: =V45*F45 -> 0
W46: =SUM(W44:W45) -> 0
A48: Seward, AK | B48: Spring Creek Correctional Center | C48: 3 | D48: Hobart AM151 | E48: Dishware, Silverware, and Glassware | F48: 90000 | J48: =IFERROR('Specifications (L1, L2, L3)'!H92/'Specifications (L1, L2, L3)'!F92/128,0) -> 0 | K48: =IFERROR('Specifications (L1, L2, L3)'!H119/'Specifications (L1, L2, L3)'!F119/128,0) -> 0 | L48: =IFERROR('Specifications (L1, L2, L3)'!H162/'Specifications (L1, L2, L3)'!F162/128,0) -> 0 | P48: =IFERROR('Specifications (L1, L2, L3)'!H105/'Specifications (L1, L2, L3)'!G105/16,0) -> 0 | Q48: =IFERROR('Specifications (L1, L2, L3)'!H133/'Specifications (L1, L2, L3)'!G133/16,0) -> 0 | R48: =IFERROR('Specifications (L1, L2, L3)'!H173/'Specifications (L1, L2, L3)'!G173/16,0) -> 0 | S48: =IFERROR(IF(AND(G48*J48>0,M48*P48>0),IF(G48*J48<M48*P48,G48*J48,M48*P48),IF(G48*J48>M48*P48,G48*J48,M48*P48)),"") -> 0 | T48: =IFERROR(IF(AND(H48*K48>0,N48*Q48>0),IF(H48*K48<N48*Q48,H48*K48,N48*Q48),IF(H48*K48>N48*Q48,H48*K48,N48*Q48)),"") -> 0 | U48: =IFERROR(IF(AND(I48*L48>0,O48*R48>0),IF(I48*L48<O48*R48,I48*L48,O48*R48),IF(I48*L48>O48*R48,I48*L48,O48*R48)),"") -> 0 | V48: =SUM(S48:U48) -> 0 | W48: =V48*F48 -> 0 | X48: Household Machine Detergent
E49: Manual Pots and Pans | F49: 10000 | J49: =IFERROR('Specifications (L1, L2, L3)'!H148/'Specifications (L1, L2, L3)'!F148/128,0) -> 0 | P49: =IFERROR('Specifications (L1, L2, L3)'!H150/'Specifications (L1, L2, L3)'!G150/16,0) -> 0 | S49: =IFERROR(IF(AND(G49*J49>0,M49*P49>0),IF(G49*J49<M49*P49,G49*J49,M49*P49),IF(G49*J49>M49*P49,G49*J49,M49*P49)),"") -> 0 | V49: =SUM(S49:U49) -> 0 | W49: =V49*F49 -> 0
W50: =SUM(W48:W49) -> 0
A52: Kenai, AK | B52: Wildwood Correctional Center | C52: 1 | D52: Stero SCT76S | E52: Dishware, Silverware, and Glassware | F52: 50000 | J52: =IFERROR('Specifications (L1, L2, L3)'!H92/'Specifications (L1, L2, L3)'!F92/128,0) -> 0 | K52: =IFERROR('Specifications (L1, L2, L3)'!H119/'Specifications (L1, L2, L3)'!F119/128,0) -> 0 | L52: =IFERROR('Specifications (L1, L2, L3)'!H162/'Specifications (L1, L2, L3)'!F162/128,0) -> 0 | P52: =IFERROR('Specifications (L1, L2, L3)'!H105/'Specifications (L1, L2, L3)'!G105/16,0) -> 0 | Q52: =IFERROR('Specifications (L1, L2, L3)'!H133/'Specifications (L1, L2, L3)'!G133/16,0) -> 0 | R52: =IFERROR('Specifications (L1, L2, L3)'!H173/'Specifications (L1, L2, L3)'!G173/16,0) -> 0 | S52: =IFERROR(IF(AND(G52*J52>0,M52*P52>0),IF(G52*J52<M52*P52,G52*J52,M52*P52),IF(G52*J52>M52*P52,G52*J52,M52*P52)),"") -> 0 | T52: =IFERROR(IF(AND(H52*K52>0,N52*Q52>0),IF(H52*K52<N52*Q52,H52*K52,N52*Q52),IF(H52*K52>N52*Q52,H52*K52,N52*Q52)),"") -> 0 | U52: =IFERROR(IF(AND(I52*L52>0,O52*R52>0),IF(I52*L52<O52*R52,I52*L52,O52*R52),IF(I52*L52>O52*R52,I52*L52,O52*R52)),"") -> 0 | V52: =SUM(S52:U52) -> 0 | W52: =V52*F52 -> 0 | X52: Household Machine Detergent
E53: Manual Pots and Pans | F53: 5500 | J53: =IFERROR('Specifications (L1, L2, L3)'!H148/'Specifications (L1, L2, L3)'!F148/128,0) -> 0 | P53: =IFERROR('Specifications (L1, L2, L3)'!H150/'Specifications (L1, L2, L3)'!G150/16,0) -> 0 | S53: =IFERROR(IF(AND(G53*J53>0,M53*P53>0),IF(G53*J53<M53*P53,G53*J53,M53*P53),IF(G53*J53>M53*P53,G53*J53,M53*P53)),"") -> 0 | V53: =SUM(S53:U53) -> 0 | W53: =V53*F53 -> 0
W54: =SUM(W52:W53) -> 0
A56: Kenai, AK | B56: Wildwood Correctional Center (Pretrial) | C56: 1 | D56: Hobart AM15 | E56: Dishware, Silverware, and Glassware | F56: 15500 | J56: =IFERROR('Specifications (L1, L2, L3)'!H92/'Specifications (L1, L2, L3)'!F92/128,0) -> 0 | K56: =IFERROR('Specifications (L1, L2, L3)'!H119/'Specifications (L1, L2, L3)'!F119/128,0) -> 0 | L56: =IFERROR('Specifications (L1, L2, L3)'!H162/'Specifications (L1, L2, L3)'!F162/128,0) -> 0 | P56: =IFERROR('Specifications (L1, L2, L3)'!H105/'Specifications (L1, L2, L3)'!G105/16,0) -> 0 | Q56: =IFERROR('Specifications (L1, L2, L3)'!H133/'Specifications (L1, L2, L3)'!G133/16,0) -> 0 | R56: =IFERROR('Specifications (L1, L2, L3)'!H173/'Specifications (L1, L2, L3)'!G173/16,0) -> 0 | S56: =IFERROR(IF(AND(G56*J56>0,M56*P56>0),IF(G56*J56<M56*P56,G56*J56,M56*P56),IF(G56*J56>M56*P56,G56*J56,M56*P56)),"") -> 0 | T56: =IFERROR(IF(AND(H56*K56>0,N56*Q56>0),IF(H56*K56<N56*Q56,H56*K56,N56*Q56),IF(H56*K56>N56*Q56,H56*K56,N56*Q56)),"") -> 0 | U56: =IFERROR(IF(AND(I56*L56>0,O56*R56>0),IF(I56*L56<O56*R56,I56*L56,O56*R56),IF(I56*L56>O56*R56,I56*L56,O56*R56)),"") -> 0 | V56: =SUM(S56:U56) -> 0 | W56: =V56*F56 -> 0 | X56: Household Machine Detergent
E57: Manual Pots and Pans | F57: 2000 | J57: =IFERROR('Specifications (L1, L2, L3)'!H148/'Specifications (L1, L2, L3)'!F148/128,0) -> 0 | P57: =IFERROR('Specifications (L1, L2, L3)'!H150/'Specifications (L1, L2, L3)'!G150/16,0) -> 0 | S57: =IFERROR(IF(AND(G57*J57>0,M57*P57>0),IF(G57*J57<M57*P57,G57*J57,M57*P57),IF(G57*J57>M57*P57,G57*J57,M57*P57)),"") -> 0 | V57: =SUM(S57:U57) -> 0 | W57: =V57*F57 -> 0
W58: =SUM(W56:W57) -> 0
A60: Kenai, AK | B60: Wildwood Correctional Center (Transitional) | C60: 1 | D60: Hobart SR24H | E60: Dishware, Silverware, and Glassware | F60: 11500 | J60: =IFERROR('Specifications (L1, L2, L3)'!H92/'Specifications (L1, L2, L3)'!F92/128,0) -> 0 | K60: =IFERROR('Specifications (L1, L2, L3)'!H119/'Specifications (L1, L2, L3)'!F119/128,0) -> 0 | L60: =IFERROR('Specifications (L1, L2, L3)'!H162/'Specifications (L1, L2, L3)'!F162/128,0) -> 0 | P60: =IFERROR('Specifications (L1, L2, L3)'!H105/'Specifications (L1, L2, L3)'!G105/16,0) -> 0 | Q60: =IFERROR('Specifications (L1, L2, L3)'!H133/'Specifications (L1, L2, L3)'!G133/16,0) -> 0 | R60: =IFERROR('Specifications (L1, L2, L3)'!H173/'Specifications (L1, L2, L3)'!G173/16,0) -> 0 | S60: =IFERROR(IF(AND(G60*J60>0,M60*P60>0),IF(G60*J60<M60*P60,G60*J60,M60*P60),IF(G60*J60>M60*P60,G60*J60,M60*P60)),"") -> 0 | T60: =IFERROR(IF(AND(H60*K60>0,N60*Q60>0),IF(H60*K60<N60*Q60,H60*K60,N60*Q60),IF(H60*K60>N60*Q60,H60*K60,N60*Q60)),"") -> 0 | U60: =IFERROR(IF(AND(I60*L60>0,O60*R60>0),IF(I60*L60<O60*R60,I60*L60,O60*R60),IF(I60*L60>O60*R60,I60*L60,O60*R60)),"") -> 0 | V60: =SUM(S60:U60) -> 0 | W60: =V60*F60 -> 0 | X60: Household Machine Detergent
E61: Manual Pots and Pans | F61: 1300 | J61: =IFERROR('Specifications (L1, L2, L3)'!H148/'Specifications (L1, L2, L3)'!F148/128,0) -> 0 | P61: =IFERROR('Specifications (L1, L2, L3)'!H150/'Specifications (L1, L2, L3)'!G150/16,0) -> 0 | S61: =IFERROR(IF(AND(G61*J61>0,M61*P61>0),IF(G61*J61<M61*P61,G61*J61,M61*P61),IF(G61*J61>M61*P61,G61*J61,M61*P61)),"") -> 0 | V61: =SUM(S61:U61) -> 0 | W61: =V61*F61 -> 0
W62: =SUM(W60:W61) -> 0
A64: Bethel, AK | B64: Yukon Kuskokwim Correctional Center | C64: 1 | D64: Hobart AM15BLT | E64: Dishware, Silverware, and Glassware | F64: 34000 | J64: =IFERROR('Specifications (L1, L2, L3)'!J92/'Specifications (L1, L2, L3)'!F92/128,0) -> 0 | K64: =IFERROR('Specifications (L1, L2, L3)'!J119/'Specifications (L1, L2, L3)'!F119/128,0) -> 0 | L64: =IFERROR('Specifications (L1, L2, L3)'!J162/'Specifications (L1, L2, L3)'!F162/128,0) -> 0 | P64: =IFERROR('Specifications (L1, L2, L3)'!J105/'Specifications (L1, L2, L3)'!G105/16,0) -> 0 | Q64: =IFERROR('Specifications (L1, L2, L3)'!J133/'Specifications (L1, L2, L3)'!G133/16,0) -> 0 | R64: =IFERROR('Specifications (L1, L2, L3)'!J173/'Specifications (L1, L2, L3)'!G173/16,0) -> 0 | S64: =IFERROR(IF(AND(G64*J64>0,M64*P64>0),IF(G64*J64<M64*P64,G64*J64,M64*P64),IF(G64*J64>M64*P64,G64*J64,M64*P64)),"") -> 0 | T64: =IFERROR(IF(AND(H64*K64>0,N64*Q64>0),IF(H64*K64<N64*Q64,H64*K64,N64*Q64),IF(H64*K64>N64*Q64,H64*K64,N64*Q64)),"") -> 0 | U64: =IFERROR(IF(AND(I64*L64>0,O64*R64>0),IF(I64*L64<O64*R64,I64*L64,O64*R64),IF(I64*L64>O64*R64,I64*L64,O64*R64)),"") -> 0 | V64: =SUM(S64:U64) -> 0 | W64: =V64*F64 -> 0 | X64: Household Machine Detergent
E65: Manual Pots and Pans | F65: 4000 | J65: =IFERROR('Specifications (L1, L2, L3)'!J148/'Specifications (L1, L2, L3)'!F148/128,0) -> 0 | P65: =IFERROR('Specifications (L1, L2, L3)'!J150/'Specifications (L1, L2, L3)'!G150/16,0) -> 0 | S65: =IFERROR(IF(AND(G65*J65>0,M65*P65>0),IF(G65*J65<M65*P65,G65*J65,M65*P65),IF(G65*J65>M65*P65,G65*J65,M65*P65)),"") -> 0 | V65: =SUM(S65:U65) -> 0 | W65: =V65*F65 -> 0
W66: =SUM(W64:W65) -> 0
A67: TOTAL | W67: =SUM(W6,W10,W14,W18,W22,W26,W30,W34,W38,W42,W46,W50,W54,W58,W62,W66) -> 0

Sheet Janitorial (LOT #3)
A1: BID SCHEDULE - LOT THREE (3)
A2: JANITORIAL
A3: Location | B3: Facility | C3: Estimated Annual Usage | D3: Unit | E3: Item # | F3: Chemical Type | G3: Dilution Rate (%) | H3: Powdered Diluted Chemical price per ounce | I3: Liquid Diluted Chemical price per ounce | J3: Total Estimated Annual Cost
A4: GROUP 1 | M4: GR1 *No Dilution Rate
A5: Anchorage, AK | B5: Anchorage Correctional Complex | C5: 5800 | D5: GAL | E5: 3.1 | F5: Acidic Delimer and Mineral Scale Remover | G5: 0 | H5: =IF(G5>0,IFERROR('Specifications (L1, L2, L3)'!H185/'Specifications (L1, L2, L3)'!G185/16*'Janitorial (LOT #3)'!G5,""),IFERROR('Specifications (L1, L2, L3)'!H185/'Specifications (L1, L2, L3)'!G185/16*'Janitorial (LOT #3)'!G5,"")) | I5: =IF(G5>0,IFERROR('Specifications (L1, L2, L3)'!H185/'Specifications (L1, L2, L3)'!F185/128*'Janitorial (LOT #3)'!G5,""),IFERROR('Specifications (L1, L2, L3)'!H185/'Specifications (L1, L2, L3)'!F185/128*'Janitorial (LOT #3)'!G5,"")) | J5: =IFERROR(IF(C5=0,0,IF(AND(H5="",I5=""),0,IF(AND(H5="",I5<>"",D5="GAL"),I5*C5*128,IF(AND(H5="",I5<>"",D5="LBS"),I5*C5*15.34,IF(AND(H5<>"",I5="",D5="GAL"),H5*(C5*8.344*16),IF(AND(H5<>"",I5="",D5="LBS"),H5*(C5*16),IF(AND(H5<>"",I5<>""),K5,"Error"))))))),0) -> 0 | K5: =IF(AND(I5/G5*C5*128<H5/G5*C5*8.344*16,D5="GAL"),I5/G5*C5*128,IF(AND(I5/G5*C5*128*8.344<H5/G5*16,D5="LBS"),I5/G5*C5*8.344*128,IF(AND(I5/G5*C5*128>H5/G5*C5*8.344*16,D5="GAL"),H5/G5*C5*8.344*16,IF(AND(I5/G5*C5*128*8.344>H5/G5*C5*16,D5="LBS"),H5/G5*C5*16)))) -> #VALUE! | M5: $
A6: Wasilla, AK | B6: Goose Creek Correctional Center | C6: 10500 | D6: GAL | E6: 3.2 | F6: Quaternary Ammonium Disinfectant / Sanitizer | G6: 0 | H6: =IF(G6>0,IFERROR('Specifications (L1, L2, L3)'!H196/'Specifications (L1, L2, L3)'!G196/16*'Janitorial (LOT #3)'!G6,""),IFERROR('Specifications (L1, L2, L3)'!H196/'Specifications (L1, L2, L3)'!G196/16*'Janitorial (LOT #3)'!G6,"")) | I6: =IF(G6>0,IFERROR('Specifications (L1, L2, L3)'!H196/'Specifications (L1, L2, L3)'!F196/128*'Janitorial (LOT #3)'!G6,""),IFERROR('Specifications (L1, L2, L3)'!H196/'Specifications (L1, L2, L3)'!F196/128*'Janitorial (LOT #3)'!G6,"")) | J6: =IFERROR(IF(C6=0,0,IF(AND(H6="",I6=""),0,IF(AND(H6="",I6<>"",D6="GAL"),I6*C6*128,IF(AND(H6="",I6<>"",D6="LBS"),I6*C6*15.34,IF(AND(H6<>"",I6="",D6="GAL"),H6*(C6*8.344*16),IF(AND(H6<>"",I6="",D6="LBS"),H6*(C6*16),IF(AND(H6<>"",I6<>""),K6,"Error"))))))),0) -> 0 | K6: =IF(AND(I6/G6*C6*128<H6/G6*C6*8.344*16,D6="GAL"),I6/G6*C6*128,IF(AND(I6/G6*C6*128*8.344<H6/G6*16,D6="LBS"),I6/G6*C6*8.344*128,IF(AND(I6/G6*C6*128>H6/G6*C6*8.344*16,D6="GAL"),H6/G6*C6*8.344*16,IF(AND(I6/G6*C6*128*8.344>H6/G6*C6*16,D6="LBS"),H6/G6*C6*16)))) -> #VALUE! | L6: Household Machine Detergent | M6: $
A7: Eagle River, AK | B7: Hiland Mountain Correctional Center | C7: 1300 | D7: GAL | E7: 3.3 | F7: Heavy-Duty Alkaline Degreaser | G7: 0 | H7: =IF(G7>0,IFERROR('Specifications (L1, L2, L3)'!H209/'Specifications (L1, L2, L3)'!G209/16*'Janitorial (LOT #3)'!G7,""),IFERROR('Specifications (L1, L2, L3)'!H209/'Specifications (L1, L2, L3)'!G209/16*'Janitorial (LOT #3)'!G7,"")) | I7: =IF(G7>0,IFERROR('Specifications (L1, L2, L3)'!H209/'Specifications (L1, L2, L3)'!F209/128*'Janitorial (LOT #3)'!G7,""),IFERROR('Specifications (L1, L2, L3)'!H209/'Specifications (L1, L2, L3)'!F209/128*'Janitorial (LOT #3)'!G7,"")) | J7: =IFERROR(IF(C7=0,0,IF(AND(H7="",I7=""),0,IF(AND(H7="",I7<>"",D7="GAL"),I7*C7*128,IF(AND(H7="",I7<>"",D7="LBS"),I7*C7*15.34,IF(AND(H7<>"",I7="",D7="GAL"),H7*(C7*8.344*16),IF(AND(H7<>"",I7="",D7="LBS"),H7*(C7*16),IF(AND(H7<>"",I7<>""),K7,"Error"))))))),0) -> 0 | K7: =IF(AND(I7/G7*C7*128<H7/G7*C7*8.344*16,D7="GAL"),I7/G7*C7*128,IF(AND(I7/G7*C7*128*8.344<H7/G7*16,D7="LBS"),I7/G7*C7*8.344*128,IF(AND(I7/G7*C7*128>H7/G7*C7*8.344*16,D7="GAL"),H7/G7*C7*8.344*16,IF(AND(I7/G7*C7*128*8.344>H7/G7*C7*16,D7="LBS"),H7/G7*C7*16)))) -> #VALUE! | M7: $
A8: Palmer, AK | B8: Mat Su Pretrial Facility | C8: 1000 | D8: GAL | E8: 3.4 | F8: Citrus-Based Degreaser | G8: 0 | H8: =IF(G8>0,IFERROR('Specifications (L1, L2, L3)'!H223/'Specifications (L1, L2, L3)'!G223/16*'Janitorial (LOT #3)'!G8,""),IFERROR('Specifications (L1, L2, L3)'!H223/'Specifications (L1, L2, L3)'!G223/16*'Janitorial (LOT #3)'!G8,"")) | I8: =IF(G8>0,IFERROR('Specifications (L1, L2, L3)'!H223/'Specifications (L1, L2, L3)'!F223/128*'Janitorial (LOT #3)'!G8,""),IFERROR('Specifications (L1, L2, L3)'!H223/'Specifications (L1, L2, L3)'!F223/128*'Janitorial (LOT #3)'!G8,"")) | J8: =IFERROR(IF(C8=0,0,IF(AND(H8="",I8=""),0,IF(AND(H8="",I8<>"",D8="GAL"),I8*C8*128,IF(AND(H8="",I8<>"",D8="LBS"),I8*C8*15.34,IF(AND(H8<>"",I8="",D8="GAL"),H8*(C8*8.344*16),IF(AND(H8<>"",I8="",D8="LBS"),H8*(C8*16),IF(AND(H8<>"",I8<>""),K8,"Error"))))))),0) -> 0 | K8: =IF(AND(I8/G8*C8*128<H8/G8*C8*8.344*16,D8="GAL"),I8/G8*C8*128,IF(AND(I8/G8*C8*128*8.344<H8/G8*16,D8="LBS"),I8/G8*C8*8.344*128,IF(AND(I8/G8*C8*128>H8/G8*C8*8.344*16,D8="GAL"),H8/G8*C8*8.344*16,IF(AND(I8/G8*C8*128*8.344>H8/G8*C8*16,D8="LBS"),H8/G8*C8*16)))) -> #VALUE! | L8: Household Machine Detergent | M8: $
A9: Wasilla, AK | B9: Point Mackenzie Correctional Farm | C9: 150 | D9: GAL | E9: 3.5 | F9: High-Alkaline Industrial Degreaser | G9: 0 | H9: =IF(G9>0,IFERROR('Specifications (L1, L2, L3)'!H236/'Specifications (L1, L2, L3)'!G236/16*'Janitorial (LOT #3)'!G9,""),IFERROR('Specifications (L1, L2, L3)'!H236/'Specifications (L1, L2, L3)'!G236/16*'Janitorial (LOT #3)'!G9,"")) | I9: =IF(G9>0,IFERROR('Specifications (L1, L2, L3)'!H236/'Specifications (L1, L2, L3)'!F236/128*'Janitorial (LOT #3)'!G9,""),IFERROR('Specifications (L1, L2, L3)'!H236/'Specifications (L1, L2, L3)'!F236/128*'Janitorial (LOT #3)'!G9,"")) | J9: =IFERROR(IF(C9=0,0,IF(AND(H9="",I9=""),0,IF(AND(H9="",I9<>"",D9="GAL"),I9*C9*128,IF(AND(H9="",I9<>"",D9="LBS"),I9*C9*15.34,IF(AND(H9<>"",I9="",D9="GAL"),H9*(C9*8.344*16),IF(AND(H9<>"",I9="",D9="LBS"),H9*(C9*16),IF(AND(H9<>"",I9<>""),K9,"Error"))))))),0) -> 0 | K9: =IF(AND(I9/G9*C9*128<H9/G9*C9*8.344*16,D9="GAL"),I9/G9*C9*128,IF(AND(I9/G9*C9*128*8.344<H9/G9*16,D9="LBS"),I9/G9*C9*8.344*128,IF(AND(I9/G9*C9*128>H9/G9*C9*8.344*16,D9="GAL"),H9/G9*C9*8.344*16,IF(AND(I9/G9*C9*128*8.344>H9/G9*C9*16,D9="LBS"),H9/G9*C9*16)))) -> #VALUE! | M9: $
A10: Seward, AK | B10: Spring Creek Correctional Center | C10: 2100 | D10: GAL | E10: 3.6 | F10: Stainless Steel Cleaner and Polish | G10: 0 | H10: =IF(G10>0,IFERROR('Specifications (L1, L2, L3)'!H248/'Specifications (L1, L2, L3)'!G248/16*'Janitorial (LOT #3)'!G10,""),IFERROR('Specifications (L1, L2, L3)'!H248/'Specifications (L1, L2, L3)'!G248/16*'Janitorial (LOT #3)'!G10,"")) | I10: =IF(G10>0,IFERROR('Specifications (L1, L2, L3)'!H248/'Specifications (L1, L2, L3)'!F248/128*'Janitorial (LOT #3)'!G10,""),IFERROR('Specifications (L1, L2, L3)'!H248/'Specifications (L1, L2, L3)'!F248/128*'Janitorial (LOT #3)'!G10,"")) | J10: =IFERROR(IF(C10=0,0,IF(AND(H10="",I10=""),0,IF(AND(H10="",I10<>"",D10="GAL"),I10*C10*128,IF(AND(H10="",I10<>"",D10="LBS"),I10*C10*15.34,IF(AND(H10<>"",I10="",D10="GAL"),H10*(C10*8.344*16),IF(AND(H10<>"",I10="",D10="LBS"),H10*(C10*16),IF(AND(H10<>"",I10<>""),K10,"Error"))))))),0) -> 0 | K10: =IF(AND(I10/G10*C10*128<H10/G10*C10*8.344*16,D10="GAL"),I10/G10*C10*128,IF(AND(I10/G10*C10*128*8.344<H10/G10*16,D10="LBS"),I10/G10*C10*8.344*128,IF(AND(I10/G10*C10*128>H10/G10*C10*8.344*16,D10="GAL"),H10/G10*C10*8.344*16,IF(AND(I10/G10*C10*128*8.344>H10/G10*C10*16,D10="LBS"),H10/G10*C10*16)))) -> #VALUE! | L10: Household Machine Detergent | M10: $
A11: Kenai, AK | B11: Wildwood Correctional Center | C11: 100 | D11: GAL | E11: 3.7 | F11: High-Gloss Floor Finish (Approx. 22% Solids) | G11: 0 | H11: =IF(G11>0,IFERROR('Specifications (L1, L2, L3)'!H256/'Specifications (L1, L2, L3)'!G256/16*'Janitorial (LOT #3)'!G11,""),IFERROR('Specifications (L1, L2, L3)'!H256/'Specifications (L1, L2, L3)'!G256/16*'Janitorial (LOT #3)'!G11,"")) | I11: =IF(G11>0,IFERROR('Specifications (L1, L2, L3)'!H256/'Specifications (L1, L2, L3)'!F256/128*'Janitorial (LOT #3)'!G11,""),IFERROR('Specifications (L1, L2, L3)'!H256/'Specifications (L1, L2, L3)'!F256/128*'Janitorial (LOT #3)'!G11,"")) | J11: =IFERROR(IF(C11=0,0,IF(AND(H11="",I11=""),0,IF(AND(H11="",I11<>"",D11="GAL"),I11*C11*128,IF(AND(H11="",I11<>"",D11="LBS"),I11*C11*15.34,IF(AND(H11<>"",I11="",D11="GAL"),H11*(C11*8.344*16),IF(AND(H11<>"",I11="",D11="LBS"),H11*(C11*16),IF(AND(H11<>"",I11<>""),K11,"Error"))))))),0) -> 0 | K11: =IF(AND(I11/G11*C11*128<H11/G11*C11*8.344*16,D11="GAL"),I11/G11*C11*128,IF(AND(I11/G11*C11*128*8.344<H11/G11*16,D11="LBS"),I11/G11*C11*8.344*128,IF(AND(I11/G11*C11*128>H11/G11*C11*8.344*16,D11="GAL"),H11/G11*C11*8.344*16,IF(AND(I11/G11*C11*128*8.344>H11/G11*C11*16,D11="LBS"),H11/G11*C11*16)))) -> #VALUE! | M11: $
C12: 1600 | D12: GAL | E12: 3.8 | F12: Low-Odor Floor Finish Stripper | G12: 0 | H12: =IF(G12>0,IFERROR('Specifications (L1, L2, L3)'!H264/'Specifications (L1, L2, L3)'!G264/16*'Janitorial (LOT #3)'!G12,""),IFERROR('Specifications (L1, L2, L3)'!H264/'Specifications (L1, L2, L3)'!G264/16*'Janitorial (LOT #3)'!G12,"")) | I12: =IF(G12>0,IFERROR('Specifications (L1, L2, L3)'!H264/'Specifications (L1, L2, L3)'!F264/128*'Janitorial (LOT #3)'!G12,""),IFERROR('Specifications (L1, L2, L3)'!H264/'Specifications (L1, L2, L3)'!F264/128*'Janitorial (LOT #3)'!G12,"")) | J12: =IFERROR(IF(C12=0,0,IF(AND(H12="",I12=""),0,IF(AND(H12="",I12<>"",D12="GAL"),I12*C12*128,IF(AND(H12="",I12<>"",D12="LBS"),I12*C12*15.34,IF(AND(H12<>"",I12="",D12="GAL"),H12*(C12*8.344*16),IF(AND(H12<>"",I12="",D12="LBS"),H12*(C12*16),IF(AND(H12<>"",I12<>""),K12,"Error"))))))),0) -> 0 | K12: =IF(AND(I12/G12*C12*128<H12/G12*C12*8.344*16,D12="GAL"),I12/G12*C12*128,IF(AND(I12/G12*C12*128*8.344<H12/G12*16,D12="LBS"),I12/G12*C12*8.344*128,IF(AND(I12/G12*C12*128>H12/G12*C12*8.344*16,D12="GAL"),H12/G12*C12*8.344*16,IF(AND(I12/G12*C12*128*8.344>H12/G12*C12*16,D12="LBS"),H12/G12*C12*16)))) -> #VALUE! | M12: $
C13: 800 | D13: GAL | E13: 3.9 | F13: All-Purpose Cleaner (Lemon Scented) | G13: 0 | H13: =IF(G13>0,IFERROR('Specifications (L1, L2, L3)'!H273/'Specifications (L1, L2, L3)'!G273/16*'Janitorial (LOT #3)'!G13,""),IFERROR('Specifications (L1, L2, L3)'!H273/'Specifications (L1, L2, L3)'!G273/16*'Janitorial (LOT #3)'!G13,"")) | I13: =IF(G13>0,IFERROR('Specifications (L1, L2, L3)'!H273/'Specifications (L1, L2, L3)'!F273/128*'Janitorial (LOT #3)'!G13,""),IFERROR('Specifications (L1, L2, L3)'!H273/'Specifications (L1, L2, L3)'!F273/128*'Janitorial (LOT #3)'!G13,"")) | J13: =IFERROR(IF(C13=0,0,IF(AND(H13="",I13=""),0,IF(AND(H13="",I13<>"",D13="GAL"),I13*C13*128,IF(AND(H13="",I13<>"",D13="LBS"),I13*C13*15.34,IF(AND(H13<>"",I13="",D13="GAL"),H13*(C13*8.344*16),IF(AND(H13<>"",I13="",D13="LBS"),H13*(C13*16),IF(AND(H13<>"",I13<>""),K13,"Error"))))))),0) -> 0 | K13: =IF(AND(I13/G13*C13*128<H13/G13*C13*8.344*16,D13="GAL"),I13/G13*C13*128,IF(AND(I13/G13*C13*128*8.344<H13/G13*16,D13="LBS"),I13/G13*C13*8.344*128,IF(AND(I13/G13*C13*128>H13/G13*C13*8.344*16,D13="GAL"),H13/G13*C13*8.344*16,IF(AND(I13/G13*C13*128*8.344>H13/G13*C13*16,D13="LBS"),H13/G13*C13*16)))) -> #VALUE! | L13: Household Machine Detergent | M13: $
C14: 1600 | D14: GAL | E14: 3.1 | F14: Neutral pH Floor Cleaner Concentrate Packets | G14: 0 | H14: =IF(G14>0,IFERROR('Specifications (L1, L2, L3)'!H277/'Specifications (L1, L2, L3)'!G277/16*'Janitorial (LOT #3)'!G14,""),IFERROR('Specifications (L1, L2, L3)'!H277/'Specifications (L1, L2, L3)'!G277/16*'Janitorial (LOT #3)'!G14,"")) | I14: =IF(G14>0,IFERROR('Specifications (L1, L2, L3)'!H277/'Specifications (L1, L2, L3)'!F277/128*'Janitorial (LOT #3)'!G14,""),IFERROR('Specifications (L1, L2, L3)'!H277/'Specifications (L1, L2, L3)'!F277/128*'Janitorial (LOT #3)'!G14,"")) | J14: =IFERROR(IF(C14=0,0,IF(AND(H14="",I14=""),0,IF(AND(H14="",I14<>"",D14="GAL"),I14*C14*128,IF(AND(H14="",I14<>"",D14="LBS"),I14*C14*15.34,IF(AND(H14<>"",I14="",D14="GAL"),H14*(C14*8.344*16),IF(AND(H14<>"",I14="",D14="LBS"),H14*(C14*16),IF(AND(H14<>"",I14<>""),K14,"Error"))))))),0) -> 0 | K14: =IF(AND(I14/G14*C14*128<H14/G14*C14*8.344*16,D14="GAL"),I14/G14*C14*128,IF(AND(I14/G14*C14*128*8.344<H14/G14*16,D14="LBS"),I14/G14*C14*8.344*128,IF(AND(I14/G14*C14*128>H14/G14*C14*8.344*16,D14="GAL"),H14/G14*C14*8.344*16,IF(AND(I14/G14*C14*128*8.344>H14/G14*C14*16,D14="LBS"),H14/G14*C14*16)))) -> #VALUE! | M14: $
C15: 100 | D15: GAL | E15: 3.11 | F15: Glass and Hard Surface Cleaner | G15: 0 | H15: =IF(G15>0,IFERROR('Specifications (L1, L2, L3)'!H282/'Specifications (L1, L2, L3)'!G282/16*'Janitorial (LOT #3)'!G15,""),IFERROR('Specifications (L1, L2, L3)'!H282/'Specifications (L1, L2, L3)'!G282/16*'Janitorial (LOT #3)'!G15,"")) | I15: =IF(G15>0,IFERROR('Specifications (L1, L2, L3)'!H282/'Specifications (L1, L2, L3)'!F282/128*'Janitorial (LOT #3)'!G15,""),IFERROR('Specifications (L1, L2, L3)'!H282/'Specifications (L1, L2, L3)'!F282/128*'Janitorial (LOT #3)'!G15,"")) | J15: =IFERROR(IF(C15=0,0,IF(AND(H15="",I15=""),0,IF(AND(H15="",I15<>"",D15="GAL"),I15*C15*128,IF(AND(H15="",I15<>"",D15="LBS"),I15*C15*15.34,IF(AND(H15<>"",I15="",D15="GAL"),H15*(C15*8.344*16),IF(AND(H15<>"",I15="",D15="LBS"),H15*(C15*16),IF(AND(H15<>"",I15<>""),K15,"Error"))))))),0) -> 0 | K15: =IF(AND(I15/G15*C15*128<H15/G15*C15*8.344*16,D15="GAL"),I15/G15*C15*128,IF(AND(I15/G15*C15*128*8.344<H15/G15*16,D15="LBS"),I15/G15*C15*8.344*128,IF(AND(I15/G15*C15*128>H15/G15*C15*8.344*16,D15="GAL"),H15/G15*C15*8.344*16,IF(AND(I15/G15*C15*128*8.344>H15/G15*C15*16,D15="LBS"),H15/G15*C15*16)))) -> #VALUE! | L15: Household Machine Detergent | M15: $
C16: 1200 | D16: GAL | E16: 3.12 | F16: One-Step Cleaner and Disinfectant | G16: 0 | H16: =IF(G16>0,IFERROR('Specifications (L1, L2, L3)'!H288/'Specifications (L1, L2, L3)'!G288/16*'Janitorial (LOT #3)'!G16,""),IFERROR('Specifications (L1, L2, L3)'!H288/'Specifications (L1, L2, L3)'!G288/16*'Janitorial (LOT #3)'!G16,"")) | I16: =IF(G16>0,IFERROR('Specifications (L1, L2, L3)'!H288/'Specifications (L1, L2, L3)'!F288/128*'Janitorial (LOT #3)'!G16,""),IFERROR('Specifications (L1, L2, L3)'!H288/'Specifications (L1, L2, L3)'!F288/128*'Janitorial (LOT #3)'!G16,"")) | J16: =IFERROR(IF(C16=0,0,IF(AND(H16="",I16=""),0,IF(AND(H16="",I16<>"",D16="GAL"),I16*C16*128,IF(AND(H16="",I16<>"",D16="LBS"),I16*C16*15.34,IF(AND(H16<>"",I16="",D16="GAL"),H16*(C16*8.344*16),IF(AND(H16<>"",I16="",D16="LBS"),H16*(C16*16),IF(AND(H16<>"",I16<>""),K16,"Error"))))))),0) -> 0 | K16: =IF(AND(I16/G16*C16*128<H16/G16*C16*8.344*16,D16="GAL"),I16/G16*C16*128,IF(AND(I16/G16*C16*128*8.344<H16/G16*16,D16="LBS"),I16/G16*C16*8.344*128,IF(AND(I16/G16*C16*128>H16/G16*C16*8.344*16,D16="GAL"),H16/G16*C16*8.344*16,IF(AND(I16/G16*C16*128*8.344>H16/G16*C16*16,D16="LBS"),H16/G16*C16*16)))) -> #VALUE! | M16: $
C17: 8000 | D17: GAL | E17: 3.13 | F17: General Purpose Floor Cleaner | G17: 0 | H17: =IF(G17>0,IFERROR('Specifications (L1, L2, L3)'!H295/'Specifications (L1, L2, L3)'!G295/16*'Janitorial (LOT #3)'!G17,""),IFERROR('Specifications (L1, L2, L3)'!H295/'Specifications (L1, L2, L3)'!G295/16*'Janitorial (LOT #3)'!G17,"")) | I17: =IF(G17>0,IFERROR('Specifications (L1, L2, L3)'!H295/'Specifications (L1, L2, L3)'!F295/128*'Janitorial (LOT #3)'!G17,""),IFERROR('Specifications (L1, L2, L3)'!H295/'Specifications (L1, L2, L3)'!F295/128*'Janitorial (LOT #3)'!G17,"")) | J17: =IFERROR(IF(C17=0,0,IF(AND(H17="",I17=""),0,IF(AND(H17="",I17<>"",D17="GAL"),I17*C17*128,IF(AND(H17="",I17<>"",D17="LBS"),I17*C17*15.34,IF(AND(H17<>"",I17="",D17="GAL"),H17*(C17*8.344*16),IF(AND(H17<>"",I17="",D17="LBS"),H17*(C17*16),IF(AND(H17<>"",I17<>""),K17,"Error"))))))),0) -> 0 | K17: =IF(AND(I17/G17*C17*128<H17/G17*C17*8.344*16,D17="GAL"),I17/G17*C17*128,IF(AND(I17/G17*C17*128*8.344<H17/G17*16,D17="LBS"),I17/G17*C17*8.344*128,IF(AND(I17/G17*C17*128>H17/G17*C17*8.344*16,D17="GAL"),H17/G17*C17*8.344*16,IF(AND(I17/G17*C17*128*8.344>H17/G17*C17*16,D17="LBS"),H17/G17*C17*16)))) -> #VALUE! | L17: Household Machine Detergent | M17: $
C18: 2500 | D18: LBS | E18: 3.14 | F18: Bathroom Tub and Tile Cleaner | G18: 0 | H18: =IF(G18>0,IFERROR('Specifications (L1, L2, L3)'!H304/'Specifications (L1, L2, L3)'!G304/16*'Janitorial (LOT #3)'!G18,""),IFERROR('Specifications (L1, L2, L3)'!H304/'Specifications (L1, L2, L3)'!G304/16*'Janitorial (LOT #3)'!G18,"")) | I18: =IF(G18>0,IFERROR('Specifications (L1, L2, L3)'!H304/'Specifications (L1, L2, L3)'!F304/128*'Janitorial (LOT #3)'!G18,""),IFERROR('Specifications (L1, L2, L3)'!H304/'Specifications (L1, L2, L3)'!F304/128*'Janitorial (LOT #3)'!G18,"")) | J18: =IFERROR(IF(C18=0,0,IF(AND(H18="",I18=""),0,IF(AND(H18="",I18<>"",D18="GAL"),I18*C18*128,IF(AND(H18="",I18<>"",D18="LBS"),I18*C18*15.34,IF(AND(H18<>"",I18="",D18="GAL"),H18*(C18*8.344*16),IF(AND(H18<>"",I18="",D18="LBS"),H18*(C18*16),IF(AND(H18<>"",I18<>""),K18,"Error"))))))),0) -> 0 | K18: =IF(AND(I18/G18*C18*128<H18/G18*C18*8.344*16,D18="GAL"),I18/G18*C18*128,IF(AND(I18/G18*C18*128*8.344<H18/G18*16,D18="LBS"),I18/G18*C18*8.344*128,IF(AND(I18/G18*C18*128>H18/G18*C18*8.344*16,D18="GAL"),H18/G18*C18*8.344*16,IF(AND(I18/G18*C18*128*8.344>H18/G18*C18*16,D18="LBS"),H18/G18*C18*16)))) -> #VALUE! | M18: $
C19: 800 | D19: GAL | E19: 3.15 | F19: Antibacterial Liquid Hand Soap | G19: 0 | H19: =IF(G19>0,IFERROR('Specifications (L1, L2, L3)'!H310/'Specifications (L1, L2, L3)'!G310/16*'Janitorial (LOT #3)'!G19,""),IFERROR('Specifications (L1, L2, L3)'!H310/'Specifications (L1, L2, L3)'!G310/16*'Janitorial (LOT #3)'!G19,"")) | I19: =IF(G19>0,IFERROR('Specifications (L1, L2, L3)'!H310/'Specifications (L1, L2, L3)'!F310/128*'Janitorial (LOT #3)'!G19,""),IFERROR('Specifications (L1, L2, L3)'!H310/'Specifications (L1, L2, L3)'!F310/128*'Janitorial (LOT #3)'!G19,"")) | J19: =IFERROR(IF(C19=0,0,IF(AND(H19="",I19=""),0,IF(AND(H19="",I19<>"",D19="GAL"),I19*C19*128,IF(AND(H19="",I19<>"",D19="LBS"),I19*C19*15.34,IF(AND(H19<>"",I19="",D19="GAL"),H19*(C19*8.344*16),IF(AND(H19<>"",I19="",D19="LBS"),H19*(C19*16),IF(AND(H19<>"",I19<>""),K19,"Error"))))))),0) -> 0 | K19: =IF(AND(I19/G19*C19*128<H19/G19*C19*8.344*16,D19="GAL"),I19/G19*C19*128,IF(AND(I19/G19*C19*128*8.344<H19/G19*16,D19="LBS"),I19/G19*C19*8.344*128,IF(AND(I19/G19*C19*128>H19/G19*C19*8.344*16,D19="GAL"),H19/G19*C19*8.344*16,IF(AND(I19/G19*C19*128*8.344>H19/G19*C19*16,D19="LBS"),H19/G19*C19*16)))) -> #VALUE! | L19: Household Machine Detergent | M19: $
C20: 15500 | D20: LBS | E20: 3.16 | F20: Non-Alcohol Foaming Hand Sanitizer | G20: 0 | H20: =IF(G20>0,IFERROR('Specifications (L1, L2, L3)'!H318/'Specifications (L1, L2, L3)'!G318/16*'Janitorial (LOT #3)'!G20,""),IFERROR('Specifications (L1, L2, L3)'!H318/'Specifications (L1, L2, L3)'!G318/16*'Janitorial (LOT #3)'!G20,"")) | I20: =IF(G20>0,IFERROR('Specifications (L1, L2, L3)'!H318/'Specifications (L1, L2, L3)'!F318/128*'Janitorial (LOT #3)'!G20,""),IFERROR('Specifications (L1, L2, L3)'!H318/'Specifications (L1, L2, L3)'!F318/128*'Janitorial (LOT #3)'!G20,"")) | J20: =IFERROR(IF(C20=0,0,IF(AND(H20="",I20=""),0,IF(AND(H20="",I20<>"",D20="GAL"),I20*C20*128,IF(AND(H20="",I20<>"",D20="LBS"),I20*C20*15.34,IF(AND(H20<>"",I20="",D20="GAL"),H20*(C20*8.344*16),IF(AND(H20<>"",I20="",D20="LBS"),H20*(C20*16),IF(AND(H20<>"",I20<>""),K20,"Error"))))))),0) -> 0 | K20: =IF(AND(I20/G20*C20*128<H20/G20*C20*8.344*16,D20="GAL"),I20/G20*C20*128,IF(AND(I20/G20*C20*128*8.344<H20/G20*16,D20="LBS"),I20/G20*C20*8.344*128,IF(AND(I20/G20*C20*128>H20/G20*C20*8.344*16,D20="GAL"),H20/G20*C20*8.344*16,IF(AND(I20/G20*C20*128*8.344>H20/G20*C20*16,D20="LBS"),H20/G20*C20*16)))) -> #VALUE! | M20: $
C21: 300 | D21: GAL | E21: 3.17 | F21: Powdered Cleanser with Bleach | G21: 0 | H21: =IF(G21>0,IFERROR('Specifications (L1, L2, L3)'!H325/'Specifications (L1, L2, L3)'!G325/16*'Janitorial (LOT #3)'!G21,""),IFERROR('Specifications (L1, L2, L3)'!H325/'Specifications (L1, L2, L3)'!G325/16*'Janitorial (LOT #3)'!G21,"")) | I21: =IF(G21>0,IFERROR('Specifications (L1, L2, L3)'!H325/'Specifications (L1, L2, L3)'!F325/128*'Janitorial (LOT #3)'!G21,""),IFERROR('Specifications (L1, L2, L3)'!H325/'Specifications (L1, L2, L3)'!F325/128*'Janitorial (LOT #3)'!G21,"")) | J21: =IFERROR(IF(C21=0,0,IF(AND(H21="",I21=""),0,IF(AND(H21="",I21<>"",D21="GAL"),I21*C21*128,IF(AND(H21="",I21<>"",D21="LBS"),I21*C21*15.34,IF(AND(H21<>"",I21="",D21="GAL"),H21*(C21*8.344*16),IF(AND(H21<>"",I21="",D21="LBS"),H21*(C21*16),IF(AND(H21<>"",I21<>""),K21,"Error"))))))),0) -> 0 | K21: =IF(AND(I21/G21*C21*128<H21/G21*C21*8.344*16,D21="GAL"),I21/G21*C21*128,IF(AND(I21/G21*C21*128*8.344<H21/G21*16,D21="LBS"),I21/G21*C21*8.344*128,IF(AND(I21/G21*C21*128>H21/G21*C21*8.344*16,D21="GAL"),H21/G21*C21*8.344*16,IF(AND(I21/G21*C21*128*8.344>H21/G21*C21*16,D21="LBS"),H21/G21*C21*16)))) -> #VALUE! | M21: $
C22: 1000 | D22: GAL | E22: 3.18 | F22: Low-Temperature Freezer Floor Cleaner | G22: 0 | H22: =IF(G22>0,IFERROR('Specifications (L1, L2, L3)'!H331/'Specifications (L1, L2, L3)'!G331/16*'Janitorial (LOT #3)'!G22,""),IFERROR('Specifications (L1, L2, L3)'!H331/'Specifications (L1, L2, L3)'!G331/16*'Janitorial (LOT #3)'!G22,"")) | I22: =IF(G22>0,IFERROR('Specifications (L1, L2, L3)'!H331/'Specifications (L1, L2, L3)'!F331/128*'Janitorial (LOT #3)'!G22,""),IFERROR('Specifications (L1, L2, L3)'!H331/'Specifications (L1, L2, L3)'!F331/128*'Janitorial (LOT #3)'!G22,"")) | J22: =IFERROR(IF(C22=0,0,IF(AND(H22="",I22=""),0,IF(AND(H22="",I22<>"",D22="GAL"),I22*C22*128,IF(AND(H22="",I22<>"",D22="LBS"),I22*C22*15.34,IF(AND(H22<>"",I22="",D22="GAL"),H22*(C22*8.344*16),IF(AND(H22<>"",I22="",D22="LBS"),H22*(C22*16),IF(AND(H22<>"",I22<>""),K22,"Error"))))))),0) -> 0 | K22: =IF(AND(I22/G22*C22*128<H22/G22*C22*8.344*16,D22="GAL"),I22/G22*C22*128,IF(AND(I22/G22*C22*128*8.344<H22/G22*16,D22="LBS"),I22/G22*C22*8.344*128,IF(AND(I22/G22*C22*128>H22/G22*C22*8.344*16,D22="GAL"),H22/G22*C22*8.344*16,IF(AND(I22/G22*C22*128*8.344>H22/G22*C22*16,D22="LBS"),H22/G22*C22*16)))) -> #VALUE! | M22: $
J23: =SUM(J5:J22) -> 0 | M23: $
A25: GROUP 2 | M25: GR2 *No Dilution Rate
A26: Fairbanks, AK | B26: Fairbanks Correctional Center | C26: 200 | D26: GAL | E26: 3.1 | F26: Acidic Delimer and Mineral Scale Remover | G26: 0 | H26: =IF(G26>0,IFERROR('Specifications (L1, L2, L3)'!I185/'Specifications (L1, L2, L3)'!G185/16*'Janitorial (LOT #3)'!G26,""),IFERROR('Specifications (L1, L2, L3)'!I185/'Specifications (L1, L2, L3)'!G185/16*'Janitorial (LOT #3)'!G26,"")) | I26: =IF(G26>0,IFERROR('Specifications (L1, L2, L3)'!I185/'Specifications (L1, L2, L3)'!F185/128*'Janitorial (LOT #3)'!G26,""),IFERROR('Specifications (L1, L2, L3)'!I185/'Specifications (L1, L2, L3)'!F185/128*'Janitorial (LOT #3)'!G26,"")) | J26: =IFERROR(IF(C26=0,0,IF(AND(H26="",I26=""),0,IF(AND(H26="",I26<>"",D26="GAL"),I26*C26*128,IF(AND(H26="",I26<>"",D26="LBS"),I26*C26*15.34,IF(AND(H26<>"",I26="",D26="GAL"),H26*(C26*8.344*16),IF(AND(H26<>"",I26="",D26="LBS"),H26*(C26*16),IF(AND(H26<>"",I26<>""),K26,"Error"))))))),0) -> 0 | K26: =IF(AND(I26/G26*C26*128<H26/G26*C26*8.344*16,D26="GAL"),I26/G26*C26*128,IF(AND(I26/G26*C26*128*8.344<H26/G26*16,D26="LBS"),I26/G26*C26*8.344*128,IF(AND(I26/G26*C26*128>H26/G26*C26*8.344*16,D26="GAL"),H26/G26*C26*8.344*16,IF(AND(I26/G26*C26*128*8.344>H26/G26*C26*16,D26="LBS"),H26/G26*C26*16)))) -> #VALUE! | M26: $
C27: 0 | D27: GAL | E27: 3.2 | F27: Quaternary Ammonium Disinfectant / Sanitizer | G27: 0 | H27: =IF(G27>0,IFERROR('Specifications (L1, L2, L3)'!I196/'Specifications (L1, L2, L3)'!G196/16*'Janitorial (LOT #3)'!G27,""),IFERROR('Specifications (L1, L2, L3)'!I196/'Specifications (L1, L2, L3)'!G196/16*'Janitorial (LOT #3)'!G27,"")) | I27: =IF(G27>0,IFERROR('Specifications (L1, L2, L3)'!I196/'Specifications (L1, L2, L3)'!F196/128*'Janitorial (LOT #3)'!G27,""),IFERROR('Specifications (L1, L2, L3)'!I196/'Specifications (L1, L2, L3)'!F196/128*'Janitorial (LOT #3)'!G27,"")) | J27: =IFERROR(IF(C27=0,0,IF(AND(H27="",I27=""),0,IF(AND(H27="",I27<>"",D27="GAL"),I27*C27*128,IF(AND(H27="",I27<>"",D27="LBS"),I27*C27*15.34,IF(AND(H27<>"",I27="",D27="GAL"),H27*(C27*8.344*16),IF(AND(H27<>"",I27="",D27="LBS"),H27*(C27*16),IF(AND(H27<>"",I27<>""),K27,"Error"))))))),0) -> 0 | K27: =IF(AND(I27/G27*C27*128<H27/G27*C27*8.344*16,D27="GAL"),I27/G27*C27*128,IF(AND(I27/G27*C27*128*8.344<H27/G27*16,D27="LBS"),I27/G27*C27*8.344*128,IF(AND(I27/G27*C27*128>H27/G27*C27*8.344*16,D27="GAL"),H27/G27*C27*8.344*16,IF(AND(I27/G27*C27*128*8.344>H27/G27*C27*16,D27="LBS"),H27/G27*C27*16)))) -> #VALUE! | M27: $
C28: 160 | D28: GAL | E28: 3.3 | F28: Heavy-Duty Alkaline Degreaser | G28: 0 | H28: =IF(G28>0,IFERROR('Specifications (L1, L2, L3)'!I209/'Specifications (L1, L2, L3)'!G209/16*'Janitorial (LOT #3)'!G28,""),IFERROR('Specifications (L1, L2, L3)'!I209/'Specifications (L1, L2, L3)'!G209/16*'Janitorial (LOT #3)'!G28,"")) | I28: =IF(G28>0,IFERROR('Specifications (L1, L2, L3)'!I209/'Specifications (L1, L2, L3)'!F209/128*'Janitorial (LOT #3)'!G28,""),IFERROR('Specifications (L1, L2, L3)'!I209/'Specifications (L1, L2, L3)'!F209/128*'Janitorial (LOT #3)'!G28,"")) | J28: =IFERROR(IF(C28=0,0,IF(AND(H28="",I28=""),0,IF(AND(H28="",I28<>"",D28="GAL"),I28*C28*128,IF(AND(H28="",I28<>"",D28="LBS"),I28*C28*15.34,IF(AND(H28<>"",I28="",D28="GAL"),H28*(C28*8.344*16),IF(AND(H28<>"",I28="",D28="LBS"),H28*(C28*16),IF(AND(H28<>"",I28<>""),K28,"Error"))))))),0) -> 0 | K28: =IF(AND(I28/G28*C28*128<H28/G28*C28*8.344*16,D28="GAL"),I28/G28*C28*128,IF(AND(I28/G28*C28*128*8.344<H28/G28*16,D28="LBS"),I28/G28*C28*8.344*128,IF(AND(I28/G28*C28*128>H28/G28*C28*8.344*16,D28="GAL"),H28/G28*C28*8.344*16,IF(AND(I28/G28*C28*128*8.344>H28/G28*C28*16,D28="LBS"),H28/G28*C28*16)))) -> #VALUE! | M28: $
C29: 100 | D29: GAL | E29: 3.4 | F29: Citrus-Based Degreaser | G29: 0 | H29: =IF(G29>0,IFERROR('Specifications (L1, L2, L3)'!I223/'Specifications (L1, L2, L3)'!G223/16*'Janitorial (LOT #3)'!G29,""),IFERROR('Specifications (L1, L2, L3)'!I223/'Specifications (L1, L2, L3)'!G223/16*'Janitorial (LOT #3)'!G29,"")) | I29: =IF(G29>0,IFERROR('Specifications (L1, L2, L3)'!I223/'Specifications (L1, L2, L3)'!F223/128*'Janitorial (LOT #3)'!G29,""),IFERROR('Specifications (L1, L2, L3)'!I223/'Specifications (L1, L2, L3)'!F223/128*'Janitorial (LOT #3)'!G29,"")) | J29: =IFERROR(IF(C29=0,0,IF(AND(H29="",I29=""),0,IF(AND(H29="",I29<>"",D29="GAL"),I29*C29*128,IF(AND(H29="",I29<>"",D29="LBS"),I29*C29*15.34,IF(AND(H29<>"",I29="",D29="GAL"),H29*(C29*8.344*16),IF(AND(H29<>"",I29="",D29="LBS"),H29*(C29*16),IF(AND(H29<>"",I29<>""),K29,"Error"))))))),0) -> 0 | K29: =IF(AND(I29/G29*C29*128<H29/G29*C29*8.344*16,D29="GAL"),I29/G29*C29*128,IF(AND(I29/G29*C29*128*8.344<H29/G29*16,D29="LBS"),I29/G29*C29*8.344*128,IF(AND(I29/G29*C29*128>H29/G29*C29*8.344*16,D29="GAL"),H29/G29*C29*8.344*16,IF(AND(I29/G29*C29*128*8.344>H29/G29*C29*16,D29="LBS"),H29/G29*C29*16)))) -> #VALUE! | M29: $
C30: 0 | D30: GAL | E30: 3.5 | F30: High-Alkaline Industrial Degreaser | G30: 0 | H30: =IF(G30>0,IFERROR('Specifications (L1, L2, L3)'!I236/'Specifications (L1, L2, L3)'!G236/16*'Janitorial (LOT #3)'!G30,""),IFERROR('Specifications (L1, L2, L3)'!I236/'Specifications (L1, L2, L3)'!G236/16*'Janitorial (LOT #3)'!G30,"")) | I30: =IF(G30>0,IFERROR('Specifications (L1, L2, L3)'!I236/'Specifications (L1, L2, L3)'!F236/128*'Janitorial (LOT #3)'!G30,""),IFERROR('Specifications (L1, L2, L3)'!I236/'Specifications (L1, L2, L3)'!F236/128*'Janitorial (LOT #3)'!G30,"")) | J30: =IFERROR(IF(C30=0,0,IF(AND(H30="",I30=""),0,IF(AND(H30="",I30<>"",D30="GAL"),I30*C30*128,IF(AND(H30="",I30<>"",D30="LBS"),I30*C30*15.34,IF(AND(H30<>"",I30="",D30="GAL"),H30*(C30*8.344*16),IF(AND(H30<>"",I30="",D30="LBS"),H30*(C30*16),IF(AND(H30<>"",I30<>""),K30,"Error"))))))),0) -> 0 | K30: =IF(AND(I30/G30*C30*128<H30/G30*C30*8.344*16,D30="GAL"),I30/G30*C30*128,IF(AND(I30/G30*C30*128*8.344<H30/G30*16,D30="LBS"),I30/G30*C30*8.344*128,IF(AND(I30/G30*C30*128>H30/G30*C30*8.344*16,D30="GAL"),H30/G30*C30*8.344*16,IF(AND(I30/G30*C30*128*8.344>H30/G30*C30*16,D30="LBS"),H30/G30*C30*16)))) -> #VALUE! | M30: $
C31: 150 | D31: GAL | E31: 3.6 | F31: Stainless Steel Cleaner and Polish | G31: 0 | H31: =IF(G31>0,IFERROR('Specifications (L1, L2, L3)'!I248/'Specifications (L1, L2, L3)'!G248/16*'Janitorial (LOT #3)'!G31,""),IFERROR('Specifications (L1, L2, L3)'!I248/'Specifications (L1, L2, L3)'!G248/16*'Janitorial (LOT #3)'!G31,"")) | I31: =IF(G31>0,IFERROR('Specifications (L1, L2, L3)'!I248/'Specifications (L1, L2, L3)'!F248/128*'Janitorial (LOT #3)'!G31,""),IFERROR('Specifications (L1, L2, L3)'!I248/'Specifications (L1, L2, L3)'!F248/128*'Janitorial (LOT #3)'!G31,"")) | J31: =IFERROR(IF(C31=0,0,IF(AND(H31="",I31=""),0,IF(AND(H31="",I31<>"",D31="GAL"),I31*C31*128,IF(AND(H31="",I31<>"",D31="LBS"),I31*C31*15.34,IF(AND(H31<>"",I31="",D31="GAL"),H31*(C31*8.344*16),IF(AND(H31<>"",I31="",D31="LBS"),H31*(C31*16),IF(AND(H31<>"",I31<>""),K31,"Error"))))))),0) -> 0 | K31: =IF(AND(I31/G31*C31*128<H31/G31*C31*8.344*16,D31="GAL"),I31/G31*C31*128,IF(AND(I31/G31*C31*128*8.344<H31/G31*16,D31="LBS"),I31/G31*C31*8.344*128,IF(AND(I31/G31*C31*128>H31/G31*C31*8.344*16,D31="GAL"),H31/G31*C31*8.344*16,IF(AND(I31/G31*C31*128*8.344>H31/G31*C31*16,D31="LBS"),H31/G31*C31*16)))) -> #VALUE! | M31: $
C32: 10 | D32: GAL | E32: 3.7 | F32: High-Gloss Floor Finish (Approx. 22% Solids) | G32: 0 | H32: =IF(G32>0,IFERROR('Specifications (L1, L2, L3)'!I256/'Specifications (L1, L2, L3)'!G256/16*'Janitorial (LOT #3)'!G32,""),IFERROR('Specifications (L1, L2, L3)'!I256/'Specifications (L1, L2, L3)'!G256/16*'Janitorial (LOT #3)'!G32,"")) | I32: =IF(G32>0,IFERROR('Specifications (L1, L2, L3)'!I256/'Specifications (L1, L2, L3)'!F256/128*'Janitorial (LOT #3)'!G32,""),IFERROR('Specifications (L1, L2, L3)'!I256/'Specifications (L1, L2, L3)'!F256/128*'Janitorial (LOT #3)'!G32,"")) | J32: =IFERROR(IF(C32=0,0,IF(AND(H32="",I32=""),0,IF(AND(H32="",I32<>"",D32="GAL"),I32*C32*128,IF(AND(H32="",I32<>"",D32="LBS"),I32*C32*15.34,IF(AND(H32<>"",I32="",D32="GAL"),H32*(C32*8.344*16),IF(AND(H32<>"",I32="",D32="LBS"),H32*(C32*16),IF(AND(H32<>"",I32<>""),K32,"Error"))))))),0) -> 0 | K32: =IF(AND(I32/G32*C32*128<H32/G32*C32*8.344*16,D32="GAL"),I32/G32*C32*128,IF(AND(I32/G32*C32*128*8.344<H32/G32*16,D32="LBS"),I32/G32*C32*8.344*128,IF(AND(I32/G32*C32*128>H32/G32*C32*8.344*16,D32="GAL"),H32/G32*C32*8.344*16,IF(AND(I32/G32*C32*128*8.344>H32/G32*C32*16,D32="LBS"),H32/G32*C32*16)))) -> #VALUE! | M32: $
C33: 130 | D33: GAL | E33: 3.8 | F33: Low-Odor Floor Finish Stripper | G33: 0 | H33: =IF(G33>0,IFERROR('Specifications (L1, L2, L3)'!I264/'Specifications (L1, L2, L3)'!G264/16*'Janitorial (LOT #3)'!G33,""),IFERROR('Specifications (L1, L2, L3)'!I264/'Specifications (L1, L2, L3)'!G264/16*'Janitorial (LOT #3)'!G33,"")) | I33: =IF(G33>0,IFERROR('Specifications (L1, L2, L3)'!I264/'Specifications (L1, L2, L3)'!F264/128*'Janitorial (LOT #3)'!G33,""),IFERROR('Specifications (L1, L2, L3)'!I264/'Specifications (L1, L2, L3)'!F264/128*'Janitorial (LOT #3)'!G33,"")) | J33: =IFERROR(IF(C33=0,0,IF(AND(H33="",I33=""),0,IF(AND(H33="",I33<>"",D33="GAL"),I33*C33*128,IF(AND(H33="",I33<>"",D33="LBS"),I33*C33*15.34,IF(AND(H33<>"",I33="",D33="GAL"),H33*(C33*8.344*16),IF(AND(H33<>"",I33="",D33="LBS"),H33*(C33*16),IF(AND(H33<>"",I33<>""),K33,"Error"))))))),0) -> 0 | K33: =IF(AND(I33/G33*C33*128<H33/G33*C33*8.344*16,D33="GAL"),I33/G33*C33*128,IF(AND(I33/G33*C33*128*8.344<H33/G33*16,D33="LBS"),I33/G33*C33*8.344*128,IF(AND(I33/G33*C33*128>H33/G33*C33*8.344*16,D33="GAL"),H33/G33*C33*8.344*16,IF(AND(I33/G33*C33*128*8.344>H33/G33*C33*16,D33="LBS"),H33/G33*C33*16)))) -> #VALUE! | M33: $
C34: 0 | D34: GAL | E34: 3.9 | F34: All-Purpose Cleaner (Lemon Scented) | G34: 0 | H34: =IF(G34>0,IFERROR('Specifications (L1, L2, L3)'!I273/'Specifications (L1, L2, L3)'!G273/16*'Janitorial (LOT #3)'!G34,""),IFERROR('Specifications (L1, L2, L3)'!I273/'Specifications (L1, L2, L3)'!G273/16*'Janitorial (LOT #3)'!G34,"")) | I34: =IF(G34>0,IFERROR('Specifications (L1, L2, L3)'!I273/'Specifications (L1, L2, L3)'!F273/128*'Janitorial (LOT #3)'!G34,""),IFERROR('Specifications (L1, L2, L3)'!I273/'Specifications (L1, L2, L3)'!F273/128*'Janitorial (LOT #3)'!G34,"")) | J34: =IFERROR(IF(C34=0,0,IF(AND(H34="",I34=""),0,IF(AND(H34="",I34<>"",D34="GAL"),I34*C34*128,IF(AND(H34="",I34<>"",D34="LBS"),I34*C34*15.34,IF(AND(H34<>"",I34="",D34="GAL"),H34*(C34*8.344*16),IF(AND(H34<>"",I34="",D34="LBS"),H34*(C34*16),IF(AND(H34<>"",I34<>""),K34,"Error"))))))),0) -> 0 | K34: =IF(AND(I34/G34*C34*128<H34/G34*C34*8.344*16,D34="GAL"),I34/G34*C34*128,IF(AND(I34/G34*C34*128*8.344<H34/G34*16,D34="LBS"),I34/G34*C34*8.344*128,IF(AND(I34/G34*C34*128>H34/G34*C34*8.344*16,D34="GAL"),H34/G34*C34*8.344*16,IF(AND(I34/G34*C34*128*8.344>H34/G34*C34*16,D34="LBS"),H34/G34*C34*16)))) -> #VALUE! | M34: $
C35: 50 | D35: GAL | E35: 3.1 | F35: Neutral pH Floor Cleaner Concentrate Packets | G35: 0 | H35: =IF(G35>0,IFERROR('Specifications (L1, L2, L3)'!I277/'Specifications (L1, L2, L3)'!G277/16*'Janitorial (LOT #3)'!G35,""),IFERROR('Specifications (L1, L2, L3)'!I277/'Specifications (L1, L2, L3)'!G277/16*'Janitorial (LOT #3)'!G35,"")) | I35: =IF(G35>0,IFERROR('Specifications (L1, L2, L3)'!I277/'Specifications (L1, L2, L3)'!F277/128*'Janitorial (LOT #3)'!G35,""),IFERROR('Specifications (L1, L2, L3)'!I277/'Specifications (L1, L2, L3)'!F277/128*'Janitorial (LOT #3)'!G35,"")) | J35: =IFERROR(IF(C35=0,0,IF(AND(H35="",I35=""),0,IF(AND(H35="",I35<>"",D35="GAL"),I35*C35*128,IF(AND(H35="",I35<>"",D35="LBS"),I35*C35*15.34,IF(AND(H35<>"",I35="",D35="GAL"),H35*(C35*8.344*16),IF(AND(H35<>"",I35="",D35="LBS"),H35*(C35*16),IF(AND(H35<>"",I35<>""),K35,"Error"))))))),0) -> 0 | K35: =IF(AND(I35/G35*C35*128<H35/G35*C35*8.344*16,D35="GAL"),I35/G35*C35*128,IF(AND(I35/G35*C35*128*8.344<H35/G35*16,D35="LBS"),I35/G35*C35*8.344*128,IF(AND(I35/G35*C35*128>H35/G35*C35*8.344*16,D35="GAL"),H35/G35*C35*8.344*16,IF(AND(I35/G35*C35*128*8.344>H35/G35*C35*16,D35="LBS"),H35/G35*C35*16)))) -> #VALUE! | M35: $
C36: 0 | D36: GAL | E36: 3.11 | F36: Glass and Hard Surface Cleaner | G36: 0 | H36: =IF(G36>0,IFERROR('Specifications (L1, L2, L3)'!I282/'Specifications (L1, L2, L3)'!G282/16*'Janitorial (LOT #3)'!G36,""),IFERROR('Specifications (L1, L2, L3)'!I282/'Specifications (L1, L2, L3)'!G282/16*'Janitorial (LOT #3)'!G36,"")) | I36: =IF(G36>0,IFERROR('Specifications (L1, L2, L3)'!I282/'Specifications (L1, L2, L3)'!F282/128*'Janitorial (LOT #3)'!G36,""),IFERROR('Specifications (L1, L2, L3)'!I282/'Specifications (L1, L2, L3)'!F282/128*'Janitorial (LOT #3)'!G36,"")) | J36: =IFERROR(IF(C36=0,0,IF(AND(H36="",I36=""),0,IF(AND(H36="",I36<>"",D36="GAL"),I36*C36*128,IF(AND(H36="",I36<>"",D36="LBS"),I36*C36*15.34,IF(AND(H36<>"",I36="",D36="GAL"),H36*(C36*8.344*16),IF(AND(H36<>"",I36="",D36="LBS"),H36*(C36*16),IF(AND(H36<>"",I36<>""),K36,"Error"))))))),0) -> 0 | K36: =IF(AND(I36/G36*C36*128<H36/G36*C36*8.344*16,D36="GAL"),I36/G36*C36*128,IF(AND(I36/G36*C36*128*8.344<H36/G36*16,D36="LBS"),I36/G36*C36*8.344*128,IF(AND(I36/G36*C36*128>H36/G36*C36*8.344*16,D36="GAL"),H36/G36*C36*8.344*16,IF(AND(I36/G36*C36*128*8.344>H36/G36*C36*16,D36="LBS"),H36/G36*C36*16)))) -> #VALUE! | M36: $
C37: 0 | D37: GAL | E37: 3.12 | F37: One-Step Cleaner and Disinfectant | G37: 0 | H37: =IF(G37>0,IFERROR('Specifications (L1, L2, L3)'!I288/'Specifications (L1, L2, L3)'!G288/16*'Janitorial (LOT #3)'!G37,""),IFERROR('Specifications (L1, L2, L3)'!I288/'Specifications (L1, L2, L3)'!G288/16*'Janitorial (LOT #3)'!G37,"")) | I37: =IF(G37>0,IFERROR('Specifications (L1, L2, L3)'!I288/'Specifications (L1, L2, L3)'!F288/128*'Janitorial (LOT #3)'!G37,""),IFERROR('Specifications (L1, L2, L3)'!I288/'Specifications (L1, L2, L3)'!F288/128*'Janitorial (LOT #3)'!G37,"")) | J37: =IFERROR(IF(C37=0,0,IF(AND(H37="",I37=""),0,IF(AND(H37="",I37<>"",D37="GAL"),I37*C37*128,IF(AND(H37="",I37<>"",D37="LBS"),I37*C37*15.34,IF(AND(H37<>"",I37="",D37="GAL"),H37*(C37*8.344*16),IF(AND(H37<>"",I37="",D37="LBS"),H37*(C37*16),IF(AND(H37<>"",I37<>""),K37,"Error"))))))),0) -> 0 | K37: =IF(AND(I37/G37*C37*128<H37/G37*C37*8.344*16,D37="GAL"),I37/G37*C37*128,IF(AND(I37/G37*C37*128*8.344<H37/G37*16,D37="LBS"),I37/G37*C37*8.344*128,IF(AND(I37/G37*C37*128>H37/G37*C37*8.344*16,D37="GAL"),H37/G37*C37*8.344*16,IF(AND(I37/G37*C37*128*8.344>H37/G37*C37*16,D37="LBS"),H37/G37*C37*16)))) -> #VALUE! | M37: $
C38: 0 | D38: GAL | E38: 3.13 | F38: General Purpose Floor Cleaner | G38: 0 | H38: =IF(G38>0,IFERROR('Specifications (L1, L2, L3)'!I295/'Specifications (L1, L2, L3)'!G295/16*'Janitorial (LOT #3)'!G38,""),IFERROR('Specifications (L1, L2, L3)'!I295/'Specifications (L1, L2, L3)'!G295/16*'Janitorial (LOT #3)'!G38,"")) | I38: =IF(G38>0,IFERROR('Specifications (L1, L2, L3)'!I295/'Specifications (L1, L2, L3)'!F295/128*'Janitorial (LOT #3)'!G38,""),IFERROR('Specifications (L1, L2, L3)'!I295/'Specifications (L1, L2, L3)'!F295/128*'Janitorial (LOT #3)'!G38,"")) | J38: =IFERROR(IF(C38=0,0,IF(AND(H38="",I38=""),0,IF(AND(H38="",I38<>"",D38="GAL"),I38*C38*128,IF(AND(H38="",I38<>"",D38="LBS"),I38*C38*15.34,IF(AND(H38<>"",I38="",D38="GAL"),H38*(C38*8.344*16),IF(AND(H38<>"",I38="",D38="LBS"),H38*(C38*16),IF(AND(H38<>"",I38<>""),K38,"Error"))))))),0) -> 0 | K38: =IF(AND(I38/G38*C38*128<H38/G38*C38*8.344*16,D38="GAL"),I38/G38*C38*128,IF(AND(I38/G38*C38*128*8.344<H38/G38*16,D38="LBS"),I38/G38*C38*8.344*128,IF(AND(I38/G38*C38*128>H38/G38*C38*8.344*16,D38="GAL"),H38/G38*C38*8.344*16,IF(AND(I38/G38*C38*128*8.344>H38/G38*C38*16,D38="LBS"),H38/G38*C38*16)))) -> #VALUE! | M38: $
C39: 0 | D39: LBS | E39: 3.14 | F39: Bathroom Tub and Tile Cleaner | G39: 0 | H39: =IF(G39>0,IFERROR('Specifications (L1, L2, L3)'!I304/'Specifications (L1, L2, L3)'!G304/16*'Janitorial (LOT #3)'!G39,""),IFERROR('Specifications (L1, L2, L3)'!I304/'Specifications (L1, L2, L3)'!G304/16*'Janitorial (LOT #3)'!G39,"")) | I39: =IF(G39>0,IFERROR('Specifications (L1, L2, L3)'!I304/'Specifications (L1, L2, L3)'!F304/128*'Janitorial (LOT #3)'!G39,""),IFERROR('Specifications (L1, L2, L3)'!I304/'Specifications (L1, L2, L3)'!F304/128*'Janitorial (LOT #3)'!G39,"")) | J39: =IFERROR(IF(C39=0,0,IF(AND(H39="",I39=""),0,IF(AND(H39="",I39<>"",D39="GAL"),I39*C39*128,IF(AND(H39="",I39<>"",D39="LBS"),I39*C39*15.34,IF(AND(H39<>"",I39="",D39="GAL"),H39*(C39*8.344*16),IF(AND(H39<>"",I39="",D39="LBS"),H39*(C39*16),IF(AND(H39<>"",I39<>""),K39,"Error"))))))),0) -> 0 | K39: =IF(AND(I39/G39*C39*128<H39/G39*C39*8.344*16,D39="GAL"),I39/G39*C39*128,IF(AND(I39/G39*C39*128*8.344<H39/G39*16,D39="LBS"),I39/G39*C39*8.344*128,IF(AND(I39/G39*C39*128>H39/G39*C39*8.344*16,D39="GAL"),H39/G39*C39*8.344*16,IF(AND(I39/G39*C39*128*8.344>H39/G39*C39*16,D39="LBS"),H39/G39*C39*16)))) -> #VALUE! | M39: $
C40: 0 | D40: GAL | E40: 3.15 | F40: Antibacterial Liquid Hand Soap | G40: 0 | H40: =IF(G40>0,IFERROR('Specifications (L1, L2, L3)'!I310/'Specifications (L1, L2, L3)'!G310/16*'Janitorial (LOT #3)'!G40,""),IFERROR('Specifications (L1, L2, L3)'!I310/'Specifications (L1, L2, L3)'!G310/16*'Janitorial (LOT #3)'!G40,"")) | I40: =IF(G40>0,IFERROR('Specifications (L1, L2, L3)'!I310/'Specifications (L1, L2, L3)'!F310/128*'Janitorial (LOT #3)'!G40,""),IFERROR('Specifications (L1, L2, L3)'!I310/'Specifications (L1, L2, L3)'!F310/128*'Janitorial (LOT #3)'!G40,"")) | J40: =IFERROR(IF(C40=0,0,IF(AND(H40="",I40=""),0,IF(AND(H40="",I40<>"",D40="GAL"),I40*C40*128,IF(AND(H40="",I40<>"",D40="LBS"),I40*C40*15.34,IF(AND(H40<>"",I40="",D40="GAL"),H40*(C40*8.344*16),IF(AND(H40<>"",I40="",D40="LBS"),H40*(C40*16),IF(AND(H40<>"",I40<>""),K40,"Error"))))))),0) -> 0 | K40: =IF(AND(I40/G40*C40*128<H40/G40*C40*8.344*16,D40="GAL"),I40/G40*C40*128,IF(AND(I40/G40*C40*128*8.344<H40/G40*16,D40="LBS"),I40/G40*C40*8.344*128,IF(AND(I40/G40*C40*128>H40/G40*C40*8.344*16,D40="GAL"),H40/G40*C40*8.344*16,IF(AND(I40/G40*C40*128*8.344>H40/G40*C40*16,D40="LBS"),H40/G40*C40*16)))) -> #VALUE! | M40: $
C41: 0 | D41: LBS | E41: 3.16 | F41: Non-Alcohol Foaming Hand Sanitizer | G41: 0 | H41: =IF(G41>0,IFERROR('Specifications (L1, L2, L3)'!I318/'Specifications (L1, L2, L3)'!G318/16*'Janitorial (LOT #3)'!G41,""),IFERROR('Specifications (L1, L2, L3)'!I318/'Specifications (L1, L2, L3)'!G318/16*'Janitorial (LOT #3)'!G41,"")) | I41: =IF(G41,IFERROR('Specifications (L1, L2, L3)'!I318/'Specifications (L1, L2, L3)'!F318/128*'Janitorial (LOT #3)'!G41,""),IFERROR('Specifications (L1, L2, L3)'!I318/'Specifications (L1, L2, L3)'!F318/128*'Janitorial (LOT #3)'!G41,"")) | J41: =IFERROR(IF(C41=0,0,IF(AND(H41="",I41=""),0,IF(AND(H41="",I41<>"",D41="GAL"),I41*C41*128,IF(AND(H41="",I41<>"",D41="LBS"),I41*C41*15.34,IF(AND(H41<>"",I41="",D41="GAL"),H41*(C41*8.344*16),IF(AND(H41<>"",I41="",D41="LBS"),H41*(C41*16),IF(AND(H41<>"",I41<>""),K41,"Error"))))))),0) -> 0 | K41: =IF(AND(I41/G41*C41*128<H41/G41*C41*8.344*16,D41="GAL"),I41/G41*C41*128,IF(AND(I41/G41*C41*128*8.344<H41/G41*16,D41="LBS"),I41/G41*C41*8.344*128,IF(AND(I41/G41*C41*128>H41/G41*C41*8.344*16,D41="GAL"),H41/G41*C41*8.344*16,IF(AND(I41/G41*C41*128*8.344>H41/G41*C41*16,D41="LBS"),H41/G41*C41*16)))) -> #VALUE! | M41: $
C42: 0 | D42: GAL | E42: 3.17 | F42: Powdered Cleanser with Bleach | G42: 0 | H42: =IF(G42>0,IFERROR('Specifications (L1, L2, L3)'!I325/'Specifications (L1, L2, L3)'!G325/16*'Janitorial (LOT #3)'!G42,""),IFERROR('Specifications (L1, L2, L3)'!I325/'Specifications (L1, L2, L3)'!G325/16*'Janitorial (LOT #3)'!G42,"")) | I42: =IF(G42>0,IFERROR('Specifications (L1, L2, L3)'!I325/'Specifications (L1, L2, L3)'!F325/128*'Janitorial (LOT #3)'!G42,""),IFERROR('Specifications (L1, L2, L3)'!I325/'Specifications (L1, L2, L3)'!F325/128*'Janitorial (LOT #3)'!G42,"")) | J42: =IFERROR(IF(C42=0,0,IF(AND(H42="",I42=""),0,IF(AND(H42="",I42<>"",D42="GAL"),I42*C42*128,IF(AND(H42="",I42<>"",D42="LBS"),I42*C42*15.34,IF(AND(H42<>"",I42="",D42="GAL"),H42*(C42*8.344*16),IF(AND(H42<>"",I42="",D42="LBS"),H42*(C42*16),IF(AND(H42<>"",I42<>""),K42,"Error"))))))),0) -> 0 | K42: =IF(AND(I42/G42*C42*128<H42/G42*C42*8.344*16,D42="GAL"),I42/G42*C42*128,IF(AND(I42/G42*C42*128*8.344<H42/G42*16,D42="LBS"),I42/G42*C42*8.344*128,IF(AND(I42/G42*C42*128>H42/G42*C42*8.344*16,D42="GAL"),H42/G42*C42*8.344*16,IF(AND(I42/G42*C42*128*8.344>H42/G42*C42*16,D42="LBS"),H42/G42*C42*16)))) -> #VALUE! | M42: $
C43: 10 | D43: GAL | E43: 3.18 | F43: Low-Temperature Freezer Floor Cleaner | G43: 0 | H43: =IF(G43>0,IFERROR('Specifications (L1, L2, L3)'!I331/'Specifications (L1, L2, L3)'!G331/16*'Janitorial (LOT #3)'!G43,""),IFERROR('Specifications (L1, L2, L3)'!I331/'Specifications (L1, L2, L3)'!G331/16*'Janitorial (LOT #3)'!G43,"")) | I43: =IF(G43>0,IFERROR('Specifications (L1, L2, L3)'!I331/'Specifications (L1, L2, L3)'!F331/128*'Janitorial (LOT #3)'!G43,""),IFERROR('Specifications (L1, L2, L3)'!I331/'Specifications (L1, L2, L3)'!F331/128*'Janitorial (LOT #3)'!G43,"")) | J43: =IFERROR(IF(C43=0,0,IF(AND(H43="",I43=""),0,IF(AND(H43="",I43<>"",D43="GAL"),I43*C43*128,IF(AND(H43="",I43<>"",D43="LBS"),I43*C43*15.34,IF(AND(H43<>"",I43="",D43="GAL"),H43*(C43*8.344*16),IF(AND(H43<>"",I43="",D43="LBS"),H43*(C43*16),IF(AND(H43<>"",I43<>""),K43,"Error"))))))),0) -> 0 | K43: =IF(AND(I43/G43*C43*128<H43/G43*C43*8.344*16,D43="GAL"),I43/G43*C43*128,IF(AND(I43/G43*C43*128*8.344<H43/G43*16,D43="LBS"),I43/G43*C43*8.344*128,IF(AND(I43/G43*C43*128>H43/G43*C43*8.344*16,D43="GAL"),H43/G43*C43*8.344*16,IF(AND(I43/G43*C43*128*8.344>H43/G43*C43*16,D43="LBS"),H43/G43*C43*16)))) -> #VALUE! | M43: $
J44: =SUM(J26:J43) -> 0 | K44: Commercial Machine Detergent | L44: Household Machine Detergent | M44: $
A46: GROUP 3 | M46: GR3 *No Dilution Rate
A47: Nome, AK | B47: Anvil Mountain Correctional Center | C47: 400 | D47: GAL | E47: 3.1 | F47: Acidic Delimer and Mineral Scale Remover | G47: 0 | H47: =IF(G47>0,IFERROR('Specifications (L1, L2, L3)'!J185/'Specifications (L1, L2, L3)'!G185/16*'Janitorial (LOT #3)'!G47,""),IFERROR('Specifications (L1, L2, L3)'!J185/'Specifications (L1, L2, L3)'!G185/16*'Janitorial (LOT #3)'!G47,"")) | I47: =IF(G47>0,IFERROR('Specifications (L1, L2, L3)'!J185/'Specifications (L1, L2, L3)'!F185/128*'Janitorial (LOT #3)'!G47,""),IFERROR('Specifications (L1, L2, L3)'!J185/'Specifications (L1, L2, L3)'!F185/128*'Janitorial (LOT #3)'!G47,"")) | J47: =IFERROR(IF(C47=0,0,IF(AND(H47="",I47=""),0,IF(AND(H47="",I47<>"",D47="GAL"),I47*C47*128,IF(AND(H47="",I47<>"",D47="LBS"),I47*C47*15.34,IF(AND(H47<>"",I47="",D47="GAL"),H47*(C47*8.344*16),IF(AND(H47<>"",I47="",D47="LBS"),H47*(C47*16),IF(AND(H47<>"",I47<>""),K47,"Error"))))))),0) -> 0 | K47: =IF(AND(I47/G47*C47*128<H47/G47*C47*8.344*16,D47="GAL"),I47/G47*C47*128,IF(AND(I47/G47*C47*128*8.344<H47/G47*16,D47="LBS"),I47/G47*C47*8.344*128,IF(AND(I47/G47*C47*128>H47/G47*C47*8.344*16,D47="GAL"),H47/G47*C47*8.344*16,IF(AND(I47/G47*C47*128*8.344>H47/G47*C47*16,D47="LBS"),H47/G47*C47*16)))) -> #VALUE! | M47: $
A48: Bethel, AK | B48: Yukon Kuskokwim Correctional Center | C48: 850 | D48: GAL | E48: 3.2 | F48: Quaternary Ammonium Disinfectant / Sanitizer | G48: 0 | H48: =IF(G48>0,IFERROR('Specifications (L1, L2, L3)'!J196/'Specifications (L1, L2, L3)'!G196/16*'Janitorial (LOT #3)'!G48,""),IFERROR('Specifications (L1, L2, L3)'!J196/'Specifications (L1, L2, L3)'!G196/16*'Janitorial (LOT #3)'!G48,"")) | I48: =IF(G48>0,IFERROR('Specifications (L1, L2, L3)'!J196/'Specifications (L1, L2, L3)'!F196/128*'Janitorial (LOT #3)'!G48,""),IFERROR('Specifications (L1, L2, L3)'!J196/'Specifications (L1, L2, L3)'!F196/128*'Janitorial (LOT #3)'!G48,"")) | J48: =IFERROR(IF(C48=0,0,IF(AND(H48="",I48=""),0,IF(AND(H48="",I48<>"",D48="GAL"),I48*C48*128,IF(AND(H48="",I48<>"",D48="LBS"),I48*C48*15.34,IF(AND(H48<>"",I48="",D48="GAL"),H48*(C48*8.344*16),IF(AND(H48<>"",I48="",D48="LBS"),H48*(C48*16),IF(AND(H48<>"",I48<>""),K48,"Error"))))))),0) -> 0 | K48: =IF(AND(I48/G48*C48*128<H48/G48*C48*8.344*16,D48="GAL"),I48/G48*C48*128,IF(AND(I48/G48*C48*128*8.344<H48/G48*16,D48="LBS"),I48/G48*C48*8.344*128,IF(AND(I48/G48*C48*128>H48/G48*C48*8.344*16,D48="GAL"),H48/G48*C48*8.344*16,IF(AND(I48/G48*C48*128*8.344>H48/G48*C48*16,D48="LBS"),H48/G48*C48*16)))) -> #VALUE! | M48: $
C49: 300 | D49: GAL | E49: 3.3 | F49: Heavy-Duty Alkaline Degreaser | G49: 0 | H49: =IF(G49>0,IFERROR('Specifications (L1, L2, L3)'!J209/'Specifications (L1, L2, L3)'!G209/16*'Janitorial (LOT #3)'!G49,""),IFERROR('Specifications (L1, L2, L3)'!J209/'Specifications (L1, L2, L3)'!G209/16*'Janitorial (LOT #3)'!G49,"")) | I49: =IF(G49>0,IFERROR('Specifications (L1, L2, L3)'!J209/'Specifications (L1, L2, L3)'!F209/128*'Janitorial (LOT #3)'!G49,""),IFERROR('Specifications (L1, L2, L3)'!J209/'Specifications (L1, L2, L3)'!F209/128*'Janitorial (LOT #3)'!G49,"")) | J49: =IFERROR(IF(C49=0,0,IF(AND(H49="",I49=""),0,IF(AND(H49="",I49<>"",D49="GAL"),I49*C49*128,IF(AND(H49="",I49<>"",D49="LBS"),I49*C49*15.34,IF(AND(H49<>"",I49="",D49="GAL"),H49*(C49*8.344*16),IF(AND(H49<>"",I49="",D49="LBS"),H49*(C49*16),IF(AND(H49<>"",I49<>""),K49,"Error"))))))),0) -> 0 | K49: =IF(AND(I49/G49*C49*128<H49/G49*C49*8.344*16,D49="GAL"),I49/G49*C49*128,IF(AND(I49/G49*C49*128*8.344<H49/G49*16,D49="LBS"),I49/G49*C49*8.344*128,IF(AND(I49/G49*C49*128>H49/G49*C49*8.344*16,D49="GAL"),H49/G49*C49*8.344*16,IF(AND(I49/G49*C49*128*8.344>H49/G49*C49*16,D49="LBS"),H49/G49*C49*16)))) -> #VALUE! | M49: $
C50: 0 | D50: GAL | E50: 3.4 | F50: Citrus-Based Degreaser | G50: 0 | H50: =IF(G50>0,IFERROR('Specifications (L1, L2, L3)'!J223/'Specifications (L1, L2, L3)'!G223/16*'Janitorial (LOT #3)'!G50,""),IFERROR('Specifications (L1, L2, L3)'!J223/'Specifications (L1, L2, L3)'!G223/16*'Janitorial (LOT #3)'!G50,"")) | I50: =IF(G50>0,IFERROR('Specifications (L1, L2, L3)'!J223/'Specifications (L1, L2, L3)'!F223/128*'Janitorial (LOT #3)'!G50,""),IFERROR('Specifications (L1, L2, L3)'!J223/'Specifications (L1, L2, L3)'!F223/128*'Janitorial (LOT #3)'!G50,"")) | J50: =IFERROR(IF(C50=0,0,IF(AND(H50="",I50=""),0,IF(AND(H50="",I50<>"",D50="GAL"),I50*C50*128,IF(AND(H50="",I50<>"",D50="LBS"),I50*C50*15.34,IF(AND(H50<>"",I50="",D50="GAL"),H50*(C50*8.344*16),IF(AND(H50<>"",I50="",D50="LBS"),H50*(C50*16),IF(AND(H50<>"",I50<>""),K50,"Error"))))))),0) -> 0 | K50: =IF(AND(I50/G50*C50*128<H50/G50*C50*8.344*16,D50="GAL"),I50/G50*C50*128,IF(AND(I50/G50*C50*128*8.344<H50/G50*16,D50="LBS"),I50/G50*C50*8.344*128,IF(AND(I50/G50*C50*128>H50/G50*C50*8.344*16,D50="GAL"),H50/G50*C50*8.344*16,IF(AND(I50/G50*C50*128*8.344>H50/G50*C50*16,D50="LBS"),H50/G50*C50*16)))) -> #VALUE! | M50: $
C51: 0 | D51: GAL | E51: 3.5 | F51: High-Alkaline Industrial Degreaser | G51: 0 | H51: =IF(G51>0,IFERROR('Specifications (L1, L2, L3)'!J236/'Specifications (L1, L2, L3)'!G236/16*'Janitorial (LOT #3)'!G51,""),IFERROR('Specifications (L1, L2, L3)'!J236/'Specifications (L1, L2, L3)'!G236/16*'Janitorial (LOT #3)'!G51,"")) | I51: =IF(G51>0,IFERROR('Specifications (L1, L2, L3)'!J236/'Specifications (L1, L2, L3)'!F236/128*'Janitorial (LOT #3)'!G51,""),IFERROR('Specifications (L1, L2, L3)'!J236/'Specifications (L1, L2, L3)'!F236/128*'Janitorial (LOT #3)'!G51,"")) | J51: =IFERROR(IF(C51=0,0,IF(AND(H51="",I51=""),0,IF(AND(H51="",I51<>"",D51="GAL"),I51*C51*128,IF(AND(H51="",I51<>"",D51="LBS"),I51*C51*15.34,IF(AND(H51<>"",I51="",D51="GAL"),H51*(C51*8.344*16),IF(AND(H51<>"",I51="",D51="LBS"),H51*(C51*16),IF(AND(H51<>"",I51<>""),K51,"Error"))))))),0) -> 0 | K51: =IF(AND(I51/G51*C51*128<H51/G51*C51*8.344*16,D51="GAL"),I51/G51*C51*128,IF(AND(I51/G51*C51*128*8.344<H51/G51*16,D51="LBS"),I51/G51*C51*8.344*128,IF(AND(I51/G51*C51*128>H51/G51*C51*8.344*16,D51="GAL"),H51/G51*C51*8.344*16,IF(AND(I51/G51*C51*128*8.344>H51/G51*C51*16,D51="LBS"),H51/G51*C51*16)))) -> #VALUE! | M51: $
C52: 250 | D52: GAL | E52: 3.6 | F52: Stainless Steel Cleaner and Polish | G52: 0 | H52: =IF(G52>0,IFERROR('Specifications (L1, L2, L3)'!J248/'Specifications (L1, L2, L3)'!G248/16*'Janitorial (LOT #3)'!G52,""),IFERROR('Specifications (L1, L2, L3)'!J248/'Specifications (L1, L2, L3)'!G248/16*'Janitorial (LOT #3)'!G52,"")) | I52: =IF(G52>0,IFERROR('Specifications (L1, L2, L3)'!J248/'Specifications (L1, L2, L3)'!F248/128*'Janitorial (LOT #3)'!G52,""),IFERROR('Specifications (L1, L2, L3)'!J248/'Specifications (L1, L2, L3)'!F248/128*'Janitorial (LOT #3)'!G52,"")) | J52: =IFERROR(IF(C52=0,0,IF(AND(H52="",I52=""),0,IF(AND(H52="",I52<>"",D52="GAL"),I52*C52*128,IF(AND(H52="",I52<>"",D52="LBS"),I52*C52*15.34,IF(AND(H52<>"",I52="",D52="GAL"),H52*(C52*8.344*16),IF(AND(H52<>"",I52="",D52="LBS"),H52*(C52*16),IF(AND(H52<>"",I52<>""),K52,"Error"))))))),0) -> 0 | K52: =IF(AND(I52/G52*C52*128<H52/G52*C52*8.344*16,D52="GAL"),I52/G52*C52*128,IF(AND(I52/G52*C52*128*8.344<H52/G52*16,D52="LBS"),I52/G52*C52*8.344*128,IF(AND(I52/G52*C52*128>H52/G52*C52*8.344*16,D52="GAL"),H52/G52*C52*8.344*16,IF(AND(I52/G52*C52*128*8.344>H52/G52*C52*16,D52="LBS"),H52/G52*C52*16)))) -> #VALUE! | M52: $
C53: 240 | D53: GAL | E53: 3.7 | F53: High-Gloss Floor Finish (Approx. 22% Solids) | G53: 0 | H53: =IF(G53>0,IFERROR('Specifications (L1, L2, L3)'!J256/'Specifications (L1, L2, L3)'!G256/16*'Janitorial (LOT #3)'!G53,""),IFERROR('Specifications (L1, L2, L3)'!J256/'Specifications (L1, L2, L3)'!G256/16*'Janitorial (LOT #3)'!G53,"")) | I53: =IF(G53>0,IFERROR('Specifications (L1, L2, L3)'!J256/'Specifications (L1, L2, L3)'!F256/128*'Janitorial (LOT #3)'!G53,""),IFERROR('Specifications (L1, L2, L3)'!J256/'Specifications (L1, L2, L3)'!F256/128*'Janitorial (LOT #3)'!G53,"")) | J53: =IFERROR(IF(C53=0,0,IF(AND(H53="",I53=""),0,IF(AND(H53="",I53<>"",D53="GAL"),I53*C53*128,IF(AND(H53="",I53<>"",D53="LBS"),I53*C53*15.34,IF(AND(H53<>"",I53="",D53="GAL"),H53*(C53*8.344*16),IF(AND(H53<>"",I53="",D53="LBS"),H53*(C53*16),IF(AND(H53<>"",I53<>""),K53,"Error"))))))),0) -> 0 | K53: =IF(AND(I53/G53*C53*128<H53/G53*C53*8.344*16,D53="GAL"),I53/G53*C53*128,IF(AND(I53/G53*C53*128*8.344<H53/G53*16,D53="LBS"),I53/G53*C53*8.344*128,IF(AND(I53/G53*C53*128>H53/G53*C53*8.344*16,D53="GAL"),H53/G53*C53*8.344*16,IF(AND(I53/G53*C53*128*8.344>H53/G53*C53*16,D53="LBS"),H53/G53*C53*16)))) -> #VALUE! | M53: $
C54: 60 | D54: GAL | E54: 3.8 | F54: Low-Odor Floor Finish Stripper | G54: 0 | H54: =IF(G54>0,IFERROR('Specifications (L1, L2, L3)'!J264/'Specifications (L1, L2, L3)'!G264/16*'Janitorial (LOT #3)'!G54,""),IFERROR('Specifications (L1, L2, L3)'!J264/'Specifications (L1, L2, L3)'!G264/16*'Janitorial (LOT #3)'!G54,"")) | I54: =IF(G54>0,IFERROR('Specifications (L1, L2, L3)'!J264/'Specifications (L1, L2, L3)'!F264/128*'Janitorial (LOT #3)'!G54,""),IFERROR('Specifications (L1, L2, L3)'!J264/'Specifications (L1, L2, L3)'!F264/128*'Janitorial (LOT #3)'!G54,"")) | J54: =IFERROR(IF(C54=0,0,IF(AND(H54="",I54=""),0,IF(AND(H54="",I54<>"",D54="GAL"),I54*C54*128,IF(AND(H54="",I54<>"",D54="LBS"),I54*C54*15.34,IF(AND(H54<>"",I54="",D54="GAL"),H54*(C54*8.344*16),IF(AND(H54<>"",I54="",D54="LBS"),H54*(C54*16),IF(AND(H54<>"",I54<>""),K54,"Error"))))))),0) -> 0 | K54: =IF(AND(I54/G54*C54*128<H54/G54*C54*8.344*16,D54="GAL"),I54/G54*C54*128,IF(AND(I54/G54*C54*128*8.344<H54/G54*16,D54="LBS"),I54/G54*C54*8.344*128,IF(AND(I54/G54*C54*128>H54/G54*C54*8.344*16,D54="GAL"),H54/G54*C54*8.344*16,IF(AND(I54/G54*C54*128*8.344>H54/G54*C54*16,D54="LBS"),H54/G54*C54*16)))) -> #VALUE! | M54: $
C55: 400 | D55: GAL | E55: 3.9 | F55: All-Purpose Cleaner (Lemon Scented) | G55: 0 | H55: =IF(G55>0,IFERROR('Specifications (L1, L2, L3)'!J273/'Specifications (L1, L2, L3)'!G273/16*'Janitorial (LOT #3)'!G55,""),IFERROR('Specifications (L1, L2, L3)'!J273/'Specifications (L1, L2, L3)'!G273/16*'Janitorial (LOT #3)'!G55,"")) | I55: =IF(G55>0,IFERROR('Specifications (L1, L2, L3)'!J273/'Specifications (L1, L2, L3)'!F273/128*'Janitorial (LOT #3)'!G55,""),IFERROR('Specifications (L1, L2, L3)'!J273/'Specifications (L1, L2, L3)'!F273/128*'Janitorial (LOT #3)'!G55,"")) | J55: =IFERROR(IF(C55=0,0,IF(AND(H55="",I55=""),0,IF(AND(H55="",I55<>"",D55="GAL"),I55*C55*128,IF(AND(H55="",I55<>"",D55="LBS"),I55*C55*15.34,IF(AND(H55<>"",I55="",D55="GAL"),H55*(C55*8.344*16),IF(AND(H55<>"",I55="",D55="LBS"),H55*(C55*16),IF(AND(H55<>"",I55<>""),K55,"Error"))))))),0) -> 0 | K55: =IF(AND(I55/G55*C55*128<H55/G55*C55*8.344*16,D55="GAL"),I55/G55*C55*128,IF(AND(I55/G55*C55*128*8.344<H55/G55*16,D55="LBS"),I55/G55*C55*8.344*128,IF(AND(I55/G55*C55*128>H55/G55*C55*8.344*16,D55="GAL"),H55/G55*C55*8.344*16,IF(AND(I55/G55*C55*128*8.344>H55/G55*C55*16,D55="LBS"),H55/G55*C55*16)))) -> #VALUE! | M55: $
C56: 0 | D56: GAL | E56: 3.1 | F56: Neutral pH Floor Cleaner Concentrate Packets | G56: 0 | H56: =IF(G56>0,IFERROR('Specifications (L1, L2, L3)'!J277/'Specifications (L1, L2, L3)'!G277/16*'Janitorial (LOT #3)'!G56,""),IFERROR('Specifications (L1, L2, L3)'!J277/'Specifications (L1, L2, L3)'!G277/16*'Janitorial (LOT #3)'!G56,"")) | I56: =IF(G56>0,IFERROR('Specifications (L1, L2, L3)'!J277/'Specifications (L1, L2, L3)'!F277/128*'Janitorial (LOT #3)'!G56,""),IFERROR('Specifications (L1, L2, L3)'!J277/'Specifications (L1, L2, L3)'!F277/128*'Janitorial (LOT #3)'!G56,"")) | J56: =IFERROR(IF(C56=0,0,IF(AND(H56="",I56=""),0,IF(AND(H56="",I56<>"",D56="GAL"),I56*C56*128,IF(AND(H56="",I56<>"",D56="LBS"),I56*C56*15.34,IF(AND(H56<>"",I56="",D56="GAL"),H56*(C56*8.344*16),IF(AND(H56<>"",I56="",D56="LBS"),H56*(C56*16),IF(AND(H56<>"",I56<>""),K56,"Error"))))))),0) -> 0 | K56: =IF(AND(I56/G56*C56*128<H56/G56*C56*8.344*16,D56="GAL"),I56/G56*C56*128,IF(AND(I56/G56*C56*128*8.344<H56/G56*16,D56="LBS"),I56/G56*C56*8.344*128,IF(AND(I56/G56*C56*128>H56/G56*C56*8.344*16,D56="GAL"),H56/G56*C56*8.344*16,IF(AND(I56/G56*C56*128*8.344>H56/G56*C56*16,D56="LBS"),H56/G56*C56*16)))) -> #VALUE! | M56: $
C57: 350 | D57: GAL | E57: 3.11 | F57: Glass and Hard Surface Cleaner | G57: 0 | H57: =IF(G57>0,IFERROR('Specifications (L1, L2, L3)'!J282/'Specifications (L1, L2, L3)'!G282/16*'Janitorial (LOT #3)'!G57,""),IFERROR('Specifications (L1, L2, L3)'!J282/'Specifications (L1, L2, L3)'!G282/16*'Janitorial (LOT #3)'!G57,"")) | I57: =IF(G57>0,IFERROR('Specifications (L1, L2, L3)'!J282/'Specifications (L1, L2, L3)'!F282/128*'Janitorial (LOT #3)'!G57,""),IFERROR('Specifications (L1, L2, L3)'!J282/'Specifications (L1, L2, L3)'!F282/128*'Janitorial (LOT #3)'!G57,"")) | J57: =IFERROR(IF(C57=0,0,IF(AND(H57="",I57=""),0,IF(AND(H57="",I57<>"",D57="GAL"),I57*C57*128,IF(AND(H57="",I57<>"",D57="LBS"),I57*C57*15.34,IF(AND(H57<>"",I57="",D57="GAL"),H57*(C57*8.344*16),IF(AND(H57<>"",I57="",D57="LBS"),H57*(C57*16),IF(AND(H57<>"",I57<>""),K57,"Error"))))))),0) -> 0 | K57: =IF(AND(I57/G57*C57*128<H57/G57*C57*8.344*16,D57="GAL"),I57/G57*C57*128,IF(AND(I57/G57*C57*128*8.344<H57/G57*16,D57="LBS"),I57/G57*C57*8.344*128,IF(AND(I57/G57*C57*128>H57/G57*C57*8.344*16,D57="GAL"),H57/G57*C57*8.344*16,IF(AND(I57/G57*C57*128*8.344>H57/G57*C57*16,D57="LBS"),H57/G57*C57*16)))) -> #VALUE! | M57: $
C58: 500 | D58: GAL | E58: 3.12 | F58: One-Step Cleaner and Disinfectant | G58: 0 | H58: =IF(G58>0,IFERROR('Specifications (L1, L2, L3)'!J288/'Specifications (L1, L2, L3)'!G288/16*'Janitorial (LOT #3)'!G58,""),IFERROR('Specifications (L1, L2, L3)'!J288/'Specifications (L1, L2, L3)'!G288/16*'Janitorial (LOT #3)'!G58,"")) | I58: =IF(G58>0,IFERROR('Specifications (L1, L2, L3)'!J288/'Specifications (L1, L2, L3)'!F288/128*'Janitorial (LOT #3)'!G58,""),IFERROR('Specifications (L1, L2, L3)'!J288/'Specifications (L1, L2, L3)'!F288/128*'Janitorial (LOT #3)'!G58,"")) | J58: =IFERROR(IF(C58=0,0,IF(AND(H58="",I58=""),0,IF(AND(H58="",I58<>"",D58="GAL"),I58*C58*128,IF(AND(H58="",I58<>"",D58="LBS"),I58*C58*15.34,IF(AND(H58<>"",I58="",D58="GAL"),H58*(C58*8.344*16),IF(AND(H58<>"",I58="",D58="LBS"),H58*(C58*16),IF(AND(H58<>"",I58<>""),K58,"Error"))))))),0) -> 0 | K58: =IF(AND(I58/G58*C58*128<H58/G58*C58*8.344*16,D58="GAL"),I58/G58*C58*128,IF(AND(I58/G58*C58*128*8.344<H58/G58*16,D58="LBS"),I58/G58*C58*8.344*128,IF(AND(I58/G58*C58*128>H58/G58*C58*8.344*16,D58="GAL"),H58/G58*C58*8.344*16,IF(AND(I58/G58*C58*128*8.344>H58/G58*C58*16,D58="LBS"),H58/G58*C58*16)))) -> #VALUE! | M58: $
C59: 610 | D59: GAL | E59: 3.13 | F59: General Purpose Floor Cleaner | G59: 0 | H59: =IF(G59>0,IFERROR('Specifications (L1, L2, L3)'!J295/'Specifications (L1, L2, L3)'!G295/16*'Janitorial (LOT #3)'!G59,""),IFERROR('Specifications (L1, L2, L3)'!J295/'Specifications (L1, L2, L3)'!G295/16*'Janitorial (LOT #3)'!G59,"")) | I59: =IF(G59>0,IFERROR('Specifications (L1, L2, L3)'!J295/'Specifications (L1, L2, L3)'!F295/128*'Janitorial (LOT #3)'!G59,""),IFERROR('Specifications (L1, L2, L3)'!J295/'Specifications (L1, L2, L3)'!F295/128*'Janitorial (LOT #3)'!G59,"")) | J59: =IFERROR(IF(C59=0,0,IF(AND(H59="",I59=""),0,IF(AND(H59="",I59<>"",D59="GAL"),I59*C59*128,IF(AND(H59="",I59<>"",D59="LBS"),I59*C59*15.34,IF(AND(H59<>"",I59="",D59="GAL"),H59*(C59*8.344*16),IF(AND(H59<>"",I59="",D59="LBS"),H59*(C59*16),IF(AND(H59<>"",I59<>""),K59,"Error"))))))),0) -> 0 | K59: =IF(AND(I59/G59*C59*128<H59/G59*C59*8.344*16,D59="GAL"),I59/G59*C59*128,IF(AND(I59/G59*C59*128*8.344<H59/G59*16,D59="LBS"),I59/G59*C59*8.344*128,IF(AND(I59/G59*C59*128>H59/G59*C59*8.344*16,D59="GAL"),H59/G59*C59*8.344*16,IF(AND(I59/G59*C59*128*8.344>H59/G59*C59*16,D59="LBS"),H59/G59*C59*16)))) -> #VALUE! | M59: $
C60: 600 | D60: LBS | E60: 3.14 | F60: Bathroom Tub and Tile Cleaner | G60: 0 | H60: =IF(G60>0,IFERROR('Specifications (L1, L2, L3)'!J304/'Specifications (L1, L2, L3)'!G304/16*'Janitorial (LOT #3)'!G60,""),IFERROR('Specifications (L1, L2, L3)'!J304/'Specifications (L1, L2, L3)'!G304/16*'Janitorial (LOT #3)'!G60,"")) | I60: =IF(G60>0,IFERROR('Specifications (L1, L2, L3)'!J304/'Specifications (L1, L2, L3)'!F304/128*'Janitorial (LOT #3)'!G60,""),IFERROR('Specifications (L1, L2, L3)'!J304/'Specifications (L1, L2, L3)'!F304/128*'Janitorial (LOT #3)'!G60,"")) | J60: =IFERROR(IF(C60=0,0,IF(AND(H60="",I60=""),0,IF(AND(H60="",I60<>"",D60="GAL"),I60*C60*128,IF(AND(H60="",I60<>"",D60="LBS"),I60*C60*15.34,IF(AND(H60<>"",I60="",D60="GAL"),H60*(C60*8.344*16),IF(AND(H60<>"",I60="",D60="LBS"),H60*(C60*16),IF(AND(H60<>"",I60<>""),K60,"Error"))))))),0) -> 0 | K60: =IF(AND(I60/G60*C60*128<H60/G60*C60*8.344*16,D60="GAL"),I60/G60*C60*128,IF(AND(I60/G60*C60*128*8.344<H60/G60*16,D60="LBS"),I60/G60*C60*8.344*128,IF(AND(I60/G60*C60*128>H60/G60*C60*8.344*16,D60="GAL"),H60/G60*C60*8.344*16,IF(AND(I60/G60*C60*128*8.344>H60/G60*C60*16,D60="LBS"),H60/G60*C60*16)))) -> #VALUE! | M60: $
C61: 100 | D61: GAL | E61: 3.15 | F61: Antibacterial Liquid Hand Soap | G61: 0 | H61: =IF(G61>0,IFERROR('Specifications (L1, L2, L3)'!J310/'Specifications (L1, L2, L3)'!G310/16*'Janitorial (LOT #3)'!G61,""),IFERROR('Specifications (L1, L2, L3)'!J310/'Specifications (L1, L2, L3)'!G310/16*'Janitorial (LOT #3)'!G61,"")) | I61: =IF(G61>0,IFERROR('Specifications (L1, L2, L3)'!J310/'Specifications (L1, L2, L3)'!F310/128*'Janitorial (LOT #3)'!G61,""),IFERROR('Specifications (L1, L2, L3)'!J310/'Specifications (L1, L2, L3)'!F310/128*'Janitorial (LOT #3)'!G61,"")) | J61: =IFERROR(IF(C61=0,0,IF(AND(H61="",I61=""),0,IF(AND(H61="",I61<>"",D61="GAL"),I61*C61*128,IF(AND(H61="",I61<>"",D61="LBS"),I61*C61*15.34,IF(AND(H61<>"",I61="",D61="GAL"),H61*(C61*8.344*16),IF(AND(H61<>"",I61="",D61="LBS"),H61*(C61*16),IF(AND(H61<>"",I61<>""),K61,"Error"))))))),0) -> 0 | K61: =IF(AND(I61/G61*C61*128<H61/G61*C61*8.344*16,D61="GAL"),I61/G61*C61*128,IF(AND(I61/G61*C61*128*8.344<H61/G61*16,D61="LBS"),I61/G61*C61*8.344*128,IF(AND(I61/G61*C61*128>H61/G61*C61*8.344*16,D61="GAL"),H61/G61*C61*8.344*16,IF(AND(I61/G61*C61*128*8.344>H61/G61*C61*16,D61="LBS"),H61/G61*C61*16)))) -> #VALUE! | M61: $
C62: 0 | D62: LBS | E62: 3.16 | F62: Non-Alcohol Foaming Hand Sanitizer | G62: 0 | H62: =IF(G62>0,IFERROR('Specifications (L1, L2, L3)'!J318/'Specifications (L1, L2, L3)'!G318/16*'Janitorial (LOT #3)'!G62,""),IFERROR('Specifications (L1, L2, L3)'!J318/'Specifications (L1, L2, L3)'!G318/16*'Janitorial (LOT #3)'!G62,"")) | I62: =IF(G62,IFERROR('Specifications (L1, L2, L3)'!J318/'Specifications (L1, L2, L3)'!F318/128*'Janitorial (LOT #3)'!G62,""),IFERROR('Specifications (L1, L2, L3)'!J318/'Specifications (L1, L2, L3)'!F318/128*'Janitorial (LOT #3)'!G62,"")) | J62: =IFERROR(IF(C62=0,0,IF(AND(H62="",I62=""),0,IF(AND(H62="",I62<>"",D62="GAL"),I62*C62*128,IF(AND(H62="",I62<>"",D62="LBS"),I62*C62*15.34,IF(AND(H62<>"",I62="",D62="GAL"),H62*(C62*8.344*16),IF(AND(H62<>"",I62="",D62="LBS"),H62*(C62*16),IF(AND(H62<>"",I62<>""),K62,"Error"))))))),0) -> 0 | K62: =IF(AND(I62/G62*C62*128<H62/G62*C62*8.344*16,D62="GAL"),I62/G62*C62*128,IF(AND(I62/G62*C62*128*8.344<H62/G62*16,D62="LBS"),I62/G62*C62*8.344*128,IF(AND(I62/G62*C62*128>H62/G62*C62*8.344*16,D62="GAL"),H62/G62*C62*8.344*16,IF(AND(I62/G62*C62*128*8.344>H62/G62*C62*16,D62="LBS"),H62/G62*C62*16)))) -> #VALUE! | M62: $
C63: 0 | D63: GAL | E63: 3.17 | F63: Powdered Cleanser with Bleach | G63: 0 | H63: =IF(G63>0,IFERROR('Specifications (L1, L2, L3)'!J325/'Specifications (L1, L2, L3)'!G325/16*'Janitorial (LOT #3)'!G63,""),IFERROR('Specifications (L1, L2, L3)'!J325/'Specifications (L1, L2, L3)'!G325/16*'Janitorial (LOT #3)'!G63,"")) | I63: =IF(G63>0,IFERROR('Specifications (L1, L2, L3)'!J325/'Specifications (L1, L2, L3)'!F325/128*'Janitorial (LOT #3)'!G63,""),IFERROR('Specifications (L1, L2, L3)'!J325/'Specifications (L1, L2, L3)'!F325/128*'Janitorial (LOT #3)'!G63,"")) | J63: =IFERROR(IF(C63=0,0,IF(AND(H63="",I63=""),0,IF(AND(H63="",I63<>"",D63="GAL"),I63*C63*128,IF(AND(H63="",I63<>"",D63="LBS"),I63*C63*15.34,IF(AND(H63<>"",I63="",D63="GAL"),H63*(C63*8.344*16),IF(AND(H63<>"",I63="",D63="LBS"),H63*(C63*16),IF(AND(H63<>"",I63<>""),K63,"Error"))))))),0) -> 0 | K63: =IF(AND(I63/G63*C63*128<H63/G63*C63*8.344*16,D63="GAL"),I63/G63*C63*128,IF(AND(I63/G63*C63*128*8.344<H63/G63*16,D63="LBS"),I63/G63*C63*8.344*128,IF(AND(I63/G63*C63*128>H63/G63*C63*8.344*16,D63="GAL"),H63/G63*C63*8.344*16,IF(AND(I63/G63*C63*128*8.344>H63/G63*C63*16,D63="LBS"),H63/G63*C63*16)))) -> #VALUE! | M63: $
C64: 10 | D64: GAL | E64: 3.18 | F64: Low-Temperature Freezer Floor Cleaner | G64: 0 | H64: =IF(G64>0,IFERROR('Specifications (L1, L2, L3)'!J331/'Specifications (L1, L2, L3)'!G331/16*'Janitorial (LOT #3)'!G64,""),IFERROR('Specifications (L1, L2, L3)'!J331/'Specifications (L1, L2, L3)'!G331/16*'Janitorial (LOT #3)'!G64,"")) | I64: =IF(G64>0,IFERROR('Specifications (L1, L2, L3)'!J331/'Specifications (L1, L2, L3)'!F331/128*'Janitorial (LOT #3)'!G64,""),IFERROR('Specifications (L1, L2, L3)'!J331/'Specifications (L1, L2, L3)'!F331/128*'Janitorial (LOT #3)'!G64,"")) | J64: =IFERROR(IF(C64=0,0,IF(AND(H64="",I64=""),0,IF(AND(H64="",I64<>"",D64="GAL"),I64*C64*128,IF(AND(H64="",I64<>"",D64="LBS"),I64*C64*15.34,IF(AND(H64<>"",I64="",D64="GAL"),H64*(C64*8.344*16),IF(AND(H64<>"",I64="",D64="LBS"),H64*(C64*16),IF(AND(H64<>"",I64<>""),K64,"Error"))))))),0) -> 0 | K64: =IF(AND(I64/G64*C64*128<H64/G64*C64*8.344*16,D64="GAL"),I64/G64*C64*128,IF(AND(I64/G64*C64*128*8.344<H64/G64*16,D64="LBS"),I64/G64*C64*8.344*128,IF(AND(I64/G64*C64*128>H64/G64*C64*8.344*16,D64="GAL"),H64/G64*C64*8.344*16,IF(AND(I64/G64*C64*128*8.344>H64/G64*C64*16,D64="LBS"),H64/G64*C64*16)))) -> #VALUE! | M64: $
J65: =SUM(J47:J64) -> 0 | K65: Commercial Machine Detergent | L65: Household Machine Detergent | M65: $
A67: GROUP 4 | M67: GR4 *No Dilution Rate
A68: Juneau, AK | B68: Lemon Creek Correctional Center | C68: 200 | D68: GAL | E68: 3.1 | F68: Acidic Delimer and Mineral Scale Remover | G68: 0 | H68: =IF(G68>0,IFERROR('Specifications (L1, L2, L3)'!K185/'Specifications (L1, L2, L3)'!G185/16*'Janitorial (LOT #3)'!G68,""),IFERROR('Specifications (L1, L2, L3)'!K185/'Specifications (L1, L2, L3)'!G185/16*'Janitorial (LOT #3)'!G68,"")) | I68: =IF(G68>0,IFERROR('Specifications (L1, L2, L3)'!K185/'Specifications (L1, L2, L3)'!F185/128*'Janitorial (LOT #3)'!G68,""),IFERROR('Specifications (L1, L2, L3)'!K185/'Specifications (L1, L2, L3)'!F185/128*'Janitorial (LOT #3)'!G68,"")) | J68: =IFERROR(IF(C68=0,0,IF(AND(H68="",I68=""),0,IF(AND(H68="",I68<>"",D68="GAL"),I68*C68*128,IF(AND(H68="",I68<>"",D68="LBS"),I68*C68*15.34,IF(AND(H68<>"",I68="",D68="GAL"),H68*(C68*8.344*16),IF(AND(H68<>"",I68="",D68="LBS"),H68*(C68*16),IF(AND(H68<>"",I68<>""),K68,"Error"))))))),0) -> 0 | K68: =IF(AND(I68/G68*C68*128<H68/G68*C68*8.344*16,D68="GAL"),I68/G68*C68*128,IF(AND(I68/G68*C68*128*8.344<H68/G68*16,D68="LBS"),I68/G68*C68*8.344*128,IF(AND(I68/G68*C68*128>H68/G68*C68*8.344*16,D68="GAL"),H68/G68*C68*8.344*16,IF(AND(I68/G68*C68*128*8.344>H68/G68*C68*16,D68="LBS"),H68/G68*C68*16)))) -> #VALUE! | M68: $
A69: Ketchikan, AK | B69: Ketchikan Correctional Center | C69: 0 | D69: GAL | E69: 3.2 | F69: Quaternary Ammonium Disinfectant / Sanitizer | G69: 0 | H69: =IF(G69>0,IFERROR('Specifications (L1, L2, L3)'!K196/'Specifications (L1, L2, L3)'!G196/16*'Janitorial (LOT #3)'!G69,""),IFERROR('Specifications (L1, L2, L3)'!K196/'Specifications (L1, L2, L3)'!G196/16*'Janitorial (LOT #3)'!G69,"")) | I69: =IF(G69>0,IFERROR('Specifications (L1, L2, L3)'!K196/'Specifications (L1, L2, L3)'!F196/128*'Janitorial (LOT #3)'!G69,""),IFERROR('Specifications (L1, L2, L3)'!K196/'Specifications (L1, L2, L3)'!F196/128*'Janitorial (LOT #3)'!G69,"")) | J69: =IFERROR(IF(C69=0,0,IF(AND(H69="",I69=""),0,IF(AND(H69="",I69<>"",D69="GAL"),I69*C69*128,IF(AND(H69="",I69<>"",D69="LBS"),I69*C69*15.34,IF(AND(H69<>"",I69="",D69="GAL"),H69*(C69*8.344*16),IF(AND(H69<>"",I69="",D69="LBS"),H69*(C69*16),IF(AND(H69<>"",I69<>""),K69,"Error"))))))),0) -> 0 | K69: =IF(AND(I69/G69*C69*128<H69/G69*C69*8.344*16,D69="GAL"),I69/G69*C69*128,IF(AND(I69/G69*C69*128*8.344<H69/G69*16,D69="LBS"),I69/G69*C69*8.344*128,IF(AND(I69/G69*C69*128>H69/G69*C69*8.344*16,D69="GAL"),H69/G69*C69*8.344*16,IF(AND(I69/G69*C69*128*8.344>H69/G69*C69*16,D69="LBS"),H69/G69*C69*16)))) -> #VALUE! | M69: $
C70: 20 | D70: GAL | E70: 3.3 | F70: Heavy-Duty Alkaline Degreaser | G70: 0 | H70: =IF(G70>0,IFERROR('Specifications (L1, L2, L3)'!K209/'Specifications (L1, L2, L3)'!G209/16*'Janitorial (LOT #3)'!G70,""),IFERROR('Specifications (L1, L2, L3)'!K209/'Specifications (L1, L2, L3)'!G209/16*'Janitorial (LOT #3)'!G70,"")) | I70: =IF(G70>0,IFERROR('Specifications (L1, L2, L3)'!K209/'Specifications (L1, L2, L3)'!F209/128*'Janitorial (LOT #3)'!G70,""),IFERROR('Specifications (L1, L2, L3)'!K209/'Specifications (L1, L2, L3)'!F209/128*'Janitorial (LOT #3)'!G70,"")) | J70: =IFERROR(IF(C70=0,0,IF(AND(H70="",I70=""),0,IF(AND(H70="",I70<>"",D70="GAL"),I70*C70*128,IF(AND(H70="",I70<>"",D70="LBS"),I70*C70*15.34,IF(AND(H70<>"",I70="",D70="GAL"),H70*(C70*8.344*16),IF(AND(H70<>"",I70="",D70="LBS"),H70*(C70*16),IF(AND(H70<>"",I70<>""),K70,"Error"))))))),0) -> 0 | K70: =IF(AND(I70/G70*C70*128<H70/G70*C70*8.344*16,D70="GAL"),I70/G70*C70*128,IF(AND(I70/G70*C70*128*8.344<H70/G70*16,D70="LBS"),I70/G70*C70*8.344*128,IF(AND(I70/G70*C70*128>H70/G70*C70*8.344*16,D70="GAL"),H70/G70*C70*8.344*16,IF(AND(I70/G70*C70*128*8.344>H70/G70*C70*16,D70="LBS"),H70/G70*C70*16)))) -> #VALUE! | M70: $
C71: 165 | D71: GAL | E71: 3.4 | F71: Citrus-Based Degreaser | G71: 0 | H71: =IF(G71>0,IFERROR('Specifications (L1, L2, L3)'!K223/'Specifications (L1, L2, L3)'!G223/16*'Janitorial (LOT #3)'!G71,""),IFERROR('Specifications (L1, L2, L3)'!K223/'Specifications (L1, L2, L3)'!G223/16*'Janitorial (LOT #3)'!G71,"")) | I71: =IF(G71>0,IFERROR('Specifications (L1, L2, L3)'!K223/'Specifications (L1, L2, L3)'!F223/128*'Janitorial (LOT #3)'!G71,""),IFERROR('Specifications (L1, L2, L3)'!K223/'Specifications (L1, L2, L3)'!F223/128*'Janitorial (LOT #3)'!G71,"")) | J71: =IFERROR(IF(C71=0,0,IF(AND(H71="",I71=""),0,IF(AND(H71="",I71<>"",D71="GAL"),I71*C71*128,IF(AND(H71="",I71<>"",D71="LBS"),I71*C71*15.34,IF(AND(H71<>"",I71="",D71="GAL"),H71*(C71*8.344*16),IF(AND(H71<>"",I71="",D71="LBS"),H71*(C71*16),IF(AND(H71<>"",I71<>""),K71,"Error"))))))),0) -> 0 | K71: =IF(AND(I71/G71*C71*128<H71/G71*C71*8.344*16,D71="GAL"),I71/G71*C71*128,IF(AND(I71/G71*C71*128*8.344<H71/G71*16,D71="LBS"),I71/G71*C71*8.344*128,IF(AND(I71/G71*C71*128>H71/G71*C71*8.344*16,D71="GAL"),H71/G71*C71*8.344*16,IF(AND(I71/G71*C71*128*8.344>H71/G71*C71*16,D71="LBS"),H71/G71*C71*16)))) -> #VALUE! | M71: $
C72: 0 | D72: GAL | E72: 3.5 | F72: High-Alkaline Industrial Degreaser | G72: 0 | H72: =IF(G72>0,IFERROR('Specifications (L1, L2, L3)'!K236/'Specifications (L1, L2, L3)'!G236/16*'Janitorial (LOT #3)'!G72,""),IFERROR('Specifications (L1, L2, L3)'!K236/'Specifications (L1, L2, L3)'!G236/16*'Janitorial (LOT #3)'!G72,"")) | I72: =IF(G72>0,IFERROR('Specifications (L1, L2, L3)'!K236/'Specifications (L1, L2, L3)'!F236/128*'Janitorial (LOT #3)'!G72,""),IFERROR('Specifications (L1, L2, L3)'!K236/'Specifications (L1, L2, L3)'!F236/128*'Janitorial (LOT #3)'!G72,"")) | J72: =IFERROR(IF(C72=0,0,IF(AND(H72="",I72=""),0,IF(AND(H72="",I72<>"",D72="GAL"),I72*C72*128,IF(AND(H72="",I72<>"",D72="LBS"),I72*C72*15.34,IF(AND(H72<>"",I72="",D72="GAL"),H72*(C72*8.344*16),IF(AND(H72<>"",I72="",D72="LBS"),H72*(C72*16),IF(AND(H72<>"",I72<>""),K72,"Error"))))))),0) -> 0 | K72: =IF(AND(I72/G72*C72*128<H72/G72*C72*8.344*16,D72="GAL"),I72/G72*C72*128,IF(AND(I72/G72*C72*128*8.344<H72/G72*16,D72="LBS"),I72/G72*C72*8.344*128,IF(AND(I72/G72*C72*128>H72/G72*C72*8.344*16,D72="GAL"),H72/G72*C72*8.344*16,IF(AND(I72/G72*C72*128*8.344>H72/G72*C72*16,D72="LBS"),H72/G72*C72*16)))) -> #VALUE! | M72: $
C73: 100 | D73: GAL | E73: 3.6 | F73: Stainless Steel Cleaner and Polish | G73: 0 | H73: =IF(G73>0,IFERROR('Specifications (L1, L2, L3)'!K248/'Specifications (L1, L2, L3)'!G248/16*'Janitorial (LOT #3)'!G73,""),IFERROR('Specifications (L1, L2, L3)'!K248/'Specifications (L1, L2, L3)'!G248/16*'Janitorial (LOT #3)'!G73,"")) | I73: =IF(G73>0,IFERROR('Specifications (L1, L2, L3)'!K248/'Specifications (L1, L2, L3)'!F248/128*'Janitorial (LOT #3)'!G73,""),IFERROR('Specifications (L1, L2, L3)'!K248/'Specifications (L1, L2, L3)'!F248/128*'Janitorial (LOT #3)'!G73,"")) | J73: =IFERROR(IF(C73=0,0,IF(AND(H73="",I73=""),0,IF(AND(H73="",I73<>"",D73="GAL"),I73*C73*128,IF(AND(H73="",I73<>"",D73="LBS"),I73*C73*15.34,IF(AND(H73<>"",I73="",D73="GAL"),H73*(C73*8.344*16),IF(AND(H73<>"",I73="",D73="LBS"),H73*(C73*16),IF(AND(H73<>"",I73<>""),K73,"Error"))))))),0) -> 0 | K73: =IF(AND(I73/G73*C73*128<H73/G73*C73*8.344*16,D73="GAL"),I73/G73*C73*128,IF(AND(I73/G73*C73*128*8.344<H73/G73*16,D73="LBS"),I73/G73*C73*8.344*128,IF(AND(I73/G73*C73*128>H73/G73*C73*8.344*16,D73="GAL"),H73/G73*C73*8.344*16,IF(AND(I73/G73*C73*128*8.344>H73/G73*C73*16,D73="LBS"),H73/G73*C73*16)))) -> #VALUE! | M73: $
C74: 20 | D74: GAL | E74: 3.7 | F74: High-Gloss Floor Finish (Approx. 22% Solids) | G74: 0 | H74: =IF(G74>0,IFERROR('Specifications (L1, L2, L3)'!K256/'Specifications (L1, L2, L3)'!G256/16*'Janitorial (LOT #3)'!G74,""),IFERROR('Specifications (L1, L2, L3)'!K256/'Specifications (L1, L2, L3)'!G256/16*'Janitorial (LOT #3)'!G74,"")) | I74: =IF(G74>0,IFERROR('Specifications (L1, L2, L3)'!K256/'Specifications (L1, L2, L3)'!F256/128*'Janitorial (LOT #3)'!G74,""),IFERROR('Specifications (L1, L2, L3)'!K256/'Specifications (L1, L2, L3)'!F256/128*'Janitorial (LOT #3)'!G74,"")) | J74: =IFERROR(IF(C74=0,0,IF(AND(H74="",I74=""),0,IF(AND(H74="",I74<>"",D74="GAL"),I74*C74*128,IF(AND(H74="",I74<>"",D74="LBS"),I74*C74*15.34,IF(AND(H74<>"",I74="",D74="GAL"),H74*(C74*8.344*16),IF(AND(H74<>"",I74="",D74="LBS"),H74*(C74*16),IF(AND(H74<>"",I74<>""),K74,"Error"))))))),0) -> 0 | K74: =IF(AND(I74/G74*C74*128<H74/G74*C74*8.344*16,D74="GAL"),I74/G74*C74*128,IF(AND(I74/G74*C74*128*8.344<H74/G74*16,D74="LBS"),I74/G74*C74*8.344*128,IF(AND(I74/G74*C74*128>H74/G74*C74*8.344*16,D74="GAL"),H74/G74*C74*8.344*16,IF(AND(I74/G74*C74*128*8.344>H74/G74*C74*16,D74="LBS"),H74/G74*C74*16)))) -> #VALUE! | M74: $
C75: 0 | D75: GAL | E75: 3.8 | F75: Low-Odor Floor Finish Stripper | G75: 0 | H75: =IF(G75>0,IFERROR('Specifications (L1, L2, L3)'!K264/'Specifications (L1, L2, L3)'!G264/16*'Janitorial (LOT #3)'!G75,""),IFERROR('Specifications (L1, L2, L3)'!K264/'Specifications (L1, L2, L3)'!G264/16*'Janitorial (LOT #3)'!G75,"")) | I75: =IF(G75>0,IFERROR('Specifications (L1, L2, L3)'!K264/'Specifications (L1, L2, L3)'!F264/128*'Janitorial (LOT #3)'!G75,""),IFERROR('Specifications (L1, L2, L3)'!K264/'Specifications (L1, L2, L3)'!F264/128*'Janitorial (LOT #3)'!G75,"")) | J75: =IFERROR(IF(C75=0,0,IF(AND(H75="",I75=""),0,IF(AND(H75="",I75<>"",D75="GAL"),I75*C75*128,IF(AND(H75="",I75<>"",D75="LBS"),I75*C75*15.34,IF(AND(H75<>"",I75="",D75="GAL"),H75*(C75*8.344*16),IF(AND(H75<>"",I75="",D75="LBS"),H75*(C75*16),IF(AND(H75<>"",I75<>""),K75,"Error"))))))),0) -> 0 | K75: =IF(AND(I75/G75*C75*128<H75/G75*C75*8.344*16,D75="GAL"),I75/G75*C75*128,IF(AND(I75/G75*C75*128*8.344<H75/G75*16,D75="LBS"),I75/G75*C75*8.344*128,IF(AND(I75/G75*C75*128>H75/G75*C75*8.344*16,D75="GAL"),H75/G75*C75*8.344*16,IF(AND(I75/G75*C75*128*8.344>H75/G75*C75*16,D75="LBS"),H75/G75*C75*16)))) -> #VALUE! | M75: $
C76: 35 | D76: GAL | E76: 3.9 | F76: All-Purpose Cleaner (Lemon Scented) | G76: 0 | H76: =IF(G76>0,IFERROR('Specifications (L1, L2, L3)'!K273/'Specifications (L1, L2, L3)'!G273/16*'Janitorial (LOT #3)'!G76,""),IFERROR('Specifications (L1, L2, L3)'!K273/'Specifications (L1, L2, L3)'!G273/16*'Janitorial (LOT #3)'!G76,"")) | I76: =IF(G76>0,IFERROR('Specifications (L1, L2, L3)'!K273/'Specifications (L1, L2, L3)'!F273/128*'Janitorial (LOT #3)'!G76,""),IFERROR('Specifications (L1, L2, L3)'!K273/'Specifications (L1, L2, L3)'!F273/128*'Janitorial (LOT #3)'!G76,"")) | J76: =IFERROR(IF(C76=0,0,IF(AND(H76="",I76=""),0,IF(AND(H76="",I76<>"",D76="GAL"),I76*C76*128,IF(AND(H76="",I76<>"",D76="LBS"),I76*C76*15.34,IF(AND(H76<>"",I76="",D76="GAL"),H76*(C76*8.344*16),IF(AND(H76<>"",I76="",D76="LBS"),H76*(C76*16),IF(AND(H76<>"",I76<>""),K76,"Error"))))))),0) -> 0 | K76: =IF(AND(I76/G76*C76*128<H76/G76*C76*8.344*16,D76="GAL"),I76/G76*C76*128,IF(AND(I76/G76*C76*128*8.344<H76/G76*16,D76="LBS"),I76/G76*C76*8.344*128,IF(AND(I76/G76*C76*128>H76/G76*C76*8.344*16,D76="GAL"),H76/G76*C76*8.344*16,IF(AND(I76/G76*C76*128*8.344>H76/G76*C76*16,D76="LBS"),H76/G76*C76*16)))) -> #VALUE! | M76: $
C77: 0 | D77: GAL | E77: 3.1 | F77: Neutral pH Floor Cleaner Concentrate Packets | G77: 0 | H77: =IF(G77>0,IFERROR('Specifications (L1, L2, L3)'!K277/'Specifications (L1, L2, L3)'!G277/16*'Janitorial (LOT #3)'!G77,""),IFERROR('Specifications (L1, L2, L3)'!K277/'Specifications (L1, L2, L3)'!G277/16*'Janitorial (LOT #3)'!G77,"")) | I77: =IF(G77>0,IFERROR('Specifications (L1, L2, L3)'!K277/'Specifications (L1, L2, L3)'!F277/128*'Janitorial (LOT #3)'!G77,""),IFERROR('Specifications (L1, L2, L3)'!K277/'Specifications (L1, L2, L3)'!F277/128*'Janitorial (LOT #3)'!G77,"")) | J77: =IFERROR(IF(C77=0,0,IF(AND(H77="",I77=""),0,IF(AND(H77="",I77<>"",D77="GAL"),I77*C77*128,IF(AND(H77="",I77<>"",D77="LBS"),I77*C77*15.34,IF(AND(H77<>"",I77="",D77="GAL"),H77*(C77*8.344*16),IF(AND(H77<>"",I77="",D77="LBS"),H77*(C77*16),IF(AND(H77<>"",I77<>""),K77,"Error"))))))),0) -> 0 | K77: =IF(AND(I77/G77*C77*128<H77/G77*C77*8.344*16,D77="GAL"),I77/G77*C77*128,IF(AND(I77/G77*C77*128*8.344<H77/G77*16,D77="LBS"),I77/G77*C77*8.344*128,IF(AND(I77/G77*C77*128>H77/G77*C77*8.344*16,D77="GAL"),H77/G77*C77*8.344*16,IF(AND(I77/G77*C77*128*8.344>H77/G77*C77*16,D77="LBS"),H77/G77*C77*16)))) -> #VALUE! | M77: $
C78: 0 | D78: GAL | E78: 3.11 | F78: Glass and Hard Surface Cleaner | G78: 0 | H78: =IF(G78>0,IFERROR('Specifications (L1, L2, L3)'!K282/'Specifications (L1, L2, L3)'!G282/16*'Janitorial (LOT #3)'!G78,""),IFERROR('Specifications (L1, L2, L3)'!K282/'Specifications (L1, L2, L3)'!G282/16*'Janitorial (LOT #3)'!G78,"")) | I78: =IF(G78>0,IFERROR('Specifications (L1, L2, L3)'!K282/'Specifications (L1, L2, L3)'!F282/128*'Janitorial (LOT #3)'!G78,""),IFERROR('Specifications (L1, L2, L3)'!K282/'Specifications (L1, L2, L3)'!F282/128*'Janitorial (LOT #3)'!G78,"")) | J78: =IFERROR(IF(C78=0,0,IF(AND(H78="",I78=""),0,IF(AND(H78="",I78<>"",D78="GAL"),I78*C78*128,IF(AND(H78="",I78<>"",D78="LBS"),I78*C78*15.34,IF(AND(H78<>"",I78="",D78="GAL"),H78*(C78*8.344*16),IF(AND(H78<>"",I78="",D78="LBS"),H78*(C78*16),IF(AND(H78<>"",I78<>""),K78,"Error"))))))),0) -> 0 | K78: =IF(AND(I78/G78*C78*128<H78/G78*C78*8.344*16,D78="GAL"),I78/G78*C78*128,IF(AND(I78/G78*C78*128*8.344<H78/G78*16,D78="LBS"),I78/G78*C78*8.344*128,IF(AND(I78/G78*C78*128>H78/G78*C78*8.344*16,D78="GAL"),H78/G78*C78*8.344*16,IF(AND(I78/G78*C78*128*8.344>H78/G78*C78*16,D78="LBS"),H78/G78*C78*16)))) -> #VALUE! | M78: $
C79: 1100 | D79: GAL | E79: 3.12 | F79: One-Step Cleaner and Disinfectant | G79: 0 | H79: =IF(G79>0,IFERROR('Specifications (L1, L2, L3)'!K288/'Specifications (L1, L2, L3)'!G288/16*'Janitorial (LOT #3)'!G79,""),IFERROR('Specifications (L1, L2, L3)'!K288/'Specifications (L1, L2, L3)'!G288/16*'Janitorial (LOT #3)'!G79,"")) | I79: =IF(G79>0,IFERROR('Specifications (L1, L2, L3)'!K288/'Specifications (L1, L2, L3)'!F288/128*'Janitorial (LOT #3)'!G79,""),IFERROR('Specifications (L1, L2, L3)'!K288/'Specifications (L1, L2, L3)'!F288/128*'Janitorial (LOT #3)'!G79,"")) | J79: =IFERROR(IF(C79=0,0,IF(AND(H79="",I79=""),0,IF(AND(H79="",I79<>"",D79="GAL"),I79*C79*128,IF(AND(H79="",I79<>"",D79="LBS"),I79*C79*15.34,IF(AND(H79<>"",I79="",D79="GAL"),H79*(C79*8.344*16),IF(AND(H79<>"",I79="",D79="LBS"),H79*(C79*16),IF(AND(H79<>"",I79<>""),K79,"Error"))))))),0) -> 0 | K79: =IF(AND(I79/G79*C79*128<H79/G79*C79*8.344*16,D79="GAL"),I79/G79*C79*128,IF(AND(I79/G79*C79*128*8.344<H79/G79*16,D79="LBS"),I79/G79*C79*8.344*128,IF(AND(I79/G79*C79*128>H79/G79*C79*8.344*16,D79="GAL"),H79/G79*C79*8.344*16,IF(AND(I79/G79*C79*128*8.344>H79/G79*C79*16,D79="LBS"),H79/G79*C79*16)))) -> #VALUE! | M79: $
C80: 0 | D80: GAL | E80: 3.13 | F80: General Purpose Floor Cleaner | G80: 0 | H80: =IF(G80>0,IFERROR('Specifications (L1, L2, L3)'!K295/'Specifications (L1, L2, L3)'!G295/16*'Janitorial (LOT #3)'!G80,""),IFERROR('Specifications (L1, L2, L3)'!K295/'Specifications (L1, L2, L3)'!G295/16*'Janitorial (LOT #3)'!G80,"")) | I80: =IF(G80>0,IFERROR('Specifications (L1, L2, L3)'!K295/'Specifications (L1, L2, L3)'!F295/128*'Janitorial (LOT #3)'!G80,""),IFERROR('Specifications (L1, L2, L3)'!K295/'Specifications (L1, L2, L3)'!F295/128*'Janitorial (LOT #3)'!G80,"")) | J80: =IFERROR(IF(C80=0,0,IF(AND(H80="",I80=""),0,IF(AND(H80="",I80<>"",D80="GAL"),I80*C80*128,IF(AND(H80="",I80<>"",D80="LBS"),I80*C80*15.34,IF(AND(H80<>"",I80="",D80="GAL"),H80*(C80*8.344*16),IF(AND(H80<>"",I80="",D80="LBS"),H80*(C80*16),IF(AND(H80<>"",I80<>""),K80,"Error"))))))),0) -> 0 | K80: =IF(AND(I80/G80*C80*128<H80/G80*C80*8.344*16,D80="GAL"),I80/G80*C80*128,IF(AND(I80/G80*C80*128*8.344<H80/G80*16,D80="LBS"),I80/G80*C80*8.344*128,IF(AND(I80/G80*C80*128>H80/G80*C80*8.344*16,D80="GAL"),H80/G80*C80*8.344*16,IF(AND(I80/G80*C80*128*8.344>H80/G80*C80*16,D80="LBS"),H80/G80*C80*16)))) -> #VALUE! | M80: $
C81: 0 | D81: LBS | E81: 3.14 | F81: Bathroom Tub and Tile Cleaner | G81: 0 | H81: =IF(G81>0,IFERROR('Specifications (L1, L2, L3)'!K304/'Specifications (L1, L2, L3)'!G304/16*'Janitorial (LOT #3)'!G81,""),IFERROR('Specifications (L1, L2, L3)'!K304/'Specifications (L1, L2, L3)'!G304/16*'Janitorial (LOT #3)'!G81,"")) | I81: =IF(G81>0,IFERROR('Specifications (L1, L2, L3)'!K304/'Specifications (L1, L2, L3)'!F304/128*'Janitorial (LOT #3)'!G81,""),IFERROR('Specifications (L1, L2, L3)'!K304/'Specifications (L1, L2, L3)'!F304/128*'Janitorial (LOT #3)'!G81,"")) | J81: =IFERROR(IF(C81=0,0,IF(AND(H81="",I81=""),0,IF(AND(H81="",I81<>"",D81="GAL"),I81*C81*128,IF(AND(H81="",I81<>"",D81="LBS"),I81*C81*15.34,IF(AND(H81<>"",I81="",D81="GAL"),H81*(C81*8.344*16),IF(AND(H81<>"",I81="",D81="LBS"),H81*(C81*16),IF(AND(H81<>"",I81<>""),K81,"Error"))))))),0) -> 0 | K81: =IF(AND(I81/G81*C81*128<H81/G81*C81*8.344*16,D81="GAL"),I81/G81*C81*128,IF(AND(I81/G81*C81*128*8.344<H81/G81*16,D81="LBS"),I81/G81*C81*8.344*128,IF(AND(I81/G81*C81*128>H81/G81*C81*8.344*16,D81="GAL"),H81/G81*C81*8.344*16,IF(AND(I81/G81*C81*128*8.344>H81/G81*C81*16,D81="LBS"),H81/G81*C81*16)))) -> #VALUE! | M81: $
C82: 0 | D82: GAL | E82: 3.15 | F82: Antibacterial Liquid Hand Soap | G82: 0 | H82: =IF(G82>0,IFERROR('Specifications (L1, L2, L3)'!K310/'Specifications (L1, L2, L3)'!G310/16*'Janitorial (LOT #3)'!G82,""),IFERROR('Specifications (L1, L2, L3)'!K310/'Specifications (L1, L2, L3)'!G310/16*'Janitorial (LOT #3)'!G82,"")) | I82: =IF(G82>0,IFERROR('Specifications (L1, L2, L3)'!K310/'Specifications (L1, L2, L3)'!F310/128*'Janitorial (LOT #3)'!G82,""),IFERROR('Specifications (L1, L2, L3)'!K310/'Specifications (L1, L2, L3)'!F310/128*'Janitorial (LOT #3)'!G82,"")) | J82: =IFERROR(IF(C82=0,0,IF(AND(H82="",I82=""),0,IF(AND(H82="",I82<>"",D82="GAL"),I82*C82*128,IF(AND(H82="",I82<>"",D82="LBS"),I82*C82*15.34,IF(AND(H82<>"",I82="",D82="GAL"),H82*(C82*8.344*16),IF(AND(H82<>"",I82="",D82="LBS"),H82*(C82*16),IF(AND(H82<>"",I82<>""),K82,"Error"))))))),0) -> 0 | K82: =IF(AND(I82/G82*C82*128<H82/G82*C82*8.344*16,D82="GAL"),I82/G82*C82*128,IF(AND(I82/G82*C82*128*8.344<H82/G82*16,D82="LBS"),I82/G82*C82*8.344*128,IF(AND(I82/G82*C82*128>H82/G82*C82*8.344*16,D82="GAL"),H82/G82*C82*8.344*16,IF(AND(I82/G82*C82*128*8.344>H82/G82*C82*16,D82="LBS"),H82/G82*C82*16)))) -> #VALUE! | M82: $
C83: 0 | D83: LBS | E83: 3.16 | F83: Non-Alcohol Foaming Hand Sanitizer | G83: 0 | H83: =IF(G83>0,IFERROR('Specifications (L1, L2, L3)'!K318/'Specifications (L1, L2, L3)'!G318/16*'Janitorial (LOT #3)'!G83,""),IFERROR('Specifications (L1, L2, L3)'!K318/'Specifications (L1, L2, L3)'!G318/16*'Janitorial (LOT #3)'!G83,"")) | I83: =IF(G83,IFERROR('Specifications (L1, L2, L3)'!K318/'Specifications (L1, L2, L3)'!F318/128*'Janitorial (LOT #3)'!G83,""),IFERROR('Specifications (L1, L2, L3)'!K318/'Specifications (L1, L2, L3)'!F318/128*'Janitorial (LOT #3)'!G83,"")) | J83: =IFERROR(IF(C83=0,0,IF(AND(H83="",I83=""),0,IF(AND(H83="",I83<>"",D83="GAL"),I83*C83*128,IF(AND(H83="",I83<>"",D83="LBS"),I83*C83*15.34,IF(AND(H83<>"",I83="",D83="GAL"),H83*(C83*8.344*16),IF(AND(H83<>"",I83="",D83="LBS"),H83*(C83*16),IF(AND(H83<>"",I83<>""),K83,"Error"))))))),0) -> 0 | K83: =IF(AND(I83/G83*C83*128<H83/G83*C83*8.344*16,D83="GAL"),I83/G83*C83*128,IF(AND(I83/G83*C83*128*8.344<H83/G83*16,D83="LBS"),I83/G83*C83*8.344*128,IF(AND(I83/G83*C83*128>H83/G83*C83*8.344*16,D83="GAL"),H83/G83*C83*8.344*16,IF(AND(I83/G83*C83*128*8.344>H83/G83*C83*16,D83="LBS"),H83/G83*C83*16)))) -> #VALUE! | M83: $
