Workbook

Sheet Certification
A2: AK MEDICAID SEMT COST REPORT
A3: GENERAL INFORMATION AND CERTIFICATION
A4: 1. Name of Fire Department / Agency / Tribal Organization: | D4: 2. National Provider Identification (NPI) for Ground EMTS: | F4: 3. National Provider Identification (NPI) for Air EMTS:
A6: 4. National Provider Identification (NPI) for Water EMTS: | B6: 5. Doing Business As (DBA): | F6: 6. Facility Business Phone:
A8: 7. Fire District/ Agency/ Tribal Organization Street Address: | E8: 8. City: | G8: 9. Zip Code:
A10: 10. Mailing Address - Street or P.O. Box (if different):
A12: 11. City: | B12: 12. Zip Code: | E12: 13. Name of Person Signing and Certifying Report:
A14: 14. Report Contact Person: | D14: 15. Phone Number: | G14: Phone Ext:
A16: 16. Mailing Address - Street or P. O. Box: | D16: 17. City: | F16: 18. State: | G16: 19. Zip Code:
A18: 20. Previous Name of Fire Department/ Agency/ Tribal Organization if Changed Since Previous Report: | G18: 21. Date of Change:
A20: 22. Reporting Period Began: | D20: 23. Reporting Period Ended:
A22: 24. Net Cost of Ground Transports | B22: 25. Net Cost of Air Transports | F22: 26. Net Cost of Water Transports
A23: ='Sch 7 - EST. Interim Settlement'!E27 -> #DIV/0! | B23: ='Sch 7 - EST. Interim Settlement'!F27 -> #DIV/0! | F23: ='Sch 7 - EST. Interim Settlement'!G27 -> #DIV/0!
A24: Misrepresentation or falsification of any information contained in this cost report may be punishable by criminal, civil, and administrative action, fine, and/or imprisonment under federal law. Furthermore, if services identified in this report where provided or procured through the payment directly or indirectly of a kickback or where otherwise illegal, criminal, civil, and administrative action, fines and/or imprisonment may result.
A26: Certification by Officer or Administrator of the Fire Department / Agency / Tribal Organization
A27: I, | B27: certify under penalty of perjury as follows that:
A29: That I am the responsible person of this provider and that I am duly authorized to sign this certification for Schedules 1-8.
A30: That I have read the above statement regarding misrepresentation or falsification of information and that I have examined the accompanying cost report and that to the best of my knowledge and belief, it is a true, correct, and complete statement prepared from the books and records of the provider in accordance with the laws and regulations regarding this provision of health care services and that the services identified in this cost report were provided in compliance with such laws and regulations.
A31: That I acknowledge that the cost report (Schedules 1-8) and all supporting documentation are subject to review and audit by the Alaska Department of Health and Social Services.
A32: That the expenditures claimed have not previously been, nor will be, claims at any other time to receive Federal Funds under Medicaid or any other program and were certified in accordance with OMB Circular A-97 and Medicare Provider Reimbursement Manual Pub 15-1.
A35: Date of Signature | C35: Name of Fire Department/Agency
A38: E-mail the signed PDF electronic version of the completed cost report to: | B38: By:
C39: (Signature)
B40: Title:
B41: Address:
A46: NOTICE
A49: CHECK FIGURE
A50: Total Reported Expenses From Sch 1, Col 5, Row 68) | E50: ='Sch 1 - Total Expense'!I79 -> 0
A51: Total Reported Expenses (Sch 2, Col 4, Row 68 + Sch 3, Col 1, Row 68) | E51: ='Sch 2 - MTS Expense '!H79+'Sch 3 - NON-MTS Expense'!E80 -> 0
A52: Variance | E52: =+E50-E51 -> 0
A54: Material variances may result in a rejection of this Cost Report submission.

Sheet Sch 1 - Total Expense
A1: SCHEDULE 1 - TOTAL EXPENSE
A3: Provider Name: | C3: =Certification!A5 -> 0 | E3: Fiscal Year Ended: | H3: =Certification!C21 -> 0
A5: Line No. | B5: Cost Center | E5: 1 | F5: 2 | G5: 3 | H5: 4 | I5: 5
D6: Account Number | E6: MTS Expense - Ground | F6: MTS Expense - Air | G6: MTS Expense - Water | H6: NON-MTS Expense | I6: Total Expense
E7: Sch 2, Col 1 | F7: Sch 2, Col 2 | G7: Sch 2, Col 3 | H7: Sch 3, Col 1 | I7: Sum of Col's 1-4
B8: Capital Related
A9: 1 | B9: Depreciation - Buildings and Improvements | D9: =IF('Sch 2 - MTS Expense '!D9="","",'Sch 2 - MTS Expense '!D9) | E9: ='Sch 2 - MTS Expense '!E9 -> 0 | F9: ='Sch 2 - MTS Expense '!F9 -> 0 | G9: ='Sch 2 - MTS Expense '!G9 -> 0 | H9: ='Sch 3 - NON-MTS Expense'!E10 -> 0 | I9: =SUM(E9:H9) -> 0
A10: 2 | B10: Depreciation - Leasehold Improvements | D10: =IF('Sch 2 - MTS Expense '!D10="","",'Sch 2 - MTS Expense '!D10) | E10: ='Sch 2 - MTS Expense '!E10 -> 0 | F10: ='Sch 2 - MTS Expense '!F10 -> 0 | G10: ='Sch 2 - MTS Expense '!G10 -> 0 | H10: ='Sch 3 - NON-MTS Expense'!E11 -> 0 | I10: =SUM(E10:H10) -> 0
A11: 3 | B11: Depreciation - Equipment | D11: =IF('Sch 2 - MTS Expense '!D11="","",'Sch 2 - MTS Expense '!D11) | E11: ='Sch 2 - MTS Expense '!E11 -> 0 | F11: ='Sch 2 - MTS Expense '!F11 -> 0 | G11: ='Sch 2 - MTS Expense '!G11 -> 0 | H11: ='Sch 3 - NON-MTS Expense'!E12 -> 0 | I11: =SUM(E11:H11) -> 0
A12: 4 | B12: Depreciation and Amortization - Other | D12: =IF('Sch 2 - MTS Expense '!D12="","",'Sch 2 - MTS Expense '!D12) | E12: ='Sch 2 - MTS Expense '!E12 -> 0 | F12: ='Sch 2 - MTS Expense '!F12 -> 0 | G12: ='Sch 2 - MTS Expense '!G12 -> 0 | H12: ='Sch 3 - NON-MTS Expense'!E13 -> 0 | I12: =SUM(E12:H12) -> 0
A13: 5 | B13: Leases and Rentals | D13: =IF('Sch 2 - MTS Expense '!D13="","",'Sch 2 - MTS Expense '!D13) | E13: ='Sch 2 - MTS Expense '!E13 -> 0 | F13: ='Sch 2 - MTS Expense '!F13 -> 0 | G13: ='Sch 2 - MTS Expense '!G13 -> 0 | H13: ='Sch 3 - NON-MTS Expense'!E14 -> 0 | I13: =SUM(E13:H13) -> 0
A14: 6 | B14: Property Taxes | D14: =IF('Sch 2 - MTS Expense '!D14="","",'Sch 2 - MTS Expense '!D14) | E14: ='Sch 2 - MTS Expense '!E14 -> 0 | F14: ='Sch 2 - MTS Expense '!F14 -> 0 | G14: ='Sch 2 - MTS Expense '!G14 -> 0 | H14: ='Sch 3 - NON-MTS Expense'!E15 -> 0 | I14: =SUM(E14:H14) -> 0
A15: 7 | B15: Property Insurance | D15: =IF('Sch 2 - MTS Expense '!D15="","",'Sch 2 - MTS Expense '!D15) | E15: ='Sch 2 - MTS Expense '!E15 -> 0 | F15: ='Sch 2 - MTS Expense '!F15 -> 0 | G15: ='Sch 2 - MTS Expense '!G15 -> 0 | H15: ='Sch 3 - NON-MTS Expense'!E16 -> 0 | I15: =SUM(E15:H15) -> 0
A16: 8 | B16: Interest - Property, Plant, and Equipment | D16: =IF('Sch 2 - MTS Expense '!D16="","",'Sch 2 - MTS Expense '!D16) | E16: ='Sch 2 - MTS Expense '!E16 -> 0 | F16: ='Sch 2 - MTS Expense '!F16 -> 0 | G16: ='Sch 2 - MTS Expense '!G16 -> 0 | H16: ='Sch 3 - NON-MTS Expense'!E17 -> 0 | I16: =SUM(E16:H16) -> 0
A17: 9 | B17: ='Sch 2 - MTS Expense '!B17:C17 -> Other - (Specify) | D17: =IF('Sch 2 - MTS Expense '!D17="","",'Sch 2 - MTS Expense '!D17) | E17: ='Sch 2 - MTS Expense '!E17 -> 0 | F17: ='Sch 2 - MTS Expense '!F17 -> 0 | G17: ='Sch 2 - MTS Expense '!G17 -> 0 | H17: ='Sch 3 - NON-MTS Expense'!E18 -> 0 | I17: =SUM(E17:H17) -> 0
A18: 10 | B18: ='Sch 2 - MTS Expense '!B18:C18 -> Other - (Specify) | D18: =IF('Sch 2 - MTS Expense '!D18="","",'Sch 2 - MTS Expense '!D18) | E18: ='Sch 2 - MTS Expense '!E18 -> 0 | F18: ='Sch 2 - MTS Expense '!F18 -> 0 | G18: ='Sch 2 - MTS Expense '!G18 -> 0 | H18: ='Sch 3 - NON-MTS Expense'!E19 -> 0 | I18: =SUM(E18:H18) -> 0
A19: 11 | B19: Total Capital Related (Lines 1 thru 10) | E19: =SUM(E9:E18) -> 0 | F19: =SUM(F9:F18) -> 0 | G19: =SUM(G9:G18) -> 0 | H19: =SUM(H9:H18) -> 0 | I19: =SUM(I9:I18) -> 0
B20: Salaries
A21: 12 | B21: Administrative Chief | D21: =IF('Sch 2 - MTS Expense '!D21="","",'Sch 2 - MTS Expense '!D21) | E21: ='Sch 2 - MTS Expense '!E21 -> 0 | F21: ='Sch 2 - MTS Expense '!F21 -> 0 | G21: ='Sch 2 - MTS Expense '!G21 -> 0 | H21: ='Sch 3 - NON-MTS Expense'!E22 -> 0 | I21: =SUM(E21:H21) -> 0
A22: 13 | B22: Chief | D22: =IF('Sch 2 - MTS Expense '!D22="","",'Sch 2 - MTS Expense '!D22) | E22: ='Sch 2 - MTS Expense '!E22 -> 0 | F22: ='Sch 2 - MTS Expense '!F22 -> 0 | G22: ='Sch 2 - MTS Expense '!G22 -> 0 | H22: ='Sch 3 - NON-MTS Expense'!E23 -> 0 | I22: =SUM(E22:H22) -> 0
A23: 14 | B23: Non-MTS Salaries | D23: =IF('Sch 2 - MTS Expense '!D23="","",'Sch 2 - MTS Expense '!D23) | E23: ='Sch 2 - MTS Expense '!E23 -> 0 | F23: ='Sch 2 - MTS Expense '!F23 -> 0 | G23: ='Sch 2 - MTS Expense '!G23 -> 0 | H23: ='Sch 3 - NON-MTS Expense'!E24 -> 0 | I23: =SUM(E23:H23) -> 0
A24: 15 | B24: MTS Salaries | D24: =IF('Sch 2 - MTS Expense '!D24="","",'Sch 2 - MTS Expense '!D24) | E24: ='Sch 2 - MTS Expense '!E24 -> 0 | F24: ='Sch 2 - MTS Expense '!F24 -> 0 | G24: ='Sch 2 - MTS Expense '!G24 -> 0 | H24: ='Sch 3 - NON-MTS Expense'!E25 -> 0 | I24: =SUM(E24:H24) -> 0
A25: 16 | B25: ='Sch 2 - MTS Expense '!B25:C25 -> Other - (Specify) | D25: =IF('Sch 2 - MTS Expense '!D25="","",'Sch 2 - MTS Expense '!D25) | E25: ='Sch 2 - MTS Expense '!E25 -> 0 | F25: ='Sch 2 - MTS Expense '!F25 -> 0 | G25: ='Sch 2 - MTS Expense '!G25 -> 0 | H25: ='Sch 3 - NON-MTS Expense'!E26 -> 0 | I25: =SUM(E25:H25) -> 0
A26: 17 | B26: ='Sch 2 - MTS Expense '!B26:C26 -> Other - (Specify) | D26: =IF('Sch 2 - MTS Expense '!D26="","",'Sch 2 - MTS Expense '!D26) | E26: ='Sch 2 - MTS Expense '!E26 -> 0 | F26: ='Sch 2 - MTS Expense '!F26 -> 0 | G26: ='Sch 2 - MTS Expense '!G26 -> 0 | H26: ='Sch 3 - NON-MTS Expense'!E27 -> 0 | I26: =SUM(E26:H26) -> 0
A27: 18 | B27: ='Sch 2 - MTS Expense '!B27:C27 -> Other - (Specify) | D27: =IF('Sch 2 - MTS Expense '!D27="","",'Sch 2 - MTS Expense '!D27) | E27: ='Sch 2 - MTS Expense '!E27 -> 0 | F27: ='Sch 2 - MTS Expense '!F27 -> 0 | G27: ='Sch 2 - MTS Expense '!G27 -> 0 | H27: ='Sch 3 - NON-MTS Expense'!E28 -> 0 | I27: =SUM(E27:H27) -> 0
A28: 19 | B28: ='Sch 2 - MTS Expense '!B28:C28 -> Other - (Specify) | D28: =IF('Sch 2 - MTS Expense '!D28="","",'Sch 2 - MTS Expense '!D28) | E28: ='Sch 2 - MTS Expense '!E28 -> 0 | F28: ='Sch 2 - MTS Expense '!F28 -> 0 | G28: ='Sch 2 - MTS Expense '!G28 -> 0 | H28: ='Sch 3 - NON-MTS Expense'!E29 -> 0 | I28: =SUM(E28:H28) -> 0
A29: 20 | B29: Subtotal Salaries (Lines 12 thru 19) | E29: =SUM(E21:E28) -> 0 | F29: =SUM(F21:F28) -> 0 | G29: =SUM(G21:G28) -> 0 | H29: =SUM(H21:H28) -> 0 | I29: =SUM(I21:I28) -> 0
B30: Fringe Benefits
A31: 21 | B31: Administrative Chief | D31: =IF('Sch 2 - MTS Expense '!D31="","",'Sch 2 - MTS Expense '!D31) | E31: ='Sch 2 - MTS Expense '!E31 -> 0 | F31: ='Sch 2 - MTS Expense '!F31 -> 0 | G31: ='Sch 2 - MTS Expense '!G31 -> 0 | H31: ='Sch 3 - NON-MTS Expense'!E32 -> 0 | I31: =SUM(E31:H31) -> 0
A32: 22 | B32: Chief | D32: =IF('Sch 2 - MTS Expense '!D32="","",'Sch 2 - MTS Expense '!D32) | E32: ='Sch 2 - MTS Expense '!E32 -> 0 | F32: ='Sch 2 - MTS Expense '!F32 -> 0 | G32: ='Sch 2 - MTS Expense '!G32 -> 0 | H32: ='Sch 3 - NON-MTS Expense'!E33 -> 0 | I32: =SUM(E32:H32) -> 0
A33: 23 | B33: Non-MTS Salaries | D33: =IF('Sch 2 - MTS Expense '!D33="","",'Sch 2 - MTS Expense '!D33) | E33: ='Sch 2 - MTS Expense '!E33 -> 0 | F33: ='Sch 2 - MTS Expense '!F33 -> 0 | G33: ='Sch 2 - MTS Expense '!G33 -> 0 | H33: ='Sch 3 - NON-MTS Expense'!E34 -> 0 | I33: =SUM(E33:H33) -> 0
A34: 24 | B34: MTS Salaries | D34: =IF('Sch 2 - MTS Expense '!D34="","",'Sch 2 - MTS Expense '!D34) | E34: ='Sch 2 - MTS Expense '!E34 -> 0 | F34: ='Sch 2 - MTS Expense '!F34 -> 0 | G34: ='Sch 2 - MTS Expense '!G34 -> 0 | H34: ='Sch 3 - NON-MTS Expense'!E35 -> 0 | I34: =SUM(E34:H34) -> 0
A35: 25 | B35: ='Sch 2 - MTS Expense '!B35:C35 -> Other - (Specify) | D35: =IF('Sch 2 - MTS Expense '!D35="","",'Sch 2 - MTS Expense '!D35) | E35: ='Sch 2 - MTS Expense '!E35 -> 0 | F35: ='Sch 2 - MTS Expense '!F35 -> 0 | G35: ='Sch 2 - MTS Expense '!G35 -> 0 | H35: ='Sch 3 - NON-MTS Expense'!E36 -> 0 | I35: =SUM(E35:H35) -> 0
A36: 26 | B36: ='Sch 2 - MTS Expense '!B36:C36 -> Other - (Specify) | D36: =IF('Sch 2 - MTS Expense '!D36="","",'Sch 2 - MTS Expense '!D36) | E36: ='Sch 2 - MTS Expense '!E36 -> 0 | F36: ='Sch 2 - MTS Expense '!F36 -> 0 | G36: ='Sch 2 - MTS Expense '!G36 -> 0 | H36: ='Sch 3 - NON-MTS Expense'!E37 -> 0 | I36: =SUM(E36:H36) -> 0
A37: 27 | B37: ='Sch 2 - MTS Expense '!B37:C37 -> Other - (Specify) | D37: =IF('Sch 2 - MTS Expense '!D37="","",'Sch 2 - MTS Expense '!D37) | E37: ='Sch 2 - MTS Expense '!E37 -> 0 | F37: ='Sch 2 - MTS Expense '!F37 -> 0 | G37: ='Sch 2 - MTS Expense '!G37 -> 0 | H37: ='Sch 3 - NON-MTS Expense'!E38 -> 0 | I37: =SUM(E37:H37) -> 0
A38: 28 | B38: ='Sch 2 - MTS Expense '!B38:C38 -> Other - (Specify) | D38: =IF('Sch 2 - MTS Expense '!D38="","",'Sch 2 - MTS Expense '!D38) | E38: ='Sch 2 - MTS Expense '!E38 -> 0 | F38: ='Sch 2 - MTS Expense '!F38 -> 0 | G38: ='Sch 2 - MTS Expense '!G38 -> 0 | H38: ='Sch 3 - NON-MTS Expense'!E39 -> 0 | I38: =SUM(E38:H38) -> 0
A39: 29 | B39: Subtotal Fringe Benefits (Lines 21 thru 28) | E39: =SUM(E31:E38) -> 0 | F39: =SUM(F31:F38) -> 0 | G39: =SUM(G31:G38) -> 0 | H39: =SUM(H31:H38) -> 0 | I39: =SUM(I31:I38) -> 0
A40: 30 | B40: Total Salaries & Fringe Benefits (Lines 20 & 29) | E40: =+E29+E39 -> 0 | F40: =+F29+F39 -> 0 | G40: =+G29+G39 -> 0 | H40: =+H29+H39 -> 0 | I40: =+I29+I39 -> 0
A41: 31 | B41: Total Capital Related, Salaries, and Fringe Benefits (Lines 11 & 30) | E41: =+E19+E40 -> 0 | F41: =+F19+F40 -> 0 | G41: =+G19+G40 -> 0 | H41: =+H19+H40 -> 0 | I41: =+I19+I40 -> 0
B42: Administrative and General
...

Sheet Sch 2 - MTS Expense 
A1: SCHEDULE 2 - MEDICAL TRANSPORTATION SERVICES (MTS) EXPENSE
A3: Provider Name: | C3: =Certification!A5 -> 0 | G3: Fiscal Year Ended: | H3: =Certification!D21 -> 0
A5: Line No. | B5: Cost Center | E5: 1 | F5: 2 | G5: 3 | H5: 4
D6: Account Number | E6: MTS Expense | H6: Total MTS Expense
E7: Ground | F7: Air | G7: Water | H7: Sum Col 1-3
B8: =+'Sch 1 - Total Expense'!B8:C8 -> Capital Related
A9: ='Sch 1 - Total Expense'!A9 -> 1 | B9: =+'Sch 1 - Total Expense'!B9:C9 -> Depreciation - Buildings and Improvements | H9: =SUM(E9:G9) -> 0
A10: ='Sch 1 - Total Expense'!A10 -> 2 | B10: =+'Sch 1 - Total Expense'!B10:C10 -> Depreciation - Leasehold Improvements | H10: =SUM(E10:G10) -> 0
A11: ='Sch 1 - Total Expense'!A11 -> 3 | B11: =+'Sch 1 - Total Expense'!B11:C11 -> Depreciation - Equipment | H11: =SUM(E11:G11) -> 0
A12: ='Sch 1 - Total Expense'!A12 -> 4 | B12: =+'Sch 1 - Total Expense'!B12:C12 -> Depreciation and Amortization - Other | H12: =SUM(E12:G12) -> 0
A13: ='Sch 1 - Total Expense'!A13 -> 5 | B13: =+'Sch 1 - Total Expense'!B13:C13 -> Leases and Rentals | H13: =SUM(E13:G13) -> 0
A14: ='Sch 1 - Total Expense'!A14 -> 6 | B14: =+'Sch 1 - Total Expense'!B14:C14 -> Property Taxes | H14: =SUM(E14:G14) -> 0
A15: ='Sch 1 - Total Expense'!A15 -> 7 | B15: =+'Sch 1 - Total Expense'!B15:C15 -> Property Insurance | H15: =SUM(E15:G15) -> 0
A16: ='Sch 1 - Total Expense'!A16 -> 8 | B16: =+'Sch 1 - Total Expense'!B16:C16 -> Interest - Property, Plant, and Equipment | H16: =SUM(E16:G16) -> 0
A17: ='Sch 1 - Total Expense'!A17 -> 9 | B17: Other - (Specify) | H17: =SUM(E17:G17) -> 0
A18: ='Sch 1 - Total Expense'!A18 -> 10 | B18: Other - (Specify) | H18: =SUM(E18:G18) -> 0
A19: ='Sch 1 - Total Expense'!A19 -> 11 | B19: ='Sch 1 - Total Expense'!B19:C19 -> Total Capital Related (Lines 1 thru 10) | E19: =SUM(E9:E18) -> 0 | F19: =SUM(F9:F18) -> 0 | G19: =SUM(G9:G18) -> 0 | H19: =SUM(H9:H18) -> 0
B20: =+'Sch 1 - Total Expense'!B20:C20 -> Salaries
A21: ='Sch 1 - Total Expense'!A21 -> 12 | B21: =+'Sch 1 - Total Expense'!B21:C21 -> Administrative Chief | H21: =SUM(E21:G21) -> 0
A22: ='Sch 1 - Total Expense'!A22 -> 13 | B22: =+'Sch 1 - Total Expense'!B22:C22 -> Chief | H22: =SUM(E22:G22) -> 0
A23: ='Sch 1 - Total Expense'!A23 -> 14 | B23: =+'Sch 1 - Total Expense'!B23:C23 -> Non-MTS Salaries | H23: =SUM(E23:G23) -> 0
A24: ='Sch 1 - Total Expense'!A24 -> 15 | B24: =+'Sch 1 - Total Expense'!B24:C24 -> MTS Salaries | H24: =SUM(E24:G24) -> 0
A25: ='Sch 1 - Total Expense'!A25 -> 16 | B25: Other - (Specify) | H25: =SUM(E25:G25) -> 0
A26: ='Sch 1 - Total Expense'!A26 -> 17 | B26: Other - (Specify) | H26: =SUM(E26:G26) -> 0
A27: ='Sch 1 - Total Expense'!A27 -> 18 | B27: Other - (Specify) | H27: =SUM(E27:G27) -> 0
A28: ='Sch 1 - Total Expense'!A28 -> 19 | B28: Other - (Specify) | F28: =+'Sch 4 - CRSB'!H45 -> 0 | H28: =SUM(E28:G28) -> 0
A29: ='Sch 1 - Total Expense'!A29 -> 20 | B29: =+'Sch 1 - Total Expense'!B29:C29 -> Subtotal Salaries (Lines 12 thru 19) | E29: =SUM(E21:E28) -> 0 | F29: =SUM(F21:F28) -> 0 | G29: =SUM(G21:G28) -> 0 | H29: =SUM(H21:H28) -> 0
B30: =+'Sch 1 - Total Expense'!B30:C30 -> Fringe Benefits
A31: ='Sch 1 - Total Expense'!A31 -> 21 | B31: =+'Sch 1 - Total Expense'!B31:C31 -> Administrative Chief | H31: =SUM(E31:G31) -> 0
A32: ='Sch 1 - Total Expense'!A32 -> 22 | B32: =+'Sch 1 - Total Expense'!B32:C32 -> Chief | H32: =SUM(E32:G32) -> 0
A33: ='Sch 1 - Total Expense'!A33 -> 23 | B33: =+'Sch 1 - Total Expense'!B33:C33 -> Non-MTS Salaries | H33: =SUM(E33:G33) -> 0
A34: ='Sch 1 - Total Expense'!A34 -> 24 | B34: =+'Sch 1 - Total Expense'!B34:C34 -> MTS Salaries | H34: =SUM(E34:G34) -> 0
A35: ='Sch 1 - Total Expense'!A35 -> 25 | B35: Other - (Specify) | H35: =SUM(E35:G35) -> 0
A36: ='Sch 1 - Total Expense'!A36 -> 26 | B36: Other - (Specify) | H36: =SUM(E36:G36) -> 0
A37: ='Sch 1 - Total Expense'!A37 -> 27 | B37: Other - (Specify) | H37: =SUM(E37:G37) -> 0
A38: ='Sch 1 - Total Expense'!A38 -> 28 | B38: Other - (Specify) | H38: =SUM(E38:G38) -> 0
A39: ='Sch 1 - Total Expense'!A39 -> 29 | B39: =+'Sch 1 - Total Expense'!B39:C39 -> Subtotal Fringe Benefits (Lines 21 thru 28) | E39: =SUM(E31:E38) -> 0 | F39: =SUM(F31:F38) -> 0 | G39: =SUM(G31:G38) -> 0 | H39: =SUM(H31:H38) -> 0
A40: ='Sch 1 - Total Expense'!A40 -> 30 | B40: =+'Sch 1 - Total Expense'!B40:C40 -> Total Salaries & Fringe Benefits (Lines 20 & 29) | E40: =+E29+E39 -> 0 | F40: =+F29+F39 -> 0 | G40: =+G29+G39 -> 0 | H40: =+H29+H39 -> 0
A41: 31 | B41: =+'Sch 1 - Total Expense'!B41:C41 -> Total Capital Related, Salaries, and Fringe Benefits (Lines 11 & 30) | E41: =+E19+E40 -> 0 | F41: =+F19+F40 -> 0 | G41: =+G19+G40 -> 0 | H41: =+H19+H40 -> 0
B42: =+'Sch 1 - Total Expense'!B42:C42 -> Administrative and General
...

Sheet Sch 3 - NON-MTS Expense
A1: SCHEDULE 3 - NON-MTS EXPENSE
A3: Provider Name: | C3: =Certification!A5 -> 0
A4: Fiscal Year Ended | C4: =Certification!C21 -> 0
A6: Line No. | B6: Cost Center | D6: Account Number | E6: 1
E7: NON-MTS Expense
B9: =+'Sch 1 - Total Expense'!B8:C8 -> Capital Related
A10: =+'Sch 1 - Total Expense'!A9 -> 1 | B10: =+'Sch 1 - Total Expense'!B9:C9 -> Depreciation - Buildings and Improvements | D10: =IF('Sch 2 - MTS Expense '!D9="","",'Sch 2 - MTS Expense '!D9)
A11: =+'Sch 1 - Total Expense'!A10 -> 2 | B11: =+'Sch 1 - Total Expense'!B10:C10 -> Depreciation - Leasehold Improvements | D11: =IF('Sch 2 - MTS Expense '!D10="","",'Sch 2 - MTS Expense '!D10)
A12: =+'Sch 1 - Total Expense'!A11 -> 3 | B12: =+'Sch 1 - Total Expense'!B11:C11 -> Depreciation - Equipment | D12: =IF('Sch 2 - MTS Expense '!D11="","",'Sch 2 - MTS Expense '!D11)
A13: =+'Sch 1 - Total Expense'!A12 -> 4 | B13: =+'Sch 1 - Total Expense'!B12:C12 -> Depreciation and Amortization - Other | D13: =IF('Sch 2 - MTS Expense '!D12="","",'Sch 2 - MTS Expense '!D12)
A14: =+'Sch 1 - Total Expense'!A13 -> 5 | B14: =+'Sch 1 - Total Expense'!B13:C13 -> Leases and Rentals | D14: =IF('Sch 2 - MTS Expense '!D13="","",'Sch 2 - MTS Expense '!D13)
A15: =+'Sch 1 - Total Expense'!A14 -> 6 | B15: =+'Sch 1 - Total Expense'!B14:C14 -> Property Taxes | D15: =IF('Sch 2 - MTS Expense '!D14="","",'Sch 2 - MTS Expense '!D14)
A16: =+'Sch 1 - Total Expense'!A15 -> 7 | B16: =+'Sch 1 - Total Expense'!B15:C15 -> Property Insurance | D16: =IF('Sch 2 - MTS Expense '!D15="","",'Sch 2 - MTS Expense '!D15)
A17: =+'Sch 1 - Total Expense'!A16 -> 8 | B17: =+'Sch 1 - Total Expense'!B16:C16 -> Interest - Property, Plant, and Equipment | D17: =IF('Sch 2 - MTS Expense '!D16="","",'Sch 2 - MTS Expense '!D16)
A18: =+'Sch 1 - Total Expense'!A17 -> 9 | B18: ='Sch 2 - MTS Expense '!B17:C17 -> Other - (Specify) | D18: =IF('Sch 2 - MTS Expense '!D17="","",'Sch 2 - MTS Expense '!D17)
A19: =+'Sch 1 - Total Expense'!A18 -> 10 | B19: ='Sch 2 - MTS Expense '!B18:C18 -> Other - (Specify) | D19: =IF('Sch 2 - MTS Expense '!D18="","",'Sch 2 - MTS Expense '!D18)
A20: ='Sch 1 - Total Expense'!A19 -> 11 | B20: =+'Sch 1 - Total Expense'!B19:C19 -> Total Capital Related (Lines 1 thru 10) | E20: =SUM(E10:E19) -> 0
B21: =+'Sch 1 - Total Expense'!B20:C20 -> Salaries
A22: =+'Sch 1 - Total Expense'!A21 -> 12 | B22: =+'Sch 1 - Total Expense'!B21:C21 -> Administrative Chief | D22: =IF('Sch 2 - MTS Expense '!D21="","",'Sch 2 - MTS Expense '!D21)
A23: =+'Sch 1 - Total Expense'!A22 -> 13 | B23: =+'Sch 1 - Total Expense'!B22:C22 -> Chief | D23: =IF('Sch 2 - MTS Expense '!D22="","",'Sch 2 - MTS Expense '!D22)
A24: =+'Sch 1 - Total Expense'!A23 -> 14 | B24: =+'Sch 1 - Total Expense'!B23:C23 -> Non-MTS Salaries | D24: =IF('Sch 2 - MTS Expense '!D23="","",'Sch 2 - MTS Expense '!D23)
A25: =+'Sch 1 - Total Expense'!A24 -> 15 | B25: =+'Sch 1 - Total Expense'!B24:C24 -> MTS Salaries | D25: =IF('Sch 2 - MTS Expense '!D24="","",'Sch 2 - MTS Expense '!D24)
A26: =+'Sch 1 - Total Expense'!A25 -> 16 | B26: ='Sch 2 - MTS Expense '!B25:C25 -> Other - (Specify) | D26: =IF('Sch 2 - MTS Expense '!D25="","",'Sch 2 - MTS Expense '!D25)
A27: =+'Sch 1 - Total Expense'!A26 -> 17 | B27: ='Sch 2 - MTS Expense '!B26:C26 -> Other - (Specify) | D27: =IF('Sch 2 - MTS Expense '!D26="","",'Sch 2 - MTS Expense '!D26)
A28: =+'Sch 1 - Total Expense'!A27 -> 18 | B28: ='Sch 2 - MTS Expense '!B27:C27 -> Other - (Specify) | D28: =IF('Sch 2 - MTS Expense '!D27="","",'Sch 2 - MTS Expense '!D27)
A29: =+'Sch 1 - Total Expense'!A28 -> 19 | B29: ='Sch 2 - MTS Expense '!B28:C28 -> Other - (Specify) | D29: =IF('Sch 2 - MTS Expense '!D28="","",'Sch 2 - MTS Expense '!D28)
A30: ='Sch 1 - Total Expense'!A29 -> 20 | B30: =+'Sch 1 - Total Expense'!B29:C29 -> Subtotal Salaries (Lines 12 thru 19) | E30: =SUM(E22:E29) -> 0
B31: =+'Sch 1 - Total Expense'!B30:C30 -> Fringe Benefits
A32: =+'Sch 1 - Total Expense'!A31 -> 21 | B32: =+'Sch 1 - Total Expense'!B31:C31 -> Administrative Chief | D32: =IF('Sch 2 - MTS Expense '!D31="","",'Sch 2 - MTS Expense '!D31)
A33: =+'Sch 1 - Total Expense'!A32 -> 22 | B33: =+'Sch 1 - Total Expense'!B32:C32 -> Chief | D33: =IF('Sch 2 - MTS Expense '!D32="","",'Sch 2 - MTS Expense '!D32)
A34: =+'Sch 1 - Total Expense'!A33 -> 23 | B34: =+'Sch 1 - Total Expense'!B33:C33 -> Non-MTS Salaries | D34: =IF('Sch 2 - MTS Expense '!D33="","",'Sch 2 - MTS Expense '!D33)
A35: =+'Sch 1 - Total Expense'!A34 -> 24 | B35: =+'Sch 1 - Total Expense'!B34:C34 -> MTS Salaries | D35: =IF('Sch 2 - MTS Expense '!D34="","",'Sch 2 - MTS Expense '!D34)
A36: =+'Sch 1 - Total Expense'!A35 -> 25 | B36: ='Sch 2 - MTS Expense '!B35:C35 -> Other - (Specify) | D36: =IF('Sch 2 - MTS Expense '!D35="","",'Sch 2 - MTS Expense '!D35)
A37: =+'Sch 1 - Total Expense'!A36 -> 26 | B37: ='Sch 2 - MTS Expense '!B36:C36 -> Other - (Specify) | D37: =IF('Sch 2 - MTS Expense '!D36="","",'Sch 2 - MTS Expense '!D36)
A38: =+'Sch 1 - Total Expense'!A37 -> 27 | B38: ='Sch 2 - MTS Expense '!B37:C37 -> Other - (Specify) | D38: =IF('Sch 2 - MTS Expense '!D37="","",'Sch 2 - MTS Expense '!D37)
A39: =+'Sch 1 - Total Expense'!A38 -> 28 | B39: ='Sch 2 - MTS Expense '!B38:C38 -> Other - (Specify) | D39: =IF('Sch 2 - MTS Expense '!D38="","",'Sch 2 - MTS Expense '!D38)
A40: ='Sch 1 - Total Expense'!A39 -> 29 | B40: =+'Sch 1 - Total Expense'!B39:C39 -> Subtotal Fringe Benefits (Lines 21 thru 28) | E40: =SUM(E32:E39) -> 0
A41: ='Sch 1 - Total Expense'!A40 -> 30 | B41: =+'Sch 1 - Total Expense'!B40:C40 -> Total Salaries & Fringe Benefits (Lines 20 & 29) | E41: =+E30+E40 -> 0
A42: ='Sch 1 - Total Expense'!A41 -> 31 | B42: =+'Sch 1 - Total Expense'!B41:C41 -> Total Capital Related, Salaries, and Fringe Benefits (Lines 11 & 30) | E42: =+E20+E41 -> 0
B43: =+'Sch 1 - Total Expense'!B42:C42 -> Administrative and General
...

Sheet Sch 4 - CRSB
A1: SCHEDULE 4 - ALLOCATION OF CAPITAL RELATED AND SALARIES & BENEFITS (CRSB) EXPENSE
A3: Provider Name: | C3: =Certification!A5 -> 0 | G3: Fiscal Year Ended: | H3: =Certification!C21 -> 0
A6: Line No. | B6: Cost Center | E6: 1 | F6: 2 | G6: 3 | H6: 4 | I6: 5
D7: Account Number | E7: Expense to be Apportioned | F7: MTS Allocation | I7: NON- MTS Allocation
F8: Ground | G8: Air | H8: Water
F9: =E25 -> 0 | G9: =E26 -> 0 | H9: =E27 -> 0 | I9: =+E28 -> 0
B10: =+'Sch 1 - Total Expense'!B8:C8 -> Capital Related
A11: =+'Sch 1 - Total Expense'!A9 -> 1 | B11: =+'Sch 1 - Total Expense'!B9:C9 -> Depreciation - Buildings and Improvements | D11: =IF('Sch 2 - MTS Expense '!D9="","",'Sch 2 - MTS Expense '!D9) | F11: =F$9*$E11 -> 0 | G11: =G$9*$E11 -> 0 | H11: =H$9*$E11 -> 0 | I11: =I$9*E11 -> 0
A12: =+'Sch 1 - Total Expense'!A10 -> 2 | B12: =+'Sch 1 - Total Expense'!B10:C10 -> Depreciation - Leasehold Improvements | D12: =IF('Sch 2 - MTS Expense '!D10="","",'Sch 2 - MTS Expense '!D10) | F12: =F$9*$E12 -> 0 | G12: =G$9*$E12 -> 0 | H12: =H$9*$E12 -> 0 | I12: =I$9*E12 -> 0
A13: =+'Sch 1 - Total Expense'!A11 -> 3 | B13: =+'Sch 1 - Total Expense'!B11:C11 -> Depreciation - Equipment | D13: =IF('Sch 2 - MTS Expense '!D11="","",'Sch 2 - MTS Expense '!D11) | F13: =F$9*$E13 -> 0 | G13: =G$9*$E13 -> 0 | H13: =H$9*$E13 -> 0 | I13: =I$9*E13 -> 0
A14: =+'Sch 1 - Total Expense'!A12 -> 4 | B14: =+'Sch 1 - Total Expense'!B12:C12 -> Depreciation and Amortization - Other | D14: =IF('Sch 2 - MTS Expense '!D12="","",'Sch 2 - MTS Expense '!D12) | F14: =F$9*$E14 -> 0 | G14: =G$9*$E14 -> 0 | H14: =H$9*$E14 -> 0 | I14: =I$9*E14 -> 0
A15: =+'Sch 1 - Total Expense'!A13 -> 5 | B15: =+'Sch 1 - Total Expense'!B13:C13 -> Leases and Rentals | D15: =IF('Sch 2 - MTS Expense '!D13="","",'Sch 2 - MTS Expense '!D13) | F15: =F$9*$E15 -> 0 | G15: =G$9*$E15 -> 0 | H15: =H$9*$E15 -> 0 | I15: =I$9*E15 -> 0
A16: =+'Sch 1 - Total Expense'!A14 -> 6 | B16: =+'Sch 1 - Total Expense'!B14:C14 -> Property Taxes | D16: =IF('Sch 2 - MTS Expense '!D14="","",'Sch 2 - MTS Expense '!D14) | F16: =F$9*$E16 -> 0 | G16: =G$9*$E16 -> 0 | H16: =H$9*$E16 -> 0 | I16: =I$9*E16 -> 0
A17: =+'Sch 1 - Total Expense'!A15 -> 7 | B17: =+'Sch 1 - Total Expense'!B15:C15 -> Property Insurance | D17: =IF('Sch 2 - MTS Expense '!D15="","",'Sch 2 - MTS Expense '!D15) | F17: =F$9*$E17 -> 0 | G17: =G$9*$E17 -> 0 | H17: =H$9*$E17 -> 0 | I17: =I$9*E17 -> 0
A18: =+'Sch 1 - Total Expense'!A16 -> 8 | B18: =+'Sch 1 - Total Expense'!B16:C16 -> Interest - Property, Plant, and Equipment | D18: =IF('Sch 2 - MTS Expense '!D16="","",'Sch 2 - MTS Expense '!D16) | F18: =F$9*$E18 -> 0 | G18: =G$9*$E18 -> 0 | H18: =H$9*$E18 -> 0 | I18: =I$9*E18 -> 0
A19: =+'Sch 1 - Total Expense'!A17 -> 9 | B19: ='Sch 2 - MTS Expense '!B17:C17 -> Other - (Specify) | D19: =IF('Sch 2 - MTS Expense '!D17="","",'Sch 2 - MTS Expense '!D17) | F19: =F$9*$E19 -> 0 | G19: =G$9*$E19 -> 0 | H19: =H$9*$E19 -> 0 | I19: =I$9*E19 -> 0
A20: =+'Sch 1 - Total Expense'!A18 -> 10 | B20: ='Sch 2 - MTS Expense '!B18:C18 -> Other - (Specify) | D20: =IF('Sch 2 - MTS Expense '!D18="","",'Sch 2 - MTS Expense '!D18) | F20: =F$9*$E20 -> 0 | G20: =G$9*$E20 -> 0 | H20: =H$9*$E20 -> 0 | I20: =I$9*E20 -> 0
A21: 11 | B21: =+'Sch 1 - Total Expense'!B19:C19 -> Total Capital Related (Lines 1 thru 10) | E21: =SUM(E11:E20) -> 0 | F21: =SUM(F11:F20) -> 0 | G21: =SUM(G11:G20) -> 0 | H21: =SUM(H11:H20) -> 0 | I21: =SUM(I11:I20) -> 0
A23: Capital Related Allocation Statistics for Direct Service Cost Allocation
A24: Description | D24: Square Ft | E24: Factor
A25: MTS Ground Square Footage | E25: =IF(D25=0,0,D25/$D$29) -> 0
A26: MTS Air Square Footage | E26: =IF(D26=0,0,D26/$D$29) -> 0
A27: MTS Water Square Footage | E27: =IF(D27=0,0,D27/$D$29) -> 0
A28: Non-MTS Square Footage | E28: =IF(D28=0,0,D28/$D$29) -> 0
A29: Total Square Feet to be Apportioned | D29: =SUM(D25:D28) -> 0 | E29: =SUM(E25:E28) -> 0
A33: Line No. | B33: Cost Center | E33: 1 | F33: 2 | G33: 3 | H33: 4 | I33: 6
D34: Account Number | E34: Expense to be Apportioned | F34: MTS Allocation | I34: NON- MTS Allocation
F35: Ground | G35: Air | H35: Water
F36: =E62 -> 0 | G36: =E63 -> 0 | H36: =E64 -> 0 | I36: =E65 -> 0
B37: =+'Sch 1 - Total Expense'!B20:C20 -> Salaries
A38: =+'Sch 1 - Total Expense'!A21 -> 12 | B38: =+'Sch 1 - Total Expense'!B21:C21 -> Administrative Chief | D38: =IF('Sch 2 - MTS Expense '!D21="","",'Sch 2 - MTS Expense '!D21) | F38: =$E38*F$36 -> 0 | G38: =$E38*G$36 -> 0 | H38: =$E38*H$36 -> 0 | I38: =I$36*E38 -> 0
A39: =+'Sch 1 - Total Expense'!A22 -> 13 | B39: =+'Sch 1 - Total Expense'!B22:C22 -> Chief | D39: =IF('Sch 2 - MTS Expense '!D22="","",'Sch 2 - MTS Expense '!D22) | F39: =$E39*F$36 -> 0 | G39: =$E39*G$36 -> 0 | H39: =$E39*H$36 -> 0 | I39: =I$36*E39 -> 0
A40: =+'Sch 1 - Total Expense'!A23 -> 14 | B40: =+'Sch 1 - Total Expense'!B23:C23 -> Non-MTS Salaries | D40: =IF('Sch 2 - MTS Expense '!D23="","",'Sch 2 - MTS Expense '!D23) | F40: =$E40*F$36 -> 0 | G40: =$E40*G$36 -> 0 | H40: =$E40*H$36 -> 0 | I40: =I$36*E40 -> 0
A41: =+'Sch 1 - Total Expense'!A24 -> 15 | B41: =+'Sch 1 - Total Expense'!B24:C24 -> MTS Salaries | D41: =IF('Sch 2 - MTS Expense '!D24="","",'Sch 2 - MTS Expense '!D24) | F41: =$E41*F$36 -> 0 | G41: =$E41*G$36 -> 0 | H41: =$E41*H$36 -> 0 | I41: =I$36*E41 -> 0
A42: =+'Sch 1 - Total Expense'!A25 -> 16 | B42: ='Sch 2 - MTS Expense '!B25:C25 -> Other - (Specify) | D42: =IF('Sch 2 - MTS Expense '!D25="","",'Sch 2 - MTS Expense '!D25) | F42: =$E42*F$36 -> 0 | G42: =$E42*G$36 -> 0 | H42: =$E42*H$36 -> 0 | I42: =I$36*E42 -> 0
A43: =+'Sch 1 - Total Expense'!A26 -> 17 | B43: ='Sch 2 - MTS Expense '!B26:C26 -> Other - (Specify) | D43: =IF('Sch 2 - MTS Expense '!D26="","",'Sch 2 - MTS Expense '!D26) | F43: =$E43*F$36 -> 0 | G43: =$E43*G$36 -> 0 | H43: =$E43*H$36 -> 0 | I43: =I$36*E43 -> 0
A44: =+'Sch 1 - Total Expense'!A27 -> 18 | B44: ='Sch 2 - MTS Expense '!B27:C27 -> Other - (Specify) | D44: =IF('Sch 2 - MTS Expense '!D27="","",'Sch 2 - MTS Expense '!D27) | F44: =$E44*F$36 -> 0 | G44: =$E44*G$36 -> 0 | H44: =$E44*H$36 -> 0 | I44: =I$36*E44 -> 0
A45: =+'Sch 1 - Total Expense'!A28 -> 19 | B45: ='Sch 2 - MTS Expense '!B28:C28 -> Other - (Specify) | D45: =IF('Sch 2 - MTS Expense '!D28="","",'Sch 2 - MTS Expense '!D28) | F45: =$E45*F$36 -> 0 | G45: =$E45*G$36 -> 0 | H45: =$E45*H$36 -> 0 | I45: =I$36*E45 -> 0
A46: 20 | B46: =+'Sch 1 - Total Expense'!B29:C29 -> Subtotal Salaries (Lines 12 thru 19) | E46: =SUM(E38:E45) -> 0 | F46: =SUM(F38:F45) -> 0 | G46: =SUM(G38:G45) -> 0 | H46: =SUM(H38:H45) -> 0 | I46: =SUM(I38:I45) -> 0
B47: =+'Sch 1 - Total Expense'!B30:C30 -> Fringe Benefits
...

Sheet Sch 5 - A&G
A1: SCHEDULE 5 - ALLOCATION OF ADMINISTRATIVE & GENERAL
A3: Provider Name: | C3: =Certification!A5 -> 0 | H3: Fiscal Year Ended: | I3: =Certification!C21 -> 0
A6: Line No. | B6: Cost Center | E6: 1 | F6: 2 | G6: 3 | H6: 4 | I6: 5
D7: Account Number | E7: Expenses to be Apportioned | F7: MTS Allocation | I7: NON-MTS Allocation
F8: Ground | G8: Air | H8: Water
E9: ** See Note Below | F9: =G54 -> 0 | G9: =G55 -> 0 | H9: =G56 -> 0 | I9: =G57 -> 0
B10: =+'Sch 1 - Total Expense'!B42:C42 -> Administrative and General
A11: =+'Sch 1 - Total Expense'!A43 -> 32 | B11: =+'Sch 1 - Total Expense'!B43:C43 -> Administrative | D11: =IF('Sch 2 - MTS Expense '!D43="","",'Sch 2 - MTS Expense '!D43) | F11: =F$9*$E11 -> 0 | G11: =G$9*$E11 -> 0 | H11: =H$9*$E11 -> 0 | I11: =I$9*$E11 -> 0
A12: =+'Sch 1 - Total Expense'!A44 -> 33 | B12: =+'Sch 1 - Total Expense'!B44:C44 -> Legal | D12: =IF('Sch 2 - MTS Expense '!D44="","",'Sch 2 - MTS Expense '!D44) | F12: =F$9*$E12 -> 0 | G12: =G$9*$E12 -> 0 | H12: =H$9*$E12 -> 0 | I12: =I$9*$E12 -> 0
A13: =+'Sch 1 - Total Expense'!A45 -> 34 | B13: =+'Sch 1 - Total Expense'!B45:C45 -> Accounting | D13: =IF('Sch 2 - MTS Expense '!D45="","",'Sch 2 - MTS Expense '!D45) | F13: =F$9*$E13 -> 0 | G13: =G$9*$E13 -> 0 | H13: =H$9*$E13 -> 0 | I13: =I$9*$E13 -> 0
A14: =+'Sch 1 - Total Expense'!A46 -> 35 | B14: =+'Sch 1 - Total Expense'!B46:C46 -> Advertising | D14: =IF('Sch 2 - MTS Expense '!D46="","",'Sch 2 - MTS Expense '!D46) | F14: =F$9*$E14 -> 0 | G14: =G$9*$E14 -> 0 | H14: =H$9*$E14 -> 0 | I14: =I$9*$E14 -> 0
A15: =+'Sch 1 - Total Expense'!A47 -> 36 | B15: =+'Sch 1 - Total Expense'!B47:C47 -> Consulting Expenses | D15: =IF('Sch 2 - MTS Expense '!D47="","",'Sch 2 - MTS Expense '!D47) | F15: =F$9*$E15 -> 0 | G15: =G$9*$E15 -> 0 | H15: =H$9*$E15 -> 0 | I15: =I$9*$E15 -> 0
A16: =+'Sch 1 - Total Expense'!A48 -> 37 | B16: =+'Sch 1 - Total Expense'!B48:C48 -> Contracted Labor | D16: =IF('Sch 2 - MTS Expense '!D48="","",'Sch 2 - MTS Expense '!D48) | F16: =F$9*$E16 -> 0 | G16: =G$9*$E16 -> 0 | H16: =H$9*$E16 -> 0 | I16: =I$9*$E16 -> 0
A17: =+'Sch 1 - Total Expense'!A49 -> 38 | B17: =+'Sch 1 - Total Expense'!B49:C49 -> Interest - Other | D17: =IF('Sch 2 - MTS Expense '!D49="","",'Sch 2 - MTS Expense '!D49) | F17: =F$9*$E17 -> 0 | G17: =G$9*$E17 -> 0 | H17: =H$9*$E17 -> 0 | I17: =I$9*$E17 -> 0
A18: =+'Sch 1 - Total Expense'!A50 -> 39 | B18: =+'Sch 1 - Total Expense'!B50:C50 -> Training | D18: =IF('Sch 2 - MTS Expense '!D50="","",'Sch 2 - MTS Expense '!D50) | F18: =F$9*$E18 -> 0 | G18: =G$9*$E18 -> 0 | H18: =H$9*$E18 -> 0 | I18: =I$9*$E18 -> 0
A19: =+'Sch 1 - Total Expense'!A51 -> 40 | B19: =+'Sch 1 - Total Expense'!B51:C51 -> General Insurance | D19: =IF('Sch 2 - MTS Expense '!D51="","",'Sch 2 - MTS Expense '!D51) | F19: =F$9*$E19 -> 0 | G19: =G$9*$E19 -> 0 | H19: =H$9*$E19 -> 0 | I19: =I$9*$E19 -> 0
A20: =+'Sch 1 - Total Expense'!A52 -> 41 | B20: =+'Sch 1 - Total Expense'!B52:C52 -> Supplies | D20: =IF('Sch 2 - MTS Expense '!D52="","",'Sch 2 - MTS Expense '!D52) | F20: =F$9*$E20 -> 0 | G20: =G$9*$E20 -> 0 | H20: =H$9*$E20 -> 0 | I20: =I$9*$E20 -> 0
A21: =+'Sch 1 - Total Expense'!A53 -> 42 | B21: =+'Sch 1 - Total Expense'!B53:C53 -> Bad Debt | D21: =IF('Sch 2 - MTS Expense '!D53="","",'Sch 2 - MTS Expense '!D53) | F21: =F$9*$E21 -> 0 | G21: =G$9*$E21 -> 0 | H21: =H$9*$E21 -> 0 | I21: =I$9*$E21 -> 0
A22: =+'Sch 1 - Total Expense'!A54 -> 43 | B22: =+'Sch 1 - Total Expense'!B54:C54 -> Plant Operations and Maintenance | D22: =IF('Sch 2 - MTS Expense '!D54="","",'Sch 2 - MTS Expense '!D54) | F22: =F$9*$E22 -> 0 | G22: =G$9*$E22 -> 0 | H22: =H$9*$E22 -> 0 | I22: =I$9*$E22 -> 0
... A38: =+'Sch 1 - Total Expense'!A70 -> 59 | B38: =+'Sch 1 - Total Expense'!B70:C70 -> Contracted Services - MTS Billing | D38: =IF('Sch 2 - MTS Expense '!D70="","",'Sch 2 - MTS Expense '!D70) | F38: =F$9*$E38 -> 0 | G38: =G$9*$E38 -> 0 | H38: =H$9*$E38 -> 0 | I38: =I$9*$E38 -> 0
A39: =+'Sch 1 - Total Expense'!A71 -> 60 | B39: ='Sch 2 - MTS Expense '!B71:C71 -> Other - (Specify) | D39: =IF('Sch 2 - MTS Expense '!D71="","",'Sch 2 - MTS Expense '!D71) | F39: =F$9*$E39 -> 0 | G39: =G$9*$E39 -> 0 | H39: =H$9*$E39 -> 0 | I39: =I$9*$E39 -> 0
A40: =+'Sch 1 - Total Expense'!A72 -> 61 | B40: ='Sch 2 - MTS Expense '!B72:C72 -> Other - (Specify) | D40: =IF('Sch 2 - MTS Expense '!D72="","",'Sch 2 - MTS Expense '!D72) | F40: =F$9*$E40 -> 0 | G40: =G$9*$E40 -> 0 | H40: =H$9*$E40 -> 0 | I40: =I$9*$E40 -> 0
A41: =+'Sch 1 - Total Expense'!A73 -> 62 | B41: ='Sch 2 - MTS Expense '!B73:C73 -> Other - (Specify) | D41: =IF('Sch 2 - MTS Expense '!D73="","",'Sch 2 - MTS Expense '!D73) | F41: =F$9*$E41 -> 0 | G41: =G$9*$E41 -> 0 | H41: =H$9*$E41 -> 0 | I41: =I$9*$E41 -> 0
A42: ='Sch 1 - Total Expense'!A74 -> 63 | B42: =+'Sch 1 - Total Expense'!B74:C74 -> Total Administrative & General (Lines 32 thru 62) | E42: =SUM(E11:E41) -> 0 | F42: =SUM(F11:F41) -> 0 | G42: =SUM(G11:G41) -> 0 | H42: =SUM(H11:H41) -> 0 | I42: =SUM(I11:I41) -> 0
A44: ** | B44: If an Indirect Cost Factor is being applied on Sch 7 the Administration & General cost allocation will not be applied
A48: Selection of Allocation Statistic:
A50: Any variation of the allocation statistic must be approved prior to implementation and documentation MUST be readily available for review.
A52: Allocation Statistics for Administration and General Expense
A53: Description | F53: Accum Expense | G53: Factor
A54: Accum. Direct & CRSB Allocated Cost of MTS Ground Services (from Sch 2, Col 1, Row 66) | F54: ='Sch 2 - MTS Expense '!E77 -> 0 | G54: =IF(F54=0,0,+F54/$F$58) -> 0
A55: Accum. Direct & CRSB Allocated Cost of MTS Air Services (from Sch 2, Col 2, Row 66) | F55: ='Sch 2 - MTS Expense '!F77 -> 0 | G55: =IF(F55=0,0,+F55/$F$58) -> 0
A56: Accum. Direct & CRSB Allocated Cost of MTS Water Services (from Sch 2, Col 3, Row 66) | F56: ='Sch 2 - MTS Expense '!G77 -> 0 | G56: =IF(F56=0,0,+F56/$F$58) -> 0
A57: Accumul. Direct & CRSB Allocated Cost of Non-MTS Services (from Sch 3, Col 3, Row 66) | F57: ='Sch 3 - NON-MTS Expense'!E78 -> 0 | G57: =IF(F57=0,0,+F57/$F$58) -> 0
A58: Total Accumulated Direct Cost of MTS and NON-MTS Services | F58: =SUM(F54:F57) -> 0 | G58: =SUM(G54:G57) -> 0

Sheet Sch 6 - Revenues 
A1: SCHEDULE 6 - REVENUE / FUNDING SOURCES
A3: Provider Name: | C3: =Certification!A5 -> 0 | H3: Fiscal Year Ended: | I3: =Certification!C21 -> 0
A7: A | B7: 1 | F7: 2 | G7: 3 | H7: 4 | I7: 5 | J7: 6
B8: MEDICAID FFS REVENUE FROM TRANSPORTS* | F8: Ground MTS | G8: Air MTS | H8: Water MTS | I8: NON-MTS | J8: Total
A9: 1. | B9: Medicaid Fee for Service (FFS) Revenue | J9: =SUM(F9:I9) -> 0
A10: 2. | B10: Other AK Medicaid FFS Revenue (Specify) | J10: =SUM(F10:I10) -> 0
A11: 3. | B11: Other AK Medicaid FFS Revenue (Specify) | J11: =SUM(F11:I11) -> 0
A12: 4. | B12: Other AK Medicaid FFS Revenue (Specify) | J12: =SUM(F12:I12) -> 0
A13: 5. | B13: Other AK Medicaid FFS Revenue (Specify) | J13: =SUM(F13:I13) -> 0
A14: 6. | J14: =SUM(F14:I14) -> 0
A15: 7. | B15: Total Medicaid FFS Revenue from Transports (To Sch 7, Line 10) | F15: =SUM(F9:F14) -> 0 | G15: =SUM(G9:G14) -> 0 | H15: =SUM(H9:H14) -> 0 | I15: =SUM(I9:I14) -> 0 | J15: =SUM(J9:J14) -> 0
A17: B | B17: 1 | F17: 2 | G17: 3 | H17: 4 | I17: 5 | J17: 6
B18: OTHER MEDICAID REVENUE FROM TRANSPORTS** | F18: Ground MTS | G18: Air MTS | H18: Water MTS | I18: NON-MTS | J18: Total
A19: 8. | B19: Other Medicaid Revenue | J19: =SUM(F19:I19) -> 0
A20: 9. | B20: Other Medicaid Revenue | J20: =SUM(F20:I20) -> 0
A21: 10. | B21: Other Medicaid Revenue | J21: =SUM(F21:I21) -> 0
A22: 11. | B22: Other Medicaid Revenue | J22: =SUM(F22:I22) -> 0
A23: 12. | B23: ` | J23: =SUM(F23:I23) -> 0
A24: 13. | J24: =SUM(F24:I24) -> 0
A25: 14. | B25: Total Other Revenue from Medicaid Managed Care Transports | F25: =SUM(F19:F24) -> 0 | G25: =SUM(G19:G24) -> 0 | H25: =SUM(H19:H24) -> 0 | I25: =SUM(I19:I24) -> 0 | J25: =SUM(J19:J24) -> 0
A27: C | B27: 1 | F27: 2 | G27: 3 | H27: 4 | I27: 5 | J27: 6
B28: OTHER REVENUE / FUNDING SOURCES*** | F28: Ground MTS | G28: Air MTS | H28: Water MTS | I28: NON-MTS | J28: Total
A29: 15. | J29: =SUM(F29:I29) -> 0
A30: 16. | J30: =SUM(F30:I30) -> 0
A31: 17. | J31: =SUM(F31:I31) -> 0
A32: 18. | J32: =SUM(F32:I32) -> 0
A33: 19. | J33: =SUM(F33:I33) -> 0
A34: 20. | J34: =SUM(F34:I34) -> 0
A35: 21. | J35: =SUM(F35:I35) -> 0
A36: 22. | J36: =SUM(F36:I36) -> 0
A37: 23. | J37: =SUM(F37:I37) -> 0
A38: 24. | J38: =SUM(F38:I38) -> 0
A39: 25. | J39: =SUM(F39:I39) -> 0
A40: 26. | J40: =SUM(F40:I40) -> 0
... A56: 42. | J56: =SUM(F56:I56) -> 0
A57: 43. | B57: Total Other Revenue | F57: =SUM(F29:F56) -> 0 | G57: =SUM(G29:G56) -> 0 | H57: =SUM(H29:H56) -> 0 | I57: =SUM(I29:I56) -> 0 | J57: =SUM(F57:I57) -> 0
A58: 44. | B58: GRAND TOTAL (Lines 7, 14, and 43) | F58: =F57+F25+F15 -> 0 | G58: =G57+G25+G15 -> 0 | H58: =H57+H25+H15 -> 0 | I58: =I57+I25+I15 -> 0 | J58: =SUM(F58:I58) -> 0

Sheet Sch 7 - EST. Interim Settlement
A1: SCHEDULE 7 - ESTIMATED INTERIM SETTLEMENT CALCULATION
A3: Provider Name: | C3: =Certification!A5 -> 0 | E3: Fiscal Year Ended: | F3: =Certification!C21 -> 0
A6: Average Cost per MTS Service | E6: 1 | F6: 2 | G6: 3
E7: Ground | F7: Air | G7: Water
A8: 1. | B8: Direct Cost of MTS Services (Sch 2, Row 64) | E8: ='Sch 2 - MTS Expense '!E75 -> 0 | F8: ='Sch 2 - MTS Expense '!F75 -> 0 | G8: ='Sch 2 - MTS Expense '!G75 -> 0
A9: 2. | B9: Capital Related and Salaries & Benefits (Sch 2, Row 65) | E9: ='Sch 2 - MTS Expense '!E76 -> 0 | F9: ='Sch 2 - MTS Expense '!F76 -> 0 | G9: ='Sch 2 - MTS Expense '!G76 -> 0
A10: 3. | B10: Indirect Cost Factor Percentage (A)
B11: a. Indirect Cost Factor Based on MTS Services? (please use drop-down box to select Yes or No) | E11: No | I11: Yes
B12: b. If yes, input Indirect Cost Factor | E12: 0 | I12: No
B13: c. If yes to (a), this will show the calculated indirect costs. | E13: =$E$12*E8 -> 0 | F13: =$E$12*F8 -> 0 | G13: =$E$12*G8 -> 0
A14: 4. | B14: Administration & General Allocation (Sch 2, Row 67) | E14: ='Sch 2 - MTS Expense '!E78 -> 0 | F14: =IF(F13>0,0,'Sch 5 - A&G'!G42) -> 0 | G14: =IF(G13>0,0,'Sch 5 - A&G'!H42) -> 0
A15: 5. | B15: Grand Total of MTS Expense (Sum Lines 1 thru 4) | E15: =SUM(E8+E13+E14+E9) -> 0 | F15: =SUM(F8+F13+F14+F9) -> 0 | G15: =SUM(G8+G13+G14+G9) -> 0
A16: 6. | B16: Fiscal Year Ended: Number of MTS Transports
B17: a. Medicaid-Fee-for-Service Transports
B18: b. All other MTS Transports
A19: 7 | B19: Total Transports | E19: =SUM(E17:E18) -> 0 | F19: =SUM(F17:F18) -> 0 | G19: =SUM(G17:G18) -> 0
A20: 8 | B20: Average Cost per MTS Transports (Line 5 / Line 7) | E20: =E15/E19 -> #DIV/0! | F20: =F15/F19 -> #DIV/0! | G20: =G15/G19 -> #DIV/0!
A22: Estimated FFS Interim EMTS Settlement (B) | E22: Ground | F22: Air | G22: Water
A23: 9. | B23: Total Cost of Medicaid FFS MTS Transports (Line 6a X Line 8) | E23: =E20*E17 -> #DIV/0! | F23: =F20*F17 -> #DIV/0! | G23: =G20*G17 -> #DIV/0!
A24: 10. | B24: Less: Total Medicaid FFS Revenue from MTS Transports (Sch 6, Line 1) | E24: =-'Sch 6 - Revenues '!F9 -> 0 | F24: =-'Sch 6 - Revenues '!G9 -> 0 | G24: =-'Sch 6 - Revenues '!H9 -> 0
A25: 11. | B25: Net Cost of Medicaid FFS MTS Transports (Line 9 + Line 10) | E25: =E23+E24 -> #DIV/0! | F25: =F23+F24 -> #DIV/0! | G25: =G23+G24 -> #DIV/0!
A26: 12. | B26: Est. Percentage of Medicaid MTS Transports that are Emergency Medical Transports (C) | E26: 0.5 | F26: 0.9 | G26: 0.5
A27: 13. | B27: Net Cost of Medicaid Emergency MTS FFS Transports (Line 11 x Line 12) | E27: =E25*E26 -> #DIV/0! | F27: =F25*F26 -> #DIV/0! | G27: =G25*G26 -> #DIV/0!
A28: 14. | B28: Federal Medical Assistance Percentage (FMAP) (D) | E28: 0.5 | F28: 0.5 | G28: 0.5
A29: 15. | B29: Est. Interim Federal Supplemental Payment (Line 13 X Line 14) (E) | E29: =E27*E28 -> #DIV/0! | F29: =F27*F28 -> #DIV/0! | G29: =G27*G28 -> #DIV/0!
A31: (A) | B31: In most cases, when an Indirect Cost Factor is being applied, there should be no Administration & General cost allocated.
A32: (B) | B32: Estimated FFS Interim EMTS Settlement. Amount may be adjusted based on percentage of net federal participation, percentage of Medicaid transports that are emergency Medical transports and additional State adjustments. Schedule 9 - which is completed by the Department will be utilized to calculate the interim payment. The amount of the estimated Interim EMTS Settlement may vary from interim settlement and the final settlement.
A33: (C) | B33: An estimate of what percent of total medical transports are determined to be emergency medical transports. Settlement is only for emergency medical transports and does not include non-emergency medical transports.
A34: (D) | B34: The Federal Medical Assistance Percentage (FMAP) for the interim payments will be the Title XIX FMAP. For the final settlement, each transport will be matched to its specific FMAP (Title XIX, Title XXI, Affordable Care Act Medicaid Expansion, Indian Health Services including tribal refinancing).
A35: (E) | B35: Final settlement will be calculated within 3 years of the submission of this cost report. The final settlement will utilize Schedule 10, which is department generated.

Sheet Sch 8 - Notes
A1: SCHEDULE 8 - NOTES
A3: Provider Name: | C3: ABC Fire District | D3: =Certification!A5 -> 0 | G3: Fiscal Year Ended: | H3: =Certification!C21 -> 0
A7: Please identify all contracting arrangements noted on Schedules 1, 2, and 3.
A8: Sch | B8: Line | C8: Contract Arrangements | I8: Amount
A25: Please identify the statistical basis for allocation on Schedules 4 and 5.
A26: Sch | B26: Line | C26: Allocation Basis | I26: Amount
A42: Provide explanation on any general ledger reclassifications or adjustments
A43: Sch | C43: Explanation

Sheet Sch 9 - INTERNAL Interim Settle
A1: SCHEDULE 9 - INTERNAL Interim Settlement
A2: Provider Name: | C2: Fiscal Year Ended:
B3: =Certification!A5 -> 0 | D3: =Certification!C21 -> 0
A5: THIS SCHEDULE IS COMPLETED BY THE DEPARTMENT OF HEALTH AND SOCIAL SERVICES.
A6: This schedule will be used to calculate the interim settlement. The Department will utilize the average cost per transport from the provider, and the fields below that are populated with data from the Medicaid Management Information System (MMIS) to calculate the interim payment.
A11: Step 1:
A12: Report the average cost per MTS Transports from Schedule 7 of the AK SEMT Cost Report for ground, air, and water.
B14: Service | C14: Average Cost per MTS Transport
A15: 1 | B15: Ground average cost per MTS transport | C15: ='Sch 7 - EST. Interim Settlement'!E20 -> #DIV/0!
A16: 2 | B16: Air average cost per MTS transport | C16: ='Sch 7 - EST. Interim Settlement'!F20 -> #DIV/0!
A17: 3 | B17: Water average cost per MTS transport | C17: ='Sch 7 - EST. Interim Settlement'!G20 -> #DIV/0!
A19: Step 2
A20: Run a claims pull from the Medicaid Management Information System (MMIS) for the time period that matches the provider's cost report. Categorize the units of service into emergency medical transports and nonemergency medical transports as well as by each Medicaid category that has a different Federal Medical Assistance Percentage (FMAP) such as Title XIX, Title XXI, Medicaid Expansion, and Medicaid Indian Health Services including services that have been tribally refinanced for non Indian Health Service providers in accordance with the State Health Official letter #16-002. Do not include any units of service related to miles, only units of services related to trips.
B28: MEDICAID FFS UNITS OF SERVICE FROM TRANSPORTS (do not include miles) | C28: Settled | D28: NOT settled
C29: Emergency Ground | D29: Non-Emergency Ground
A30: 4 | B30: AK Medicaid Title XIX FFS Units of Service (UOS)
A31: 5 | B31: AK Medicaid Title XXI FFS UOS
A32: 6 | B32: AK Medicaid Medicaid Expansion FFS UOS
A33: 7 | B33: AK Medicaid Indian Health Services (I.H.S.) Medicaid FFS UOS and I.H.S. Medicaid Expansion, including tribal refinancing
A34: 8 | B34: Total Medicaid FFS MTS Ground Units of Service | C34: =SUM(C30:C33) -> 0 | D34: =SUM(D30:D33) -> 0
A35: 9 | C35: =C34+D34 -> 0
B37: MEDICAID FFS UNITS OF SERVICE FROM TRANSPORTS (do not include miles) | C37: Settled | D37: NOT settled
C38: Emergency Air | D38: Non-Emergency Air
A39: 10 | B39: AK Medicaid Title XIX FFS UOS
A40: 11 | B40: AK Medicaid Title XXI FFS UOS
A41: 12 | B41: AK Medicaid Medicaid Expansion FFS UOS
A42: 13 | B42: AK Medicaid Indian Health Services (I.H.S.) Medicaid FFS UOS and I.H.S. Medicaid Expansion, including tribal refinancing
A43: 14 | B43: Total Medicaid FFS MTS Air Units of Service | C43: =SUM(C39:C42) -> 0 | D43: =SUM(D39:D42) -> 0
A44: 15 | C44: =C43+D43 -> 0
B46: MEDICAID FFS UNITS OF SERVICE FROM TRANSPORTS (do not include miles) | C46: Settled | D46: NOT settled
C47: Emergency Water | D47: Non-Emergency Water
A48: 16 | B48: AK Medicaid Title XIX FFS UOS
A49: 17 | B49: AK Medicaid Title XXI FFS UOS
A50: 18 | B50: AK Medicaid Medicaid Expansion FFS UOS
A51: 19 | B51: AK Medicaid Indian Health Services (I.H.S.) Medicaid FFS UOS and I.H.S. Medicaid Expansion, including tribal refinancing
A52: 20 | B52: Total Medicaid FFS MTS Water Units of Service | C52: =SUM(C48:C51) -> 0 | D52: =SUM(D48:D51) -> 0
A53: 21 | C53: =C52+D52 -> 0
A55: Step 3:
A56: Calculate the aggregate cost for transfers using the average cost per transfer in Step 1 multiplied by the units of service (non mileage) from Step 2.
B59: MEDICAID AGGREGATE COST FOR TRANSPORT | C59: Settled | D59: NOT settled
...

Sheet Sch 10 - INTERNAL Final Settle
A1: SCHEDULE 10 - INTERNAL Final Settlement
A2: Provider Name: | C2: Fiscal Year Ended:
B3: =Certification!A5 -> 0 | D3: =Certification!C21 -> 0
A5: THIS SCHEDULE IS COMPLETED BY THE DEPARTMENT OF HEALTH AND SOCIAL SERVICES.
A6: This schedule will be used to calculate the final settlement. The Department will utilize the audited average cost per transport from the provider, and the fields below that are populated with data from the Medicaid Management Information System (MMIS) to calculate the final payment within 3 years of the submission of the cost report.
A11: Step 1:
A12: Report the average cost per MTS Transports from Schedule 7 of the AK SEMT Cost Report for ground, air, and water.
B14: Service | C14: Average Cost per MTS Transport
A15: 1 | B15: Ground average cost per MTS transport | C15: ='Sch 7 - EST. Interim Settlement'!E20 -> #DIV/0!
A16: 2 | B16: Air average cost per MTS transport | C16: ='Sch 7 - EST. Interim Settlement'!F20 -> #DIV/0!
A17: 3 | B17: Water average cost per MTS transport | C17: ='Sch 7 - EST. Interim Settlement'!G20 -> #DIV/0!
A19: Step 2
A20: Run a claims pull from the Medicaid Management Information System (MMIS) for the time period that matches the provider's cost report. Categorize the units of service into emergency medical transports and nonemergency medical transports as well as by each Medicaid category that has a different Federal Medical Assistance Percentage (FMAP) such as Title XIX, Title XXI, Medicaid Expansion, and Medicaid Indian Health Services including services that have been tribally refinanced for non Indian Health Service providers in accordance with the State Health Official letter #16-002. Do not include any units of service related to miles, only units of services related to trips.
B29: MEDICAID FFS UNITS OF SERVICE FROM TRANSPORTS (do not include miles) | C29: Settled | D29: NOT settled
C30: Emergency Ground | D30: Non-Emergency Ground
A31: 4 | B31: AK Medicaid Title XIX FFS Units of Service (UOS)
A32: 5 | B32: AK Medicaid Title XXI FFS UOS
A33: 6 | B33: AK Medicaid Medicaid Expansion FFS UOS
A34: 7 | B34: AK Medicaid Indian Health Services (I.H.S.) Medicaid FFS UOS and I.H.S. Medicaid Expansion, including tribal refinancing
A35: 8 | B35: Total Medicaid FFS MTS Ground Units of Service | C35: =SUM(C31:C34) -> 0 | D35: =SUM(D31:D34) -> 0
A36: 9 | C36: =C35+D35 -> 0
B38: MEDICAID FFS UNITS OF SERVICE FROM TRANSPORTS (do not include miles) | C38: Settled | D38: NOT settled
C39: Emergency Air | D39: Non-Emergency Air
A40: 10 | B40: AK Medicaid Title XIX FFS UOS
A41: 11 | B41: AK Medicaid Title XXI FFS UOS
A42: 12 | B42: AK Medicaid Medicaid Expansion FFS UOS
A43: 13 | B43: AK Medicaid Indian Health Services (I.H.S.) Medicaid FFS UOS and I.H.S. Medicaid Expansion, including tribal refinancing
A44: 14 | B44: Total Medicaid FFS MTS Air Units of Service | C44: =SUM(C40:C43) -> 0 | D44: =SUM(D40:D43) -> 0
A45: 15 | C45: =C44+D44 -> 0
B47: MEDICAID FFS UNITS OF SERVICE FROM TRANSPORTS (do not include miles) | C47: Settled | D47: NOT settled
C48: Emergency Water | D48: Non-Emergency Water
A49: 16 | B49: AK Medicaid Title XIX FFS UOS
A50: 17 | B50: AK Medicaid Title XXI FFS UOS
A51: 18 | B51: AK Medicaid Medicaid Expansion FFS UOS
A52: 19 | B52: AK Medicaid Indian Health Services (I.H.S.) Medicaid FFS UOS and I.H.S. Medicaid Expansion, including tribal refinancing
A53: 20 | B53: Total Medicaid FFS MTS Water Units of Service | C53: =SUM(C49:C52) -> 0 | D53: =SUM(D49:D52) -> 0
A54: 21 | C54: =C53+D53 -> 0
A56: Step 3:
A57: Calculate the aggregate cost for transfers using the average cost per transfer in Step 1 multiplied by the units of service (non mileage) from Step 2.
B60: MEDICAID AGGREGATE COST FOR TRANSPORT | C60: Settled | D60: NOT settled
...
